{"text_format":"1","workbook":"xlsx","n_sheets":16,"sheets":["Position Simulator","Simulator Norming","ECAST Projection","ECAST Norming","6 Periods","4x4","2x8","ECAST Lookup","Pivot ECAST","ECAST Enrollment","School List","Removed Non Norm Schools","Grade 6 and School Type","Enrollment & Allocations","Pivot Norm","Norm Enroll & FTEs"],"not_rendered":{"charts":0,"images":2,"macros":1,"external_links":0,"defined_names":25,"comments":3,"pivot_tables":5},"unopened":[],"bounds":{"document_bytes":16777216,"sheet_cells":100000,"rows_first":2000,"rows_last":500,"rows_between":2000,"halvings":0,"cell_chars":16384,"cell_head_chars":4096},"cells_cut":0,"cells_raw":0,"read":"whole","date_system":"1900"}

{"sheet":"Position Simulator","index":0,"n_rows":86,"n_cols":9,"rows_kept":86,"cut":false,"hidden":false,"merged":[[21,11,21,12],[18,2,18,8],[78,5,78,6],[19,5,19,8],[27,5,27,8],[19,2,19,3],[27,2,27,3],[26,2,26,8],[58,2,58,8],[78,2,78,3],[51,2,51,8],[85,2,85,8],[1,2,1,8],[2,2,2,8],[52,2,52,8],[54,2,54,8],[49,2,49,8],[72,3,72,5],[34,2,34,8],[35,2,35,3],[35,5,35,8]]}
[]
[null,null,"2022-23 TEACHER PROJECTIONS"]
[null,null,"Instructions: enter value for fields highlighted in blue to simulate norm FTEs"]
[]
[null,null,"Indicate whether the school has elementary 6th grade enrollment (\"t\" if yes, \"f\" if no)"]
[]
[null,null,"6th grade elementary",null,{"$f":"IF(AND(SUM(D11:D17)+SUM(G11:G16)>0, D7=0), \"Please select t or f for most accurate simulation.\", \"\")","v":""}]
[]
[null,null,"Enter general ed enrollment by school and grade level"]
[null,null,"Grade","Enrollment",null,"Grade","Enrollment"]
[null,null,"TK and K",null,null,"G7"]
[null,null,"G1",null,null,"G8"]
[null,null,"G2",null,null,"G9"]
[null,null,"G3",null,null,"G10"]
[null,null,"G4",null,null,"G11"]
[null,null,"G5",null,null,"G12"]
[null,null,"G6"]
[]
[null,null,"Traditional Schedule"]
[null,null,"Regular Schools",null,null,"Affiliated Charter Schools"]
[null,null,"Norm Category","District Funded Teachers",null,"Norm Category","District Funded Teachers","Charter Block Grant Funded Teachers","Total Teachers"]
[null,null,"Non-PHBAO",{"$f":"VLOOKUP($C22&\"f\", 'Simulator Norming'!$AN:$AT,4,FALSE)","v":0},null,"Non-PHBAO",{"$f":"VLOOKUP($F22&\"t\", 'Simulator Norming'!$AN:$AT,4,FALSE)","v":0},{"$f":"VLOOKUP($F22&\"t\", 'Simulator Norming'!$AN:$AT,5,FALSE)","v":0},{"$f":"G22+H22","v":0}]
[null,null,"PHBAO",{"$f":"VLOOKUP($C23&\"f\", 'Simulator Norming'!$AN:$AT,4,FALSE)","v":0},null,"PHBAO",{"$f":"VLOOKUP($F23&\"t\", 'Simulator Norming'!$AN:$AT,4,FALSE)","v":0},{"$f":"VLOOKUP($F23&\"t\", 'Simulator Norming'!$AN:$AT,5,FALSE)","v":0},{"$f":"G23+H23","v":0}]
[null,null,"Magnet I",{"$f":"VLOOKUP($C24&\"f\", 'Simulator Norming'!$AN:$AT,4,FALSE)","v":0},null,"Magnet I",{"$f":"VLOOKUP($F24&\"t\", 'Simulator Norming'!$AN:$AT,4,FALSE)","v":0},{"$f":"VLOOKUP($F24&\"t\", 'Simulator Norming'!$AN:$AT,5,FALSE)","v":0},0]
[null,null,"Magnet II",{"$f":"VLOOKUP($C25&\"f\", 'Simulator Norming'!$AN:$AT,4,FALSE)","v":0},null,"Magnet II",{"$f":"VLOOKUP($F25&\"t\", 'Simulator Norming'!$AN:$AT,4,FALSE)","v":0},{"$f":"VLOOKUP($F25&\"t\", 'Simulator Norming'!$AN:$AT,5,FALSE)","v":0},0]
[]
[null,null,"4x4 Alternative Schedule"]
[null,null,"Regular Schools",null,null,"Affiliated Charter Schools"]
[null,null,"Norm Category","District Funded Teachers",null,"Norm Category","District Funded Teachers","Charter Block Grant Funded Teachers","Total Teachers"]
[null,null,"Non-PHBAO",{"$f":"VLOOKUP($C30&\"f\", 'Simulator Norming'!$AN:$AT,4,FALSE)+VLOOKUP($C30&\"f\", 'Simulator Norming'!$AN:$AT,6,FALSE)","v":0},null,"Non-PHBAO",{"$f":"VLOOKUP($F30&\"t\", 'Simulator Norming'!$AN:$AT,4,FALSE)+VLOOKUP($F30&\"t\", 'Simulator Norming'!$AN:$AT,6,FALSE)","v":0},{"$f":"VLOOKUP($F30&\"t\", 'Simulator Norming'!$AN:$AT,5,FALSE)","v":0},{"$f":"G30+H30","v":0}]
[null,null,"PHBAO",{"$f":"VLOOKUP($C31&\"f\", 'Simulator Norming'!$AN:$AT,4,FALSE)+VLOOKUP($C31&\"f\", 'Simulator Norming'!$AN:$AT,6,FALSE)","v":0},null,"PHBAO",{"$f":"VLOOKUP($F31&\"t\", 'Simulator Norming'!$AN:$AT,4,FALSE)+VLOOKUP($F31&\"t\", 'Simulator Norming'!$AN:$AT,6,FALSE)","v":0},{"$f":"VLOOKUP($F31&\"t\", 'Simulator Norming'!$AN:$AT,5,FALSE)","v":0},0]
[null,null,"Magnet I",{"$f":"VLOOKUP($C32&\"f\", 'Simulator Norming'!$AN:$AT,4,FALSE)+VLOOKUP($C32&\"f\", 'Simulator Norming'!$AN:$AT,6,FALSE)","v":0},null,"Magnet I",{"$f":"VLOOKUP($F32&\"t\", 'Simulator Norming'!$AN:$AT,4,FALSE)+VLOOKUP($F32&\"t\", 'Simulator Norming'!$AN:$AT,6,FALSE)","v":0},{"$f":"VLOOKUP($F32&\"t\", 'Simulator Norming'!$AN:$AT,5,FALSE)","v":0},0]
[null,null,"Magnet II",{"$f":"VLOOKUP($C33&\"f\", 'Simulator Norming'!$AN:$AT,4,FALSE)+VLOOKUP($C33&\"f\", 'Simulator Norming'!$AN:$AT,6,FALSE)","v":0},null,"Magnet II",{"$f":"VLOOKUP($F33&\"t\", 'Simulator Norming'!$AN:$AT,4,FALSE)+VLOOKUP($F33&\"t\", 'Simulator Norming'!$AN:$AT,6,FALSE)","v":0},{"$f":"VLOOKUP($F33&\"t\", 'Simulator Norming'!$AN:$AT,5,FALSE)","v":0},0]
[]
[null,null,"2x8 Alternative Schedule"]
[null,null,"Regular Schools",null,null,"Affiliated Charter Schools"]
[null,null,"Norm Category","District Funded Teachers",null,"Norm Category","District Funded Teachers","Charter Block Grant Funded Teachers","Total Teachers"]
[null,null,"Non-PHBAO",{"$f":"VLOOKUP($C38&\"f\", 'Simulator Norming'!$AN:$AT,4,FALSE)+VLOOKUP($C38&\"f\", 'Simulator Norming'!$AN:$AT,7,FALSE)","v":0},null,"Non-PHBAO",{"$f":"VLOOKUP($F38&\"t\", 'Simulator Norming'!$AN:$AT,4,FALSE)+VLOOKUP($F38&\"t\", 'Simulator Norming'!$AN:$AT,7,FALSE)","v":0},{"$f":"VLOOKUP($F38&\"t\", 'Simulator Norming'!$AN:$AT,5,FALSE)","v":0},{"$f":"G38+H38","v":0}]
[null,null,"PHBAO",{"$f":"VLOOKUP($C39&\"f\", 'Simulator Norming'!$AN:$AT,4,FALSE)+VLOOKUP($C39&\"f\", 'Simulator Norming'!$AN:$AT,7,FALSE)","v":0},null,"PHBAO",{"$f":"VLOOKUP($F39&\"t\", 'Simulator Norming'!$AN:$AT,4,FALSE)+VLOOKUP($F39&\"t\", 'Simulator Norming'!$AN:$AT,7,FALSE)","v":0},{"$f":"VLOOKUP($F39&\"t\", 'Simulator Norming'!$AN:$AT,5,FALSE)","v":0},{"$f":"G39+H39","v":0}]
[null,null,"Magnet I",{"$f":"VLOOKUP($C40&\"f\", 'Simulator Norming'!$AN:$AT,4,FALSE)+VLOOKUP($C40&\"f\", 'Simulator Norming'!$AN:$AT,7,FALSE)","v":0},null,"Magnet I",{"$f":"VLOOKUP($F40&\"t\", 'Simulator Norming'!$AN:$AT,4,FALSE)+VLOOKUP($F40&\"t\", 'Simulator Norming'!$AN:$AT,7,FALSE)","v":0},{"$f":"VLOOKUP($F40&\"t\", 'Simulator Norming'!$AN:$AT,5,FALSE)","v":0},0]
[null,null,"Magnet II",{"$f":"VLOOKUP($C41&\"f\", 'Simulator Norming'!$AN:$AT,4,FALSE)+VLOOKUP($C41&\"f\", 'Simulator Norming'!$AN:$AT,7,FALSE)","v":0},null,"Magnet II",{"$f":"VLOOKUP($F41&\"t\", 'Simulator Norming'!$AN:$AT,4,FALSE)+VLOOKUP($F41&\"t\", 'Simulator Norming'!$AN:$AT,7,FALSE)","v":0},{"$f":"VLOOKUP($F41&\"t\", 'Simulator Norming'!$AN:$AT,5,FALSE)","v":0},0]
[]
[null,null,"Notes:"]
[null,null,"• District Funded Teachers - funded by Central"]
[null,null,"• Charter Block Grant Funded Teachers - funded by School"]
[null,null,"• Schools that converted to Affiliated Charter in 2013-14 or thereafter - follow projections under Regular Schools"]
[null,null,"• K-8 or K-12 span schools on an alternative schedule - follow projections under Alternative Schedule"]
[null,null,"• In 2022-23, class sizes for non-high needs and high-needs schools are the same."]
[]
[null,null,"SUBJECT TO CHANGE"]
[]
[null,null,"2022-23 CLERICAL, ADMINISTRATOR & COUNSELOR PROJECTIONS"]
[null,null,"Instructions: enter value for fields highlighted in blue to simulate norm FTEs"]
[]
[null,null,"Indicate whether the school has elementary 6th grade enrollment (\"t\" if yes, \"f\" if no)"]
[]
[null,null,"6th grade elementary",null,{"$f":"IF(AND(SUM(D62:D70)+SUM(G62:G71)>0, D57=0), \"Please select t or f for most accurate simulation.\", \"\")","v":""}]
[]
[null,null,"Enter total enrollment for the home school plus any magnet center, dual language center, and OLC by grade level.  Include any SDP, Pre-K SDP, SPS, and ETK counts."]
[]
[null,null,"Grade","Enrollment",null,"Grade","Enrollment"]
[null,null,"TK and K",null,null,"G9"]
[null,null,"G1",null,null,"G10"]
[null,null,"G2",null,null,"G11"]
[null,null,"G3",null,null,"G12"]
[null,null,"G4",null,null,"SDP K-5(6)"]
[null,null,"G5",null,null,"SDP 6-8"]
[null,null,"G6",null,null,"SDP 9-12"]
[null,null,"G7",null,null,"TE (ETK)"]
[null,null,"G8",null,null,"PRE-K SDP"]
[null,null,null,null,null,"STATE PRESCHOOL"]
[]
[null,null,null,"Staffing"]
[null,null,null,"Administrators",null,{"$f":"'Simulator Norming'!O32","v":0}]
[null,null,null,"Counselors",null,{"$f":"'Simulator Norming'!T32","v":0}]
[null,null,null,"Clerks",null,{"$f":"'Simulator Norming'!J32","v":0}]
[null,null,null,"Total",null,{"$f":"SUM(F74:F76)","v":0}]
[]
[null,null,"Administrator Staffing Details",null,null,"Clerical Staffing Details"]
[null,null,"Principal",{"$f":"'Simulator Norming'!P32","v":0},null,"School Admin Assistant",{"$f":"'Simulator Norming'!K32","v":0}]
[null,null,"APSCS",{"$f":"'Simulator Norming'!Q32","v":0},null,"Special Ed Clerical Support",{"$f":"'Simulator Norming'!L32","v":0}]
[null,null,"AP",{"$f":"'Simulator Norming'!R32","v":0},null,"Additional Clerical Support",{"$f":"'Simulator Norming'!M32","v":0}]
[null,null,"Total",{"$f":"SUM(D80:D82)","v":0},null,"Total",{"$f":"SUM(G80:G82)","v":0}]
[]
[]
[null,null,"SUBJECT TO CHANGE"]

{"sheet":"Simulator Norming","index":1,"n_rows":32,"n_cols":49,"rows_kept":32,"cut":false,"hidden":true,"merged":[]}
["Norm Category","Affiliated","Periods","K-3","4-5 (6)","6-8","9-10","9-12","K-3 Dist","K-3 TIIG","K-3 Net TIIG","K-3 State","K-3 Net CSR","24 to 1   K-3 Tot","4-5 Dist","4-5 TIIG","4-5 Net TIIG","4-5 Tot","6-8 Dist","6-8 TIIG","6-8 Net TIIG","6-8 Tot","9-12 Dist","9-12 Mag TIIG","9-12 Net Mag TIIG","9-12 Subtotal","9-10 TIIG CSR","9-12 Total","Total District Funded",".","K-3 TIIG - Affiliated Charters","4-6 TIIG - Affiliated Charters","6-8 TIIG - Affiliated Charters","9-12 TIIG - Affiliated Charters","9-10 TIIG - Affiliated Charters","Total Charter Block Funded",".","Total Teachers","Norm Category","Index","1/6/22 updated",null,"District Funded Teachers","Charter Funded Teachers","Alt Schedule Tchrs 4x4","Alt Schedule Tchrs 2x8","Total 6 Periods","Total 4x4","Total 2x8"]
["Desegregated/Receiver","f",6,{"$f":"SUM('Position Simulator'!$D$11:$D$14)","v":0},{"$f":"IF('Position Simulator'!$D$7=\"t\",SUM('Position Simulator'!$D$15:$D$17),SUM('Position Simulator'!$D$15:$D$16))","v":0},{"$f":"IF('Position Simulator'!$D$7=\"t\",SUM('Position Simulator'!$G$11:$G$12),'Position Simulator'!$D$17+SUM('Position Simulator'!$G$11:$G$12))","v":0},{"$f":"IF(OR($A2=\"Magnet 1\",$A2=\"Magnet 2\"),0,SUM('Position Simulator'!$G$13:$G$14))","v":0},{"$f":"SUM('Position Simulator'!$G$13:$G$16)","v":0},{"$f":"IF($D2=0,0,VLOOKUP($D2,'6 Periods'!A:C,3,TRUE))","v":0},{"$f":"IF($D2=0,0,IF($A2=\"PHBAO\",VLOOKUP($D2,'6 Periods'!I:K,3,TRUE),IF($A2=\"Desegregated/Receiver\",VLOOKUP($D2,'6 Periods'!A:C,3,TRUE),IF($A2=\"Magnet 2\",VLOOKUP($D2,'6 Periods'!M:O,3,TRUE),IF($A2=\"Magnet 1\",VLOOKUP($D2,'6 Periods'!Q:S,3,TRUE))))))","v":0},{"$f":"IF(AND($B2=\"t\",OR($A2=\"PHBAO\",$A2=\"Desegregated/Receiver\")),0,J2-I2)","v":0},{"$f":"IF($D2=0,0,VLOOKUP($D2,'6 Periods'!E:G,3,TRUE))","v":0},{"$f":"L2-J2","v":0},{"$f":"I2+K2+M2","v":0},{"$f":"IF($E2=0,0,IF(A2=\"Magnet 1\",VLOOKUP($E2,'6 Periods'!U:W,3,TRUE),VLOOKUP($E2,'6 Periods'!CC:CE,3,TRUE)))","v":0},{"$f":"IF($E2=0,0,IF($A2=\"PHBAO\",VLOOKUP($E2,'6 Periods'!Y:AA,3,TRUE),IF($A2=\"Desegregated/Receiver\",VLOOKUP($E2,'6 Periods'!AC:AE,3,TRUE),IF($A2=\"Magnet 2\",VLOOKUP($E2,'6 Periods'!AG:AI,3,TRUE),IF($A2=\"Magnet 1\",VLOOKUP($E2,'6 Periods'!AK:AM,3,TRUE))))))","v":0},{"$f":"IF(AND($B2=\"t\",OR($A2=\"PHBAO\",$A2=\"Desegregated/Receiver\")),0,P2-O2)","v":0},{"$f":"O2+Q2","v":0},{"$f":"IF($F2=0,0,IF(OR(A2=\"Magnet 1\",A2=\"Magnet 2\"),VLOOKUP($F2,'6 Periods'!CG:CI,3,TRUE),VLOOKUP($F2,'6 Periods'!AO:AQ,3,TRUE)))","v":0},{"$f":"IF($F2=0,0,IF($A2=\"PHBAO\",VLOOKUP($F2,'6 Periods'!AS:AU,3,TRUE),IF($A2=\"Desegregated/Receiver\",VLOOKUP($F2,'6 Periods'!AW:AY,3,TRUE),IF($A2=\"Magnet 2\",VLOOKUP($F2,'6 Periods'!BA:BC,3,TRUE),IF($A2=\"Magnet 1\",VLOOKUP($F2,'6 Periods'!BE:BG,3,TRUE))))))","v":0},{"$f":"IF(AND($B2=\"t\",OR($A2=\"PHBAO\",$A2=\"Desegregated/Receiver\")),0,T2-S2)","v":0},{"$f":"S2+U2","v":0},{"$f":"IF($H2=0,0,VLOOKUP($H2,'6 Periods'!BI:BK,3,TRUE))","v":0},{"$f":"IF(OR($H2=0,$A2=\"PHBAO\",$A2=\"Desegregated/Receiver\"),0,IF($A2=\"Magnet 2\",VLOOKUP($H2,'6 Periods'!BU:BW,3,TRUE),IF($A2=\"Magnet 1\",VLOOKUP($H2,'6 Periods'!BY:CA,3,TRUE))))","v":0},{"$f":"IF(OR($A2=\"Magnet 1\", $A2=\"Magnet 2\"), X2-W2,0)","v":0},{"$f":"W2+Y2","v":0},{"$f":"IF(OR($G2=0,$A2=\"Magnet 2\", $A2=\"Magnet 1\"),0,IF(AND($B2=\"t\",OR($A2=\"PHBAO\",$A2=\"Desegregated/Receiver\")),0,IF($A2=\"PHBAO\",VLOOKUP($G2,'6 Periods'!BM:BO,3,TRUE),IF($A2=\"Desegregated/Receiver\",VLOOKUP($G2,'6 Periods'!BQ:BS,3,TRUE)))))","v":0},{"$f":"W2+Y2+AA2","v":0},{"$f":"N2+R2+V2+AB2","v":0},null,{"$f":"IF(OR($B2=\"f\",$A2=\"Magnet 1\", $A2=\"Magnet 2\"), 0, J2-I2)","v":0},{"$f":"IF(OR($B2=\"f\",$A2=\"Magnet 1\",$A2=\"Magnet 2\"),0,P2-O2)","v":0},{"$f":"IF(OR($B2=\"f\",$A2=\"Magnet 1\",$A2=\"Magnet 2\"),0,T2-S2)","v":0},{"$f":"0","v":0},{"$f":"IF(OR($G2=0,$A2=\"Magnet 2\",$A2=\"Magnet 1\",$B2=\"f\"),0,IF($A2=\"PHBAO\",VLOOKUP($G2,'6 Periods'!BM:BO,3,TRUE),IF($A2=\"Desegregated/Receiver\",VLOOKUP($G2,'6 Periods'!BQ:BS,3,TRUE))))","v":0},{"$f":"SUM(AE2:AI2)","v":0},null,{"$f":"AC2+AJ2","v":0},"Non-PHBAO",{"$f":"CONCATENATE(AM2,B2)","v":"Non-PHBAOf"},null,null,{"$f":"AC2","v":0},{"$f":"AJ2","v":0},{"$f":"AL11-(AQ2+AR2)","v":0},{"$f":"AL20-(AQ2+AR2)","v":0},{"$f":"AQ2+AR2","v":0},{"$f":"SUM(AQ2:AS2)","v":0},{"$f":"AQ2+AR2+AT2","v":0}]
["Desegregated/Receiver","t",6,{"$f":"SUM('Position Simulator'!$D$11:$D$14)","v":0},{"$f":"IF('Position Simulator'!$D$7=\"t\",SUM('Position Simulator'!$D$15:$D$17),SUM('Position Simulator'!$D$15:$D$16))","v":0},{"$f":"IF('Position Simulator'!$D$7=\"t\",SUM('Position Simulator'!$G$11:$G$12),'Position Simulator'!$D$17+SUM('Position Simulator'!$G$11:$G$12))","v":0},{"$f":"IF(OR($A3=\"Magnet 1\",$A3=\"Magnet 2\"),0,SUM('Position Simulator'!$G$13:$G$14))","v":0},{"$f":"SUM('Position Simulator'!$G$13:$G$16)","v":0},{"$f":"IF($D3=0,0,VLOOKUP($D3,'6 Periods'!A:C,3,TRUE))","v":0},{"$f":"IF($D3=0,0,IF($A3=\"PHBAO\",VLOOKUP($D3,'6 Periods'!I:K,3,TRUE),IF($A3=\"Desegregated/Receiver\",VLOOKUP($D3,'6 Periods'!A:C,3,TRUE),IF($A3=\"Magnet 2\",VLOOKUP($D3,'6 Periods'!M:O,3,TRUE),IF($A3=\"Magnet 1\",VLOOKUP($D3,'6 Periods'!Q:S,3,TRUE))))))","v":0},{"$f":"IF(AND($B3=\"t\",OR($A3=\"PHBAO\",$A3=\"Desegregated/Receiver\")),0,J3-I3)","v":0},{"$f":"IF($D3=0,0,VLOOKUP($D3,'6 Periods'!E:G,3,TRUE))","v":0},{"$f":"L3-J3","v":0},{"$f":"I3+K3+M3","v":0},{"$f":"IF($E3=0,0,IF(A3=\"Magnet 1\",VLOOKUP($E3,'6 Periods'!U:W,3,TRUE),VLOOKUP($E3,'6 Periods'!CC:CE,3,TRUE)))","v":0},{"$f":"IF($E3=0,0,IF($A3=\"PHBAO\",VLOOKUP($E3,'6 Periods'!Y:AA,3,TRUE),IF($A3=\"Desegregated/Receiver\",VLOOKUP($E3,'6 Periods'!AC:AE,3,TRUE),IF($A3=\"Magnet 2\",VLOOKUP($E3,'6 Periods'!AG:AI,3,TRUE),IF($A3=\"Magnet 1\",VLOOKUP($E3,'6 Periods'!AK:AM,3,TRUE))))))","v":0},{"$f":"IF(AND($B3=\"t\",OR($A3=\"PHBAO\",$A3=\"Desegregated/Receiver\")),0,P3-O3)","v":0},0,{"$f":"IF($F3=0,0,IF(OR(A3=\"Magnet 1\",A3=\"Magnet 2\"),VLOOKUP($F3,'6 Periods'!CG:CI,3,TRUE),VLOOKUP($F3,'6 Periods'!AO:AQ,3,TRUE)))","v":0},{"$f":"IF($F3=0,0,IF($A3=\"PHBAO\",VLOOKUP($F3,'6 Periods'!AS:AU,3,TRUE),IF($A3=\"Desegregated/Receiver\",VLOOKUP($F3,'6 Periods'!AW:AY,3,TRUE),IF($A3=\"Magnet 2\",VLOOKUP($F3,'6 Periods'!BA:BC,3,TRUE),IF($A3=\"Magnet 1\",VLOOKUP($F3,'6 Periods'!BE:BG,3,TRUE))))))","v":0},{"$f":"IF(AND($B3=\"t\",OR($A3=\"PHBAO\",$A3=\"Desegregated/Receiver\")),0,T3-S3)","v":0},0,{"$f":"IF($H3=0,0,VLOOKUP($H3,'6 Periods'!BI:BK,3,TRUE))","v":0},{"$f":"IF(OR($H3=0,$A3=\"PHBAO\",$A3=\"Desegregated/Receiver\"),0,IF($A3=\"Magnet 2\",VLOOKUP($H3,'6 Periods'!BU:BW,3,TRUE),IF($A3=\"Magnet 1\",VLOOKUP($H3,'6 Periods'!BY:CA,3,TRUE))))","v":0},{"$f":"IF(OR($A3=\"Magnet 1\", $A3=\"Magnet 2\"), X3-W3,0)","v":0},0,{"$f":"IF(OR($G3=0,$A3=\"Magnet 2\", $A3=\"Magnet 1\"),0,IF(AND($B3=\"t\",OR($A3=\"PHBAO\",$A3=\"Desegregated/Receiver\")),0,IF($A3=\"PHBAO\",VLOOKUP($G3,'6 Periods'!BM:BO,3,TRUE),IF($A3=\"Desegregated/Receiver\",VLOOKUP($G3,'6 Periods'!BQ:BS,3,TRUE)))))","v":0},0,{"$f":"N3+R3+V3+AB3","v":0},null,{"$f":"IF(OR($B3=\"f\",$A3=\"Magnet 1\", $A3=\"Magnet 2\"), 0, J3-I3)","v":0},{"$f":"IF(OR($B3=\"f\",$A3=\"Magnet 1\",$A3=\"Magnet 2\"),0,P3-O3)","v":0},{"$f":"IF(OR($B3=\"f\",$A3=\"Magnet 1\",$A3=\"Magnet 2\"),0,T3-S3)","v":0},{"$f":"0","v":0},{"$f":"IF(OR($G3=0,$A3=\"Magnet 2\",$A3=\"Magnet 1\",$B3=\"f\"),0,IF($A3=\"PHBAO\",VLOOKUP($G3,'6 Periods'!BM:BO,3,TRUE),IF($A3=\"Desegregated/Receiver\",VLOOKUP($G3,'6 Periods'!BQ:BS,3,TRUE))))","v":0},{"$f":"SUM(AE3:AI3)","v":0},null,{"$f":"AC3+AJ3","v":0},"Non-PHBAO",{"$f":"CONCATENATE(AM3,B3)","v":"Non-PHBAOt"},null,null,{"$f":"AC3","v":0},{"$f":"AJ3","v":0},{"$f":"AL12-(AQ3+AR3)","v":0},{"$f":"AL21-(AQ3+AR3)","v":0},{"$f":"AQ3+AR3","v":0},{"$f":"SUM(AQ3:AS3)","v":0},{"$f":"AQ3+AR3+AT3","v":0}]
["PHBAO","f",6,{"$f":"SUM('Position Simulator'!$D$11:$D$14)","v":0},{"$f":"IF('Position Simulator'!$D$7=\"t\",SUM('Position Simulator'!$D$15:$D$17),SUM('Position Simulator'!$D$15:$D$16))","v":0},{"$f":"IF('Position Simulator'!$D$7=\"t\",SUM('Position Simulator'!$G$11:$G$12),'Position Simulator'!$D$17+SUM('Position Simulator'!$G$11:$G$12))","v":0},{"$f":"IF(OR($A4=\"Magnet 1\",$A4=\"Magnet 2\"),0,SUM('Position Simulator'!$G$13:$G$14))","v":0},{"$f":"SUM('Position Simulator'!$G$13:$G$16)","v":0},{"$f":"IF($D4=0,0,VLOOKUP($D4,'6 Periods'!A:C,3,TRUE))","v":0},{"$f":"IF($D4=0,0,IF($A4=\"PHBAO\",VLOOKUP($D4,'6 Periods'!I:K,3,TRUE),IF($A4=\"Desegregated/Receiver\",VLOOKUP($D4,'6 Periods'!A:C,3,TRUE),IF($A4=\"Magnet 2\",VLOOKUP($D4,'6 Periods'!M:O,3,TRUE),IF($A4=\"Magnet 1\",VLOOKUP($D4,'6 Periods'!Q:S,3,TRUE))))))","v":0},{"$f":"IF(AND($B4=\"t\",OR($A4=\"PHBAO\",$A4=\"Desegregated/Receiver\")),0,J4-I4)","v":0},{"$f":"IF($D4=0,0,VLOOKUP($D4,'6 Periods'!E:G,3,TRUE))","v":0},{"$f":"L4-J4","v":0},{"$f":"I4+K4+M4","v":0},{"$f":"IF($E4=0,0,IF(A4=\"Magnet 1\",VLOOKUP($E4,'6 Periods'!U:W,3,TRUE),VLOOKUP($E4,'6 Periods'!CC:CE,3,TRUE)))","v":0},{"$f":"IF($E4=0,0,IF($A4=\"PHBAO\",VLOOKUP($E4,'6 Periods'!Y:AA,3,TRUE),IF($A4=\"Desegregated/Receiver\",VLOOKUP($E4,'6 Periods'!AC:AE,3,TRUE),IF($A4=\"Magnet 2\",VLOOKUP($E4,'6 Periods'!AG:AI,3,TRUE),IF($A4=\"Magnet 1\",VLOOKUP($E4,'6 Periods'!AK:AM,3,TRUE))))))","v":0},{"$f":"IF(AND($B4=\"t\",OR($A4=\"PHBAO\",$A4=\"Desegregated/Receiver\")),0,P4-O4)","v":0},{"$f":"O4+Q4","v":0},{"$f":"IF($F4=0,0,IF(OR(A4=\"Magnet 1\",A4=\"Magnet 2\"),VLOOKUP($F4,'6 Periods'!CG:CI,3,TRUE),VLOOKUP($F4,'6 Periods'!AO:AQ,3,TRUE)))","v":0},{"$f":"IF($F4=0,0,IF($A4=\"PHBAO\",VLOOKUP($F4,'6 Periods'!AS:AU,3,TRUE),IF($A4=\"Desegregated/Receiver\",VLOOKUP($F4,'6 Periods'!AW:AY,3,TRUE),IF($A4=\"Magnet 2\",VLOOKUP($F4,'6 Periods'!BA:BC,3,TRUE),IF($A4=\"Magnet 1\",VLOOKUP($F4,'6 Periods'!BE:BG,3,TRUE))))))","v":0},{"$f":"IF(AND($B4=\"t\",OR($A4=\"PHBAO\",$A4=\"Desegregated/Receiver\")),0,T4-S4)","v":0},{"$f":"S4+U4","v":0},{"$f":"IF($H4=0,0,VLOOKUP($H4,'6 Periods'!BI:BK,3,TRUE))","v":0},{"$f":"IF(OR($H4=0,$A4=\"PHBAO\",$A4=\"Desegregated/Receiver\"),0,IF($A4=\"Magnet 2\",VLOOKUP($H4,'6 Periods'!BU:BW,3,TRUE),IF($A4=\"Magnet 1\",VLOOKUP($H4,'6 Periods'!BY:CA,3,TRUE))))","v":0},{"$f":"IF(OR($A4=\"Magnet 1\", $A4=\"Magnet 2\"), X4-W4,0)","v":0},{"$f":"W4+Y4","v":0},{"$f":"IF(OR($G4=0,$A4=\"Magnet 2\", $A4=\"Magnet 1\"),0,IF(AND($B4=\"t\",OR($A4=\"PHBAO\",$A4=\"Desegregated/Receiver\")),0,IF($A4=\"PHBAO\",VLOOKUP($G4,'6 Periods'!BM:BO,3,TRUE),IF($A4=\"Desegregated/Receiver\",VLOOKUP($G4,'6 Periods'!BQ:BS,3,TRUE)))))","v":0},{"$f":"W4+Y4+AA4","v":0},{"$f":"N4+R4+V4+AB4","v":0},null,{"$f":"IF(OR($B4=\"f\",$A4=\"Magnet 1\", $A4=\"Magnet 2\"), 0, J4-I4)","v":0},{"$f":"IF(OR($B4=\"f\",$A4=\"Magnet 1\",$A4=\"Magnet 2\"),0,P4-O4)","v":0},{"$f":"IF(OR($B4=\"f\",$A4=\"Magnet 1\",$A4=\"Magnet 2\"),0,T4-S4)","v":0},{"$f":"0","v":0},{"$f":"IF(OR($G4=0,$A4=\"Magnet 2\",$A4=\"Magnet 1\",$B4=\"f\"),0,IF($A4=\"PHBAO\",VLOOKUP($G4,'6 Periods'!BM:BO,3,TRUE),IF($A4=\"Desegregated/Receiver\",VLOOKUP($G4,'6 Periods'!BQ:BS,3,TRUE))))","v":0},{"$f":"SUM(AE4:AI4)","v":0},null,{"$f":"AC4+AJ4","v":0},"PHBAO","PHBAOf",null,null,0,0,0,0,0,0,0]
["PHBAO","t",6,{"$f":"SUM('Position Simulator'!$D$11:$D$14)","v":0},{"$f":"IF('Position Simulator'!$D$7=\"t\",SUM('Position Simulator'!$D$15:$D$17),SUM('Position Simulator'!$D$15:$D$16))","v":0},{"$f":"IF('Position Simulator'!$D$7=\"t\",SUM('Position Simulator'!$G$11:$G$12),'Position Simulator'!$D$17+SUM('Position Simulator'!$G$11:$G$12))","v":0},{"$f":"IF(OR($A5=\"Magnet 1\",$A5=\"Magnet 2\"),0,SUM('Position Simulator'!$G$13:$G$14))","v":0},{"$f":"SUM('Position Simulator'!$G$13:$G$16)","v":0},{"$f":"IF($D5=0,0,VLOOKUP($D5,'6 Periods'!A:C,3,TRUE))","v":0},{"$f":"IF($D5=0,0,IF($A5=\"PHBAO\",VLOOKUP($D5,'6 Periods'!I:K,3,TRUE),IF($A5=\"Desegregated/Receiver\",VLOOKUP($D5,'6 Periods'!A:C,3,TRUE),IF($A5=\"Magnet 2\",VLOOKUP($D5,'6 Periods'!M:O,3,TRUE),IF($A5=\"Magnet 1\",VLOOKUP($D5,'6 Periods'!Q:S,3,TRUE))))))","v":0},{"$f":"IF(AND($B5=\"t\",OR($A5=\"PHBAO\",$A5=\"Desegregated/Receiver\")),0,J5-I5)","v":0},{"$f":"IF($D5=0,0,VLOOKUP($D5,'6 Periods'!E:G,3,TRUE))","v":0},{"$f":"L5-J5","v":0},{"$f":"I5+K5+M5","v":0},{"$f":"IF($E5=0,0,IF(A5=\"Magnet 1\",VLOOKUP($E5,'6 Periods'!U:W,3,TRUE),VLOOKUP($E5,'6 Periods'!CC:CE,3,TRUE)))","v":0},{"$f":"IF($E5=0,0,IF($A5=\"PHBAO\",VLOOKUP($E5,'6 Periods'!Y:AA,3,TRUE),IF($A5=\"Desegregated/Receiver\",VLOOKUP($E5,'6 Periods'!AC:AE,3,TRUE),IF($A5=\"Magnet 2\",VLOOKUP($E5,'6 Periods'!AG:AI,3,TRUE),IF($A5=\"Magnet 1\",VLOOKUP($E5,'6 Periods'!AK:AM,3,TRUE))))))","v":0},{"$f":"IF(AND($B5=\"t\",OR($A5=\"PHBAO\",$A5=\"Desegregated/Receiver\")),0,P5-O5)","v":0},{"$f":"O5+Q5","v":0},{"$f":"IF($F5=0,0,IF(OR(A5=\"Magnet 1\",A5=\"Magnet 2\"),VLOOKUP($F5,'6 Periods'!CG:CI,3,TRUE),VLOOKUP($F5,'6 Periods'!AO:AQ,3,TRUE)))","v":0},{"$f":"IF($F5=0,0,IF($A5=\"PHBAO\",VLOOKUP($F5,'6 Periods'!AS:AU,3,TRUE),IF($A5=\"Desegregated/Receiver\",VLOOKUP($F5,'6 Periods'!AW:AY,3,TRUE),IF($A5=\"Magnet 2\",VLOOKUP($F5,'6 Periods'!BA:BC,3,TRUE),IF($A5=\"Magnet 1\",VLOOKUP($F5,'6 Periods'!BE:BG,3,TRUE))))))","v":0},{"$f":"IF(AND($B5=\"t\",OR($A5=\"PHBAO\",$A5=\"Desegregated/Receiver\")),0,T5-S5)","v":0},{"$f":"S5+U5","v":0},{"$f":"IF($H5=0,0,VLOOKUP($H5,'6 Periods'!BI:BK,3,TRUE))","v":0},{"$f":"IF(OR($H5=0,$A5=\"PHBAO\",$A5=\"Desegregated/Receiver\"),0,IF($A5=\"Magnet 2\",VLOOKUP($H5,'6 Periods'!BU:BW,3,TRUE),IF($A5=\"Magnet 1\",VLOOKUP($H5,'6 Periods'!BY:CA,3,TRUE))))","v":0},{"$f":"IF(OR($A5=\"Magnet 1\", $A5=\"Magnet 2\"), X5-W5,0)","v":0},{"$f":"W5+Y5","v":0},{"$f":"IF(OR($G5=0,$A5=\"Magnet 2\", $A5=\"Magnet 1\"),0,IF(AND($B5=\"t\",OR($A5=\"PHBAO\",$A5=\"Desegregated/Receiver\")),0,IF($A5=\"PHBAO\",VLOOKUP($G5,'6 Periods'!BM:BO,3,TRUE),IF($A5=\"Desegregated/Receiver\",VLOOKUP($G5,'6 Periods'!BQ:BS,3,TRUE)))))","v":0},{"$f":"W5+Y5+AA5","v":0},{"$f":"N5+R5+V5+AB5","v":0},null,{"$f":"IF(OR($B5=\"f\",$A5=\"Magnet 1\", $A5=\"Magnet 2\"), 0, J5-I5)","v":0},{"$f":"IF(OR($B5=\"f\",$A5=\"Magnet 1\",$A5=\"Magnet 2\"),0,P5-O5)","v":0},{"$f":"IF(OR($B5=\"f\",$A5=\"Magnet 1\",$A5=\"Magnet 2\"),0,T5-S5)","v":0},{"$f":"0","v":0},{"$f":"IF(OR($G5=0,$A5=\"Magnet 2\",$A5=\"Magnet 1\",$B5=\"f\"),0,IF($A5=\"PHBAO\",VLOOKUP($G5,'6 Periods'!BM:BO,3,TRUE),IF($A5=\"Desegregated/Receiver\",VLOOKUP($G5,'6 Periods'!BQ:BS,3,TRUE))))","v":0},{"$f":"SUM(AE5:AI5)","v":0},null,{"$f":"AC5+AJ5","v":0},"PHBAO","PHBAOt",null,null,0,0,0,0,0,0,0]
["Magnet 1","f",6,{"$f":"SUM('Position Simulator'!$D$11:$D$14)","v":0},{"$f":"IF('Position Simulator'!$D$7=\"t\",SUM('Position Simulator'!$D$15:$D$17),SUM('Position Simulator'!$D$15:$D$16))","v":0},{"$f":"IF('Position Simulator'!$D$7=\"t\",SUM('Position Simulator'!$G$11:$G$12),'Position Simulator'!$D$17+SUM('Position Simulator'!$G$11:$G$12))","v":0},{"$f":"IF(OR($A6=\"Magnet 1\",$A6=\"Magnet 2\"),0,SUM('Position Simulator'!$G$13:$G$14))","v":0},{"$f":"SUM('Position Simulator'!$G$13:$G$16)","v":0},{"$f":"IF($D6=0,0,VLOOKUP($D6,'6 Periods'!A:C,3,TRUE))","v":0},{"$f":"IF($D6=0,0,IF($A6=\"PHBAO\",VLOOKUP($D6,'6 Periods'!I:K,3,TRUE),IF($A6=\"Desegregated/Receiver\",VLOOKUP($D6,'6 Periods'!A:C,3,TRUE),IF($A6=\"Magnet 2\",VLOOKUP($D6,'6 Periods'!M:O,3,TRUE),IF($A6=\"Magnet 1\",VLOOKUP($D6,'6 Periods'!Q:S,3,TRUE))))))","v":0},0,{"$f":"IF($D6=0,0,VLOOKUP($D6,'6 Periods'!E:G,3,TRUE))","v":0},0,0,{"$f":"IF($E6=0,0,IF(A6=\"Magnet 1\",VLOOKUP($E6,'6 Periods'!U:W,3,TRUE),VLOOKUP($E6,'6 Periods'!CC:CE,3,TRUE)))","v":0},{"$f":"IF($E6=0,0,IF($A6=\"PHBAO\",VLOOKUP($E6,'6 Periods'!Y:AA,3,TRUE),IF($A6=\"Desegregated/Receiver\",VLOOKUP($E6,'6 Periods'!AC:AE,3,TRUE),IF($A6=\"Magnet 2\",VLOOKUP($E6,'6 Periods'!AG:AI,3,TRUE),IF($A6=\"Magnet 1\",VLOOKUP($E6,'6 Periods'!AK:AM,3,TRUE))))))","v":0},0,0,{"$f":"IF($F6=0,0,IF(OR(A6=\"Magnet 1\",A6=\"Magnet 2\"),VLOOKUP($F6,'6 Periods'!CG:CI,3,TRUE),VLOOKUP($F6,'6 Periods'!AO:AQ,3,TRUE)))","v":0},{"$f":"IF($F6=0,0,IF($A6=\"PHBAO\",VLOOKUP($F6,'6 Periods'!AS:AU,3,TRUE),IF($A6=\"Desegregated/Receiver\",VLOOKUP($F6,'6 Periods'!AW:AY,3,TRUE),IF($A6=\"Magnet 2\",VLOOKUP($F6,'6 Periods'!BA:BC,3,TRUE),IF($A6=\"Magnet 1\",VLOOKUP($F6,'6 Periods'!BE:BG,3,TRUE))))))","v":0},0,0,{"$f":"IF($H6=0,0,VLOOKUP($H6,'6 Periods'!BI:BK,3,TRUE))","v":0},{"$f":"IF(OR($H6=0,$A6=\"PHBAO\",$A6=\"Desegregated/Receiver\"),0,IF($A6=\"Magnet 2\",VLOOKUP($H6,'6 Periods'!BU:BW,3,TRUE),IF($A6=\"Magnet 1\",VLOOKUP($H6,'6 Periods'!BY:CA,3,TRUE))))","v":0},0,0,{"$f":"IF(OR($G6=0,$A6=\"Magnet 2\", $A6=\"Magnet 1\"),0,IF(AND($B6=\"t\",OR($A6=\"PHBAO\",$A6=\"Desegregated/Receiver\")),0,IF($A6=\"PHBAO\",VLOOKUP($G6,'6 Periods'!BM:BO,3,TRUE),IF($A6=\"Desegregated/Receiver\",VLOOKUP($G6,'6 Periods'!BQ:BS,3,TRUE)))))","v":0},0,0,null,0,0,0,{"$f":"0","v":0},{"$f":"IF(OR($G6=0,$A6=\"Magnet 2\",$A6=\"Magnet 1\",$B6=\"f\"),0,IF($A6=\"PHBAO\",VLOOKUP($G6,'6 Periods'!BM:BO,3,TRUE),IF($A6=\"Desegregated/Receiver\",VLOOKUP($G6,'6 Periods'!BQ:BS,3,TRUE))))","v":0},0,null,0,"Magnet I","Magnet If",null,null,0,0,0,0,0,0,0]
["Magnet 1","t",6,{"$f":"SUM('Position Simulator'!$D$11:$D$14)","v":0},{"$f":"IF('Position Simulator'!$D$7=\"t\",SUM('Position Simulator'!$D$15:$D$17),SUM('Position Simulator'!$D$15:$D$16))","v":0},{"$f":"IF('Position Simulator'!$D$7=\"t\",SUM('Position Simulator'!$G$11:$G$12),'Position Simulator'!$D$17+SUM('Position Simulator'!$G$11:$G$12))","v":0},{"$f":"IF(OR($A7=\"Magnet 1\",$A7=\"Magnet 2\"),0,SUM('Position Simulator'!$G$13:$G$14))","v":0},{"$f":"SUM('Position Simulator'!$G$13:$G$16)","v":0},{"$f":"IF($D7=0,0,VLOOKUP($D7,'6 Periods'!A:C,3,TRUE))","v":0},{"$f":"IF($D7=0,0,IF($A7=\"PHBAO\",VLOOKUP($D7,'6 Periods'!I:K,3,TRUE),IF($A7=\"Desegregated/Receiver\",VLOOKUP($D7,'6 Periods'!A:C,3,TRUE),IF($A7=\"Magnet 2\",VLOOKUP($D7,'6 Periods'!M:O,3,TRUE),IF($A7=\"Magnet 1\",VLOOKUP($D7,'6 Periods'!Q:S,3,TRUE))))))","v":0},0,{"$f":"IF($D7=0,0,VLOOKUP($D7,'6 Periods'!E:G,3,TRUE))","v":0},0,0,{"$f":"IF($E7=0,0,IF(A7=\"Magnet 1\",VLOOKUP($E7,'6 Periods'!U:W,3,TRUE),VLOOKUP($E7,'6 Periods'!CC:CE,3,TRUE)))","v":0},{"$f":"IF($E7=0,0,IF($A7=\"PHBAO\",VLOOKUP($E7,'6 Periods'!Y:AA,3,TRUE),IF($A7=\"Desegregated/Receiver\",VLOOKUP($E7,'6 Periods'!AC:AE,3,TRUE),IF($A7=\"Magnet 2\",VLOOKUP($E7,'6 Periods'!AG:AI,3,TRUE),IF($A7=\"Magnet 1\",VLOOKUP($E7,'6 Periods'!AK:AM,3,TRUE))))))","v":0},0,0,{"$f":"IF($F7=0,0,IF(OR(A7=\"Magnet 1\",A7=\"Magnet 2\"),VLOOKUP($F7,'6 Periods'!CG:CI,3,TRUE),VLOOKUP($F7,'6 Periods'!AO:AQ,3,TRUE)))","v":0},{"$f":"IF($F7=0,0,IF($A7=\"PHBAO\",VLOOKUP($F7,'6 Periods'!AS:AU,3,TRUE),IF($A7=\"Desegregated/Receiver\",VLOOKUP($F7,'6 Periods'!AW:AY,3,TRUE),IF($A7=\"Magnet 2\",VLOOKUP($F7,'6 Periods'!BA:BC,3,TRUE),IF($A7=\"Magnet 1\",VLOOKUP($F7,'6 Periods'!BE:BG,3,TRUE))))))","v":0},0,0,{"$f":"IF($H7=0,0,VLOOKUP($H7,'6 Periods'!BI:BK,3,TRUE))","v":0},{"$f":"IF(OR($H7=0,$A7=\"PHBAO\",$A7=\"Desegregated/Receiver\"),0,IF($A7=\"Magnet 2\",VLOOKUP($H7,'6 Periods'!BU:BW,3,TRUE),IF($A7=\"Magnet 1\",VLOOKUP($H7,'6 Periods'!BY:CA,3,TRUE))))","v":0},0,0,{"$f":"IF(OR($G7=0,$A7=\"Magnet 2\", $A7=\"Magnet 1\"),0,IF(AND($B7=\"t\",OR($A7=\"PHBAO\",$A7=\"Desegregated/Receiver\")),0,IF($A7=\"PHBAO\",VLOOKUP($G7,'6 Periods'!BM:BO,3,TRUE),IF($A7=\"Desegregated/Receiver\",VLOOKUP($G7,'6 Periods'!BQ:BS,3,TRUE)))))","v":0},0,0,null,0,0,0,{"$f":"0","v":0},{"$f":"IF(OR($G7=0,$A7=\"Magnet 2\",$A7=\"Magnet 1\",$B7=\"f\"),0,IF($A7=\"PHBAO\",VLOOKUP($G7,'6 Periods'!BM:BO,3,TRUE),IF($A7=\"Desegregated/Receiver\",VLOOKUP($G7,'6 Periods'!BQ:BS,3,TRUE))))","v":0},0,null,0,"Magnet I","Magnet It",null,null,0,0,0,0,0,0,0]
["Magnet 2","f",6,{"$f":"SUM('Position Simulator'!$D$11:$D$14)","v":0},{"$f":"IF('Position Simulator'!$D$7=\"t\",SUM('Position Simulator'!$D$15:$D$17),SUM('Position Simulator'!$D$15:$D$16))","v":0},{"$f":"IF('Position Simulator'!$D$7=\"t\",SUM('Position Simulator'!$G$11:$G$12),'Position Simulator'!$D$17+SUM('Position Simulator'!$G$11:$G$12))","v":0},{"$f":"IF(OR($A8=\"Magnet 1\",$A8=\"Magnet 2\"),0,SUM('Position Simulator'!$G$13:$G$14))","v":0},{"$f":"SUM('Position Simulator'!$G$13:$G$16)","v":0},{"$f":"IF($D8=0,0,VLOOKUP($D8,'6 Periods'!A:C,3,TRUE))","v":0},{"$f":"IF($D8=0,0,IF($A8=\"PHBAO\",VLOOKUP($D8,'6 Periods'!I:K,3,TRUE),IF($A8=\"Desegregated/Receiver\",VLOOKUP($D8,'6 Periods'!A:C,3,TRUE),IF($A8=\"Magnet 2\",VLOOKUP($D8,'6 Periods'!M:O,3,TRUE),IF($A8=\"Magnet 1\",VLOOKUP($D8,'6 Periods'!Q:S,3,TRUE))))))","v":0},0,{"$f":"IF($D8=0,0,VLOOKUP($D8,'6 Periods'!E:G,3,TRUE))","v":0},0,0,{"$f":"IF($E8=0,0,IF(A8=\"Magnet 1\",VLOOKUP($E8,'6 Periods'!U:W,3,TRUE),VLOOKUP($E8,'6 Periods'!CC:CE,3,TRUE)))","v":0},{"$f":"IF($E8=0,0,IF($A8=\"PHBAO\",VLOOKUP($E8,'6 Periods'!Y:AA,3,TRUE),IF($A8=\"Desegregated/Receiver\",VLOOKUP($E8,'6 Periods'!AC:AE,3,TRUE),IF($A8=\"Magnet 2\",VLOOKUP($E8,'6 Periods'!AG:AI,3,TRUE),IF($A8=\"Magnet 1\",VLOOKUP($E8,'6 Periods'!AK:AM,3,TRUE))))))","v":0},0,0,{"$f":"IF($F8=0,0,IF(OR(A8=\"Magnet 1\",A8=\"Magnet 2\"),VLOOKUP($F8,'6 Periods'!CG:CI,3,TRUE),VLOOKUP($F8,'6 Periods'!AO:AQ,3,TRUE)))","v":0},{"$f":"IF($F8=0,0,IF($A8=\"PHBAO\",VLOOKUP($F8,'6 Periods'!AS:AU,3,TRUE),IF($A8=\"Desegregated/Receiver\",VLOOKUP($F8,'6 Periods'!AW:AY,3,TRUE),IF($A8=\"Magnet 2\",VLOOKUP($F8,'6 Periods'!BA:BC,3,TRUE),IF($A8=\"Magnet 1\",VLOOKUP($F8,'6 Periods'!BE:BG,3,TRUE))))))","v":0},0,0,{"$f":"IF($H8=0,0,VLOOKUP($H8,'6 Periods'!BI:BK,3,TRUE))","v":0},{"$f":"IF(OR($H8=0,$A8=\"PHBAO\",$A8=\"Desegregated/Receiver\"),0,IF($A8=\"Magnet 2\",VLOOKUP($H8,'6 Periods'!BU:BW,3,TRUE),IF($A8=\"Magnet 1\",VLOOKUP($H8,'6 Periods'!BY:CA,3,TRUE))))","v":0},0,0,{"$f":"IF(OR($G8=0,$A8=\"Magnet 2\", $A8=\"Magnet 1\"),0,IF(AND($B8=\"t\",OR($A8=\"PHBAO\",$A8=\"Desegregated/Receiver\")),0,IF($A8=\"PHBAO\",VLOOKUP($G8,'6 Periods'!BM:BO,3,TRUE),IF($A8=\"Desegregated/Receiver\",VLOOKUP($G8,'6 Periods'!BQ:BS,3,TRUE)))))","v":0},0,0,null,0,0,0,{"$f":"0","v":0},{"$f":"IF(OR($G8=0,$A8=\"Magnet 2\",$A8=\"Magnet 1\",$B8=\"f\"),0,IF($A8=\"PHBAO\",VLOOKUP($G8,'6 Periods'!BM:BO,3,TRUE),IF($A8=\"Desegregated/Receiver\",VLOOKUP($G8,'6 Periods'!BQ:BS,3,TRUE))))","v":0},0,null,0,"Magnet II","Magnet IIf",null,null,0,0,0,0,0,0,0]
["Magnet 2","t",6,{"$f":"SUM('Position Simulator'!$D$11:$D$14)","v":0},{"$f":"IF('Position Simulator'!$D$7=\"t\",SUM('Position Simulator'!$D$15:$D$17),SUM('Position Simulator'!$D$15:$D$16))","v":0},{"$f":"IF('Position Simulator'!$D$7=\"t\",SUM('Position Simulator'!$G$11:$G$12),'Position Simulator'!$D$17+SUM('Position Simulator'!$G$11:$G$12))","v":0},{"$f":"IF(OR($A9=\"Magnet 1\",$A9=\"Magnet 2\"),0,SUM('Position Simulator'!$G$13:$G$14))","v":0},{"$f":"SUM('Position Simulator'!$G$13:$G$16)","v":0},{"$f":"IF($D9=0,0,VLOOKUP($D9,'6 Periods'!A:C,3,TRUE))","v":0},{"$f":"IF($D9=0,0,IF($A9=\"PHBAO\",VLOOKUP($D9,'6 Periods'!I:K,3,TRUE),IF($A9=\"Desegregated/Receiver\",VLOOKUP($D9,'6 Periods'!A:C,3,TRUE),IF($A9=\"Magnet 2\",VLOOKUP($D9,'6 Periods'!M:O,3,TRUE),IF($A9=\"Magnet 1\",VLOOKUP($D9,'6 Periods'!Q:S,3,TRUE))))))","v":0},0,{"$f":"IF($D9=0,0,VLOOKUP($D9,'6 Periods'!E:G,3,TRUE))","v":0},0,0,{"$f":"IF($E9=0,0,IF(A9=\"Magnet 1\",VLOOKUP($E9,'6 Periods'!U:W,3,TRUE),VLOOKUP($E9,'6 Periods'!CC:CE,3,TRUE)))","v":0},{"$f":"IF($E9=0,0,IF($A9=\"PHBAO\",VLOOKUP($E9,'6 Periods'!Y:AA,3,TRUE),IF($A9=\"Desegregated/Receiver\",VLOOKUP($E9,'6 Periods'!AC:AE,3,TRUE),IF($A9=\"Magnet 2\",VLOOKUP($E9,'6 Periods'!AG:AI,3,TRUE),IF($A9=\"Magnet 1\",VLOOKUP($E9,'6 Periods'!AK:AM,3,TRUE))))))","v":0},0,0,{"$f":"IF($F9=0,0,IF(OR(A9=\"Magnet 1\",A9=\"Magnet 2\"),VLOOKUP($F9,'6 Periods'!CG:CI,3,TRUE),VLOOKUP($F9,'6 Periods'!AO:AQ,3,TRUE)))","v":0},{"$f":"IF($F9=0,0,IF($A9=\"PHBAO\",VLOOKUP($F9,'6 Periods'!AS:AU,3,TRUE),IF($A9=\"Desegregated/Receiver\",VLOOKUP($F9,'6 Periods'!AW:AY,3,TRUE),IF($A9=\"Magnet 2\",VLOOKUP($F9,'6 Periods'!BA:BC,3,TRUE),IF($A9=\"Magnet 1\",VLOOKUP($F9,'6 Periods'!BE:BG,3,TRUE))))))","v":0},0,0,{"$f":"IF($H9=0,0,VLOOKUP($H9,'6 Periods'!BI:BK,3,TRUE))","v":0},{"$f":"IF(OR($H9=0,$A9=\"PHBAO\",$A9=\"Desegregated/Receiver\"),0,IF($A9=\"Magnet 2\",VLOOKUP($H9,'6 Periods'!BU:BW,3,TRUE),IF($A9=\"Magnet 1\",VLOOKUP($H9,'6 Periods'!BY:CA,3,TRUE))))","v":0},0,0,{"$f":"IF(OR($G9=0,$A9=\"Magnet 2\", $A9=\"Magnet 1\"),0,IF(AND($B9=\"t\",OR($A9=\"PHBAO\",$A9=\"Desegregated/Receiver\")),0,IF($A9=\"PHBAO\",VLOOKUP($G9,'6 Periods'!BM:BO,3,TRUE),IF($A9=\"Desegregated/Receiver\",VLOOKUP($G9,'6 Periods'!BQ:BS,3,TRUE)))))","v":0},0,0,null,0,0,0,{"$f":"0","v":0},{"$f":"IF(OR($G9=0,$A9=\"Magnet 2\",$A9=\"Magnet 1\",$B9=\"f\"),0,IF($A9=\"PHBAO\",VLOOKUP($G9,'6 Periods'!BM:BO,3,TRUE),IF($A9=\"Desegregated/Receiver\",VLOOKUP($G9,'6 Periods'!BQ:BS,3,TRUE))))","v":0},0,null,0,"Magnet II","Magnet IIt",null,null,0,0,0,0,0,{"$f":"SUM(AQ9:AS9)","v":0},0]
[null,null,null,null,null,null,null,null,null,null,null,null,null,null,null,null,null,null,null,null,null,null,null,null,null,null,null,null,null,null,null,null,null,null,null,null,null,null,null,{"$f":"CONCATENATE(AM10,B10,C10)","v":""}]
["Desegregated/Receiver","f","4x4",{"$f":"SUM('Position Simulator'!$D$11:$D$14)","v":0},{"$f":"IF('Position Simulator'!$D$7=\"t\",SUM('Position Simulator'!$D$15:$D$17),SUM('Position Simulator'!$D$15:$D$16))","v":0},{"$f":"IF('Position Simulator'!$D$7=\"t\",SUM('Position Simulator'!$G$11:$G$12),'Position Simulator'!$D$17+SUM('Position Simulator'!$G$11:$G$12))","v":0},{"$f":"IF(OR($A11=\"Magnet 1\",$A11=\"Magnet 2\"),0,SUM('Position Simulator'!$G$13:$G$14))","v":0},{"$f":"SUM('Position Simulator'!$G$13:$G$16)","v":0},{"$f":"IF($D11=0,0,VLOOKUP($D11,'4x4'!A:C,3,TRUE))","v":0},{"$f":"IF($D2=0,0,IF($A2=\"PHBAO\",VLOOKUP($D2,'4x4'!I:K,3,TRUE),IF($A2=\"Desegregated/Receiver\",VLOOKUP($D2,'4x4'!A:C,3,TRUE),IF($A2=\"Magnet 2\",VLOOKUP($D2,'4x4'!M:O,3,TRUE),IF($A2=\"Magnet 1\",VLOOKUP($D2,'4x4'!Q:S,3,TRUE))))))","v":0},0,{"$f":"IF($D11=0,0,VLOOKUP($D11,'4x4'!E:G,3,TRUE))","v":0},0,0,{"$f":"IF($E11=0,0,IF(A11=\"Magnet 1\",VLOOKUP($E11,'4x4'!U:W,3,TRUE),VLOOKUP($E11,'4x4'!CC:CE,3,TRUE)))","v":0},{"$f":"IF($E11=0,0,IF($A11=\"PHBAO\",VLOOKUP($E11,'4x4'!Y:AA,3,TRUE),IF($A11=\"Desegregated/Receiver\",VLOOKUP($E11,'4x4'!AC:AE,3,TRUE),IF($A11=\"Magnet 2\",VLOOKUP($E11,'4x4'!AG:AI,3,TRUE),IF($A11=\"Magnet 1\",VLOOKUP($E11,'4x4'!AK:AM,3,TRUE))))))","v":0},0,0,{"$f":"IF($F11=0,0,IF(OR(A11=\"Magnet 1\",A11=\"Magnet 2\"),VLOOKUP($F11,'4x4'!CG:CI,3,TRUE),VLOOKUP($F11,'4x4'!AO:AQ,3,TRUE)))","v":0},{"$f":"IF($F11=0,0,IF($A11=\"PHBAO\",VLOOKUP($F11,'4x4'!AS:AU,3,TRUE),IF($A11=\"Desegregated/Receiver\",VLOOKUP($F11,'4x4'!AW:AY,3,TRUE),IF($A11=\"Magnet 2\",VLOOKUP($F11,'4x4'!BA:BC,3,TRUE),IF($A11=\"Magnet 1\",VLOOKUP($F11,'4x4'!BE:BG,3,TRUE))))))","v":0},0,0,{"$f":"IF($H11=0,0,VLOOKUP($H11,'4x4'!BI:BK,3,TRUE))","v":0},{"$f":"IF(OR($H11=0,$A11=\"PHBAO\",$A11=\"Desegregated/Receiver\"),0,IF($A11=\"Magnet 2\",VLOOKUP($H11,'4x4'!BU:BW,3,TRUE),IF($A11=\"Magnet 1\",VLOOKUP($H11,'4x4'!BY:CA,3,TRUE))))","v":0},0,0,{"$f":"IF(OR($G11=0,$A11=\"Magnet 2\", $A11=\"Magnet 1\"),0,IF(AND($B11=\"t\",OR($A11=\"PHBAO\",$A11=\"Desegregated/Receiver\")),0,IF($A11=\"PHBAO\",VLOOKUP($G11,'4x4'!BM:BO,3,TRUE),IF($A11=\"Desegregated/Receiver\",VLOOKUP($G11,'4x4'!BQ:BS,3,TRUE)))))","v":0},0,0,null,0,0,0,{"$f":"0","v":0},{"$f":"IF(OR($G11=0,$A11=\"Magnet 2\",$A11=\"Magnet 1\",$B11=\"f\"),0,IF($A11=\"PHBAO\",VLOOKUP($G11,'4x4'!BM:BO,3,TRUE),IF($A11=\"Desegregated/Receiver\",VLOOKUP($G11,'4x4'!BQ:BS,3,TRUE))))","v":0},0,null,0,"Non-PHBAO","Non-PHBAOf4x4"]
["Desegregated/Receiver","t","4x4",{"$f":"SUM('Position Simulator'!$D$11:$D$14)","v":0},{"$f":"IF('Position Simulator'!$D$7=\"t\",SUM('Position Simulator'!$D$15:$D$17),SUM('Position Simulator'!$D$15:$D$16))","v":0},{"$f":"IF('Position Simulator'!$D$7=\"t\",SUM('Position Simulator'!$G$11:$G$12),'Position Simulator'!$D$17+SUM('Position Simulator'!$G$11:$G$12))","v":0},{"$f":"IF(OR($A12=\"Magnet 1\",$A12=\"Magnet 2\"),0,SUM('Position Simulator'!$G$13:$G$14))","v":0},{"$f":"SUM('Position Simulator'!$G$13:$G$16)","v":0},{"$f":"IF($D12=0,0,VLOOKUP($D12,'4x4'!A:C,3,TRUE))","v":0},{"$f":"IF($D3=0,0,IF($A3=\"PHBAO\",VLOOKUP($D3,'4x4'!I:K,3,TRUE),IF($A3=\"Desegregated/Receiver\",VLOOKUP($D3,'4x4'!A:C,3,TRUE),IF($A3=\"Magnet 2\",VLOOKUP($D3,'4x4'!M:O,3,TRUE),IF($A3=\"Magnet 1\",VLOOKUP($D3,'4x4'!Q:S,3,TRUE))))))","v":0},0,{"$f":"IF($D12=0,0,VLOOKUP($D12,'4x4'!E:G,3,TRUE))","v":0},0,0,{"$f":"IF($E12=0,0,IF(A12=\"Magnet 1\",VLOOKUP($E12,'4x4'!U:W,3,TRUE),VLOOKUP($E12,'4x4'!CC:CE,3,TRUE)))","v":0},{"$f":"IF($E12=0,0,IF($A12=\"PHBAO\",VLOOKUP($E12,'4x4'!Y:AA,3,TRUE),IF($A12=\"Desegregated/Receiver\",VLOOKUP($E12,'4x4'!AC:AE,3,TRUE),IF($A12=\"Magnet 2\",VLOOKUP($E12,'4x4'!AG:AI,3,TRUE),IF($A12=\"Magnet 1\",VLOOKUP($E12,'4x4'!AK:AM,3,TRUE))))))","v":0},0,0,{"$f":"IF($F12=0,0,IF(OR(A12=\"Magnet 1\",A12=\"Magnet 2\"),VLOOKUP($F12,'4x4'!CG:CI,3,TRUE),VLOOKUP($F12,'4x4'!AO:AQ,3,TRUE)))","v":0},{"$f":"IF($F12=0,0,IF($A12=\"PHBAO\",VLOOKUP($F12,'4x4'!AS:AU,3,TRUE),IF($A12=\"Desegregated/Receiver\",VLOOKUP($F12,'4x4'!AW:AY,3,TRUE),IF($A12=\"Magnet 2\",VLOOKUP($F12,'4x4'!BA:BC,3,TRUE),IF($A12=\"Magnet 1\",VLOOKUP($F12,'4x4'!BE:BG,3,TRUE))))))","v":0},0,0,{"$f":"IF($H12=0,0,VLOOKUP($H12,'4x4'!BI:BK,3,TRUE))","v":0},{"$f":"IF(OR($H12=0,$A12=\"PHBAO\",$A12=\"Desegregated/Receiver\"),0,IF($A12=\"Magnet 2\",VLOOKUP($H12,'4x4'!BU:BW,3,TRUE),IF($A12=\"Magnet 1\",VLOOKUP($H12,'4x4'!BY:CA,3,TRUE))))","v":0},0,0,{"$f":"IF(OR($G12=0,$A12=\"Magnet 2\", $A12=\"Magnet 1\"),0,IF(AND($B12=\"t\",OR($A12=\"PHBAO\",$A12=\"Desegregated/Receiver\")),0,IF($A12=\"PHBAO\",VLOOKUP($G12,'4x4'!BM:BO,3,TRUE),IF($A12=\"Desegregated/Receiver\",VLOOKUP($G12,'4x4'!BQ:BS,3,TRUE)))))","v":0},0,0,null,0,0,0,{"$f":"0","v":0},{"$f":"IF(OR($G12=0,$A12=\"Magnet 2\",$A12=\"Magnet 1\",$B12=\"f\"),0,IF($A12=\"PHBAO\",VLOOKUP($G12,'4x4'!BM:BO,3,TRUE),IF($A12=\"Desegregated/Receiver\",VLOOKUP($G12,'4x4'!BQ:BS,3,TRUE))))","v":0},0,null,0,"Non-PHBAO","Non-PHBAOt4x4"]
["PHBAO","f","4x4",{"$f":"SUM('Position Simulator'!$D$11:$D$14)","v":0},{"$f":"IF('Position Simulator'!$D$7=\"t\",SUM('Position Simulator'!$D$15:$D$17),SUM('Position Simulator'!$D$15:$D$16))","v":0},{"$f":"IF('Position Simulator'!$D$7=\"t\",SUM('Position Simulator'!$G$11:$G$12),'Position Simulator'!$D$17+SUM('Position Simulator'!$G$11:$G$12))","v":0},{"$f":"IF(OR($A13=\"Magnet 1\",$A13=\"Magnet 2\"),0,SUM('Position Simulator'!$G$13:$G$14))","v":0},{"$f":"SUM('Position Simulator'!$G$13:$G$16)","v":0},{"$f":"IF($D13=0,0,VLOOKUP($D13,'4x4'!A:C,3,TRUE))","v":0},{"$f":"IF($D4=0,0,IF($A4=\"PHBAO\",VLOOKUP($D4,'4x4'!I:K,3,TRUE),IF($A4=\"Desegregated/Receiver\",VLOOKUP($D4,'4x4'!A:C,3,TRUE),IF($A4=\"Magnet 2\",VLOOKUP($D4,'4x4'!M:O,3,TRUE),IF($A4=\"Magnet 1\",VLOOKUP($D4,'4x4'!Q:S,3,TRUE))))))","v":0},{"$f":"IF(AND($B13=\"t\",OR($A13=\"PHBAO\",$A13=\"Desegregated/Receiver\")),0,J13-I13)","v":0},{"$f":"IF($D13=0,0,VLOOKUP($D13,'4x4'!E:G,3,TRUE))","v":0},{"$f":"L13-J13","v":0},{"$f":"I13+K13+M13","v":0},{"$f":"IF($E13=0,0,IF(A13=\"Magnet 1\",VLOOKUP($E13,'4x4'!U:W,3,TRUE),VLOOKUP($E13,'4x4'!CC:CE,3,TRUE)))","v":0},{"$f":"IF($E13=0,0,IF($A13=\"PHBAO\",VLOOKUP($E13,'4x4'!Y:AA,3,TRUE),IF($A13=\"Desegregated/Receiver\",VLOOKUP($E13,'4x4'!AC:AE,3,TRUE),IF($A13=\"Magnet 2\",VLOOKUP($E13,'4x4'!AG:AI,3,TRUE),IF($A13=\"Magnet 1\",VLOOKUP($E13,'4x4'!AK:AM,3,TRUE))))))","v":0},{"$f":"IF(AND($B13=\"t\",OR($A13=\"PHBAO\",$A13=\"Desegregated/Receiver\")),0,P13-O13)","v":0},{"$f":"O13+Q13","v":0},{"$f":"IF($F13=0,0,IF(OR(A13=\"Magnet 1\",A13=\"Magnet 2\"),VLOOKUP($F13,'4x4'!CG:CI,3,TRUE),VLOOKUP($F13,'4x4'!AO:AQ,3,TRUE)))","v":0},{"$f":"IF($F13=0,0,IF($A13=\"PHBAO\",VLOOKUP($F13,'4x4'!AS:AU,3,TRUE),IF($A13=\"Desegregated/Receiver\",VLOOKUP($F13,'4x4'!AW:AY,3,TRUE),IF($A13=\"Magnet 2\",VLOOKUP($F13,'4x4'!BA:BC,3,TRUE),IF($A13=\"Magnet 1\",VLOOKUP($F13,'4x4'!BE:BG,3,TRUE))))))","v":0},{"$f":"IF(AND($B13=\"t\",OR($A13=\"PHBAO\",$A13=\"Desegregated/Receiver\")),0,T13-S13)","v":0},{"$f":"S13+U13","v":0},{"$f":"IF($H13=0,0,VLOOKUP($H13,'4x4'!BI:BK,3,TRUE))","v":0},{"$f":"IF(OR($H13=0,$A13=\"PHBAO\",$A13=\"Desegregated/Receiver\"),0,IF($A13=\"Magnet 2\",VLOOKUP($H13,'4x4'!BU:BW,3,TRUE),IF($A13=\"Magnet 1\",VLOOKUP($H13,'4x4'!BY:CA,3,TRUE))))","v":0},{"$f":"IF(OR($A13=\"Magnet 1\", $A13=\"Magnet 2\"), X13-W13,0)","v":0},{"$f":"W13+Y13","v":0},{"$f":"IF(OR($G13=0,$A13=\"Magnet 2\", $A13=\"Magnet 1\"),0,IF(AND($B13=\"t\",OR($A13=\"PHBAO\",$A13=\"Desegregated/Receiver\")),0,IF($A13=\"PHBAO\",VLOOKUP($G13,'4x4'!BM:BO,3,TRUE),IF($A13=\"Desegregated/Receiver\",VLOOKUP($G13,'4x4'!BQ:BS,3,TRUE)))))","v":0},{"$f":"W13+Y13+AA13","v":0},{"$f":"N13+R13+V13+AB13","v":0},null,{"$f":"IF(OR($B13=\"f\",$A13=\"Magnet 1\", $A13=\"Magnet 2\"), 0, J13-I13)","v":0},{"$f":"IF(OR($B13=\"f\",$A13=\"Magnet 1\",$A13=\"Magnet 2\"),0,P13-O13)","v":0},{"$f":"IF(OR($B13=\"f\",$A13=\"Magnet 1\",$A13=\"Magnet 2\"),0,T13-S13)","v":0},{"$f":"0","v":0},{"$f":"IF(OR($G13=0,$A13=\"Magnet 2\",$A13=\"Magnet 1\",$B13=\"f\"),0,IF($A13=\"PHBAO\",VLOOKUP($G13,'4x4'!BM:BO,3,TRUE),IF($A13=\"Desegregated/Receiver\",VLOOKUP($G13,'4x4'!BQ:BS,3,TRUE))))","v":0},{"$f":"SUM(AE13:AI13)","v":0},null,{"$f":"AC13+AJ13","v":0},"PHBAO","PHBAOf4x4"]
["PHBAO","t","4x4",{"$f":"SUM('Position Simulator'!$D$11:$D$14)","v":0},{"$f":"IF('Position Simulator'!$D$7=\"t\",SUM('Position Simulator'!$D$15:$D$17),SUM('Position Simulator'!$D$15:$D$16))","v":0},{"$f":"IF('Position Simulator'!$D$7=\"t\",SUM('Position Simulator'!$G$11:$G$12),'Position Simulator'!$D$17+SUM('Position Simulator'!$G$11:$G$12))","v":0},{"$f":"IF(OR($A14=\"Magnet 1\",$A14=\"Magnet 2\"),0,SUM('Position Simulator'!$G$13:$G$14))","v":0},{"$f":"SUM('Position Simulator'!$G$13:$G$16)","v":0},{"$f":"IF($D14=0,0,VLOOKUP($D14,'4x4'!A:C,3,TRUE))","v":0},{"$f":"IF($D5=0,0,IF($A5=\"PHBAO\",VLOOKUP($D5,'4x4'!I:K,3,TRUE),IF($A5=\"Desegregated/Receiver\",VLOOKUP($D5,'4x4'!A:C,3,TRUE),IF($A5=\"Magnet 2\",VLOOKUP($D5,'4x4'!M:O,3,TRUE),IF($A5=\"Magnet 1\",VLOOKUP($D5,'4x4'!Q:S,3,TRUE))))))","v":0},{"$f":"IF(AND($B14=\"t\",OR($A14=\"PHBAO\",$A14=\"Desegregated/Receiver\")),0,J14-I14)","v":0},{"$f":"IF($D14=0,0,VLOOKUP($D14,'4x4'!E:G,3,TRUE))","v":0},{"$f":"L14-J14","v":0},{"$f":"I14+K14+M14","v":0},{"$f":"IF($E14=0,0,IF(A14=\"Magnet 1\",VLOOKUP($E14,'4x4'!U:W,3,TRUE),VLOOKUP($E14,'4x4'!CC:CE,3,TRUE)))","v":0},{"$f":"IF($E14=0,0,IF($A14=\"PHBAO\",VLOOKUP($E14,'4x4'!Y:AA,3,TRUE),IF($A14=\"Desegregated/Receiver\",VLOOKUP($E14,'4x4'!AC:AE,3,TRUE),IF($A14=\"Magnet 2\",VLOOKUP($E14,'4x4'!AG:AI,3,TRUE),IF($A14=\"Magnet 1\",VLOOKUP($E14,'4x4'!AK:AM,3,TRUE))))))","v":0},{"$f":"IF(AND($B14=\"t\",OR($A14=\"PHBAO\",$A14=\"Desegregated/Receiver\")),0,P14-O14)","v":0},{"$f":"O14+Q14","v":0},{"$f":"IF($F14=0,0,IF(OR(A14=\"Magnet 1\",A14=\"Magnet 2\"),VLOOKUP($F14,'4x4'!CG:CI,3,TRUE),VLOOKUP($F14,'4x4'!AO:AQ,3,TRUE)))","v":0},{"$f":"IF($F14=0,0,IF($A14=\"PHBAO\",VLOOKUP($F14,'4x4'!AS:AU,3,TRUE),IF($A14=\"Desegregated/Receiver\",VLOOKUP($F14,'4x4'!AW:AY,3,TRUE),IF($A14=\"Magnet 2\",VLOOKUP($F14,'4x4'!BA:BC,3,TRUE),IF($A14=\"Magnet 1\",VLOOKUP($F14,'4x4'!BE:BG,3,TRUE))))))","v":0},{"$f":"IF(AND($B14=\"t\",OR($A14=\"PHBAO\",$A14=\"Desegregated/Receiver\")),0,T14-S14)","v":0},{"$f":"S14+U14","v":0},{"$f":"IF($H14=0,0,VLOOKUP($H14,'4x4'!BI:BK,3,TRUE))","v":0},{"$f":"IF(OR($H14=0,$A14=\"PHBAO\",$A14=\"Desegregated/Receiver\"),0,IF($A14=\"Magnet 2\",VLOOKUP($H14,'4x4'!BU:BW,3,TRUE),IF($A14=\"Magnet 1\",VLOOKUP($H14,'4x4'!BY:CA,3,TRUE))))","v":0},{"$f":"IF(OR($A14=\"Magnet 1\", $A14=\"Magnet 2\"), X14-W14,0)","v":0},{"$f":"W14+Y14","v":0},{"$f":"IF(OR($G14=0,$A14=\"Magnet 2\", $A14=\"Magnet 1\"),0,IF(AND($B14=\"t\",OR($A14=\"PHBAO\",$A14=\"Desegregated/Receiver\")),0,IF($A14=\"PHBAO\",VLOOKUP($G14,'4x4'!BM:BO,3,TRUE),IF($A14=\"Desegregated/Receiver\",VLOOKUP($G14,'4x4'!BQ:BS,3,TRUE)))))","v":0},{"$f":"W14+Y14+AA14","v":0},{"$f":"N14+R14+V14+AB14","v":0},null,{"$f":"IF(OR($B14=\"f\",$A14=\"Magnet 1\", $A14=\"Magnet 2\"), 0, J14-I14)","v":0},{"$f":"IF(OR($B14=\"f\",$A14=\"Magnet 1\",$A14=\"Magnet 2\"),0,P14-O14)","v":0},{"$f":"IF(OR($B14=\"f\",$A14=\"Magnet 1\",$A14=\"Magnet 2\"),0,T14-S14)","v":0},{"$f":"0","v":0},{"$f":"IF(OR($G14=0,$A14=\"Magnet 2\",$A14=\"Magnet 1\",$B14=\"f\"),0,IF($A14=\"PHBAO\",VLOOKUP($G14,'4x4'!BM:BO,3,TRUE),IF($A14=\"Desegregated/Receiver\",VLOOKUP($G14,'4x4'!BQ:BS,3,TRUE))))","v":0},{"$f":"SUM(AE14:AI14)","v":0},null,{"$f":"AC14+AJ14","v":0},"PHBAO","PHBAOt4x4"]
["Magnet 1","f","4x4",{"$f":"SUM('Position Simulator'!$D$11:$D$14)","v":0},{"$f":"IF('Position Simulator'!$D$7=\"t\",SUM('Position Simulator'!$D$15:$D$17),SUM('Position Simulator'!$D$15:$D$16))","v":0},{"$f":"IF('Position Simulator'!$D$7=\"t\",SUM('Position Simulator'!$G$11:$G$12),'Position Simulator'!$D$17+SUM('Position Simulator'!$G$11:$G$12))","v":0},{"$f":"IF(OR($A15=\"Magnet 1\",$A15=\"Magnet 2\"),0,SUM('Position Simulator'!$G$13:$G$14))","v":0},{"$f":"SUM('Position Simulator'!$G$13:$G$16)","v":0},{"$f":"IF($D15=0,0,VLOOKUP($D15,'4x4'!A:C,3,TRUE))","v":0},{"$f":"IF($D6=0,0,IF($A6=\"PHBAO\",VLOOKUP($D6,'4x4'!I:K,3,TRUE),IF($A6=\"Desegregated/Receiver\",VLOOKUP($D6,'4x4'!A:C,3,TRUE),IF($A6=\"Magnet 2\",VLOOKUP($D6,'4x4'!M:O,3,TRUE),IF($A6=\"Magnet 1\",VLOOKUP($D6,'4x4'!Q:S,3,TRUE))))))","v":0},0,{"$f":"IF($D15=0,0,VLOOKUP($D15,'4x4'!E:G,3,TRUE))","v":0},0,0,{"$f":"IF($E15=0,0,IF(A15=\"Magnet 1\",VLOOKUP($E15,'4x4'!U:W,3,TRUE),VLOOKUP($E15,'4x4'!CC:CE,3,TRUE)))","v":0},{"$f":"IF($E15=0,0,IF($A15=\"PHBAO\",VLOOKUP($E15,'4x4'!Y:AA,3,TRUE),IF($A15=\"Desegregated/Receiver\",VLOOKUP($E15,'4x4'!AC:AE,3,TRUE),IF($A15=\"Magnet 2\",VLOOKUP($E15,'4x4'!AG:AI,3,TRUE),IF($A15=\"Magnet 1\",VLOOKUP($E15,'4x4'!AK:AM,3,TRUE))))))","v":0},0,0,{"$f":"IF($F15=0,0,IF(OR(A15=\"Magnet 1\",A15=\"Magnet 2\"),VLOOKUP($F15,'4x4'!CG:CI,3,TRUE),VLOOKUP($F15,'4x4'!AO:AQ,3,TRUE)))","v":0},{"$f":"IF($F15=0,0,IF($A15=\"PHBAO\",VLOOKUP($F15,'4x4'!AS:AU,3,TRUE),IF($A15=\"Desegregated/Receiver\",VLOOKUP($F15,'4x4'!AW:AY,3,TRUE),IF($A15=\"Magnet 2\",VLOOKUP($F15,'4x4'!BA:BC,3,TRUE),IF($A15=\"Magnet 1\",VLOOKUP($F15,'4x4'!BE:BG,3,TRUE))))))","v":0},0,0,{"$f":"IF($H15=0,0,VLOOKUP($H15,'4x4'!BI:BK,3,TRUE))","v":0},{"$f":"IF(OR($H15=0,$A15=\"PHBAO\",$A15=\"Desegregated/Receiver\"),0,IF($A15=\"Magnet 2\",VLOOKUP($H15,'4x4'!BU:BW,3,TRUE),IF($A15=\"Magnet 1\",VLOOKUP($H15,'4x4'!BY:CA,3,TRUE))))","v":0},0,0,{"$f":"IF(OR($G15=0,$A15=\"Magnet 2\", $A15=\"Magnet 1\"),0,IF(AND($B15=\"t\",OR($A15=\"PHBAO\",$A15=\"Desegregated/Receiver\")),0,IF($A15=\"PHBAO\",VLOOKUP($G15,'4x4'!BM:BO,3,TRUE),IF($A15=\"Desegregated/Receiver\",VLOOKUP($G15,'4x4'!BQ:BS,3,TRUE)))))","v":0},0,0,null,0,0,0,{"$f":"0","v":0},{"$f":"IF(OR($G15=0,$A15=\"Magnet 2\",$A15=\"Magnet 1\",$B15=\"f\"),0,IF($A15=\"PHBAO\",VLOOKUP($G15,'4x4'!BM:BO,3,TRUE),IF($A15=\"Desegregated/Receiver\",VLOOKUP($G15,'4x4'!BQ:BS,3,TRUE))))","v":0},0,null,0,"Magnet I","Magnet If4x4"]
["Magnet 1","t","4x4",{"$f":"SUM('Position Simulator'!$D$11:$D$14)","v":0},{"$f":"IF('Position Simulator'!$D$7=\"t\",SUM('Position Simulator'!$D$15:$D$17),SUM('Position Simulator'!$D$15:$D$16))","v":0},{"$f":"IF('Position Simulator'!$D$7=\"t\",SUM('Position Simulator'!$G$11:$G$12),'Position Simulator'!$D$17+SUM('Position Simulator'!$G$11:$G$12))","v":0},{"$f":"IF(OR($A16=\"Magnet 1\",$A16=\"Magnet 2\"),0,SUM('Position Simulator'!$G$13:$G$14))","v":0},{"$f":"SUM('Position Simulator'!$G$13:$G$16)","v":0},{"$f":"IF($D16=0,0,VLOOKUP($D16,'4x4'!A:C,3,TRUE))","v":0},{"$f":"IF($D7=0,0,IF($A7=\"PHBAO\",VLOOKUP($D7,'4x4'!I:K,3,TRUE),IF($A7=\"Desegregated/Receiver\",VLOOKUP($D7,'4x4'!A:C,3,TRUE),IF($A7=\"Magnet 2\",VLOOKUP($D7,'4x4'!M:O,3,TRUE),IF($A7=\"Magnet 1\",VLOOKUP($D7,'4x4'!Q:S,3,TRUE))))))","v":0},0,{"$f":"IF($D16=0,0,VLOOKUP($D16,'4x4'!E:G,3,TRUE))","v":0},0,0,{"$f":"IF($E16=0,0,IF(A16=\"Magnet 1\",VLOOKUP($E16,'4x4'!U:W,3,TRUE),VLOOKUP($E16,'4x4'!CC:CE,3,TRUE)))","v":0},{"$f":"IF($E16=0,0,IF($A16=\"PHBAO\",VLOOKUP($E16,'4x4'!Y:AA,3,TRUE),IF($A16=\"Desegregated/Receiver\",VLOOKUP($E16,'4x4'!AC:AE,3,TRUE),IF($A16=\"Magnet 2\",VLOOKUP($E16,'4x4'!AG:AI,3,TRUE),IF($A16=\"Magnet 1\",VLOOKUP($E16,'4x4'!AK:AM,3,TRUE))))))","v":0},0,0,{"$f":"IF($F16=0,0,IF(OR(A16=\"Magnet 1\",A16=\"Magnet 2\"),VLOOKUP($F16,'4x4'!CG:CI,3,TRUE),VLOOKUP($F16,'4x4'!AO:AQ,3,TRUE)))","v":0},{"$f":"IF($F16=0,0,IF($A16=\"PHBAO\",VLOOKUP($F16,'4x4'!AS:AU,3,TRUE),IF($A16=\"Desegregated/Receiver\",VLOOKUP($F16,'4x4'!AW:AY,3,TRUE),IF($A16=\"Magnet 2\",VLOOKUP($F16,'4x4'!BA:BC,3,TRUE),IF($A16=\"Magnet 1\",VLOOKUP($F16,'4x4'!BE:BG,3,TRUE))))))","v":0},0,0,{"$f":"IF($H16=0,0,VLOOKUP($H16,'4x4'!BI:BK,3,TRUE))","v":0},{"$f":"IF(OR($H16=0,$A16=\"PHBAO\",$A16=\"Desegregated/Receiver\"),0,IF($A16=\"Magnet 2\",VLOOKUP($H16,'4x4'!BU:BW,3,TRUE),IF($A16=\"Magnet 1\",VLOOKUP($H16,'4x4'!BY:CA,3,TRUE))))","v":0},0,0,{"$f":"IF(OR($G16=0,$A16=\"Magnet 2\", $A16=\"Magnet 1\"),0,IF(AND($B16=\"t\",OR($A16=\"PHBAO\",$A16=\"Desegregated/Receiver\")),0,IF($A16=\"PHBAO\",VLOOKUP($G16,'4x4'!BM:BO,3,TRUE),IF($A16=\"Desegregated/Receiver\",VLOOKUP($G16,'4x4'!BQ:BS,3,TRUE)))))","v":0},0,0,null,0,0,0,{"$f":"0","v":0},{"$f":"IF(OR($G16=0,$A16=\"Magnet 2\",$A16=\"Magnet 1\",$B16=\"f\"),0,IF($A16=\"PHBAO\",VLOOKUP($G16,'4x4'!BM:BO,3,TRUE),IF($A16=\"Desegregated/Receiver\",VLOOKUP($G16,'4x4'!BQ:BS,3,TRUE))))","v":0},0,null,0,"Magnet I","Magnet It4x4"]
["Magnet 2","f","4x4",{"$f":"SUM('Position Simulator'!$D$11:$D$14)","v":0},{"$f":"IF('Position Simulator'!$D$7=\"t\",SUM('Position Simulator'!$D$15:$D$17),SUM('Position Simulator'!$D$15:$D$16))","v":0},{"$f":"IF('Position Simulator'!$D$7=\"t\",SUM('Position Simulator'!$G$11:$G$12),'Position Simulator'!$D$17+SUM('Position Simulator'!$G$11:$G$12))","v":0},{"$f":"IF(OR($A17=\"Magnet 1\",$A17=\"Magnet 2\"),0,SUM('Position Simulator'!$G$13:$G$14))","v":0},{"$f":"SUM('Position Simulator'!$G$13:$G$16)","v":0},{"$f":"IF($D17=0,0,VLOOKUP($D17,'4x4'!A:C,3,TRUE))","v":0},{"$f":"IF($D8=0,0,IF($A8=\"PHBAO\",VLOOKUP($D8,'4x4'!I:K,3,TRUE),IF($A8=\"Desegregated/Receiver\",VLOOKUP($D8,'4x4'!A:C,3,TRUE),IF($A8=\"Magnet 2\",VLOOKUP($D8,'4x4'!M:O,3,TRUE),IF($A8=\"Magnet 1\",VLOOKUP($D8,'4x4'!Q:S,3,TRUE))))))","v":0},0,{"$f":"IF($D17=0,0,VLOOKUP($D17,'4x4'!E:G,3,TRUE))","v":0},0,0,{"$f":"IF($E17=0,0,IF(A17=\"Magnet 1\",VLOOKUP($E17,'4x4'!U:W,3,TRUE),VLOOKUP($E17,'4x4'!CC:CE,3,TRUE)))","v":0},{"$f":"IF($E17=0,0,IF($A17=\"PHBAO\",VLOOKUP($E17,'4x4'!Y:AA,3,TRUE),IF($A17=\"Desegregated/Receiver\",VLOOKUP($E17,'4x4'!AC:AE,3,TRUE),IF($A17=\"Magnet 2\",VLOOKUP($E17,'4x4'!AG:AI,3,TRUE),IF($A17=\"Magnet 1\",VLOOKUP($E17,'4x4'!AK:AM,3,TRUE))))))","v":0},0,0,{"$f":"IF($F17=0,0,IF(OR(A17=\"Magnet 1\",A17=\"Magnet 2\"),VLOOKUP($F17,'4x4'!CG:CI,3,TRUE),VLOOKUP($F17,'4x4'!AO:AQ,3,TRUE)))","v":0},{"$f":"IF($F17=0,0,IF($A17=\"PHBAO\",VLOOKUP($F17,'4x4'!AS:AU,3,TRUE),IF($A17=\"Desegregated/Receiver\",VLOOKUP($F17,'4x4'!AW:AY,3,TRUE),IF($A17=\"Magnet 2\",VLOOKUP($F17,'4x4'!BA:BC,3,TRUE),IF($A17=\"Magnet 1\",VLOOKUP($F17,'4x4'!BE:BG,3,TRUE))))))","v":0},0,0,{"$f":"IF($H17=0,0,VLOOKUP($H17,'4x4'!BI:BK,3,TRUE))","v":0},{"$f":"IF(OR($H17=0,$A17=\"PHBAO\",$A17=\"Desegregated/Receiver\"),0,IF($A17=\"Magnet 2\",VLOOKUP($H17,'4x4'!BU:BW,3,TRUE),IF($A17=\"Magnet 1\",VLOOKUP($H17,'4x4'!BY:CA,3,TRUE))))","v":0},0,0,{"$f":"IF(OR($G17=0,$A17=\"Magnet 2\", $A17=\"Magnet 1\"),0,IF(AND($B17=\"t\",OR($A17=\"PHBAO\",$A17=\"Desegregated/Receiver\")),0,IF($A17=\"PHBAO\",VLOOKUP($G17,'4x4'!BM:BO,3,TRUE),IF($A17=\"Desegregated/Receiver\",VLOOKUP($G17,'4x4'!BQ:BS,3,TRUE)))))","v":0},0,0,null,0,0,0,{"$f":"0","v":0},{"$f":"IF(OR($G17=0,$A17=\"Magnet 2\",$A17=\"Magnet 1\",$B17=\"f\"),0,IF($A17=\"PHBAO\",VLOOKUP($G17,'4x4'!BM:BO,3,TRUE),IF($A17=\"Desegregated/Receiver\",VLOOKUP($G17,'4x4'!BQ:BS,3,TRUE))))","v":0},0,null,0,"Magnet II","Magnet IIf4x4"]
["Magnet 2","t","4x4",{"$f":"SUM('Position Simulator'!$D$11:$D$14)","v":0},{"$f":"IF('Position Simulator'!$D$7=\"t\",SUM('Position Simulator'!$D$15:$D$17),SUM('Position Simulator'!$D$15:$D$16))","v":0},{"$f":"IF('Position Simulator'!$D$7=\"t\",SUM('Position Simulator'!$G$11:$G$12),'Position Simulator'!$D$17+SUM('Position Simulator'!$G$11:$G$12))","v":0},{"$f":"IF(OR($A18=\"Magnet 1\",$A18=\"Magnet 2\"),0,SUM('Position Simulator'!$G$13:$G$14))","v":0},{"$f":"SUM('Position Simulator'!$G$13:$G$16)","v":0},{"$f":"IF($D18=0,0,VLOOKUP($D18,'4x4'!A:C,3,TRUE))","v":0},{"$f":"IF($D9=0,0,IF($A9=\"PHBAO\",VLOOKUP($D9,'4x4'!I:K,3,TRUE),IF($A9=\"Desegregated/Receiver\",VLOOKUP($D9,'4x4'!A:C,3,TRUE),IF($A9=\"Magnet 2\",VLOOKUP($D9,'4x4'!M:O,3,TRUE),IF($A9=\"Magnet 1\",VLOOKUP($D9,'4x4'!Q:S,3,TRUE))))))","v":0},0,{"$f":"IF($D18=0,0,VLOOKUP($D18,'4x4'!E:G,3,TRUE))","v":0},0,0,{"$f":"IF($E18=0,0,IF(A18=\"Magnet 1\",VLOOKUP($E18,'4x4'!U:W,3,TRUE),VLOOKUP($E18,'4x4'!CC:CE,3,TRUE)))","v":0},{"$f":"IF($E18=0,0,IF($A18=\"PHBAO\",VLOOKUP($E18,'4x4'!Y:AA,3,TRUE),IF($A18=\"Desegregated/Receiver\",VLOOKUP($E18,'4x4'!AC:AE,3,TRUE),IF($A18=\"Magnet 2\",VLOOKUP($E18,'4x4'!AG:AI,3,TRUE),IF($A18=\"Magnet 1\",VLOOKUP($E18,'4x4'!AK:AM,3,TRUE))))))","v":0},0,0,{"$f":"IF($F18=0,0,IF(OR(A18=\"Magnet 1\",A18=\"Magnet 2\"),VLOOKUP($F18,'4x4'!CG:CI,3,TRUE),VLOOKUP($F18,'4x4'!AO:AQ,3,TRUE)))","v":0},{"$f":"IF($F18=0,0,IF($A18=\"PHBAO\",VLOOKUP($F18,'4x4'!AS:AU,3,TRUE),IF($A18=\"Desegregated/Receiver\",VLOOKUP($F18,'4x4'!AW:AY,3,TRUE),IF($A18=\"Magnet 2\",VLOOKUP($F18,'4x4'!BA:BC,3,TRUE),IF($A18=\"Magnet 1\",VLOOKUP($F18,'4x4'!BE:BG,3,TRUE))))))","v":0},0,0,{"$f":"IF($H18=0,0,VLOOKUP($H18,'4x4'!BI:BK,3,TRUE))","v":0},{"$f":"IF(OR($H18=0,$A18=\"PHBAO\",$A18=\"Desegregated/Receiver\"),0,IF($A18=\"Magnet 2\",VLOOKUP($H18,'4x4'!BU:BW,3,TRUE),IF($A18=\"Magnet 1\",VLOOKUP($H18,'4x4'!BY:CA,3,TRUE))))","v":0},0,0,{"$f":"IF(OR($G18=0,$A18=\"Magnet 2\", $A18=\"Magnet 1\"),0,IF(AND($B18=\"t\",OR($A18=\"PHBAO\",$A18=\"Desegregated/Receiver\")),0,IF($A18=\"PHBAO\",VLOOKUP($G18,'4x4'!BM:BO,3,TRUE),IF($A18=\"Desegregated/Receiver\",VLOOKUP($G18,'4x4'!BQ:BS,3,TRUE)))))","v":0},0,0,null,0,0,0,{"$f":"0","v":0},{"$f":"IF(OR($G18=0,$A18=\"Magnet 2\",$A18=\"Magnet 1\",$B18=\"f\"),0,IF($A18=\"PHBAO\",VLOOKUP($G18,'4x4'!BM:BO,3,TRUE),IF($A18=\"Desegregated/Receiver\",VLOOKUP($G18,'4x4'!BQ:BS,3,TRUE))))","v":0},0,null,0,"Magnet II","Magnet IIt4x4"]
[]
["Desegregated/Receiver","f","2x8",{"$f":"SUM('Position Simulator'!$D$11:$D$14)","v":0},{"$f":"IF('Position Simulator'!$D$7=\"t\",SUM('Position Simulator'!$D$15:$D$17),SUM('Position Simulator'!$D$15:$D$16))","v":0},{"$f":"IF('Position Simulator'!$D$7=\"t\",SUM('Position Simulator'!$G$11:$G$12),'Position Simulator'!$D$17+SUM('Position Simulator'!$G$11:$G$12))","v":0},{"$f":"IF(OR($A20=\"Magnet 1\",$A20=\"Magnet 2\"),0,SUM('Position Simulator'!$G$13:$G$14))","v":0},{"$f":"SUM('Position Simulator'!$G$13:$G$16)","v":0},{"$f":"IF($D20=0,0,VLOOKUP($D20,'2x8'!A:C,3,TRUE))","v":0},{"$f":"IF($D11=0,0,IF($A11=\"PHBAO\",VLOOKUP($D11,'2x8'!I:K,3,TRUE),IF($A11=\"Desegregated/Receiver\",VLOOKUP($D11,'2x8'!A:C,3,TRUE),IF($A11=\"Magnet 2\",VLOOKUP($D11,'2x8'!M:O,3,TRUE),IF($A11=\"Magnet 1\",VLOOKUP($D11,'2x8'!Q:S,3,TRUE))))))","v":0},{"$f":"IF(AND($B20=\"t\",OR($A20=\"PHBAO\",$A20=\"Desegregated/Receiver\")),0,J20-I20)","v":0},{"$f":"IF($D20=0,0,VLOOKUP($D20,'2x8'!E:G,3,TRUE))","v":0},{"$f":"L20-J20","v":0},{"$f":"I20+K20+M20","v":0},{"$f":"IF($E20=0,0,IF(A20=\"Magnet 1\",VLOOKUP($E20,'2x8'!U:W,3,TRUE),VLOOKUP($E20,'2x8'!CC:CE,3,TRUE)))","v":0},{"$f":"IF($E20=0,0,IF($A20=\"PHBAO\",VLOOKUP($E20,'2x8'!Y:AA,3,TRUE),IF($A20=\"Desegregated/Receiver\",VLOOKUP($E20,'2x8'!AC:AE,3,TRUE),IF($A20=\"Magnet 2\",VLOOKUP($E20,'2x8'!AG:AI,3,TRUE),IF($A20=\"Magnet 1\",VLOOKUP($E20,'2x8'!AK:AM,3,TRUE))))))","v":0},{"$f":"IF(AND($B20=\"t\",OR($A20=\"PHBAO\",$A20=\"Desegregated/Receiver\")),0,P20-O20)","v":0},{"$f":"O20+Q20","v":0},{"$f":"IF($F20=0,0,IF(OR(A20=\"Magnet 1\",A20=\"Magnet 2\"),VLOOKUP($F20,'2x8'!CG:CI,3,TRUE),VLOOKUP($F20,'2x8'!AO:AQ,3,TRUE)))","v":0},{"$f":"IF($F20=0,0,IF($A20=\"PHBAO\",VLOOKUP($F20,'2x8'!AS:AU,3,TRUE),IF($A20=\"Desegregated/Receiver\",VLOOKUP($F20,'2x8'!AW:AY,3,TRUE),IF($A20=\"Magnet 2\",VLOOKUP($F20,'2x8'!BA:BC,3,TRUE),IF($A20=\"Magnet 1\",VLOOKUP($F20,'2x8'!BE:BG,3,TRUE))))))","v":0},{"$f":"IF(AND($B20=\"t\",OR($A20=\"PHBAO\",$A20=\"Desegregated/Receiver\")),0,T20-S20)","v":0},{"$f":"S20+U20","v":0},{"$f":"IF($H20=0,0,VLOOKUP($H20,'2x8'!BI:BK,3,TRUE))","v":0},{"$f":"IF(OR($H20=0,$A20=\"PHBAO\",$A20=\"Desegregated/Receiver\"),0,IF($A20=\"Magnet 2\",VLOOKUP($H20,'2x8'!BU:BW,3,TRUE),IF($A20=\"Magnet 1\",VLOOKUP($H20,'2x8'!BY:CA,3,TRUE))))","v":0},{"$f":"IF(OR($A20=\"Magnet 1\", $A20=\"Magnet 2\"), X20-W20,0)","v":0},{"$f":"W20+Y20","v":0},{"$f":"IF(OR($G20=0,$A20=\"Magnet 2\", $A20=\"Magnet 1\"),0,IF(AND($B20=\"t\",OR($A20=\"PHBAO\",$A20=\"Desegregated/Receiver\")),0,IF($A20=\"PHBAO\",VLOOKUP($G20,'2x8'!BM:BO,3,TRUE),IF($A20=\"Desegregated/Receiver\",VLOOKUP($G20,'2x8'!BQ:BS,3,TRUE)))))","v":0},{"$f":"W20+Y20+AA20","v":0},{"$f":"N20+R20+V20+AB20","v":0},null,{"$f":"IF(OR($B20=\"f\",$A20=\"Magnet 1\", $A20=\"Magnet 2\"), 0, J20-I20)","v":0},{"$f":"IF(OR($B20=\"f\",$A20=\"Magnet 1\",$A20=\"Magnet 2\"),0,P20-O20)","v":0},{"$f":"IF(OR($B20=\"f\",$A20=\"Magnet 1\",$A20=\"Magnet 2\"),0,T20-S20)","v":0},{"$f":"0","v":0},{"$f":"IF(OR($G20=0,$A20=\"Magnet 2\",$A20=\"Magnet 1\",$B20=\"f\"),0,IF($A20=\"PHBAO\",VLOOKUP($G20,'2x8'!BM:BO,3,TRUE),IF($A20=\"Desegregated/Receiver\",VLOOKUP($G20,'2x8'!BQ:BS,3,TRUE))))","v":0},{"$f":"SUM(AE20:AI20)","v":0},null,{"$f":"AC20+AJ20","v":0},"Non-PHBAO",{"$f":"CONCATENATE(AM20,B20,C20)","v":"Non-PHBAOf2x8"}]
["Desegregated/Receiver","t","2x8",{"$f":"SUM('Position Simulator'!$D$11:$D$14)","v":0},{"$f":"IF('Position Simulator'!$D$7=\"t\",SUM('Position Simulator'!$D$15:$D$17),SUM('Position Simulator'!$D$15:$D$16))","v":0},{"$f":"IF('Position Simulator'!$D$7=\"t\",SUM('Position Simulator'!$G$11:$G$12),'Position Simulator'!$D$17+SUM('Position Simulator'!$G$11:$G$12))","v":0},{"$f":"IF(OR($A21=\"Magnet 1\",$A21=\"Magnet 2\"),0,SUM('Position Simulator'!$G$13:$G$14))","v":0},{"$f":"SUM('Position Simulator'!$G$13:$G$16)","v":0},{"$f":"IF($D21=0,0,VLOOKUP($D21,'2x8'!A:C,3,TRUE))","v":0},{"$f":"IF($D12=0,0,IF($A12=\"PHBAO\",VLOOKUP($D12,'2x8'!I:K,3,TRUE),IF($A12=\"Desegregated/Receiver\",VLOOKUP($D12,'2x8'!A:C,3,TRUE),IF($A12=\"Magnet 2\",VLOOKUP($D12,'2x8'!M:O,3,TRUE),IF($A12=\"Magnet 1\",VLOOKUP($D12,'2x8'!Q:S,3,TRUE))))))","v":0},0,{"$f":"IF($D21=0,0,VLOOKUP($D21,'2x8'!E:G,3,TRUE))","v":0},0,0,{"$f":"IF($E21=0,0,IF(A21=\"Magnet 1\",VLOOKUP($E21,'2x8'!U:W,3,TRUE),VLOOKUP($E21,'2x8'!CC:CE,3,TRUE)))","v":0},{"$f":"IF($E21=0,0,IF($A21=\"PHBAO\",VLOOKUP($E21,'2x8'!Y:AA,3,TRUE),IF($A21=\"Desegregated/Receiver\",VLOOKUP($E21,'2x8'!AC:AE,3,TRUE),IF($A21=\"Magnet 2\",VLOOKUP($E21,'2x8'!AG:AI,3,TRUE),IF($A21=\"Magnet 1\",VLOOKUP($E21,'2x8'!AK:AM,3,TRUE))))))","v":0},0,0,{"$f":"IF($F21=0,0,IF(OR(A21=\"Magnet 1\",A21=\"Magnet 2\"),VLOOKUP($F21,'2x8'!CG:CI,3,TRUE),VLOOKUP($F21,'2x8'!AO:AQ,3,TRUE)))","v":0},{"$f":"IF($F21=0,0,IF($A21=\"PHBAO\",VLOOKUP($F21,'2x8'!AS:AU,3,TRUE),IF($A21=\"Desegregated/Receiver\",VLOOKUP($F21,'2x8'!AW:AY,3,TRUE),IF($A21=\"Magnet 2\",VLOOKUP($F21,'2x8'!BA:BC,3,TRUE),IF($A21=\"Magnet 1\",VLOOKUP($F21,'2x8'!BE:BG,3,TRUE))))))","v":0},0,0,{"$f":"IF($H21=0,0,VLOOKUP($H21,'2x8'!BI:BK,3,TRUE))","v":0},{"$f":"IF(OR($H21=0,$A21=\"PHBAO\",$A21=\"Desegregated/Receiver\"),0,IF($A21=\"Magnet 2\",VLOOKUP($H21,'2x8'!BU:BW,3,TRUE),IF($A21=\"Magnet 1\",VLOOKUP($H21,'2x8'!BY:CA,3,TRUE))))","v":0},0,0,{"$f":"IF(OR($G21=0,$A21=\"Magnet 2\", $A21=\"Magnet 1\"),0,IF(AND($B21=\"t\",OR($A21=\"PHBAO\",$A21=\"Desegregated/Receiver\")),0,IF($A21=\"PHBAO\",VLOOKUP($G21,'2x8'!BM:BO,3,TRUE),IF($A21=\"Desegregated/Receiver\",VLOOKUP($G21,'2x8'!BQ:BS,3,TRUE)))))","v":0},0,0,null,0,0,0,{"$f":"0","v":0},{"$f":"IF(OR($G21=0,$A21=\"Magnet 2\",$A21=\"Magnet 1\",$B21=\"f\"),0,IF($A21=\"PHBAO\",VLOOKUP($G21,'2x8'!BM:BO,3,TRUE),IF($A21=\"Desegregated/Receiver\",VLOOKUP($G21,'2x8'!BQ:BS,3,TRUE))))","v":0},0,null,0,"Non-PHBAO","Non-PHBAOt2x8"]
["PHBAO","f","2x8",{"$f":"SUM('Position Simulator'!$D$11:$D$14)","v":0},{"$f":"IF('Position Simulator'!$D$7=\"t\",SUM('Position Simulator'!$D$15:$D$17),SUM('Position Simulator'!$D$15:$D$16))","v":0},{"$f":"IF('Position Simulator'!$D$7=\"t\",SUM('Position Simulator'!$G$11:$G$12),'Position Simulator'!$D$17+SUM('Position Simulator'!$G$11:$G$12))","v":0},{"$f":"IF(OR($A22=\"Magnet 1\",$A22=\"Magnet 2\"),0,SUM('Position Simulator'!$G$13:$G$14))","v":0},{"$f":"SUM('Position Simulator'!$G$13:$G$16)","v":0},{"$f":"IF($D22=0,0,VLOOKUP($D22,'2x8'!A:C,3,TRUE))","v":0},{"$f":"IF($D13=0,0,IF($A13=\"PHBAO\",VLOOKUP($D13,'2x8'!I:K,3,TRUE),IF($A13=\"Desegregated/Receiver\",VLOOKUP($D13,'2x8'!A:C,3,TRUE),IF($A13=\"Magnet 2\",VLOOKUP($D13,'2x8'!M:O,3,TRUE),IF($A13=\"Magnet 1\",VLOOKUP($D13,'2x8'!Q:S,3,TRUE))))))","v":0},{"$f":"IF(AND($B22=\"t\",OR($A22=\"PHBAO\",$A22=\"Desegregated/Receiver\")),0,J22-I22)","v":0},{"$f":"IF($D22=0,0,VLOOKUP($D22,'2x8'!E:G,3,TRUE))","v":0},{"$f":"L22-J22","v":0},{"$f":"I22+K22+M22","v":0},{"$f":"IF($E22=0,0,IF(A22=\"Magnet 1\",VLOOKUP($E22,'2x8'!U:W,3,TRUE),VLOOKUP($E22,'2x8'!CC:CE,3,TRUE)))","v":0},{"$f":"IF($E22=0,0,IF($A22=\"PHBAO\",VLOOKUP($E22,'2x8'!Y:AA,3,TRUE),IF($A22=\"Desegregated/Receiver\",VLOOKUP($E22,'2x8'!AC:AE,3,TRUE),IF($A22=\"Magnet 2\",VLOOKUP($E22,'2x8'!AG:AI,3,TRUE),IF($A22=\"Magnet 1\",VLOOKUP($E22,'2x8'!AK:AM,3,TRUE))))))","v":0},{"$f":"IF(AND($B22=\"t\",OR($A22=\"PHBAO\",$A22=\"Desegregated/Receiver\")),0,P22-O22)","v":0},{"$f":"O22+Q22","v":0},{"$f":"IF($F22=0,0,IF(OR(A22=\"Magnet 1\",A22=\"Magnet 2\"),VLOOKUP($F22,'2x8'!CG:CI,3,TRUE),VLOOKUP($F22,'2x8'!AO:AQ,3,TRUE)))","v":0},{"$f":"IF($F22=0,0,IF($A22=\"PHBAO\",VLOOKUP($F22,'2x8'!AS:AU,3,TRUE),IF($A22=\"Desegregated/Receiver\",VLOOKUP($F22,'2x8'!AW:AY,3,TRUE),IF($A22=\"Magnet 2\",VLOOKUP($F22,'2x8'!BA:BC,3,TRUE),IF($A22=\"Magnet 1\",VLOOKUP($F22,'2x8'!BE:BG,3,TRUE))))))","v":0},{"$f":"IF(AND($B22=\"t\",OR($A22=\"PHBAO\",$A22=\"Desegregated/Receiver\")),0,T22-S22)","v":0},{"$f":"S22+U22","v":0},{"$f":"IF($H22=0,0,VLOOKUP($H22,'2x8'!BI:BK,3,TRUE))","v":0},{"$f":"IF(OR($H22=0,$A22=\"PHBAO\",$A22=\"Desegregated/Receiver\"),0,IF($A22=\"Magnet 2\",VLOOKUP($H22,'2x8'!BU:BW,3,TRUE),IF($A22=\"Magnet 1\",VLOOKUP($H22,'2x8'!BY:CA,3,TRUE))))","v":0},{"$f":"IF(OR($A22=\"Magnet 1\", $A22=\"Magnet 2\"), X22-W22,0)","v":0},{"$f":"W22+Y22","v":0},{"$f":"IF(OR($G22=0,$A22=\"Magnet 2\", $A22=\"Magnet 1\"),0,IF(AND($B22=\"t\",OR($A22=\"PHBAO\",$A22=\"Desegregated/Receiver\")),0,IF($A22=\"PHBAO\",VLOOKUP($G22,'2x8'!BM:BO,3,TRUE),IF($A22=\"Desegregated/Receiver\",VLOOKUP($G22,'2x8'!BQ:BS,3,TRUE)))))","v":0},{"$f":"W22+Y22+AA22","v":0},{"$f":"N22+R22+V22+AB22","v":0},null,{"$f":"IF(OR($B22=\"f\",$A22=\"Magnet 1\", $A22=\"Magnet 2\"), 0, J22-I22)","v":0},{"$f":"IF(OR($B22=\"f\",$A22=\"Magnet 1\",$A22=\"Magnet 2\"),0,P22-O22)","v":0},{"$f":"IF(OR($B22=\"f\",$A22=\"Magnet 1\",$A22=\"Magnet 2\"),0,T22-S22)","v":0},{"$f":"0","v":0},{"$f":"IF(OR($G22=0,$A22=\"Magnet 2\",$A22=\"Magnet 1\",$B22=\"f\"),0,IF($A22=\"PHBAO\",VLOOKUP($G22,'2x8'!BM:BO,3,TRUE),IF($A22=\"Desegregated/Receiver\",VLOOKUP($G22,'2x8'!BQ:BS,3,TRUE))))","v":0},{"$f":"SUM(AE22:AI22)","v":0},null,{"$f":"AC22+AJ22","v":0},"PHBAO","PHBAOf2x8"]
["PHBAO","t","2x8",{"$f":"SUM('Position Simulator'!$D$11:$D$14)","v":0},{"$f":"IF('Position Simulator'!$D$7=\"t\",SUM('Position Simulator'!$D$15:$D$17),SUM('Position Simulator'!$D$15:$D$16))","v":0},{"$f":"IF('Position Simulator'!$D$7=\"t\",SUM('Position Simulator'!$G$11:$G$12),'Position Simulator'!$D$17+SUM('Position Simulator'!$G$11:$G$12))","v":0},{"$f":"IF(OR($A23=\"Magnet 1\",$A23=\"Magnet 2\"),0,SUM('Position Simulator'!$G$13:$G$14))","v":0},{"$f":"SUM('Position Simulator'!$G$13:$G$16)","v":0},{"$f":"IF($D23=0,0,VLOOKUP($D23,'2x8'!A:C,3,TRUE))","v":0},{"$f":"IF($D14=0,0,IF($A14=\"PHBAO\",VLOOKUP($D14,'2x8'!I:K,3,TRUE),IF($A14=\"Desegregated/Receiver\",VLOOKUP($D14,'2x8'!A:C,3,TRUE),IF($A14=\"Magnet 2\",VLOOKUP($D14,'2x8'!M:O,3,TRUE),IF($A14=\"Magnet 1\",VLOOKUP($D14,'2x8'!Q:S,3,TRUE))))))","v":0},{"$f":"IF(AND($B23=\"t\",OR($A23=\"PHBAO\",$A23=\"Desegregated/Receiver\")),0,J23-I23)","v":0},{"$f":"IF($D23=0,0,VLOOKUP($D23,'2x8'!E:G,3,TRUE))","v":0},{"$f":"L23-J23","v":0},{"$f":"I23+K23+M23","v":0},{"$f":"IF($E23=0,0,IF(A23=\"Magnet 1\",VLOOKUP($E23,'2x8'!U:W,3,TRUE),VLOOKUP($E23,'2x8'!CC:CE,3,TRUE)))","v":0},{"$f":"IF($E23=0,0,IF($A23=\"PHBAO\",VLOOKUP($E23,'2x8'!Y:AA,3,TRUE),IF($A23=\"Desegregated/Receiver\",VLOOKUP($E23,'2x8'!AC:AE,3,TRUE),IF($A23=\"Magnet 2\",VLOOKUP($E23,'2x8'!AG:AI,3,TRUE),IF($A23=\"Magnet 1\",VLOOKUP($E23,'2x8'!AK:AM,3,TRUE))))))","v":0},{"$f":"IF(AND($B23=\"t\",OR($A23=\"PHBAO\",$A23=\"Desegregated/Receiver\")),0,P23-O23)","v":0},{"$f":"O23+Q23","v":0},{"$f":"IF($F23=0,0,IF(OR(A23=\"Magnet 1\",A23=\"Magnet 2\"),VLOOKUP($F23,'2x8'!CG:CI,3,TRUE),VLOOKUP($F23,'2x8'!AO:AQ,3,TRUE)))","v":0},{"$f":"IF($F23=0,0,IF($A23=\"PHBAO\",VLOOKUP($F23,'2x8'!AS:AU,3,TRUE),IF($A23=\"Desegregated/Receiver\",VLOOKUP($F23,'2x8'!AW:AY,3,TRUE),IF($A23=\"Magnet 2\",VLOOKUP($F23,'2x8'!BA:BC,3,TRUE),IF($A23=\"Magnet 1\",VLOOKUP($F23,'2x8'!BE:BG,3,TRUE))))))","v":0},{"$f":"IF(AND($B23=\"t\",OR($A23=\"PHBAO\",$A23=\"Desegregated/Receiver\")),0,T23-S23)","v":0},{"$f":"S23+U23","v":0},{"$f":"IF($H23=0,0,VLOOKUP($H23,'2x8'!BI:BK,3,TRUE))","v":0},{"$f":"IF(OR($H23=0,$A23=\"PHBAO\",$A23=\"Desegregated/Receiver\"),0,IF($A23=\"Magnet 2\",VLOOKUP($H23,'2x8'!BU:BW,3,TRUE),IF($A23=\"Magnet 1\",VLOOKUP($H23,'2x8'!BY:CA,3,TRUE))))","v":0},{"$f":"IF(OR($A23=\"Magnet 1\", $A23=\"Magnet 2\"), X23-W23,0)","v":0},{"$f":"W23+Y23","v":0},{"$f":"IF(OR($G23=0,$A23=\"Magnet 2\", $A23=\"Magnet 1\"),0,IF(AND($B23=\"t\",OR($A23=\"PHBAO\",$A23=\"Desegregated/Receiver\")),0,IF($A23=\"PHBAO\",VLOOKUP($G23,'2x8'!BM:BO,3,TRUE),IF($A23=\"Desegregated/Receiver\",VLOOKUP($G23,'2x8'!BQ:BS,3,TRUE)))))","v":0},{"$f":"W23+Y23+AA23","v":0},{"$f":"N23+R23+V23+AB23","v":0},null,{"$f":"IF(OR($B23=\"f\",$A23=\"Magnet 1\", $A23=\"Magnet 2\"), 0, J23-I23)","v":0},{"$f":"IF(OR($B23=\"f\",$A23=\"Magnet 1\",$A23=\"Magnet 2\"),0,P23-O23)","v":0},{"$f":"IF(OR($B23=\"f\",$A23=\"Magnet 1\",$A23=\"Magnet 2\"),0,T23-S23)","v":0},{"$f":"0","v":0},{"$f":"IF(OR($G23=0,$A23=\"Magnet 2\",$A23=\"Magnet 1\",$B23=\"f\"),0,IF($A23=\"PHBAO\",VLOOKUP($G23,'2x8'!BM:BO,3,TRUE),IF($A23=\"Desegregated/Receiver\",VLOOKUP($G23,'2x8'!BQ:BS,3,TRUE))))","v":0},{"$f":"SUM(AE23:AI23)","v":0},null,{"$f":"AC23+AJ23","v":0},"PHBAO","PHBAOt2x8"]
["Magnet 1","f","2x8",{"$f":"SUM('Position Simulator'!$D$11:$D$14)","v":0},{"$f":"IF('Position Simulator'!$D$7=\"t\",SUM('Position Simulator'!$D$15:$D$17),SUM('Position Simulator'!$D$15:$D$16))","v":0},{"$f":"IF('Position Simulator'!$D$7=\"t\",SUM('Position Simulator'!$G$11:$G$12),'Position Simulator'!$D$17+SUM('Position Simulator'!$G$11:$G$12))","v":0},{"$f":"IF(OR($A24=\"Magnet 1\",$A24=\"Magnet 2\"),0,SUM('Position Simulator'!$G$13:$G$14))","v":0},{"$f":"SUM('Position Simulator'!$G$13:$G$16)","v":0},{"$f":"IF($D24=0,0,VLOOKUP($D24,'2x8'!A:C,3,TRUE))","v":0},{"$f":"IF($D15=0,0,IF($A15=\"PHBAO\",VLOOKUP($D15,'2x8'!I:K,3,TRUE),IF($A15=\"Desegregated/Receiver\",VLOOKUP($D15,'2x8'!A:C,3,TRUE),IF($A15=\"Magnet 2\",VLOOKUP($D15,'2x8'!M:O,3,TRUE),IF($A15=\"Magnet 1\",VLOOKUP($D15,'2x8'!Q:S,3,TRUE))))))","v":0},{"$f":"IF(AND($B24=\"t\",OR($A24=\"PHBAO\",$A24=\"Desegregated/Receiver\")),0,J24-I24)","v":0},{"$f":"IF($D24=0,0,VLOOKUP($D24,'2x8'!E:G,3,TRUE))","v":0},{"$f":"L24-J24","v":0},{"$f":"I24+K24+M24","v":0},{"$f":"IF($E24=0,0,IF(A24=\"Magnet 1\",VLOOKUP($E24,'2x8'!U:W,3,TRUE),VLOOKUP($E24,'2x8'!CC:CE,3,TRUE)))","v":0},{"$f":"IF($E24=0,0,IF($A24=\"PHBAO\",VLOOKUP($E24,'2x8'!Y:AA,3,TRUE),IF($A24=\"Desegregated/Receiver\",VLOOKUP($E24,'2x8'!AC:AE,3,TRUE),IF($A24=\"Magnet 2\",VLOOKUP($E24,'2x8'!AG:AI,3,TRUE),IF($A24=\"Magnet 1\",VLOOKUP($E24,'2x8'!AK:AM,3,TRUE))))))","v":0},{"$f":"IF(AND($B24=\"t\",OR($A24=\"PHBAO\",$A24=\"Desegregated/Receiver\")),0,P24-O24)","v":0},{"$f":"O24+Q24","v":0},{"$f":"IF($F24=0,0,IF(OR(A24=\"Magnet 1\",A24=\"Magnet 2\"),VLOOKUP($F24,'2x8'!CG:CI,3,TRUE),VLOOKUP($F24,'2x8'!AO:AQ,3,TRUE)))","v":0},{"$f":"IF($F24=0,0,IF($A24=\"PHBAO\",VLOOKUP($F24,'2x8'!AS:AU,3,TRUE),IF($A24=\"Desegregated/Receiver\",VLOOKUP($F24,'2x8'!AW:AY,3,TRUE),IF($A24=\"Magnet 2\",VLOOKUP($F24,'2x8'!BA:BC,3,TRUE),IF($A24=\"Magnet 1\",VLOOKUP($F24,'2x8'!BE:BG,3,TRUE))))))","v":0},{"$f":"IF(AND($B24=\"t\",OR($A24=\"PHBAO\",$A24=\"Desegregated/Receiver\")),0,T24-S24)","v":0},{"$f":"S24+U24","v":0},{"$f":"IF($H24=0,0,VLOOKUP($H24,'2x8'!BI:BK,3,TRUE))","v":0},{"$f":"IF(OR($H24=0,$A24=\"PHBAO\",$A24=\"Desegregated/Receiver\"),0,IF($A24=\"Magnet 2\",VLOOKUP($H24,'2x8'!BU:BW,3,TRUE),IF($A24=\"Magnet 1\",VLOOKUP($H24,'2x8'!BY:CA,3,TRUE))))","v":0},{"$f":"IF(OR($A24=\"Magnet 1\", $A24=\"Magnet 2\"), X24-W24,0)","v":0},{"$f":"W24+Y24","v":0},{"$f":"IF(OR($G24=0,$A24=\"Magnet 2\", $A24=\"Magnet 1\"),0,IF(AND($B24=\"t\",OR($A24=\"PHBAO\",$A24=\"Desegregated/Receiver\")),0,IF($A24=\"PHBAO\",VLOOKUP($G24,'2x8'!BM:BO,3,TRUE),IF($A24=\"Desegregated/Receiver\",VLOOKUP($G24,'2x8'!BQ:BS,3,TRUE)))))","v":0},{"$f":"W24+Y24+AA24","v":0},{"$f":"N24+R24+V24+AB24","v":0},null,{"$f":"IF(OR($B24=\"f\",$A24=\"Magnet 1\", $A24=\"Magnet 2\"), 0, J24-I24)","v":0},{"$f":"IF(OR($B24=\"f\",$A24=\"Magnet 1\",$A24=\"Magnet 2\"),0,P24-O24)","v":0},{"$f":"IF(OR($B24=\"f\",$A24=\"Magnet 1\",$A24=\"Magnet 2\"),0,T24-S24)","v":0},{"$f":"0","v":0},{"$f":"IF(OR($G24=0,$A24=\"Magnet 2\",$A24=\"Magnet 1\",$B24=\"f\"),0,IF($A24=\"PHBAO\",VLOOKUP($G24,'2x8'!BM:BO,3,TRUE),IF($A24=\"Desegregated/Receiver\",VLOOKUP($G24,'2x8'!BQ:BS,3,TRUE))))","v":0},{"$f":"SUM(AE24:AI24)","v":0},null,{"$f":"AC24+AJ24","v":0},"Magnet I","Magnet If2x8"]
["Magnet 1","t","2x8",{"$f":"SUM('Position Simulator'!$D$11:$D$14)","v":0},{"$f":"IF('Position Simulator'!$D$7=\"t\",SUM('Position Simulator'!$D$15:$D$17),SUM('Position Simulator'!$D$15:$D$16))","v":0},{"$f":"IF('Position Simulator'!$D$7=\"t\",SUM('Position Simulator'!$G$11:$G$12),'Position Simulator'!$D$17+SUM('Position Simulator'!$G$11:$G$12))","v":0},{"$f":"IF(OR($A25=\"Magnet 1\",$A25=\"Magnet 2\"),0,SUM('Position Simulator'!$G$13:$G$14))","v":0},{"$f":"SUM('Position Simulator'!$G$13:$G$16)","v":0},{"$f":"IF($D25=0,0,VLOOKUP($D25,'2x8'!A:C,3,TRUE))","v":0},{"$f":"IF($D16=0,0,IF($A16=\"PHBAO\",VLOOKUP($D16,'2x8'!I:K,3,TRUE),IF($A16=\"Desegregated/Receiver\",VLOOKUP($D16,'2x8'!A:C,3,TRUE),IF($A16=\"Magnet 2\",VLOOKUP($D16,'2x8'!M:O,3,TRUE),IF($A16=\"Magnet 1\",VLOOKUP($D16,'2x8'!Q:S,3,TRUE))))))","v":0},0,{"$f":"IF($D25=0,0,VLOOKUP($D25,'2x8'!E:G,3,TRUE))","v":0},0,0,{"$f":"IF($E25=0,0,IF(A25=\"Magnet 1\",VLOOKUP($E25,'2x8'!U:W,3,TRUE),VLOOKUP($E25,'2x8'!CC:CE,3,TRUE)))","v":0},{"$f":"IF($E25=0,0,IF($A25=\"PHBAO\",VLOOKUP($E25,'2x8'!Y:AA,3,TRUE),IF($A25=\"Desegregated/Receiver\",VLOOKUP($E25,'2x8'!AC:AE,3,TRUE),IF($A25=\"Magnet 2\",VLOOKUP($E25,'2x8'!AG:AI,3,TRUE),IF($A25=\"Magnet 1\",VLOOKUP($E25,'2x8'!AK:AM,3,TRUE))))))","v":0},0,0,{"$f":"IF($F25=0,0,IF(OR(A25=\"Magnet 1\",A25=\"Magnet 2\"),VLOOKUP($F25,'2x8'!CG:CI,3,TRUE),VLOOKUP($F25,'2x8'!AO:AQ,3,TRUE)))","v":0},{"$f":"IF($F25=0,0,IF($A25=\"PHBAO\",VLOOKUP($F25,'2x8'!AS:AU,3,TRUE),IF($A25=\"Desegregated/Receiver\",VLOOKUP($F25,'2x8'!AW:AY,3,TRUE),IF($A25=\"Magnet 2\",VLOOKUP($F25,'2x8'!BA:BC,3,TRUE),IF($A25=\"Magnet 1\",VLOOKUP($F25,'2x8'!BE:BG,3,TRUE))))))","v":0},0,0,{"$f":"IF($H25=0,0,VLOOKUP($H25,'2x8'!BI:BK,3,TRUE))","v":0},{"$f":"IF(OR($H25=0,$A25=\"PHBAO\",$A25=\"Desegregated/Receiver\"),0,IF($A25=\"Magnet 2\",VLOOKUP($H25,'2x8'!BU:BW,3,TRUE),IF($A25=\"Magnet 1\",VLOOKUP($H25,'2x8'!BY:CA,3,TRUE))))","v":0},0,0,{"$f":"IF(OR($G25=0,$A25=\"Magnet 2\", $A25=\"Magnet 1\"),0,IF(AND($B25=\"t\",OR($A25=\"PHBAO\",$A25=\"Desegregated/Receiver\")),0,IF($A25=\"PHBAO\",VLOOKUP($G25,'2x8'!BM:BO,3,TRUE),IF($A25=\"Desegregated/Receiver\",VLOOKUP($G25,'2x8'!BQ:BS,3,TRUE)))))","v":0},0,0,null,0,0,0,{"$f":"0","v":0},{"$f":"IF(OR($G25=0,$A25=\"Magnet 2\",$A25=\"Magnet 1\",$B25=\"f\"),0,IF($A25=\"PHBAO\",VLOOKUP($G25,'2x8'!BM:BO,3,TRUE),IF($A25=\"Desegregated/Receiver\",VLOOKUP($G25,'2x8'!BQ:BS,3,TRUE))))","v":0},0,null,0,"Magnet I","Magnet It2x8"]
["Magnet 2","f","2x8",{"$f":"SUM('Position Simulator'!$D$11:$D$14)","v":0},{"$f":"IF('Position Simulator'!$D$7=\"t\",SUM('Position Simulator'!$D$15:$D$17),SUM('Position Simulator'!$D$15:$D$16))","v":0},{"$f":"IF('Position Simulator'!$D$7=\"t\",SUM('Position Simulator'!$G$11:$G$12),'Position Simulator'!$D$17+SUM('Position Simulator'!$G$11:$G$12))","v":0},{"$f":"IF(OR($A26=\"Magnet 1\",$A26=\"Magnet 2\"),0,SUM('Position Simulator'!$G$13:$G$14))","v":0},{"$f":"SUM('Position Simulator'!$G$13:$G$16)","v":0},{"$f":"IF($D26=0,0,VLOOKUP($D26,'2x8'!A:C,3,TRUE))","v":0},{"$f":"IF($D17=0,0,IF($A17=\"PHBAO\",VLOOKUP($D17,'2x8'!I:K,3,TRUE),IF($A17=\"Desegregated/Receiver\",VLOOKUP($D17,'2x8'!A:C,3,TRUE),IF($A17=\"Magnet 2\",VLOOKUP($D17,'2x8'!M:O,3,TRUE),IF($A17=\"Magnet 1\",VLOOKUP($D17,'2x8'!Q:S,3,TRUE))))))","v":0},0,{"$f":"IF($D26=0,0,VLOOKUP($D26,'2x8'!E:G,3,TRUE))","v":0},0,0,{"$f":"IF($E26=0,0,IF(A26=\"Magnet 1\",VLOOKUP($E26,'2x8'!U:W,3,TRUE),VLOOKUP($E26,'2x8'!CC:CE,3,TRUE)))","v":0},{"$f":"IF($E26=0,0,IF($A26=\"PHBAO\",VLOOKUP($E26,'2x8'!Y:AA,3,TRUE),IF($A26=\"Desegregated/Receiver\",VLOOKUP($E26,'2x8'!AC:AE,3,TRUE),IF($A26=\"Magnet 2\",VLOOKUP($E26,'2x8'!AG:AI,3,TRUE),IF($A26=\"Magnet 1\",VLOOKUP($E26,'2x8'!AK:AM,3,TRUE))))))","v":0},0,0,{"$f":"IF($F26=0,0,IF(OR(A26=\"Magnet 1\",A26=\"Magnet 2\"),VLOOKUP($F26,'2x8'!CG:CI,3,TRUE),VLOOKUP($F26,'2x8'!AO:AQ,3,TRUE)))","v":0},{"$f":"IF($F26=0,0,IF($A26=\"PHBAO\",VLOOKUP($F26,'2x8'!AS:AU,3,TRUE),IF($A26=\"Desegregated/Receiver\",VLOOKUP($F26,'2x8'!AW:AY,3,TRUE),IF($A26=\"Magnet 2\",VLOOKUP($F26,'2x8'!BA:BC,3,TRUE),IF($A26=\"Magnet 1\",VLOOKUP($F26,'2x8'!BE:BG,3,TRUE))))))","v":0},0,0,{"$f":"IF($H26=0,0,VLOOKUP($H26,'2x8'!BI:BK,3,TRUE))","v":0},{"$f":"IF(OR($H26=0,$A26=\"PHBAO\",$A26=\"Desegregated/Receiver\"),0,IF($A26=\"Magnet 2\",VLOOKUP($H26,'2x8'!BU:BW,3,TRUE),IF($A26=\"Magnet 1\",VLOOKUP($H26,'2x8'!BY:CA,3,TRUE))))","v":0},0,0,{"$f":"IF(OR($G26=0,$A26=\"Magnet 2\", $A26=\"Magnet 1\"),0,IF(AND($B26=\"t\",OR($A26=\"PHBAO\",$A26=\"Desegregated/Receiver\")),0,IF($A26=\"PHBAO\",VLOOKUP($G26,'2x8'!BM:BO,3,TRUE),IF($A26=\"Desegregated/Receiver\",VLOOKUP($G26,'2x8'!BQ:BS,3,TRUE)))))","v":0},0,0,null,0,0,0,{"$f":"0","v":0},{"$f":"IF(OR($G26=0,$A26=\"Magnet 2\",$A26=\"Magnet 1\",$B26=\"f\"),0,IF($A26=\"PHBAO\",VLOOKUP($G26,'2x8'!BM:BO,3,TRUE),IF($A26=\"Desegregated/Receiver\",VLOOKUP($G26,'2x8'!BQ:BS,3,TRUE))))","v":0},0,null,0,"Magnet II","Magnet IIf2x8"]
["Magnet 2","t","2x8",{"$f":"SUM('Position Simulator'!$D$11:$D$14)","v":0},{"$f":"IF('Position Simulator'!$D$7=\"t\",SUM('Position Simulator'!$D$15:$D$17),SUM('Position Simulator'!$D$15:$D$16))","v":0},{"$f":"IF('Position Simulator'!$D$7=\"t\",SUM('Position Simulator'!$G$11:$G$12),'Position Simulator'!$D$17+SUM('Position Simulator'!$G$11:$G$12))","v":0},{"$f":"IF(OR($A27=\"Magnet 1\",$A27=\"Magnet 2\"),0,SUM('Position Simulator'!$G$13:$G$14))","v":0},{"$f":"SUM('Position Simulator'!$G$13:$G$16)","v":0},{"$f":"IF($D27=0,0,VLOOKUP($D27,'2x8'!A:C,3,TRUE))","v":0},{"$f":"IF($D18=0,0,IF($A18=\"PHBAO\",VLOOKUP($D18,'2x8'!I:K,3,TRUE),IF($A18=\"Desegregated/Receiver\",VLOOKUP($D18,'2x8'!A:C,3,TRUE),IF($A18=\"Magnet 2\",VLOOKUP($D18,'2x8'!M:O,3,TRUE),IF($A18=\"Magnet 1\",VLOOKUP($D18,'2x8'!Q:S,3,TRUE))))))","v":0},0,{"$f":"IF($D27=0,0,VLOOKUP($D27,'2x8'!E:G,3,TRUE))","v":0},0,0,{"$f":"IF($E27=0,0,IF(A27=\"Magnet 1\",VLOOKUP($E27,'2x8'!U:W,3,TRUE),VLOOKUP($E27,'2x8'!CC:CE,3,TRUE)))","v":0},{"$f":"IF($E27=0,0,IF($A27=\"PHBAO\",VLOOKUP($E27,'2x8'!Y:AA,3,TRUE),IF($A27=\"Desegregated/Receiver\",VLOOKUP($E27,'2x8'!AC:AE,3,TRUE),IF($A27=\"Magnet 2\",VLOOKUP($E27,'2x8'!AG:AI,3,TRUE),IF($A27=\"Magnet 1\",VLOOKUP($E27,'2x8'!AK:AM,3,TRUE))))))","v":0},0,0,{"$f":"IF($F27=0,0,IF(OR(A27=\"Magnet 1\",A27=\"Magnet 2\"),VLOOKUP($F27,'2x8'!CG:CI,3,TRUE),VLOOKUP($F27,'2x8'!AO:AQ,3,TRUE)))","v":0},{"$f":"IF($F27=0,0,IF($A27=\"PHBAO\",VLOOKUP($F27,'2x8'!AS:AU,3,TRUE),IF($A27=\"Desegregated/Receiver\",VLOOKUP($F27,'2x8'!AW:AY,3,TRUE),IF($A27=\"Magnet 2\",VLOOKUP($F27,'2x8'!BA:BC,3,TRUE),IF($A27=\"Magnet 1\",VLOOKUP($F27,'2x8'!BE:BG,3,TRUE))))))","v":0},0,0,{"$f":"IF($H27=0,0,VLOOKUP($H27,'2x8'!BI:BK,3,TRUE))","v":0},{"$f":"IF(OR($H27=0,$A27=\"PHBAO\",$A27=\"Desegregated/Receiver\"),0,IF($A27=\"Magnet 2\",VLOOKUP($H27,'2x8'!BU:BW,3,TRUE),IF($A27=\"Magnet 1\",VLOOKUP($H27,'2x8'!BY:CA,3,TRUE))))","v":0},0,0,{"$f":"IF(OR($G27=0,$A27=\"Magnet 2\", $A27=\"Magnet 1\"),0,IF(AND($B27=\"t\",OR($A27=\"PHBAO\",$A27=\"Desegregated/Receiver\")),0,IF($A27=\"PHBAO\",VLOOKUP($G27,'2x8'!BM:BO,3,TRUE),IF($A27=\"Desegregated/Receiver\",VLOOKUP($G27,'2x8'!BQ:BS,3,TRUE)))))","v":0},0,0,null,0,0,0,{"$f":"0","v":0},{"$f":"IF(OR($G27=0,$A27=\"Magnet 2\",$A27=\"Magnet 1\",$B27=\"f\"),0,IF($A27=\"PHBAO\",VLOOKUP($G27,'2x8'!BM:BO,3,TRUE),IF($A27=\"Desegregated/Receiver\",VLOOKUP($G27,'2x8'!BQ:BS,3,TRUE))))","v":0},0,null,0,"Magnet II","Magnet IIt2x8"]
[]
[]
[]
["6th Grade Elem","Clerical Enrollment","Admin Enrollment","CNS Enrollment","Elem","MS","SH","Highest Enrollment",".","Clerical FTEs","SAA","SPED Support","Add'l",".","Admin FTEs","Principal","APSCS","AP",".","Counselor FTEs"]
[{"$f":"'Position Simulator'!D57","v":0},{"$f":"SUM('Position Simulator'!$D$62:$D$70)+SUM('Position Simulator'!$G$62:$G$70)","v":0},{"$f":"SUM('Position Simulator'!$D$62:$D$70)+SUM('Position Simulator'!$G$62:$G$71)","v":0},{"$f":"IF(A32=\"t\",SUM('Position Simulator'!$D$69:$D$70)+SUM('Position Simulator'!$G$62:$G$65)+SUM('Position Simulator'!$G$67:$G$68),SUM('Position Simulator'!$D$68:$D$70)+SUM('Position Simulator'!$G$62:$G$65)+SUM('Position Simulator'!$G$67:$G$68))","v":0},{"$f":"IF($A32=\"t\",SUM('Position Simulator'!D62:D68)+'Position Simulator'!G66+SUM('Position Simulator'!G69:G71),SUM('Position Simulator'!D62:D67)+'Position Simulator'!G66+SUM('Position Simulator'!G69:G71))","v":0},{"$f":"IF($A32=\"t\",SUM('Position Simulator'!D69:D70)+'Position Simulator'!G67, SUM('Position Simulator'!D68:D70)+'Position Simulator'!G67)","v":0},{"$f":"SUM('Position Simulator'!G62:G65)+'Position Simulator'!G68","v":0},{"$f":"IF(G32>0,\"SH\",IF(F32>0,\"MS\",IF(E32>0,\"ES\",\"\")))","v":""},null,{"$f":"IF($B32=0,0,IF($H32=\"ES\",VLOOKUP($B32,'6 Periods'!$CK:$CQ,7,TRUE),IF($H32=\"MS\",VLOOKUP($B32,'6 Periods'!$CS:$CY,7,TRUE),IF($H32=\"SH\",VLOOKUP($B32,'6 Periods'!$DA:$DG,7,TRUE),\"\"))))","v":0},{"$f":"IF($B32=0,0,IF($H32=\"ES\",VLOOKUP($B32,'6 Periods'!$CK:$CQ,4,TRUE),IF($H32=\"MS\",VLOOKUP($B32,'6 Periods'!$CS:$CY,4,TRUE),IF($H32=\"SH\",VLOOKUP($B32,'6 Periods'!$DA:$DG,4,TRUE),\"\"))))","v":0},{"$f":"IF($B32=0,0,IF($H32=\"ES\",VLOOKUP($B32,'6 Periods'!$CK:$CQ,5,TRUE),IF($H32=\"MS\",VLOOKUP($B32,'6 Periods'!$CS:$CY,5,TRUE),IF($H32=\"SH\",VLOOKUP($B32,'6 Periods'!$DA:$DG,5,TRUE),\"\"))))","v":0},{"$f":"IF($B32=0,0,IF($H32=\"ES\",VLOOKUP($B32,'6 Periods'!$CK:$CQ,6,TRUE),IF($H32=\"MS\",VLOOKUP($B32,'6 Periods'!$CS:$CY,6,TRUE),IF($H32=\"SH\",VLOOKUP($B32,'6 Periods'!$DA:$DG,6,TRUE),\"\"))))","v":0},null,{"$f":"IF($C32=0,0,IF($H32=\"ES\",VLOOKUP($C32,'6 Periods'!$DI:$DN,6,TRUE),VLOOKUP($C32,'6 Periods'!$DP:$DV,7,TRUE)))","v":0},{"$f":"IF($C32=0,0,IF($H32=\"ES\",VLOOKUP($C32,'6 Periods'!$DI:$DN,4,TRUE),VLOOKUP($C32,'6 Periods'!$DP:$DV,4,TRUE)))","v":0},{"$f":"IF($C32=0,0,IF($H32=\"ES\",0,VLOOKUP($C32,'6 Periods'!$DP:$DV,5,TRUE)))","v":0},{"$f":"IF($C32=0,0,IF($H32=\"ES\",VLOOKUP($C32,'6 Periods'!$DI:$DN,5,TRUE),VLOOKUP($C32,'6 Periods'!$DP:$DV,6,TRUE)))","v":0},null,{"$f":"IF($D32=0,0,VLOOKUP($D32,'6 Periods'!DX:DZ,3,TRUE))","v":0}]

{"sheet":"ECAST Projection","index":2,"n_rows":51,"n_cols":6,"rows_kept":51,"cut":false,"hidden":false,"merged":[[0,0,0,5],[50,0,50,5]]}
["2022-23 E-CAST ENROLLMENT & ALLOCATION FORECAST"]
[]
["Instructions: enter or select a value for field highlighted in blue to populate the forecasted enrollment and allocations for your school(s)."]
["Use the Position Simulator to project allocations based on enrollment or school attribute changes."]
[]
["Cost Center","",{"$f":"IF(OR(B6=0,B6=\"\"), \"\",IF(NOT(ISERROR(VLOOKUP(LEFT($B$6,5)&\"01\",'ECAST Enrollment'!H:H,1,FALSE))),\"\",\"Please enter a K-12 cost center.\"))","v":""}]
[]
["Projected Enrollment"]
["Index",{"$f":"LEFT($B$6,5)&\"01\"&1","v":"011"},{"$f":"LEFT($B$6,5)&\"01\"&2","v":"012"},{"$f":"LEFT($B$6,5)&\"01\"&3","v":"013"},{"$f":"LEFT($B$6,5)&\"01\"&4","v":"014"},{"$f":"LEFT($B$6,5)&\"01\"&5","v":"015"}]
["Cost Center",{"$f":"VLOOKUP(B$9, 'ECAST Norming'!$D$2:$BF$7,2,FALSE)","v":""},{"$f":"VLOOKUP(C$9, 'ECAST Norming'!$D$2:$BF$7,2,FALSE)","v":""},{"$f":"VLOOKUP(D$9, 'ECAST Norming'!$D$2:$BF$7,2,FALSE)","v":""},{"$f":"VLOOKUP(E$9, 'ECAST Norming'!$D$2:$BF$7,2,FALSE)","v":""},{"$f":"VLOOKUP(F$9, 'ECAST Norming'!$D$2:$BF$7,2,FALSE)","v":""}]
["School Name",{"$f":"IF(OR(B$10=\"\",B$10=0),\"\",VLOOKUP(TEXT(B$10,\"0\"),'ECAST Lookup'!$A:$C,3,FALSE))","v":""},{"$f":"IF(OR(C$10=\"\",C$10=0),\"\",VLOOKUP(TEXT(C$10,\"0\"),'ECAST Lookup'!$A:$C,3,FALSE))","v":""},{"$f":"IF(OR(D$10=\"\",D$10=0),\"\",VLOOKUP(TEXT(D$10,\"0\"),'ECAST Lookup'!$A:$C,3,FALSE))","v":""},{"$f":"IF(OR(E$10=\"\",E$10=0),\"\",VLOOKUP(TEXT(E$10,\"0\"),'ECAST Lookup'!$A:$C,3,FALSE))","v":""},{"$f":"IF(OR(F$10=\"\",F$10=0),\"\",VLOOKUP(TEXT(F$10,\"0\"),'ECAST Lookup'!$A:$C,3,FALSE))","v":""}]
["School Type",{"$f":"IF(OR(B$10=\"\",B$10=0),\"\",VLOOKUP(VLOOKUP(B$9,'ECAST Norming'!$D$2:$BF$7,5,FALSE),'ECAST Lookup'!$F:$G,2,FALSE))","v":""},{"$f":"IF(OR(C$10=\"\",C$10=0),\"\",VLOOKUP(VLOOKUP(C$9,'ECAST Norming'!$D$2:$BF$7,5,FALSE),'ECAST Lookup'!$F:$G,2,FALSE))","v":""},{"$f":"IF(OR(D$10=\"\",D$10=0),\"\",VLOOKUP(VLOOKUP(D$9,'ECAST Norming'!$D$2:$BF$7,5,FALSE),'ECAST Lookup'!$F:$G,2,FALSE))","v":""},{"$f":"IF(OR(E$10=\"\",E$10=0),\"\",VLOOKUP(VLOOKUP(E$9,'ECAST Norming'!$D$2:$BF$7,5,FALSE),'ECAST Lookup'!$F:$G,2,FALSE))","v":""},{"$f":"IF(OR(F$10=\"\",F$10=0),\"\",VLOOKUP(VLOOKUP(F$9,'ECAST Norming'!$D$2:$BF$7,5,FALSE),'ECAST Lookup'!$F:$G,2,FALSE))","v":""}]
["Norm Category",{"$f":"VLOOKUP(B$9, 'ECAST Norming'!$D$2:$BF$7,7,FALSE)","v":""},{"$f":"VLOOKUP(C$9, 'ECAST Norming'!$D$2:$BF$7,7,FALSE)","v":""},{"$f":"VLOOKUP(D$9, 'ECAST Norming'!$D$2:$BF$7,7,FALSE)","v":""},{"$f":"VLOOKUP(E$9, 'ECAST Norming'!$D$2:$BF$7,7,FALSE)","v":""},{"$f":"VLOOKUP(F$9, 'ECAST Norming'!$D$2:$BF$7,7,FALSE)","v":""}]
["Alternative Schedule",{"$f":"IF(VLOOKUP(B$9, 'ECAST Norming'!$D$2:$BF$7,11,FALSE)=0,\"N/A\", VLOOKUP(B$9, 'ECAST Norming'!$D$2:$BF$7,11,FALSE))","v":""},{"$f":"IF(VLOOKUP(C$9, 'ECAST Norming'!$D$2:$BF$7,11,FALSE)=0,\"N/A\", VLOOKUP(C$9, 'ECAST Norming'!$D$2:$BF$7,11,FALSE))","v":""},{"$f":"IF(VLOOKUP(D$9, 'ECAST Norming'!$D$2:$BF$7,11,FALSE)=0,\"N/A\", VLOOKUP(D$9, 'ECAST Norming'!$D$2:$BF$7,11,FALSE))","v":""},{"$f":"IF(VLOOKUP(E$9, 'ECAST Norming'!$D$2:$BF$7,11,FALSE)=0,\"N/A\", VLOOKUP(E$9, 'ECAST Norming'!$D$2:$BF$7,11,FALSE))","v":""},{"$f":"IF(VLOOKUP(F$9, 'ECAST Norming'!$D$2:$BF$7,11,FALSE)=0,\"\", VLOOKUP(F$9, 'ECAST Norming'!$D$2:$BF$7,11,FALSE))","v":""}]
["TK and K",{"$f":"VLOOKUP(B$9, 'ECAST Norming'!$D$2:$BF$7,12,FALSE)","v":""},{"$f":"VLOOKUP(C$9, 'ECAST Norming'!$D$2:$BF$7,12,FALSE)","v":""},{"$f":"VLOOKUP(D$9, 'ECAST Norming'!$D$2:$BF$7,12,FALSE)","v":""},{"$f":"VLOOKUP(E$9, 'ECAST Norming'!$D$2:$BF$7,12,FALSE)","v":""},{"$f":"VLOOKUP(F$9, 'ECAST Norming'!$D$2:$BF$7,12,FALSE)","v":""}]
["G1",{"$f":"VLOOKUP(B$9, 'ECAST Norming'!$D$2:$BF$7,13,FALSE)","v":""},{"$f":"VLOOKUP(C$9, 'ECAST Norming'!$D$2:$BF$7,13,FALSE)","v":""},{"$f":"VLOOKUP(D$9, 'ECAST Norming'!$D$2:$BF$7,13,FALSE)","v":""},{"$f":"VLOOKUP(E$9, 'ECAST Norming'!$D$2:$BF$7,13,FALSE)","v":""},{"$f":"VLOOKUP(F$9, 'ECAST Norming'!$D$2:$BF$7,13,FALSE)","v":""}]
["G2",{"$f":"VLOOKUP(B$9, 'ECAST Norming'!$D$2:$BF$7,14,FALSE)","v":""},{"$f":"VLOOKUP(C$9, 'ECAST Norming'!$D$2:$BF$7,14,FALSE)","v":""},{"$f":"VLOOKUP(D$9, 'ECAST Norming'!$D$2:$BF$7,14,FALSE)","v":""},{"$f":"VLOOKUP(E$9, 'ECAST Norming'!$D$2:$BF$7,14,FALSE)","v":""},{"$f":"VLOOKUP(F$9, 'ECAST Norming'!$D$2:$BF$7,14,FALSE)","v":""}]
["G3",{"$f":"VLOOKUP(B$9, 'ECAST Norming'!$D$2:$BF$7,15,FALSE)","v":""},{"$f":"VLOOKUP(C$9, 'ECAST Norming'!$D$2:$BF$7,15,FALSE)","v":""},{"$f":"VLOOKUP(D$9, 'ECAST Norming'!$D$2:$BF$7,15,FALSE)","v":""},{"$f":"VLOOKUP(E$9, 'ECAST Norming'!$D$2:$BF$7,15,FALSE)","v":""},{"$f":"VLOOKUP(F$9, 'ECAST Norming'!$D$2:$BF$7,15,FALSE)","v":""}]
["G4",{"$f":"VLOOKUP(B$9, 'ECAST Norming'!$D$2:$BF$7,16,FALSE)","v":""},{"$f":"VLOOKUP(C$9, 'ECAST Norming'!$D$2:$BF$7,16,FALSE)","v":""},{"$f":"VLOOKUP(D$9, 'ECAST Norming'!$D$2:$BF$7,16,FALSE)","v":""},{"$f":"VLOOKUP(E$9, 'ECAST Norming'!$D$2:$BF$7,16,FALSE)","v":""},{"$f":"VLOOKUP(F$9, 'ECAST Norming'!$D$2:$BF$7,16,FALSE)","v":""}]
["G5",{"$f":"VLOOKUP(B$9, 'ECAST Norming'!$D$2:$BF$7,17,FALSE)","v":""},{"$f":"VLOOKUP(C$9, 'ECAST Norming'!$D$2:$BF$7,17,FALSE)","v":""},{"$f":"VLOOKUP(D$9, 'ECAST Norming'!$D$2:$BF$7,17,FALSE)","v":""},{"$f":"VLOOKUP(E$9, 'ECAST Norming'!$D$2:$BF$7,17,FALSE)","v":""},{"$f":"VLOOKUP(F$9, 'ECAST Norming'!$D$2:$BF$7,17,FALSE)","v":""}]
["G6",{"$f":"VLOOKUP(B$9, 'ECAST Norming'!$D$2:$BF$7,18,FALSE)","v":""},{"$f":"VLOOKUP(C$9, 'ECAST Norming'!$D$2:$BF$7,18,FALSE)","v":""},{"$f":"VLOOKUP(D$9, 'ECAST Norming'!$D$2:$BF$7,18,FALSE)","v":""},{"$f":"VLOOKUP(E$9, 'ECAST Norming'!$D$2:$BF$7,18,FALSE)","v":""},{"$f":"VLOOKUP(F$9, 'ECAST Norming'!$D$2:$BF$7,18,FALSE)","v":""}]
["G7",{"$f":"VLOOKUP(B$9, 'ECAST Norming'!$D$2:$BF$7,19,FALSE)","v":""},{"$f":"VLOOKUP(C$9, 'ECAST Norming'!$D$2:$BF$7,19,FALSE)","v":""},{"$f":"VLOOKUP(D$9, 'ECAST Norming'!$D$2:$BF$7,19,FALSE)","v":""},{"$f":"VLOOKUP(E$9, 'ECAST Norming'!$D$2:$BF$7,19,FALSE)","v":""},{"$f":"VLOOKUP(F$9, 'ECAST Norming'!$D$2:$BF$7,19,FALSE)","v":""}]
["G8",{"$f":"VLOOKUP(B$9, 'ECAST Norming'!$D$2:$BF$7,20,FALSE)","v":""},{"$f":"VLOOKUP(C$9, 'ECAST Norming'!$D$2:$BF$7,20,FALSE)","v":""},{"$f":"VLOOKUP(D$9, 'ECAST Norming'!$D$2:$BF$7,20,FALSE)","v":""},{"$f":"VLOOKUP(E$9, 'ECAST Norming'!$D$2:$BF$7,20,FALSE)","v":""},{"$f":"VLOOKUP(F$9, 'ECAST Norming'!$D$2:$BF$7,20,FALSE)","v":""}]
["G9",{"$f":"VLOOKUP(B$9, 'ECAST Norming'!$D$2:$BF$7,21,FALSE)","v":""},{"$f":"VLOOKUP(C$9, 'ECAST Norming'!$D$2:$BF$7,21,FALSE)","v":""},{"$f":"VLOOKUP(D$9, 'ECAST Norming'!$D$2:$BF$7,21,FALSE)","v":""},{"$f":"VLOOKUP(E$9, 'ECAST Norming'!$D$2:$BF$7,21,FALSE)","v":""},{"$f":"VLOOKUP(F$9, 'ECAST Norming'!$D$2:$BF$7,21,FALSE)","v":""}]
["G10",{"$f":"VLOOKUP(B$9, 'ECAST Norming'!$D$2:$BF$7,22,FALSE)","v":""},{"$f":"VLOOKUP(C$9, 'ECAST Norming'!$D$2:$BF$7,22,FALSE)","v":""},{"$f":"VLOOKUP(D$9, 'ECAST Norming'!$D$2:$BF$7,22,FALSE)","v":""},{"$f":"VLOOKUP(E$9, 'ECAST Norming'!$D$2:$BF$7,22,FALSE)","v":""},{"$f":"VLOOKUP(F$9, 'ECAST Norming'!$D$2:$BF$7,22,FALSE)","v":""}]
["G11",{"$f":"VLOOKUP(B$9, 'ECAST Norming'!$D$2:$BF$7,23,FALSE)","v":""},{"$f":"VLOOKUP(C$9, 'ECAST Norming'!$D$2:$BF$7,23,FALSE)","v":""},{"$f":"VLOOKUP(D$9, 'ECAST Norming'!$D$2:$BF$7,23,FALSE)","v":""},{"$f":"VLOOKUP(E$9, 'ECAST Norming'!$D$2:$BF$7,23,FALSE)","v":""},{"$f":"VLOOKUP(F$9, 'ECAST Norming'!$D$2:$BF$7,23,FALSE)","v":""}]
["G12",{"$f":"VLOOKUP(B$9, 'ECAST Norming'!$D$2:$BF$7,24,FALSE)","v":""},{"$f":"VLOOKUP(C$9, 'ECAST Norming'!$D$2:$BF$7,24,FALSE)","v":""},{"$f":"VLOOKUP(D$9, 'ECAST Norming'!$D$2:$BF$7,24,FALSE)","v":""},{"$f":"VLOOKUP(E$9, 'ECAST Norming'!$D$2:$BF$7,24,FALSE)","v":""},{"$f":"VLOOKUP(F$9, 'ECAST Norming'!$D$2:$BF$7,24,FALSE)","v":""}]
["SDP K-5(6)",{"$f":"VLOOKUP(B$9, 'ECAST Norming'!$D$2:$BF$7,28,FALSE)","v":""},{"$f":"VLOOKUP(C$9, 'ECAST Norming'!$D$2:$BF$7,28,FALSE)","v":""},{"$f":"VLOOKUP(D$9, 'ECAST Norming'!$D$2:$BF$7,28,FALSE)","v":""},{"$f":"VLOOKUP(E$9, 'ECAST Norming'!$D$2:$BF$7,28,FALSE)","v":""},{"$f":"VLOOKUP(F$9, 'ECAST Norming'!$D$2:$BF$7,28,FALSE)","v":""}]
["SDP 6-8",{"$f":"VLOOKUP(B$9, 'ECAST Norming'!$D$2:$BF$7,29,FALSE)","v":""},{"$f":"VLOOKUP(C$9, 'ECAST Norming'!$D$2:$BF$7,29,FALSE)","v":""},{"$f":"VLOOKUP(D$9, 'ECAST Norming'!$D$2:$BF$7,29,FALSE)","v":""},{"$f":"VLOOKUP(E$9, 'ECAST Norming'!$D$2:$BF$7,29,FALSE)","v":""},{"$f":"VLOOKUP(F$9, 'ECAST Norming'!$D$2:$BF$7,29,FALSE)","v":""}]
["SDP 9-12",{"$f":"VLOOKUP(B$9, 'ECAST Norming'!$D$2:$BF$7,30,FALSE)","v":""},{"$f":"VLOOKUP(C$9, 'ECAST Norming'!$D$2:$BF$7,30,FALSE)","v":""},{"$f":"VLOOKUP(D$9, 'ECAST Norming'!$D$2:$BF$7,30,FALSE)","v":""},{"$f":"VLOOKUP(E$9, 'ECAST Norming'!$D$2:$BF$7,30,FALSE)","v":""},{"$f":"VLOOKUP(F$9, 'ECAST Norming'!$D$2:$BF$7,30,FALSE)","v":""}]
["Pre-K SDP",{"$f":"VLOOKUP(B$9, 'ECAST Norming'!$D$2:$BF$7,31,FALSE)","v":""},{"$f":"VLOOKUP(C$9, 'ECAST Norming'!$D$2:$BF$7,31,FALSE)","v":""},{"$f":"VLOOKUP(D$9, 'ECAST Norming'!$D$2:$BF$7,31,FALSE)","v":""},{"$f":"VLOOKUP(E$9, 'ECAST Norming'!$D$2:$BF$7,31,FALSE)","v":""},{"$f":"VLOOKUP(F$9, 'ECAST Norming'!$D$2:$BF$7,31,FALSE)","v":""}]
["State Preschool",{"$f":"VLOOKUP(B$9, 'ECAST Norming'!$D$2:$BF$7,32,FALSE)","v":""},{"$f":"VLOOKUP(C$9, 'ECAST Norming'!$D$2:$BF$7,32,FALSE)","v":""},{"$f":"VLOOKUP(D$9, 'ECAST Norming'!$D$2:$BF$7,32,FALSE)","v":""},{"$f":"VLOOKUP(E$9, 'ECAST Norming'!$D$2:$BF$7,32,FALSE)","v":""},{"$f":"VLOOKUP(F$9, 'ECAST Norming'!$D$2:$BF$7,32,FALSE)","v":""}]
["TE (ETK)",{"$f":"VLOOKUP(B$9, 'ECAST Norming'!$D$2:$BF$7,33,FALSE)","v":""},{"$f":"VLOOKUP(C$9, 'ECAST Norming'!$D$2:$BF$7,33,FALSE)","v":""},{"$f":"VLOOKUP(D$9, 'ECAST Norming'!$D$2:$BF$7,33,FALSE)","v":""},{"$f":"VLOOKUP(E$9, 'ECAST Norming'!$D$2:$BF$7,33,FALSE)","v":""},{"$f":"VLOOKUP(F$9, 'ECAST Norming'!$D$2:$BF$7,33,FALSE)","v":""}]
["Grand Total",{"$f":"VLOOKUP(B$9, 'ECAST Norming'!$D$2:$BF$7,36,FALSE)","v":""},{"$f":"VLOOKUP(C$9, 'ECAST Norming'!$D$2:$BF$7,36,FALSE)","v":""},{"$f":"VLOOKUP(D$9, 'ECAST Norming'!$D$2:$BF$7,36,FALSE)","v":""},{"$f":"VLOOKUP(E$9, 'ECAST Norming'!$D$2:$BF$7,36,FALSE)","v":""},{"$f":"VLOOKUP(F$9, 'ECAST Norming'!$D$2:$BF$7,36,FALSE)","v":""}]
[]
["Projected Allocations"]
[]
["Teacher Allocations",{"$f":"IF(OR(B42=0,B42=\"\"), \"\", \"FTEs\")","v":""},{"$f":"IF(OR(C42=0,C42=\"\"), \"\", \"FTEs\")","v":""},"","",""]
["District Funded",{"$f":"VLOOKUP(B$9, 'ECAST Norming'!$D$2:$BF$7,49,FALSE)","v":""},{"$f":"VLOOKUP(C$9, 'ECAST Norming'!$D$2:$BF$7,49,FALSE)","v":""},{"$f":"VLOOKUP(D$9, 'ECAST Norming'!$D$2:$BF$7,49,FALSE)","v":""},{"$f":"VLOOKUP(E$9, 'ECAST Norming'!$D$2:$BF$7,49,FALSE)","v":""},{"$f":"VLOOKUP(F$9, 'ECAST Norming'!$D$2:$BF$7,49,FALSE)","v":""}]
["Charter Block Grant Funded",{"$f":"VLOOKUP(B$9, 'ECAST Norming'!$D$2:$BF$7,50,FALSE)","v":""},{"$f":"VLOOKUP(C$9, 'ECAST Norming'!$D$2:$BF$7,50,FALSE)","v":""},{"$f":"VLOOKUP(D$9, 'ECAST Norming'!$D$2:$BF$7,50,FALSE)","v":""},{"$f":"VLOOKUP(E$9, 'ECAST Norming'!$D$2:$BF$7,50,FALSE)","v":""},{"$f":"VLOOKUP(F$9, 'ECAST Norming'!$D$2:$BF$7,50,FALSE)","v":""}]
["Alternative Schedule Funded",{"$f":"VLOOKUP(B$9, 'ECAST Norming'!$D$2:$BF$7,51,FALSE)","v":""},{"$f":"VLOOKUP(C$9, 'ECAST Norming'!$D$2:$BF$7,51,FALSE)","v":""},{"$f":"VLOOKUP(D$9, 'ECAST Norming'!$D$2:$BF$7,51,FALSE)","v":""},{"$f":"VLOOKUP(E$9, 'ECAST Norming'!$D$2:$BF$7,51,FALSE)","v":""},{"$f":"VLOOKUP(F$9, 'ECAST Norming'!$D$2:$BF$7,51,FALSE)","v":""}]
["Total",{"$f":"VLOOKUP(B$9, 'ECAST Norming'!$D$2:$BF$7,52,FALSE)","v":""},{"$f":"VLOOKUP(C$9, 'ECAST Norming'!$D$2:$BF$7,52,FALSE)","v":""},{"$f":"VLOOKUP(D$9, 'ECAST Norming'!$D$2:$BF$7,52,FALSE)","v":""},{"$f":"VLOOKUP(E$9, 'ECAST Norming'!$D$2:$BF$7,52,FALSE)","v":""},{"$f":"VLOOKUP(F$9, 'ECAST Norming'!$D$2:$BF$7,52,FALSE)","v":""}]
[]
[]
["Other Allocations",{"$f":"IF(OR(B48=0,B48=\"\"), \"\", \"FTEs\")","v":""}]
["Administrators",{"$f":"VLOOKUP(B$9, 'ECAST Norming'!$D$2:$BF$7,53,FALSE)","v":""}]
["Counselors",{"$f":"VLOOKUP(B$9, 'ECAST Norming'!$D$2:$BF$7,55,FALSE)","v":""}]
["Clerical Staff",{"$f":"VLOOKUP(B$9, 'ECAST Norming'!$D$2:$BF$7,54,FALSE)","v":""}]
[]
[]
["SUBJECT TO CHANGE"]

{"sheet":"ECAST Norming","index":3,"n_rows":35,"n_cols":58,"rows_kept":35,"cut":false,"hidden":true,"merged":[]}
["1/4/22 updated",null,null,1,2,3,4,5,6,7,8,9,10,11,12,13,14,15,16,17,18,19,20,21,22,23,24,25,26,27,28,29,30,31,32,33,34,35,36,37,38,39,40,41,42,43,44,45,46,47,48,49,50,51,52,53,54,55]
["Index","Count","Sort","School","Cost Ctr","School Name","Home School","School Type","Norm Category (for Norming only)","Norm Category (official)","Affiliated (for Norming only)","Affiliated (Official)","Grade 6 Elem","Schedule","K","G1","G2","G3","G4","G5","G6","G7","G8","G9","G10","G11","G12","CONTINUATION_9_12","OPPORTUNITY_6_8","OPPORTUNITY_9_12","SDC K-5(6)","SDC 6-8","SDC 9-12","Pre-K SP ED","ST_PRE_SCH_PROG","TE","Total K-12 Enrollment Without SDC","Total K-12 With SDC","Grand Total","K-3","4-5 (6)","6-8","9-10","9-12","Clerical Enrollment","Admin Enrollment","CNS Enrollment","Elem","MS","SH","Highest Enrollment","District Funded Teachers","Charter Funded Teachers","Alt Schedule Tchrs","Total Teachers","Total Admin","Total Clerical","Total Counselor"]
[{"$f":"CONCATENATE(D3,N3)","v":"011"},{"$f":"VLOOKUP(LEFT('ECAST Projection'!$B$6,5)&\"01\", 'Pivot ECAST'!A:B,2,FALSE)","v":{"$error":"#N/A"}},{"$f":"IF(D3=D2,C2+1,1)","v":1},{"$f":"LEFT('ECAST Projection'!$B$6,5)&\"01\"&1","v":"011"},{"$f":"IFERROR(VLOOKUP($D3,'ECAST Enrollment'!$C:$AW,3,FALSE)*1,\"\")","v":""},{"$f":"IFERROR(VLOOKUP($D3,'ECAST Enrollment'!$C:$AW,4,FALSE),\"\")","v":""},{"$f":"IFERROR(VLOOKUP($D3,'ECAST Enrollment'!$C:$AW,6,FALSE),\"\")","v":""},{"$f":"IFERROR(VLOOKUP($D3,'ECAST Enrollment'!$C:$AW,7,FALSE),\"\")","v":""},{"$f":"IFERROR(VLOOKUP($D3,'ECAST Enrollment'!$C:$AW,8,FALSE),\"\")","v":""},{"$f":"IFERROR(VLOOKUP($D3,'ECAST Enrollment'!$C:$AW,9,FALSE),\"\")","v":""},{"$f":"IFERROR(VLOOKUP($D3,'ECAST Enrollment'!$C:$AW,10,FALSE),\"\")","v":""},{"$f":"IFERROR(VLOOKUP($D3,'ECAST Enrollment'!$C:$AW,11,FALSE),\"\")","v":""},{"$f":"IFERROR(VLOOKUP($D3,'ECAST Enrollment'!$C:$AW,12,FALSE),\"\")","v":""},{"$f":"IFERROR(VLOOKUP($D3,'ECAST Enrollment'!$C:$AW,20,FALSE),\"\")","v":""},{"$f":"IFERROR(VLOOKUP($D3,'ECAST Enrollment'!$C:$AW,23,FALSE),\"\")","v":""},{"$f":"IFERROR(VLOOKUP($D3,'ECAST Enrollment'!$C:$AW,24,FALSE),\"\")","v":""},{"$f":"IFERROR(VLOOKUP($D3,'ECAST Enrollment'!$C:$AW,25,FALSE),\"\")","v":""},{"$f":"IFERROR(VLOOKUP($D3,'ECAST Enrollment'!$C:$AW,26,FALSE),\"\")","v":""},{"$f":"IFERROR(VLOOKUP($D3,'ECAST Enrollment'!$C:$AW,27,FALSE),\"\")","v":""},{"$f":"IFERROR(VLOOKUP($D3,'ECAST Enrollment'!$C:$AW,28,FALSE),\"\")","v":""},{"$f":"IFERROR(VLOOKUP($D3,'ECAST Enrollment'!$C:$AW,29,FALSE),\"\")","v":""},{"$f":"IFERROR(VLOOKUP($D3,'ECAST Enrollment'!$C:$AW,30,FALSE),\"\")","v":""},{"$f":"IFERROR(VLOOKUP($D3,'ECAST Enrollment'!$C:$AW,31,FALSE),\"\")","v":""},{"$f":"IFERROR(VLOOKUP($D3,'ECAST Enrollment'!$C:$AW,32,FALSE),\"\")","v":""},{"$f":"IFERROR(VLOOKUP($D3,'ECAST Enrollment'!$C:$AW,33,FALSE),\"\")","v":""},{"$f":"IFERROR(VLOOKUP($D3,'ECAST Enrollment'!$C:$AW,34,FALSE),\"\")","v":""},{"$f":"IFERROR(VLOOKUP($D3,'ECAST Enrollment'!$C:$AW,35,FALSE),\"\")","v":""},{"$f":"IFERROR(VLOOKUP($D3,'ECAST Enrollment'!$C:$AW,36,FALSE),\"\")","v":""},{"$f":"IFERROR(VLOOKUP($D3,'ECAST Enrollment'!$C:$AW,37,FALSE),\"\")","v":""},{"$f":"IFERROR(VLOOKUP($D3,'ECAST Enrollment'!$C:$AW,38,FALSE),\"\")","v":""},{"$f":"IFERROR(VLOOKUP($D3,'ECAST Enrollment'!$C:$AW,39,FALSE),\"\")","v":""},{"$f":"IFERROR(VLOOKUP($D3,'ECAST Enrollment'!$C:$AW,40,FALSE),\"\")","v":""},{"$f":"IFERROR(VLOOKUP($D3,'ECAST Enrollment'!$C:$AW,41,FALSE),\"\")","v":""},{"$f":"IFERROR(VLOOKUP($D3,'ECAST Enrollment'!$C:$AW,42,FALSE),\"\")","v":""},{"$f":"IFERROR(VLOOKUP($D3,'ECAST Enrollment'!$C:$AW,43,FALSE),\"\")","v":""},{"$f":"IFERROR(VLOOKUP($D3,'ECAST Enrollment'!$C:$AW,44,FALSE),\"\")","v":""},{"$f":"IFERROR(VLOOKUP($D3,'ECAST Enrollment'!$C:$AW,45,FALSE),\"\")","v":""},{"$f":"IFERROR(VLOOKUP($D3,'ECAST Enrollment'!$C:$AW,46,FALSE),\"\")","v":""},{"$f":"IFERROR(VLOOKUP($D3,'ECAST Enrollment'!$C:$AW,47,FALSE),\"\")","v":""},{"$f":"SUM(O3:R3)","v":0},{"$f":"IF($M3=\"f\",SUM(S3:T3),SUM(S3:U3))","v":0},{"$f":"IF($M3=\"f\",SUM(U3:W3),SUM(V3:W3))","v":0},{"$f":"SUM(X3:Y3)","v":0},{"$f":"SUM(X3:AA3)","v":0},{"$f":"SUM(O3:AA3)+SUM(AE3:AH3)+SUM(AJ3)","v":0},{"$f":"SUM(O3:AA3)+SUM(AE3:AJ3)","v":0},{"$f":"IF(M3=\"f\",SUM(U3:AA3)+SUM(AF3:AG3),SUM(V3:AA3)+SUM(AF3:AG3))","v":0},{"$f":"IF($M3=\"\",0,IF($M3=\"f\",SUM(O3:T3)+AE3+SUM(AH3:AJ3),SUM(O3:U3)+AE3+SUM(AH3:AJ3)))","v":0},{"$f":"IF($M3=\"\",0,IF($M3=\"f\",SUM(U3:W3)+AF3,SUM(V3:W3)+AF3))","v":0},{"$f":"IF($M3=\"\",0,SUM(X3:AA3)+AG3)","v":0},{"$f":"IF(AX8>0,\"SH\",IF(AW8>0,\"MS\",IF(AV8>0,\"ES\",\"\")))","v":""},{"$f":"IF(OR(AM3=0,AM3=\"\"),\"\",AN13)","v":""},{"$f":"IF(OR(AM3=0,AM3=\"\"),\"\",AU13)","v":""},{"$f":"IF(OR(AM3=0,AM3=\"\"),\"\",IF(AW22=0,0,AW22-(AZ3+BA3)))","v":""},{"$f":"IF(SUM(AZ3:BB3)=0,\"\",SUM(AZ3:BB3))","v":""},{"$f":"IF(OR(AM3=0,AM3=\"\"),\"\",X35)","v":""},{"$f":"IF(OR(AM3=0,AM3=\"\"),\"\",S35)","v":""},{"$f":"IF(OR(AM3=0,AM3=\"\"),\"\",AC35)","v":""}]
[{"$f":"CONCATENATE(D4,N4)","v":"012"},{"$f":"VLOOKUP(LEFT('ECAST Projection'!$B$6,5)&\"01\", 'Pivot ECAST'!A:B,2,FALSE)","v":{"$error":"#N/A"}},{"$f":"IF(D4=D3,C3+1,1)","v":1},{"$f":"LEFT('ECAST Projection'!$B$6,5)&\"01\"&2","v":"012"},{"$f":"IFERROR(VLOOKUP($D4,'ECAST Enrollment'!$C:$AW,3,FALSE)*1,\"\")","v":""},{"$f":"IFERROR(VLOOKUP($D4,'ECAST Enrollment'!$C:$AW,4,FALSE),\"\")","v":""},{"$f":"IFERROR(VLOOKUP($D4,'ECAST Enrollment'!$C:$AW,6,FALSE),\"\")","v":""},{"$f":"IFERROR(VLOOKUP($D4,'ECAST Enrollment'!$C:$AW,7,FALSE),\"\")","v":""},{"$f":"IFERROR(VLOOKUP($D4,'ECAST Enrollment'!$C:$AW,8,FALSE),\"\")","v":""},{"$f":"IFERROR(VLOOKUP($D4,'ECAST Enrollment'!$C:$AW,9,FALSE),\"\")","v":""},{"$f":"IFERROR(VLOOKUP($D4,'ECAST Enrollment'!$C:$AW,10,FALSE),\"\")","v":""},{"$f":"IFERROR(VLOOKUP($D4,'ECAST Enrollment'!$C:$AW,11,FALSE),\"\")","v":""},{"$f":"IFERROR(VLOOKUP($D4,'ECAST Enrollment'!$C:$AW,12,FALSE),\"\")","v":""},{"$f":"IFERROR(VLOOKUP($D4,'ECAST Enrollment'!$C:$AW,20,FALSE),\"\")","v":""},{"$f":"IFERROR(VLOOKUP($D4,'ECAST Enrollment'!$C:$AW,23,FALSE),\"\")","v":""},{"$f":"IFERROR(VLOOKUP($D4,'ECAST Enrollment'!$C:$AW,24,FALSE),\"\")","v":""},{"$f":"IFERROR(VLOOKUP($D4,'ECAST Enrollment'!$C:$AW,25,FALSE),\"\")","v":""},{"$f":"IFERROR(VLOOKUP($D4,'ECAST Enrollment'!$C:$AW,26,FALSE),\"\")","v":""},{"$f":"IFERROR(VLOOKUP($D4,'ECAST Enrollment'!$C:$AW,27,FALSE),\"\")","v":""},{"$f":"IFERROR(VLOOKUP($D4,'ECAST Enrollment'!$C:$AW,28,FALSE),\"\")","v":""},{"$f":"IFERROR(VLOOKUP($D4,'ECAST Enrollment'!$C:$AW,29,FALSE),\"\")","v":""},{"$f":"IFERROR(VLOOKUP($D4,'ECAST Enrollment'!$C:$AW,30,FALSE),\"\")","v":""},{"$f":"IFERROR(VLOOKUP($D4,'ECAST Enrollment'!$C:$AW,31,FALSE),\"\")","v":""},{"$f":"IFERROR(VLOOKUP($D4,'ECAST Enrollment'!$C:$AW,32,FALSE),\"\")","v":""},{"$f":"IFERROR(VLOOKUP($D4,'ECAST Enrollment'!$C:$AW,33,FALSE),\"\")","v":""},{"$f":"IFERROR(VLOOKUP($D4,'ECAST Enrollment'!$C:$AW,34,FALSE),\"\")","v":""},{"$f":"IFERROR(VLOOKUP($D4,'ECAST Enrollment'!$C:$AW,35,FALSE),\"\")","v":""},{"$f":"IFERROR(VLOOKUP($D4,'ECAST Enrollment'!$C:$AW,36,FALSE),\"\")","v":""},{"$f":"IFERROR(VLOOKUP($D4,'ECAST Enrollment'!$C:$AW,37,FALSE),\"\")","v":""},{"$f":"IFERROR(VLOOKUP($D4,'ECAST Enrollment'!$C:$AW,38,FALSE),\"\")","v":""},{"$f":"IFERROR(VLOOKUP($D4,'ECAST Enrollment'!$C:$AW,39,FALSE),\"\")","v":""},{"$f":"IFERROR(VLOOKUP($D4,'ECAST Enrollment'!$C:$AW,40,FALSE),\"\")","v":""},{"$f":"IFERROR(VLOOKUP($D4,'ECAST Enrollment'!$C:$AW,41,FALSE),\"\")","v":""},{"$f":"IFERROR(VLOOKUP($D4,'ECAST Enrollment'!$C:$AW,42,FALSE),\"\")","v":""},{"$f":"IFERROR(VLOOKUP($D4,'ECAST Enrollment'!$C:$AW,43,FALSE),\"\")","v":""},{"$f":"IFERROR(VLOOKUP($D4,'ECAST Enrollment'!$C:$AW,44,FALSE),\"\")","v":""},{"$f":"IFERROR(VLOOKUP($D4,'ECAST Enrollment'!$C:$AW,45,FALSE),\"\")","v":""},{"$f":"IFERROR(VLOOKUP($D4,'ECAST Enrollment'!$C:$AW,46,FALSE),\"\")","v":""},{"$f":"IFERROR(VLOOKUP($D4,'ECAST Enrollment'!$C:$AW,47,FALSE),\"\")","v":""},{"$f":"SUM(O4:R4)","v":0},{"$f":"IF($M4=\"f\",SUM(S4:T4),SUM(S4:U4))","v":0},{"$f":"IF($M4=\"f\",SUM(U4:W4),SUM(V4:W4))","v":0},{"$f":"SUM(X4:Y4)","v":0},{"$f":"SUM(X4:AA4)","v":0},0,{"$f":"SUM(O4:AA4)+SUM(AE4:AJ4)","v":0},{"$f":"IF(M4=\"f\",SUM(U4:AA4)+SUM(AF4:AG4),SUM(V4:AA4)+SUM(AF4:AG4))","v":0},{"$f":"IF($M4=\"\",0,IF($M4=\"f\",SUM(O4:T4)+AE4+SUM(AH4:AJ4),SUM(O4:U4)+AE4+SUM(AH4:AJ4)))","v":0},{"$f":"IF($M4=\"\",0,IF($M4=\"f\",SUM(U4:W4)+AF4,SUM(V4:W4)+AF4))","v":0},{"$f":"IF($M4=\"\",0,SUM(X4:AA4)+AG4)","v":0},null,{"$f":"IF(OR(AM4=0,AM4=\"\"),\"\",AN14)","v":""},{"$f":"IF(OR(AM4=0,AM4=\"\"),\"\",AU14)","v":""},{"$f":"IF(OR(AM4=0,AM4=\"\"),\"\",IF(AW23=0,0,AW23-(AZ4+BA4)))","v":""},{"$f":"IF(SUM(AZ4:BB4)=0,\"\",SUM(AZ4:BB4))","v":""}]
["013",{"$f":"VLOOKUP(LEFT('ECAST Projection'!$B$6,5)&\"01\", 'Pivot ECAST'!A:B,2,FALSE)","v":{"$error":"#N/A"}},1,{"$f":"LEFT('ECAST Projection'!$B$6,5)&\"01\"&3","v":"013"},{"$f":"IFERROR(VLOOKUP($D5,'ECAST Enrollment'!$C:$AW,3,FALSE)*1,\"\")","v":""},{"$f":"IFERROR(VLOOKUP($D5,'ECAST Enrollment'!$C:$AW,4,FALSE),\"\")","v":""},{"$f":"IFERROR(VLOOKUP($D5,'ECAST Enrollment'!$C:$AW,6,FALSE),\"\")","v":""},{"$f":"IFERROR(VLOOKUP($D5,'ECAST Enrollment'!$C:$AW,7,FALSE),\"\")","v":""},{"$f":"IFERROR(VLOOKUP($D5,'ECAST Enrollment'!$C:$AW,8,FALSE),\"\")","v":""},{"$f":"IFERROR(VLOOKUP($D5,'ECAST Enrollment'!$C:$AW,9,FALSE),\"\")","v":""},{"$f":"IFERROR(VLOOKUP($D5,'ECAST Enrollment'!$C:$AW,10,FALSE),\"\")","v":""},{"$f":"IFERROR(VLOOKUP($D5,'ECAST Enrollment'!$C:$AW,11,FALSE),\"\")","v":""},{"$f":"IFERROR(VLOOKUP($D5,'ECAST Enrollment'!$C:$AW,12,FALSE),\"\")","v":""},{"$f":"IFERROR(VLOOKUP($D5,'ECAST Enrollment'!$C:$AW,20,FALSE),\"\")","v":""},{"$f":"IFERROR(VLOOKUP($D5,'ECAST Enrollment'!$C:$AW,23,FALSE),\"\")","v":""},{"$f":"IFERROR(VLOOKUP($D5,'ECAST Enrollment'!$C:$AW,24,FALSE),\"\")","v":""},{"$f":"IFERROR(VLOOKUP($D5,'ECAST Enrollment'!$C:$AW,25,FALSE),\"\")","v":""},{"$f":"IFERROR(VLOOKUP($D5,'ECAST Enrollment'!$C:$AW,26,FALSE),\"\")","v":""},{"$f":"IFERROR(VLOOKUP($D5,'ECAST Enrollment'!$C:$AW,27,FALSE),\"\")","v":""},{"$f":"IFERROR(VLOOKUP($D5,'ECAST Enrollment'!$C:$AW,28,FALSE),\"\")","v":""},{"$f":"IFERROR(VLOOKUP($D5,'ECAST Enrollment'!$C:$AW,29,FALSE),\"\")","v":""},{"$f":"IFERROR(VLOOKUP($D5,'ECAST Enrollment'!$C:$AW,30,FALSE),\"\")","v":""},{"$f":"IFERROR(VLOOKUP($D5,'ECAST Enrollment'!$C:$AW,31,FALSE),\"\")","v":""},{"$f":"IFERROR(VLOOKUP($D5,'ECAST Enrollment'!$C:$AW,32,FALSE),\"\")","v":""},{"$f":"IFERROR(VLOOKUP($D5,'ECAST Enrollment'!$C:$AW,33,FALSE),\"\")","v":""},{"$f":"IFERROR(VLOOKUP($D5,'ECAST Enrollment'!$C:$AW,34,FALSE),\"\")","v":""},{"$f":"IFERROR(VLOOKUP($D5,'ECAST Enrollment'!$C:$AW,35,FALSE),\"\")","v":""},{"$f":"IFERROR(VLOOKUP($D5,'ECAST Enrollment'!$C:$AW,36,FALSE),\"\")","v":""},{"$f":"IFERROR(VLOOKUP($D5,'ECAST Enrollment'!$C:$AW,37,FALSE),\"\")","v":""},{"$f":"IFERROR(VLOOKUP($D5,'ECAST Enrollment'!$C:$AW,38,FALSE),\"\")","v":""},{"$f":"IFERROR(VLOOKUP($D5,'ECAST Enrollment'!$C:$AW,39,FALSE),\"\")","v":""},{"$f":"IFERROR(VLOOKUP($D5,'ECAST Enrollment'!$C:$AW,40,FALSE),\"\")","v":""},{"$f":"IFERROR(VLOOKUP($D5,'ECAST Enrollment'!$C:$AW,41,FALSE),\"\")","v":""},{"$f":"IFERROR(VLOOKUP($D5,'ECAST Enrollment'!$C:$AW,42,FALSE),\"\")","v":""},{"$f":"IFERROR(VLOOKUP($D5,'ECAST Enrollment'!$C:$AW,43,FALSE),\"\")","v":""},{"$f":"IFERROR(VLOOKUP($D5,'ECAST Enrollment'!$C:$AW,44,FALSE),\"\")","v":""},{"$f":"IFERROR(VLOOKUP($D5,'ECAST Enrollment'!$C:$AW,45,FALSE),\"\")","v":""},{"$f":"IFERROR(VLOOKUP($D5,'ECAST Enrollment'!$C:$AW,46,FALSE),\"\")","v":""},{"$f":"IFERROR(VLOOKUP($D5,'ECAST Enrollment'!$C:$AW,47,FALSE),\"\")","v":""},0,0,0,0,0,0,0,0,0,0,0,null,"","","",""]
["014",{"$f":"VLOOKUP(LEFT('ECAST Projection'!$B$6,5)&\"01\", 'Pivot ECAST'!A:B,2,FALSE)","v":{"$error":"#N/A"}},1,{"$f":"LEFT('ECAST Projection'!$B$6,5)&\"01\"&4","v":"014"},{"$f":"IFERROR(VLOOKUP($D6,'ECAST Enrollment'!$C:$AW,3,FALSE)*1,\"\")","v":""},{"$f":"IFERROR(VLOOKUP($D6,'ECAST Enrollment'!$C:$AW,4,FALSE),\"\")","v":""},{"$f":"IFERROR(VLOOKUP($D6,'ECAST Enrollment'!$C:$AW,6,FALSE),\"\")","v":""},{"$f":"IFERROR(VLOOKUP($D6,'ECAST Enrollment'!$C:$AW,7,FALSE),\"\")","v":""},{"$f":"IFERROR(VLOOKUP($D6,'ECAST Enrollment'!$C:$AW,8,FALSE),\"\")","v":""},{"$f":"IFERROR(VLOOKUP($D6,'ECAST Enrollment'!$C:$AW,9,FALSE),\"\")","v":""},{"$f":"IFERROR(VLOOKUP($D6,'ECAST Enrollment'!$C:$AW,10,FALSE),\"\")","v":""},{"$f":"IFERROR(VLOOKUP($D6,'ECAST Enrollment'!$C:$AW,11,FALSE),\"\")","v":""},{"$f":"IFERROR(VLOOKUP($D6,'ECAST Enrollment'!$C:$AW,12,FALSE),\"\")","v":""},{"$f":"IFERROR(VLOOKUP($D6,'ECAST Enrollment'!$C:$AW,20,FALSE),\"\")","v":""},{"$f":"IFERROR(VLOOKUP($D6,'ECAST Enrollment'!$C:$AW,23,FALSE),\"\")","v":""},{"$f":"IFERROR(VLOOKUP($D6,'ECAST Enrollment'!$C:$AW,24,FALSE),\"\")","v":""},{"$f":"IFERROR(VLOOKUP($D6,'ECAST Enrollment'!$C:$AW,25,FALSE),\"\")","v":""},{"$f":"IFERROR(VLOOKUP($D6,'ECAST Enrollment'!$C:$AW,26,FALSE),\"\")","v":""},{"$f":"IFERROR(VLOOKUP($D6,'ECAST Enrollment'!$C:$AW,27,FALSE),\"\")","v":""},{"$f":"IFERROR(VLOOKUP($D6,'ECAST Enrollment'!$C:$AW,28,FALSE),\"\")","v":""},{"$f":"IFERROR(VLOOKUP($D6,'ECAST Enrollment'!$C:$AW,29,FALSE),\"\")","v":""},{"$f":"IFERROR(VLOOKUP($D6,'ECAST Enrollment'!$C:$AW,30,FALSE),\"\")","v":""},{"$f":"IFERROR(VLOOKUP($D6,'ECAST Enrollment'!$C:$AW,31,FALSE),\"\")","v":""},{"$f":"IFERROR(VLOOKUP($D6,'ECAST Enrollment'!$C:$AW,32,FALSE),\"\")","v":""},{"$f":"IFERROR(VLOOKUP($D6,'ECAST Enrollment'!$C:$AW,33,FALSE),\"\")","v":""},{"$f":"IFERROR(VLOOKUP($D6,'ECAST Enrollment'!$C:$AW,34,FALSE),\"\")","v":""},{"$f":"IFERROR(VLOOKUP($D6,'ECAST Enrollment'!$C:$AW,35,FALSE),\"\")","v":""},{"$f":"IFERROR(VLOOKUP($D6,'ECAST Enrollment'!$C:$AW,36,FALSE),\"\")","v":""},{"$f":"IFERROR(VLOOKUP($D6,'ECAST Enrollment'!$C:$AW,37,FALSE),\"\")","v":""},{"$f":"IFERROR(VLOOKUP($D6,'ECAST Enrollment'!$C:$AW,38,FALSE),\"\")","v":""},{"$f":"IFERROR(VLOOKUP($D6,'ECAST Enrollment'!$C:$AW,39,FALSE),\"\")","v":""},{"$f":"IFERROR(VLOOKUP($D6,'ECAST Enrollment'!$C:$AW,40,FALSE),\"\")","v":""},{"$f":"IFERROR(VLOOKUP($D6,'ECAST Enrollment'!$C:$AW,41,FALSE),\"\")","v":""},{"$f":"IFERROR(VLOOKUP($D6,'ECAST Enrollment'!$C:$AW,42,FALSE),\"\")","v":""},{"$f":"IFERROR(VLOOKUP($D6,'ECAST Enrollment'!$C:$AW,43,FALSE),\"\")","v":""},{"$f":"IFERROR(VLOOKUP($D6,'ECAST Enrollment'!$C:$AW,44,FALSE),\"\")","v":""},{"$f":"IFERROR(VLOOKUP($D6,'ECAST Enrollment'!$C:$AW,45,FALSE),\"\")","v":""},{"$f":"IFERROR(VLOOKUP($D6,'ECAST Enrollment'!$C:$AW,46,FALSE),\"\")","v":""},{"$f":"IFERROR(VLOOKUP($D6,'ECAST Enrollment'!$C:$AW,47,FALSE),\"\")","v":""},0,0,0,0,0,{"$f":"SUM(O6:AA6)+SUM(AE6:AH6)+SUM(AJ6)","v":0},0,0,0,0,0,null,"","","",""]
["015",{"$f":"VLOOKUP(LEFT('ECAST Projection'!$B$6,5)&\"01\", 'Pivot ECAST'!A:B,2,FALSE)","v":{"$error":"#N/A"}},1,{"$f":"LEFT('ECAST Projection'!$B$6,5)&\"01\"&5","v":"015"},{"$f":"IFERROR(VLOOKUP($D7,'ECAST Enrollment'!$C:$AW,3,FALSE)*1,\"\")","v":""},{"$f":"IFERROR(VLOOKUP($D7,'ECAST Enrollment'!$C:$AW,4,FALSE),\"\")","v":""},{"$f":"IFERROR(VLOOKUP($D7,'ECAST Enrollment'!$C:$AW,6,FALSE),\"\")","v":""},{"$f":"IFERROR(VLOOKUP($D7,'ECAST Enrollment'!$C:$AW,7,FALSE),\"\")","v":""},{"$f":"IFERROR(VLOOKUP($D7,'ECAST Enrollment'!$C:$AW,8,FALSE),\"\")","v":""},{"$f":"IFERROR(VLOOKUP($D7,'ECAST Enrollment'!$C:$AW,9,FALSE),\"\")","v":""},{"$f":"IFERROR(VLOOKUP($D7,'ECAST Enrollment'!$C:$AW,10,FALSE),\"\")","v":""},{"$f":"IFERROR(VLOOKUP($D7,'ECAST Enrollment'!$C:$AW,11,FALSE),\"\")","v":""},{"$f":"IFERROR(VLOOKUP($D7,'ECAST Enrollment'!$C:$AW,12,FALSE),\"\")","v":""},{"$f":"IFERROR(VLOOKUP($D7,'ECAST Enrollment'!$C:$AW,20,FALSE),\"\")","v":""},{"$f":"IFERROR(VLOOKUP($D7,'ECAST Enrollment'!$C:$AW,23,FALSE),\"\")","v":""},{"$f":"IFERROR(VLOOKUP($D7,'ECAST Enrollment'!$C:$AW,24,FALSE),\"\")","v":""},{"$f":"IFERROR(VLOOKUP($D7,'ECAST Enrollment'!$C:$AW,25,FALSE),\"\")","v":""},{"$f":"IFERROR(VLOOKUP($D7,'ECAST Enrollment'!$C:$AW,26,FALSE),\"\")","v":""},{"$f":"IFERROR(VLOOKUP($D7,'ECAST Enrollment'!$C:$AW,27,FALSE),\"\")","v":""},{"$f":"IFERROR(VLOOKUP($D7,'ECAST Enrollment'!$C:$AW,28,FALSE),\"\")","v":""},{"$f":"IFERROR(VLOOKUP($D7,'ECAST Enrollment'!$C:$AW,29,FALSE),\"\")","v":""},{"$f":"IFERROR(VLOOKUP($D7,'ECAST Enrollment'!$C:$AW,30,FALSE),\"\")","v":""},{"$f":"IFERROR(VLOOKUP($D7,'ECAST Enrollment'!$C:$AW,31,FALSE),\"\")","v":""},{"$f":"IFERROR(VLOOKUP($D7,'ECAST Enrollment'!$C:$AW,32,FALSE),\"\")","v":""},{"$f":"IFERROR(VLOOKUP($D7,'ECAST Enrollment'!$C:$AW,33,FALSE),\"\")","v":""},{"$f":"IFERROR(VLOOKUP($D7,'ECAST Enrollment'!$C:$AW,34,FALSE),\"\")","v":""},{"$f":"IFERROR(VLOOKUP($D7,'ECAST Enrollment'!$C:$AW,35,FALSE),\"\")","v":""},{"$f":"IFERROR(VLOOKUP($D7,'ECAST Enrollment'!$C:$AW,36,FALSE),\"\")","v":""},{"$f":"IFERROR(VLOOKUP($D7,'ECAST Enrollment'!$C:$AW,37,FALSE),\"\")","v":""},{"$f":"IFERROR(VLOOKUP($D7,'ECAST Enrollment'!$C:$AW,38,FALSE),\"\")","v":""},{"$f":"IFERROR(VLOOKUP($D7,'ECAST Enrollment'!$C:$AW,39,FALSE),\"\")","v":""},{"$f":"IFERROR(VLOOKUP($D7,'ECAST Enrollment'!$C:$AW,40,FALSE),\"\")","v":""},{"$f":"IFERROR(VLOOKUP($D7,'ECAST Enrollment'!$C:$AW,41,FALSE),\"\")","v":""},{"$f":"IFERROR(VLOOKUP($D7,'ECAST Enrollment'!$C:$AW,42,FALSE),\"\")","v":""},{"$f":"IFERROR(VLOOKUP($D7,'ECAST Enrollment'!$C:$AW,43,FALSE),\"\")","v":""},{"$f":"IFERROR(VLOOKUP($D7,'ECAST Enrollment'!$C:$AW,44,FALSE),\"\")","v":""},{"$f":"IFERROR(VLOOKUP($D7,'ECAST Enrollment'!$C:$AW,45,FALSE),\"\")","v":""},{"$f":"IFERROR(VLOOKUP($D7,'ECAST Enrollment'!$C:$AW,46,FALSE),\"\")","v":""},{"$f":"IFERROR(VLOOKUP($D7,'ECAST Enrollment'!$C:$AW,47,FALSE),\"\")","v":""},0,0,0,0,0,{"$f":"SUM(O7:AA7)+SUM(AE7:AH7)+SUM(AJ7)","v":0},0,0,0,0,0,null,"","","",""]
[null,null,null,null,null,null,null,null,null,null,null,null,null,null,{"$f":"SUM(O3:O7)","v":0},{"$f":"SUM(P3:P7)","v":0},0,0,0,0,0,0,0,0,0,0,0,0,0,0,0,0,0,0,0,0,0,0,0,0,0,0,0,0,0,0,0,0,0,0]
[]
[]
[null,null,null,null,null,null,null,null,null,null,"TEACHER NORMING",null,null,null,null,null,null,null,null,null,null,"TIIG-District",null,"State-TIIG"]
[null,null,null,null,null,null,null,null,null,"Index","School","Norm Category","Affiliated","Schedule","K-3","4-5 (6)","6-8","9-10","9-12","K-3 Dist","K-3 TIIG","K-3 Net TIIG","K-3 State","K-3 Net CSR","24 to 1   K-3 Tot","4-5 Dist","4-5 TIIG","4-5 Net TIIG","4-5 Tot","6-8 Dist","6-8 TIIG","6-8 Net TIIG","6-8 Tot","9-12 Dist","9-12 Mag TIIG","9-12 Net Mag TIIG","9-12 Subtotal","9-10 TIIG CSR","9-12 Total","Total District Funded",".","K-3 TIIG - Affiliated Charters","4-6 TIIG - Affiliated Charters","6-8 TIIG - Affiliated Charters","9-12 TIIG - Affiliated Charters","9-10 TIIG - Affiliated Charters","Total Charter Block Funded",".","Total Teachers"]
[null,null,null,null,null,null,null,null,null,{"$f":"CONCATENATE(K13,N13)","v":"0116"},{"$f":"$D3","v":"011"},{"$f":"$I3","v":""},{"$f":"$K3","v":""},6,{"$f":"$AN3","v":0},{"$f":"$AO3","v":0},{"$f":"$AP3","v":0},{"$f":"$AQ3","v":0},{"$f":"$AR3","v":0},{"$f":"IF($O13=0,0,VLOOKUP($O13,'6 Periods'!A:C,3,TRUE))","v":0},{"$f":"IF($O13=0,0,IF($L13=\"PHBAO\",VLOOKUP($O13,'6 Periods'!I:K,3,TRUE),IF($L13=\"Desegregated/Receiver\",VLOOKUP($O13,'6 Periods'!A:C,3,TRUE),IF($L13=\"Magnet 2\",VLOOKUP($O13,'6 Periods'!M:O,3,TRUE),IF($L13=\"Magnet 1\",VLOOKUP($O13,'6 Periods'!Q:S,3,TRUE))))))","v":0},{"$f":"IF(AND($M13=\"t\",OR($L13=\"PHBAO\",$L13=\"Desegregated/Receiver\")),0,U13-T13)","v":0},{"$f":"IF($O13=0,0,VLOOKUP($O13,'6 Periods'!E:G,3,TRUE))","v":0},{"$f":"W13-U13","v":0},{"$f":"T13+V13+X13","v":0},{"$f":"IF($E3=1884201,VLOOKUP($P13,'6 Periods'!$AO:$AQ,3,TRUE),IF($P13=0,0,IF(L13=\"Magnet 1\",VLOOKUP($P13,'6 Periods'!U:W,3,TRUE),VLOOKUP($P13,'6 Periods'!CC:CE,3,TRUE))))","v":0},{"$f":"IF($E3=1884201,VLOOKUP($P13,'6 Periods'!$BE:$BG,3,TRUE),IF($P13=0,0,IF($L13=\"PHBAO\",VLOOKUP($P13,'6 Periods'!Y:AA,3,TRUE),IF($L13=\"Desegregated/Receiver\",VLOOKUP($P13,'6 Periods'!AC:AE,3,TRUE),IF($L13=\"Magnet 2\",VLOOKUP($P13,'6 Periods'!AG:AI,3,TRUE),IF($L13=\"Magnet 1\",VLOOKUP($P13,'6 Periods'!AK:AM,3,TRUE)))))))","v":0},{"$f":"IF(AND($M13=\"t\",OR($L13=\"PHBAO\",$L13=\"Desegregated/Receiver\")),0,AA13-Z13)","v":0},{"$f":"Z13+AB13","v":0},{"$f":"IF($Q13=0,0,IF(OR(L13=\"Magnet 1\",L13=\"Magnet 2\"),VLOOKUP($Q13,'6 Periods'!CG:CI,3,TRUE),VLOOKUP($Q13,'6 Periods'!AO:AQ,3,TRUE)))","v":0},{"$f":"IF($Q13=0,0,IF($L13=\"PHBAO\",VLOOKUP($Q13,'6 Periods'!AS:AU,3,TRUE),IF($L13=\"Desegregated/Receiver\",VLOOKUP($Q13,'6 Periods'!AW:AY,3,TRUE),IF($L13=\"Magnet 2\",VLOOKUP($Q13,'6 Periods'!BA:BC,3,TRUE),IF($L13=\"Magnet 1\",VLOOKUP($Q13,'6 Periods'!BE:BG,3,TRUE))))))","v":0},{"$f":"IF(AND($M13=\"t\",OR($L13=\"PHBAO\",$L13=\"Desegregated/Receiver\")),0,AE13-AD13)","v":0},{"$f":"AD13+AF13","v":0},{"$f":"IF($S13=0,0,VLOOKUP($S13,'6 Periods'!BI:BK,3,TRUE))","v":0},{"$f":"IF(OR($S13=0,$L13=\"PHBAO\",$L13=\"Desegregated/Receiver\"),0,IF($L13=\"Magnet 2\",VLOOKUP($S13,'6 Periods'!BU:BW,3,TRUE),IF($L13=\"Magnet 1\",VLOOKUP($S13,'6 Periods'!BY:CA,3,TRUE))))","v":0},{"$f":"IF(OR($L13=\"Magnet 1\", $L13=\"Magnet 2\"), AI13-AH13,0)","v":0},{"$f":"AH13+AJ13","v":0},{"$f":"IF(OR($R13=0,$L13=\"Magnet 2\", $L13=\"Magnet 1\"),0,IF(AND($M13=\"t\",OR($L13=\"PHBAO\",$L13=\"Desegregated/Receiver\")),0,IF($L13=\"PHBAO\",VLOOKUP($R13,'6 Periods'!BM:BO,3,TRUE),IF($L13=\"Desegregated/Receiver\",VLOOKUP($R13,'6 Periods'!BQ:BS,3,TRUE)))))","v":0},{"$f":"AH13+AJ13+AL13","v":0},{"$f":"Y13+AC13+AG13+AM13","v":0},null,{"$f":"IF(OR($M13=\"f\",$L13=\"Magnet 1\", $L13=\"Magnet 2\"), 0, U13-T13)","v":0},{"$f":"IF(OR($M13=\"f\",$L13=\"Magnet 1\",$L13=\"Magnet 2\"),0,AA13-Z13)","v":0},{"$f":"IF(OR($M13=\"f\",$L13=\"Magnet 1\",$L13=\"Magnet 2\"),0,AE13-AD13)","v":0},{"$f":"0","v":0},{"$f":"IF(OR($R13=0,$L13=\"Magnet 2\",$L13=\"Magnet 1\",$M13=\"f\"),0,IF($L13=\"PHBAO\",VLOOKUP($R13,'6 Periods'!BM:BO,3,TRUE),IF($L13=\"Desegregated/Receiver\",VLOOKUP($R13,'6 Periods'!BQ:BS,3,TRUE))))","v":0},{"$f":"SUM(AP13:AT13)","v":0},null,{"$f":"AN13+AU13","v":0}]
[null,null,null,null,null,null,null,null,null,{"$f":"CONCATENATE(K14,N14)","v":"0126"},{"$f":"$D4","v":"012"},{"$f":"$I4","v":""},{"$f":"$K4","v":""},6,{"$f":"$AN4","v":0},{"$f":"$AO4","v":0},{"$f":"$AP4","v":0},{"$f":"$AQ4","v":0},{"$f":"$AR4","v":0},{"$f":"IF($O14=0,0,VLOOKUP($O14,'6 Periods'!A:C,3,TRUE))","v":0},{"$f":"IF($O14=0,0,IF($L14=\"PHBAO\",VLOOKUP($O14,'6 Periods'!I:K,3,TRUE),IF($L14=\"Desegregated/Receiver\",VLOOKUP($O14,'6 Periods'!A:C,3,TRUE),IF($L14=\"Magnet 2\",VLOOKUP($O14,'6 Periods'!M:O,3,TRUE),IF($L14=\"Magnet 1\",VLOOKUP($O14,'6 Periods'!Q:S,3,TRUE))))))","v":0},{"$f":"IF(AND($M14=\"t\",OR($L14=\"PHBAO\",$L14=\"Desegregated/Receiver\")),0,U14-T14)","v":0},{"$f":"IF($O14=0,0,VLOOKUP($O14,'6 Periods'!E:G,3,TRUE))","v":0},{"$f":"W14-U14","v":0},{"$f":"T14+V14+X14","v":0},{"$f":"IF($E4=1884201,VLOOKUP($P14,'6 Periods'!$AO:$AQ,3,TRUE),IF($P14=0,0,IF(L14=\"Magnet 1\",VLOOKUP($P14,'6 Periods'!U:W,3,TRUE),VLOOKUP($P14,'6 Periods'!CC:CE,3,TRUE))))","v":0},{"$f":"IF($E4=1884201,VLOOKUP($P14,'6 Periods'!$BE:$BG,3,TRUE),IF($P14=0,0,IF($L14=\"PHBAO\",VLOOKUP($P14,'6 Periods'!Y:AA,3,TRUE),IF($L14=\"Desegregated/Receiver\",VLOOKUP($P14,'6 Periods'!AC:AE,3,TRUE),IF($L14=\"Magnet 2\",VLOOKUP($P14,'6 Periods'!AG:AI,3,TRUE),IF($L14=\"Magnet 1\",VLOOKUP($P14,'6 Periods'!AK:AM,3,TRUE)))))))","v":0},{"$f":"IF(AND($M14=\"t\",OR($L14=\"PHBAO\",$L14=\"Desegregated/Receiver\")),0,AA14-Z14)","v":0},{"$f":"Z14+AB14","v":0},{"$f":"IF($Q14=0,0,IF(OR(L14=\"Magnet 1\",L14=\"Magnet 2\"),VLOOKUP($Q14,'6 Periods'!CG:CI,3,TRUE),VLOOKUP($Q14,'6 Periods'!AO:AQ,3,TRUE)))","v":0},{"$f":"IF($Q14=0,0,IF($L14=\"PHBAO\",VLOOKUP($Q14,'6 Periods'!AS:AU,3,TRUE),IF($L14=\"Desegregated/Receiver\",VLOOKUP($Q14,'6 Periods'!AW:AY,3,TRUE),IF($L14=\"Magnet 2\",VLOOKUP($Q14,'6 Periods'!BA:BC,3,TRUE),IF($L14=\"Magnet 1\",VLOOKUP($Q14,'6 Periods'!BE:BG,3,TRUE))))))","v":0},{"$f":"IF(AND($M14=\"t\",OR($L14=\"PHBAO\",$L14=\"Desegregated/Receiver\")),0,AE14-AD14)","v":0},{"$f":"AD14+AF14","v":0},{"$f":"IF($S14=0,0,VLOOKUP($S14,'6 Periods'!BI:BK,3,TRUE))","v":0},{"$f":"IF(OR($S14=0,$L14=\"PHBAO\",$L14=\"Desegregated/Receiver\"),0,IF($L14=\"Magnet 2\",VLOOKUP($S14,'6 Periods'!BU:BW,3,TRUE),IF($L14=\"Magnet 1\",VLOOKUP($S14,'6 Periods'!BY:CA,3,TRUE))))","v":0},{"$f":"IF(OR($L14=\"Magnet 1\", $L14=\"Magnet 2\"), AI14-AH14,0)","v":0},{"$f":"AH14+AJ14","v":0},{"$f":"IF(OR($R14=0,$L14=\"Magnet 2\", $L14=\"Magnet 1\"),0,IF(AND($M14=\"t\",OR($L14=\"PHBAO\",$L14=\"Desegregated/Receiver\")),0,IF($L14=\"PHBAO\",VLOOKUP($R14,'6 Periods'!BM:BO,3,TRUE),IF($L14=\"Desegregated/Receiver\",VLOOKUP($R14,'6 Periods'!BQ:BS,3,TRUE)))))","v":0},{"$f":"AH14+AJ14+AL14","v":0},{"$f":"Y14+AC14+AG14+AM14","v":0},null,{"$f":"IF(OR($M14=\"f\",$L14=\"Magnet 1\", $L14=\"Magnet 2\"), 0, U14-T14)","v":0},{"$f":"IF(OR($M14=\"f\",$L14=\"Magnet 1\",$L14=\"Magnet 2\"),0,AA14-Z14)","v":0},{"$f":"IF(OR($M14=\"f\",$L14=\"Magnet 1\",$L14=\"Magnet 2\"),0,AE14-AD14)","v":0},{"$f":"0","v":0},{"$f":"IF(OR($R14=0,$L14=\"Magnet 2\",$L14=\"Magnet 1\",$M14=\"f\"),0,IF($L14=\"PHBAO\",VLOOKUP($R14,'6 Periods'!BM:BO,3,TRUE),IF($L14=\"Desegregated/Receiver\",VLOOKUP($R14,'6 Periods'!BQ:BS,3,TRUE))))","v":0},{"$f":"SUM(AP14:AT14)","v":0},null,{"$f":"AN14+AU14","v":0}]
[null,null,null,null,null,null,null,null,null,"0136","013","","",6,0,0,0,0,0,{"$f":"IF($O15=0,0,VLOOKUP($O15,'6 Periods'!A:C,3,TRUE))","v":0},{"$f":"IF($O15=0,0,IF($L15=\"PHBAO\",VLOOKUP($O15,'6 Periods'!I:K,3,TRUE),IF($L15=\"Desegregated/Receiver\",VLOOKUP($O15,'6 Periods'!A:C,3,TRUE),IF($L15=\"Magnet 2\",VLOOKUP($O15,'6 Periods'!M:O,3,TRUE),IF($L15=\"Magnet 1\",VLOOKUP($O15,'6 Periods'!Q:S,3,TRUE))))))","v":0},{"$f":"IF(AND($M15=\"t\",OR($L15=\"PHBAO\",$L15=\"Desegregated/Receiver\")),0,U15-T15)","v":0},{"$f":"IF($O15=0,0,VLOOKUP($O15,'6 Periods'!E:G,3,TRUE))","v":0},{"$f":"W15-U15","v":0},{"$f":"T15+V15+X15","v":0},{"$f":"IF($E5=1884201,VLOOKUP($P15,'6 Periods'!$AO:$AQ,3,TRUE),IF($P15=0,0,IF(L15=\"Magnet 1\",VLOOKUP($P15,'6 Periods'!U:W,3,TRUE),VLOOKUP($P15,'6 Periods'!CC:CE,3,TRUE))))","v":0},{"$f":"IF($E5=1884201,VLOOKUP($P15,'6 Periods'!$BE:$BG,3,TRUE),IF($P15=0,0,IF($L15=\"PHBAO\",VLOOKUP($P15,'6 Periods'!Y:AA,3,TRUE),IF($L15=\"Desegregated/Receiver\",VLOOKUP($P15,'6 Periods'!AC:AE,3,TRUE),IF($L15=\"Magnet 2\",VLOOKUP($P15,'6 Periods'!AG:AI,3,TRUE),IF($L15=\"Magnet 1\",VLOOKUP($P15,'6 Periods'!AK:AM,3,TRUE)))))))","v":0},0,0,{"$f":"IF($Q15=0,0,IF(OR(L15=\"Magnet 1\",L15=\"Magnet 2\"),VLOOKUP($Q15,'6 Periods'!CG:CI,3,TRUE),VLOOKUP($Q15,'6 Periods'!AO:AQ,3,TRUE)))","v":0},{"$f":"IF($Q15=0,0,IF($L15=\"PHBAO\",VLOOKUP($Q15,'6 Periods'!AS:AU,3,TRUE),IF($L15=\"Desegregated/Receiver\",VLOOKUP($Q15,'6 Periods'!AW:AY,3,TRUE),IF($L15=\"Magnet 2\",VLOOKUP($Q15,'6 Periods'!BA:BC,3,TRUE),IF($L15=\"Magnet 1\",VLOOKUP($Q15,'6 Periods'!BE:BG,3,TRUE))))))","v":0},0,0,{"$f":"IF($S15=0,0,VLOOKUP($S15,'6 Periods'!BI:BK,3,TRUE))","v":0},{"$f":"IF(OR($S15=0,$L15=\"PHBAO\",$L15=\"Desegregated/Receiver\"),0,IF($L15=\"Magnet 2\",VLOOKUP($S15,'6 Periods'!BU:BW,3,TRUE),IF($L15=\"Magnet 1\",VLOOKUP($S15,'6 Periods'!BY:CA,3,TRUE))))","v":0},0,0,{"$f":"IF(OR($R15=0,$L15=\"Magnet 2\", $L15=\"Magnet 1\"),0,IF(AND($M15=\"t\",OR($L15=\"PHBAO\",$L15=\"Desegregated/Receiver\")),0,IF($L15=\"PHBAO\",VLOOKUP($R15,'6 Periods'!BM:BO,3,TRUE),IF($L15=\"Desegregated/Receiver\",VLOOKUP($R15,'6 Periods'!BQ:BS,3,TRUE)))))","v":0},0,0,null,{"$f":"IF(OR($M15=\"f\",$L15=\"Magnet 1\", $L15=\"Magnet 2\"), 0, U15-T15)","v":0},{"$f":"IF(OR($M15=\"f\",$L15=\"Magnet 1\",$L15=\"Magnet 2\"),0,AA15-Z15)","v":0},{"$f":"IF(OR($M15=\"f\",$L15=\"Magnet 1\",$L15=\"Magnet 2\"),0,AE15-AD15)","v":0},{"$f":"0","v":0},{"$f":"IF(OR($R15=0,$L15=\"Magnet 2\",$L15=\"Magnet 1\",$M15=\"f\"),0,IF($L15=\"PHBAO\",VLOOKUP($R15,'6 Periods'!BM:BO,3,TRUE),IF($L15=\"Desegregated/Receiver\",VLOOKUP($R15,'6 Periods'!BQ:BS,3,TRUE))))","v":0},{"$f":"SUM(AP15:AT15)","v":0},null,{"$f":"AN15+AU15","v":0}]
[null,null,null,null,null,null,null,null,null,"0146","014","","",6,0,0,0,0,0,{"$f":"IF($O16=0,0,VLOOKUP($O16,'6 Periods'!A:C,3,TRUE))","v":0},{"$f":"IF($O16=0,0,IF($L16=\"PHBAO\",VLOOKUP($O16,'6 Periods'!I:K,3,TRUE),IF($L16=\"Desegregated/Receiver\",VLOOKUP($O16,'6 Periods'!A:C,3,TRUE),IF($L16=\"Magnet 2\",VLOOKUP($O16,'6 Periods'!M:O,3,TRUE),IF($L16=\"Magnet 1\",VLOOKUP($O16,'6 Periods'!Q:S,3,TRUE))))))","v":0},{"$f":"IF(AND($M16=\"t\",OR($L16=\"PHBAO\",$L16=\"Desegregated/Receiver\")),0,U16-T16)","v":0},{"$f":"IF($O16=0,0,VLOOKUP($O16,'6 Periods'!E:G,3,TRUE))","v":0},{"$f":"W16-U16","v":0},{"$f":"T16+V16+X16","v":0},{"$f":"IF($E6=1884201,VLOOKUP($P16,'6 Periods'!$AO:$AQ,3,TRUE),IF($P16=0,0,IF(L16=\"Magnet 1\",VLOOKUP($P16,'6 Periods'!U:W,3,TRUE),VLOOKUP($P16,'6 Periods'!CC:CE,3,TRUE))))","v":0},{"$f":"IF($E6=1884201,VLOOKUP($P16,'6 Periods'!$BE:$BG,3,TRUE),IF($P16=0,0,IF($L16=\"PHBAO\",VLOOKUP($P16,'6 Periods'!Y:AA,3,TRUE),IF($L16=\"Desegregated/Receiver\",VLOOKUP($P16,'6 Periods'!AC:AE,3,TRUE),IF($L16=\"Magnet 2\",VLOOKUP($P16,'6 Periods'!AG:AI,3,TRUE),IF($L16=\"Magnet 1\",VLOOKUP($P16,'6 Periods'!AK:AM,3,TRUE)))))))","v":0},0,0,{"$f":"IF($Q16=0,0,IF(OR(L16=\"Magnet 1\",L16=\"Magnet 2\"),VLOOKUP($Q16,'6 Periods'!CG:CI,3,TRUE),VLOOKUP($Q16,'6 Periods'!AO:AQ,3,TRUE)))","v":0},{"$f":"IF($Q16=0,0,IF($L16=\"PHBAO\",VLOOKUP($Q16,'6 Periods'!AS:AU,3,TRUE),IF($L16=\"Desegregated/Receiver\",VLOOKUP($Q16,'6 Periods'!AW:AY,3,TRUE),IF($L16=\"Magnet 2\",VLOOKUP($Q16,'6 Periods'!BA:BC,3,TRUE),IF($L16=\"Magnet 1\",VLOOKUP($Q16,'6 Periods'!BE:BG,3,TRUE))))))","v":0},0,0,{"$f":"IF($S16=0,0,VLOOKUP($S16,'6 Periods'!BI:BK,3,TRUE))","v":0},{"$f":"IF(OR($S16=0,$L16=\"PHBAO\",$L16=\"Desegregated/Receiver\"),0,IF($L16=\"Magnet 2\",VLOOKUP($S16,'6 Periods'!BU:BW,3,TRUE),IF($L16=\"Magnet 1\",VLOOKUP($S16,'6 Periods'!BY:CA,3,TRUE))))","v":0},0,0,{"$f":"IF(OR($R16=0,$L16=\"Magnet 2\", $L16=\"Magnet 1\"),0,IF(AND($M16=\"t\",OR($L16=\"PHBAO\",$L16=\"Desegregated/Receiver\")),0,IF($L16=\"PHBAO\",VLOOKUP($R16,'6 Periods'!BM:BO,3,TRUE),IF($L16=\"Desegregated/Receiver\",VLOOKUP($R16,'6 Periods'!BQ:BS,3,TRUE)))))","v":0},0,0,null,{"$f":"IF(OR($M16=\"f\",$L16=\"Magnet 1\", $L16=\"Magnet 2\"), 0, U16-T16)","v":0},{"$f":"IF(OR($M16=\"f\",$L16=\"Magnet 1\",$L16=\"Magnet 2\"),0,AA16-Z16)","v":0},{"$f":"IF(OR($M16=\"f\",$L16=\"Magnet 1\",$L16=\"Magnet 2\"),0,AE16-AD16)","v":0},{"$f":"0","v":0},{"$f":"IF(OR($R16=0,$L16=\"Magnet 2\",$L16=\"Magnet 1\",$M16=\"f\"),0,IF($L16=\"PHBAO\",VLOOKUP($R16,'6 Periods'!BM:BO,3,TRUE),IF($L16=\"Desegregated/Receiver\",VLOOKUP($R16,'6 Periods'!BQ:BS,3,TRUE))))","v":0},{"$f":"SUM(AP16:AT16)","v":0},null,{"$f":"AN16+AU16","v":0}]
[null,null,null,null,null,null,null,null,null,{"$f":"CONCATENATE(K17,N17)","v":"0156"},"015","","",6,0,0,0,0,0,{"$f":"IF($O17=0,0,VLOOKUP($O17,'6 Periods'!A:C,3,TRUE))","v":0},{"$f":"IF($O17=0,0,IF($L17=\"PHBAO\",VLOOKUP($O17,'6 Periods'!I:K,3,TRUE),IF($L17=\"Desegregated/Receiver\",VLOOKUP($O17,'6 Periods'!A:C,3,TRUE),IF($L17=\"Magnet 2\",VLOOKUP($O17,'6 Periods'!M:O,3,TRUE),IF($L17=\"Magnet 1\",VLOOKUP($O17,'6 Periods'!Q:S,3,TRUE))))))","v":0},{"$f":"IF(AND($M17=\"t\",OR($L17=\"PHBAO\",$L17=\"Desegregated/Receiver\")),0,U17-T17)","v":0},{"$f":"IF($O17=0,0,VLOOKUP($O17,'6 Periods'!E:G,3,TRUE))","v":0},{"$f":"W17-U17","v":0},{"$f":"T17+V17+X17","v":0},{"$f":"IF($E7=1884201,VLOOKUP($P17,'6 Periods'!$AO:$AQ,3,TRUE),IF($P17=0,0,IF(L17=\"Magnet 1\",VLOOKUP($P17,'6 Periods'!U:W,3,TRUE),VLOOKUP($P17,'6 Periods'!CC:CE,3,TRUE))))","v":0},{"$f":"IF($E7=1884201,VLOOKUP($P17,'6 Periods'!$BE:$BG,3,TRUE),IF($P17=0,0,IF($L17=\"PHBAO\",VLOOKUP($P17,'6 Periods'!Y:AA,3,TRUE),IF($L17=\"Desegregated/Receiver\",VLOOKUP($P17,'6 Periods'!AC:AE,3,TRUE),IF($L17=\"Magnet 2\",VLOOKUP($P17,'6 Periods'!AG:AI,3,TRUE),IF($L17=\"Magnet 1\",VLOOKUP($P17,'6 Periods'!AK:AM,3,TRUE)))))))","v":0},0,0,{"$f":"IF($Q17=0,0,IF(OR(L17=\"Magnet 1\",L17=\"Magnet 2\"),VLOOKUP($Q17,'6 Periods'!CG:CI,3,TRUE),VLOOKUP($Q17,'6 Periods'!AO:AQ,3,TRUE)))","v":0},{"$f":"IF($Q17=0,0,IF($L17=\"PHBAO\",VLOOKUP($Q17,'6 Periods'!AS:AU,3,TRUE),IF($L17=\"Desegregated/Receiver\",VLOOKUP($Q17,'6 Periods'!AW:AY,3,TRUE),IF($L17=\"Magnet 2\",VLOOKUP($Q17,'6 Periods'!BA:BC,3,TRUE),IF($L17=\"Magnet 1\",VLOOKUP($Q17,'6 Periods'!BE:BG,3,TRUE))))))","v":0},0,0,{"$f":"IF($S17=0,0,VLOOKUP($S17,'6 Periods'!BI:BK,3,TRUE))","v":0},{"$f":"IF(OR($S17=0,$L17=\"PHBAO\",$L17=\"Desegregated/Receiver\"),0,IF($L17=\"Magnet 2\",VLOOKUP($S17,'6 Periods'!BU:BW,3,TRUE),IF($L17=\"Magnet 1\",VLOOKUP($S17,'6 Periods'!BY:CA,3,TRUE))))","v":0},0,0,{"$f":"IF(OR($R17=0,$L17=\"Magnet 2\", $L17=\"Magnet 1\"),0,IF(AND($M17=\"t\",OR($L17=\"PHBAO\",$L17=\"Desegregated/Receiver\")),0,IF($L17=\"PHBAO\",VLOOKUP($R17,'6 Periods'!BM:BO,3,TRUE),IF($L17=\"Desegregated/Receiver\",VLOOKUP($R17,'6 Periods'!BQ:BS,3,TRUE)))))","v":0},0,0,null,{"$f":"IF(OR($M17=\"f\",$L17=\"Magnet 1\", $L17=\"Magnet 2\"), 0, U17-T17)","v":0},{"$f":"IF(OR($M17=\"f\",$L17=\"Magnet 1\",$L17=\"Magnet 2\"),0,AA17-Z17)","v":0},{"$f":"IF(OR($M17=\"f\",$L17=\"Magnet 1\",$L17=\"Magnet 2\"),0,AE17-AD17)","v":0},{"$f":"0","v":0},{"$f":"IF(OR($R17=0,$L17=\"Magnet 2\",$L17=\"Magnet 1\",$M17=\"f\"),0,IF($L17=\"PHBAO\",VLOOKUP($R17,'6 Periods'!BM:BO,3,TRUE),IF($L17=\"Desegregated/Receiver\",VLOOKUP($R17,'6 Periods'!BQ:BS,3,TRUE))))","v":0},{"$f":"SUM(AP17:AT17)","v":0},null,{"$f":"AN17+AU17","v":0}]
[]
[null,null,null,null,null,null,null,null,null,null,null,null,null,"Total",{"$f":"SUM(O13:O17)","v":0},0,0,0,0,0,0,0,0,0,0,0,0,0,0,0,0,0,0,0,0,0,0,0,0,0,0,0,0,0,0,0,0,0,0]
[]
[null,null,null,null,null,null,null,null,null,"Index","School","Norm Category","Affiliated","Schedule","K-3","4-5 (6)","6-8","9-10","9-12","K-3 Dist","K-3 TIIG","K-3 Net TIIG","K-3 State","K-3 Net CSR","24 to 1   K-3 Tot","4-5 Dist","4-5 TIIG","4-5 Net TIIG","4-5 Tot","6-8 Dist","6-8 TIIG","6-8 Net TIIG","6-8 Tot","9-12 Dist","9-12 Mag TIIG","9-12 Net Mag TIIG","9-12 Subtotal","9-10 TIIG CSR","9-12 Total","Total District Funded",".","K-3 TIIG - Affiliated Charters","4-6 TIIG - Affiliated Charters","6-8 TIIG - Affiliated Charters","9-12 TIIG - Affiliated Charters","9-10 TIIG - Affiliated Charters","Total Charter Block Funded",".","Total Teachers"]
[null,null,null,null,null,null,null,null,null,{"$f":"CONCATENATE(K22,N22)","v":"011"},{"$f":"K13","v":"011"},{"$f":"L13","v":""},{"$f":"M13","v":""},{"$f":"N3","v":""},{"$f":"O13","v":0},0,0,0,0,{"$f":"IF(OR($O22=0,N22=0),0,VLOOKUP($O22,INDIRECT(\"'\"&N22&\"'!\"&\"A:C\"),3,TRUE))","v":0},{"$f":"IF(OR($O22=0, N22=0),0,IF($L22=\"PHBAO\",VLOOKUP($O22,INDIRECT(\"'\"&N22&\"'!\"&\"I:K\"),3,TRUE),IF($L22=\"Desegregated/Receiver\",VLOOKUP($O22,INDIRECT(\"'\"&N22&\"'!\"&\"A:C\"),3,TRUE),IF($L22=\"Magnet 2\",VLOOKUP($O22,INDIRECT(\"'\"&N22&\"'!\"&\"M:O\"),3,TRUE),IF($L22=\"Magnet 1\",VLOOKUP($O22,INDIRECT(\"'\"&N22&\"'!\"&\"Q:S\"),3,TRUE))))))","v":0},{"$f":"IF(AND($M22=\"t\",OR($L22=\"PHBAO\",$L22=\"Desegregated/Receiver\")),0,U22-T22)","v":0},{"$f":"IF(OR($O22=0,N22=0),0,VLOOKUP($O22,INDIRECT(\"'\"&N22&\"'!\"&\"E:G\"),3,TRUE))","v":0},{"$f":"W22-U22","v":0},{"$f":"T22+V22+X22","v":0},{"$f":"IF(N22=0,0,IF($E12=1884201,VLOOKUP($P22,INDIRECT(\"'\"&N22&\"'!\"&\"$AO:$AQ\"),3,TRUE),IF($P22=0,0,IF(L22=\"Magnet 1\",VLOOKUP($P22,INDIRECT(\"'\"&N22&\"'!\"&\"U:W\"),3,TRUE),VLOOKUP($P22,INDIRECT(\"'\"&N22&\"'!\"&\"CC:CE\"),3,TRUE)))))","v":0},{"$f":"IF(N22=0,0,IF($E12=1884201,VLOOKUP($P22,INDIRECT(\"'\"&N22&\"'!\"&\"$BE:$BG\"),3,TRUE),IF($P22=0,0,IF($L22=\"PHBAO\",VLOOKUP($P22,INDIRECT(\"'\"&N22&\"'!\"&\"Y:AA\"),3,TRUE),IF($L22=\"Desegregated/Receiver\",VLOOKUP($P22,INDIRECT(\"'\"&N22&\"'!\"&\"AC:AE\"),3,TRUE),IF($L22=\"Magnet 2\",VLOOKUP($P22,INDIRECT(\"'\"&N22&\"'!\"&\"AG:AI\"),3,TRUE),IF($L22=\"Magnet 1\",VLOOKUP($P22,INDIRECT(\"'\"&N22&\"'!\"&\"AK:AM\"),3,TRUE))))))))","v":0},{"$f":"IF(AND($M22=\"t\",OR($L22=\"PHBAO\",$L22=\"Desegregated/Receiver\")),0,AA22-Z22)","v":0},{"$f":"Z22+AB22","v":0},{"$f":"IF(OR($Q22=0,N22=0),0,VLOOKUP($Q22,INDIRECT(\"'\"&N22&\"'!\"&\"AO:AQ\"),3,TRUE))","v":0},{"$f":"IF(OR($Q22=0,N22=0),0,IF($L22=\"PHBAO\",VLOOKUP($Q22,INDIRECT(\"'\"&N22&\"'!\"&\"AS:AU\"),3,TRUE),IF($L22=\"Desegregated/Receiver\",VLOOKUP($Q22,INDIRECT(\"'\"&N22&\"'!\"&\"AW:AY\"),3,TRUE),IF($L22=\"Magnet 2\",VLOOKUP($Q22,INDIRECT(\"'\"&N22&\"'!\"&\"BA:BC\"),3,TRUE),IF($L22=\"Magnet 1\",VLOOKUP($Q22,INDIRECT(\"'\"&N22&\"'!\"&\"BE:BG\"),3,TRUE))))))","v":0},{"$f":"IF(AND($M22=\"t\",OR($L22=\"PHBAO\",$L22=\"Desegregated/Receiver\")),0,AE22-AD22)","v":0},{"$f":"AD22+AF22","v":0},{"$f":"IF(OR($S22=0,N22=0),0,VLOOKUP($S22,INDIRECT(\"'\"&N22&\"'!\"&\"BI:BK\"),3,TRUE))","v":0},{"$f":"IF(N22=0,0,IF(OR($S22=0,$L22=\"PHBAO\",$L22=\"Desegregated/Receiver\"),0,IF($L22=\"Magnet 2\",VLOOKUP($S22,INDIRECT(\"'\"&N22&\"'!\"&\"BU:BW\"),3,TRUE),IF($L22=\"Magnet 1\",VLOOKUP($S22,INDIRECT(\"'\"&N22&\"'!\"&\"BY:CA\"),3,TRUE)))))","v":0},{"$f":"IF(OR($L22=\"Magnet 1\", $L22=\"Magnet 2\"), AI22-AH22,0)","v":0},{"$f":"AH22+AJ22","v":0},{"$f":"IF(N22=0,0,IF(OR($R22=0,$L22=\"Magnet 2\",$L22=\"Magnet 1\"),0,IF(AND($M22=\"t\",OR($L22=\"PHBAO\",$L22=\"Desegregated/Receiver\")),0,IF($L22=\"PHBAO\",VLOOKUP($R22,INDIRECT(\"'\"&N22&\"'!\"&\"BM:BO\"),3,TRUE),IF($L22=\"Desegregated/Receiver\",VLOOKUP($R22,INDIRECT(\"'\"&N22&\"'!\"&\"BQ:BS\"),3,TRUE))))))","v":0},{"$f":"AH22+AJ22+AL22","v":0},{"$f":"Y22+AC22+AG22+AM22","v":0},null,{"$f":"IF(OR($M22=\"f\",$L22=\"Magnet 1\", $L22=\"Magnet 2\"), 0, U22-T22)","v":0},{"$f":"IF(OR($M22=\"f\",$L22=\"Magnet 1\",$L22=\"Magnet 2\"),0,AA22-Z22)","v":0},{"$f":"IF(OR($M22=\"f\",$L22=\"Magnet 1\",$L22=\"Magnet 2\"),0,AE22-AD22)","v":0},{"$f":"0","v":0},{"$f":"IF(OR($R22=0,$L22=\"Magnet 2\",$L22=\"Magnet 1\",$M22=\"f\"),0,IF($L22=\"PHBAO\",VLOOKUP($R22,INDIRECT(\"'\"&N22&\"'!\"&\"BM:BO\")*3,TRUE),IF($L22=\"Desegregated/Receiver\",VLOOKUP($R22,INDIRECT(\"'\"&N22&\"'!\"&\"BQ:BS\"),3,TRUE))))","v":0},{"$f":"SUM(AP22:AT22)","v":0},null,{"$f":"AN22+AU22","v":0}]
[null,null,null,null,null,null,null,null,null,{"$f":"CONCATENATE(K23,N23)","v":"012"},{"$f":"K14","v":"012"},"","",{"$f":"N4","v":""},0,0,0,0,0,{"$f":"IF(OR($O23=0,N23=0),0,VLOOKUP($O23,INDIRECT(\"'\"&N23&\"'!\"&\"A:C\"),3,TRUE))","v":0},{"$f":"IF(OR($O23=0, N23=0),0,IF($L23=\"PHBAO\",VLOOKUP($O23,INDIRECT(\"'\"&N23&\"'!\"&\"I:K\"),3,TRUE),IF($L23=\"Desegregated/Receiver\",VLOOKUP($O23,INDIRECT(\"'\"&N23&\"'!\"&\"A:C\"),3,TRUE),IF($L23=\"Magnet 2\",VLOOKUP($O23,INDIRECT(\"'\"&N23&\"'!\"&\"M:O\"),3,TRUE),IF($L23=\"Magnet 1\",VLOOKUP($O23,INDIRECT(\"'\"&N23&\"'!\"&\"Q:S\"),3,TRUE))))))","v":0},{"$f":"IF(AND($M23=\"t\",OR($L23=\"PHBAO\",$L23=\"Desegregated/Receiver\")),0,U23-T23)","v":0},{"$f":"IF(OR($O23=0,N23=0),0,VLOOKUP($O23,INDIRECT(\"'\"&N23&\"'!\"&\"E:G\"),3,TRUE))","v":0},{"$f":"W23-U23","v":0},{"$f":"T23+V23+X23","v":0},{"$f":"IF(N23=0,0,IF($E13=1884201,VLOOKUP($P23,INDIRECT(\"'\"&N23&\"'!\"&\"$AO:$AQ\"),3,TRUE),IF($P23=0,0,IF(L23=\"Magnet 1\",VLOOKUP($P23,INDIRECT(\"'\"&N23&\"'!\"&\"U:W\"),3,TRUE),VLOOKUP($P23,INDIRECT(\"'\"&N23&\"'!\"&\"CC:CE\"),3,TRUE)))))","v":0},{"$f":"IF(N23=0,0,IF($E13=1884201,VLOOKUP($P23,INDIRECT(\"'\"&N23&\"'!\"&\"$BE:$BG\"),3,TRUE),IF($P23=0,0,IF($L23=\"PHBAO\",VLOOKUP($P23,INDIRECT(\"'\"&N23&\"'!\"&\"Y:AA\"),3,TRUE),IF($L23=\"Desegregated/Receiver\",VLOOKUP($P23,INDIRECT(\"'\"&N23&\"'!\"&\"AC:AE\"),3,TRUE),IF($L23=\"Magnet 2\",VLOOKUP($P23,INDIRECT(\"'\"&N23&\"'!\"&\"AG:AI\"),3,TRUE),IF($L23=\"Magnet 1\",VLOOKUP($P23,INDIRECT(\"'\"&N23&\"'!\"&\"AK:AM\"),3,TRUE))))))))","v":0},{"$f":"IF(AND($M23=\"t\",OR($L23=\"PHBAO\",$L23=\"Desegregated/Receiver\")),0,AA23-Z23)","v":0},{"$f":"Z23+AB23","v":0},{"$f":"IF(OR($Q23=0,N23=0),0,VLOOKUP($Q23,INDIRECT(\"'\"&N23&\"'!\"&\"AO:AQ\"),3,TRUE))","v":0},{"$f":"IF(OR($Q23=0,N23=0),0,IF($L23=\"PHBAO\",VLOOKUP($Q23,INDIRECT(\"'\"&N23&\"'!\"&\"AS:AU\"),3,TRUE),IF($L23=\"Desegregated/Receiver\",VLOOKUP($Q23,INDIRECT(\"'\"&N23&\"'!\"&\"AW:AY\"),3,TRUE),IF($L23=\"Magnet 2\",VLOOKUP($Q23,INDIRECT(\"'\"&N23&\"'!\"&\"BA:BC\"),3,TRUE),IF($L23=\"Magnet 1\",VLOOKUP($Q23,INDIRECT(\"'\"&N23&\"'!\"&\"BE:BG\"),3,TRUE))))))","v":0},{"$f":"IF(AND($M23=\"t\",OR($L23=\"PHBAO\",$L23=\"Desegregated/Receiver\")),0,AE23-AD23)","v":0},{"$f":"AD23+AF23","v":0},{"$f":"IF(OR($S23=0,N23=0),0,VLOOKUP($S23,INDIRECT(\"'\"&N23&\"'!\"&\"BI:BK\"),3,TRUE))","v":0},{"$f":"IF(N23=0,0,IF(OR($S23=0,$L23=\"PHBAO\",$L23=\"Desegregated/Receiver\"),0,IF($L23=\"Magnet 2\",VLOOKUP($S23,INDIRECT(\"'\"&N23&\"'!\"&\"BU:BW\"),3,TRUE),IF($L23=\"Magnet 1\",VLOOKUP($S23,INDIRECT(\"'\"&N23&\"'!\"&\"BY:CA\"),3,TRUE)))))","v":0},{"$f":"IF(OR($L23=\"Magnet 1\", $L23=\"Magnet 2\"), AI23-AH23,0)","v":0},{"$f":"AH23+AJ23","v":0},{"$f":"IF(N23=0,0,IF(OR($R23=0,$L23=\"Magnet 2\",$L23=\"Magnet 1\"),0,IF(AND($M23=\"t\",OR($L23=\"PHBAO\",$L23=\"Desegregated/Receiver\")),0,IF($L23=\"PHBAO\",VLOOKUP($R23,INDIRECT(\"'\"&N23&\"'!\"&\"BM:BO\"),3,TRUE),IF($L23=\"Desegregated/Receiver\",VLOOKUP($R23,INDIRECT(\"'\"&N23&\"'!\"&\"BQ:BS\"),3,TRUE))))))","v":0},{"$f":"AH23+AJ23+AL23","v":0},{"$f":"Y23+AC23+AG23+AM23","v":0},null,{"$f":"IF(OR($M23=\"f\",$L23=\"Magnet 1\", $L23=\"Magnet 2\"), 0, U23-T23)","v":0},{"$f":"IF(OR($M23=\"f\",$L23=\"Magnet 1\",$L23=\"Magnet 2\"),0,AA23-Z23)","v":0},{"$f":"IF(OR($M23=\"f\",$L23=\"Magnet 1\",$L23=\"Magnet 2\"),0,AE23-AD23)","v":0},{"$f":"0","v":0},{"$f":"IF(OR($R23=0,$L23=\"Magnet 2\",$L23=\"Magnet 1\",$M23=\"f\"),0,IF($L23=\"PHBAO\",VLOOKUP($R23,INDIRECT(\"'\"&N23&\"'!\"&\"BM:BO\")*3,TRUE),IF($L23=\"Desegregated/Receiver\",VLOOKUP($R23,INDIRECT(\"'\"&N23&\"'!\"&\"BQ:BS\"),3,TRUE))))","v":0},{"$f":"SUM(AP23:AT23)","v":0},null,{"$f":"AN23+AU23","v":0}]
[null,null,null,null,null,null,null,null,null,"013","013","","","",0,0,0,0,0,0,0,0,0,0,0,0,0,0,0,0,0,0,0,0,0,0,0,0,0,0,null,0,0,0,{"$f":"0","v":0},0,0,null,0]
[null,null,null,null,null,null,null,null,null,"014","014","","","",0,0,0,0,0,0,0,0,0,0,0,0,0,0,0,0,0,0,0,0,0,0,0,0,0,0,null,0,0,0,{"$f":"0","v":0},0,0,null,0]
[null,null,null,null,null,null,null,null,null,{"$f":"CONCATENATE(K26,N26)","v":"015"},"015","","","",0,0,0,0,0,0,0,0,0,0,0,0,0,0,0,0,0,0,0,0,0,0,0,0,0,0,null,0,0,0,{"$f":"0","v":0},0,0,null,0]
[]
[null,null,null,null,null,null,null,null,null,null,null,null,null,"Total",{"$f":"SUM(O22:O26)","v":0},0,0,0,0,0,0,0,0,0,0,0,0,0,0,0,0,0,0,0,0,0,0,0,0,0,0,0,0,0,0,0,0,0,0]
[]
[]
[]
[]
[null,null,null,null,null,null,null,null,null,null,"NON-TEACHER NORMING"]
[null,null,null,null,null,null,null,null,null,null,"Clerical Enrollment","Admin Enrollment","CNS Enrollment","Elem","MS","SH","Highest Enrollment",".","Clerical FTEs","SAA","SPED Support","Add'l",".","Admin FTEs","Principal","APSCS","AP",".","Counselor FTEs"]
[null,null,null,null,null,null,null,null,null,null,{"$f":"AS8","v":0},{"$f":"AT8","v":0},0,0,0,0,{"$f":"AY3","v":""},null,{"$f":"IF($K35=0,0,IF($Q35=\"ES\",VLOOKUP($K35,'6 Periods'!$CK:$CQ,7,TRUE),IF($Q35=\"MS\",VLOOKUP($K35,'6 Periods'!$CS:$CY,7,TRUE),IF($Q35=\"SH\",VLOOKUP($K35,'6 Periods'!$DA:$DG,7,TRUE),\"\"))))","v":0},{"$f":"IF($K35=0,0,IF($Q35=\"ES\",VLOOKUP($K35,'6 Periods'!$CK:$CQ,4,TRUE),IF($Q35=\"MS\",VLOOKUP($K35,'6 Periods'!$CS:$CY,4,TRUE),IF($Q35=\"SH\",VLOOKUP($K35,'6 Periods'!$DA:$DG,4,TRUE),\"\"))))","v":0},{"$f":"IF($K35=0,0,IF($Q35=\"ES\",VLOOKUP($K35,'6 Periods'!$CK:$CQ,5,TRUE),IF($Q35=\"MS\",VLOOKUP($K35,'6 Periods'!$CS:$CY,5,TRUE),IF($Q35=\"SH\",VLOOKUP($K35,'6 Periods'!$DA:$DG,5,TRUE),\"\"))))","v":0},{"$f":"IF($K35=0,0,IF($Q35=\"ES\",VLOOKUP($K35,'6 Periods'!$CK:$CQ,6,TRUE),IF($Q35=\"MS\",VLOOKUP($K35,'6 Periods'!$CS:$CY,6,TRUE),IF($Q35=\"SH\",VLOOKUP($K35,'6 Periods'!$DA:$DG,6,TRUE),\"\"))))","v":0},null,{"$f":"IF($L35=0,0,IF($Q35=\"ES\",VLOOKUP($L35,'6 Periods'!$DI:$DN,6,TRUE),VLOOKUP($L35,'6 Periods'!$DP:$DV,7,TRUE)))","v":0},{"$f":"IF($L35=0,0,IF($Q35=\"ES\",VLOOKUP($L35,'6 Periods'!$DI:$DN,4,TRUE),VLOOKUP($L35,'6 Periods'!$DP:$DV,4,TRUE)))","v":0},{"$f":"IF($L35=0,0,IF($Q35=\"ES\",0,VLOOKUP($L35,'6 Periods'!$DP:$DV,5,TRUE)))","v":0},{"$f":"IF($L35=0,0,IF($Q35=\"ES\",VLOOKUP($L35,'6 Periods'!$DI:$DN,5,TRUE),VLOOKUP($L35,'6 Periods'!$DP:$DV,6,TRUE)))","v":0},null,{"$f":"IF($M35=0,0,VLOOKUP($M35,'6 Periods'!DX:DZ,3,TRUE))","v":0}]

{"sheet":"6 Periods","index":4,"n_rows":143,"n_cols":132,"rows_kept":143,"cut":false,"hidden":true,"merged":[]}
["K-3 District",null,null,null,"K-3 State",null,null,null,"K-3 PHBAO",null,null,null,"Mag II K-3 PHBAO",null,null,null,"Mag I K-3 Deseg/Receiver",null,null,null,"4-5 District for TIIG Magnet I",null,null,null,"4-5 (6) PHBAO",null,null,null,"4-5(6) Deseg/Receiver",null,null,null,"Mag II 4-5 (6) PHBAO",null,null,null,"Mag I 4-5(6) Deseg/Receiver",null,null,null,"6-8 District Norm ",null,null,null,"6-8 PHBAO",null,null,null,"6-8 Deseg/Receiver",null,null,null,"Mag II  6-8",null,null,null,"Mag I 6-8 Deseg/Receiver",null,null,null,"9-12 District Norm",null,null,null,"9-10 CSR PHBAO",null,null,null,"9-10 CSR Deseg/Receiver",null,null,null,"Mag II 9-12 PHBAO",null,null,null,"Mag I 9-12 Deseg/Receiver",null,null,null,"4-5 District for Deseg/PHBAO/Magnet II",null,null,null,"6-8 District for TIIG Magnet I and TIIG Magnet II",null,null,null,"Elementary Clerical",null,null,"SAA","MCD","Add'l","Total",null,"Middle School Clerical",null,null,"SAA","MCD","Add'l","Total",null,"Senior High Clerical",null,null,"SAA","MCD","Add'l","Total",null,"Elementary Admin Table",null,null,"Prin","AP","Total",null,"Secondary Admin Table",null,null,"Prin","APSCS","AP","Total",null,"Counselor Table",null,null,null,"Updated 1/4/22"]
[null,null,null,null,null,null,null,null,null,null,null,null,null,null,null,null,null,null,null,null,null,null,null,null,null,null,null,null,null,null,null,null,null,null,null,null,null,null,null,null,null,null,null,null,null,null,null,null,null,null,null,null,null,null,null,null,null,null,null,null,null,null,null,null,null,null,null,null,null,null,null,null,null,null,null,null,null,null,null,null,null,null,null,null,null,null,null,null,0,null,0,0,0,0,0,null,0,null,0,0,0,0,0,null,0,null,0,0,0,0,0,null,0,null,0,0,0,0,null,0,null,0,0,0,0,0,null,1,375,0.5]
[-1,0,0,null,-1,0,0,null,-1,0,0,null,-1,0,0,null,-1,0,0,null,-1,0,0,null,-1,0,0,null,-1,0,0,null,-1,0,0,null,-1,0,0,null,-1,0,0,null,-1,0,0,null,-1,0,0,null,-1,0,0,null,-1,0,0,null,-1,0,0,null,-1,0,0,null,-1,0,0,null,-1,0,0,null,-1,0,0,null,-1,0,0,null,-1,0,0,null,1,"to",300,1,0.5,0.5,2,null,1,"to",700,1,0.5,0.5,2,null,1,"to",700,1,0.5,0.5,2,null,1,"to",999,1,0,1,null,1,"to",699,1,0,0,1,null,376,750,1]
[1,32,1,null,1,24,1,null,1,30,1,null,1,30,1,null,1,32,1,null,1,35,1,null,1,27,1,null,1,33,1,null,1,27,1,null,1,30,1,null,1,29,1,null,1,24,1,null,1,28,1,null,1,22,1,null,1,24,1,null,1,29,1,null,1,140,1,null,1,480,1,null,1,22,1,null,1,24,1,null,1,36,1,null,1,29,1,null,301,"to",749,1,1,0,2,null,701,"to",1200,1,1,1,3,null,701,"to",1200,1,1,1,3,null,1000,"to",1809,1,1,2,null,700,"to",1354,1,1,0,2,null,751,1250,2]
[33,64,2,null,25,48,2,null,31,59,2,null,31,59,2,null,33,64,2,null,36,69,2,null,28,54,2,null,34,65,2,null,28,54,2,null,31,59,2,null,30,59,2,null,25,49,2,null,29,56,2,null,23,45,2,null,25,49,2,null,30,59,2,null,141,280,2,null,481,960,2,null,23,45,2,null,25,49,2,null,37,71,2,null,30,59,2,null,750,"to",1499,1,1,1,3,null,1201,"to",1650,1,1,2,4,null,1201,"to",1699,1,1,2,4,null,1810,"to",2419,1,2,3,null,1355,"to",1749,1,1,1,3,null,1251,1750,3]
[65,96,3,null,49,72,3,null,60,89,3,null,60,89,3,null,65,96,3,null,70,104,3,null,55,81,3,null,66,98,3,null,55,81,3,null,60,89,3,null,60,89,3,null,50,73,3,null,57,84,3,null,46,67,3,null,50,73,3,null,60,88,3,null,281,420,3,null,961,1440,3,null,46,67,3,null,50,73,3,null,72,107,3,null,60,88,3,null,1500,"to",2199,1,1,2,4,null,1651,"to",2100,1,1,3,5,null,1700,"to",2150,1,1,3,5,null,2420,"to",9999999,1,3,4,null,1750,"to",2088,1,1,2,4,null,1751,2250,4]
[97,128,4,null,73,96,4,null,90,118,4,null,90,118,4,null,97,128,4,null,105,138,4,null,82,108,4,null,99,130,4,null,82,108,4,null,90,118,4,null,90,119,4,null,74,98,4,null,85,112,4,null,68,90,4,null,74,98,4,null,89,118,4,null,421,560,4,null,1441,1920,4,null,68,90,4,null,74,98,4,null,108,142,4,null,89,118,4,null,2200,"to",2899,1,1,3,5,null,2101,"to",2550,1,1,4,6,null,2151,"to",2600,1,1,4,6,null,null,null,null,null,null,null,null,2089,"to",4233,1,1,3,5,null,2251,2750,5]
[129,160,5,null,97,120,5,null,119,148,5,null,119,148,5,null,129,160,5,null,139,173,5,null,109,135,5,null,131,163,5,null,109,135,5,null,119,148,5,null,120,148,5,null,99,122,5,null,113,140,5,null,91,112,5,null,99,122,5,null,119,147,5,null,561,700,5,null,1921,2400,5,null,91,112,5,null,99,122,5,null,143,178,5,null,119,147,5,null,2900,"to",3599,1,1,4,6,null,2551,"to",3000,1,1,5,7,null,2601,"to",3050,1,1,5,7,null,null,null,null,null,null,null,null,4234,"to",9999999,1,1,4,6,null,2751,3250,6]
[161,192,6,null,121,144,6,null,149,177,6,null,149,177,6,null,161,192,6,null,174,207,6,null,136,162,6,null,164,195,6,null,136,162,6,null,149,177,6,null,149,178,6,null,123,147,6,null,141,168,6,null,113,135,6,null,123,147,6,null,148,177,6,null,701,850,6,null,2401,2880,6,null,113,135,6,null,123,147,6,null,179,213,6,null,148,177,6,null,3600,"to",9999,1,1,5,7,null,3001,"to",3450,1,1,6,8,null,3051,"to",3500,1,1,6,8,null,null,null,null,null,null,null,null,null,null,null,null,null,null,null,null,3251,3750,7]
[193,224,7,null,145,168,7,null,178,207,7,null,178,207,7,null,193,224,7,null,208,242,7,null,163,189,7,null,196,228,7,null,163,189,7,null,178,207,7,null,179,208,7,null,148,172,7,null,169,196,7,null,136,157,7,null,148,172,7,null,178,207,7,null,851,990,7,null,2881,3370,7,null,136,157,7,null,148,172,7,null,214,249,7,null,178,207,7,null,null,null,null,null,null,null,null,null,3451,"to",3900,1,1,7,9,null,3501,"to",3950,1,1,7,9]
[225,256,8,null,169,192,8,null,208,236,8,null,208,236,8,null,225,256,8,null,243,276,8,null,190,216,8,null,229,260,8,null,190,216,8,null,208,236,8,null,209,238,8,null,173,196,8,null,197,224,8,null,158,180,8,null,173,196,8,null,208,236,8,null,991,1130,8,null,3371,3850,8,null,158,180,8,null,173,196,8,null,250,284,8,null,208,236,8,null,null,null,null,null,null,null,null,null,3901,"to",4350,1,1,8,10,null,3951,"to",4400,1,1,8,10]
[257,288,9,null,193,216,9,null,237,266,9,null,237,266,9,null,257,288,9,null,277,311,9,null,217,243,9,null,261,293,9,null,217,243,9,null,237,266,9,null,239,268,9,null,197,221,9,null,225,252,9,null,181,202,9,null,197,221,9,null,237,266,9,null,1131,1270,9,null,3851,4330,9,null,181,202,9,null,197,221,9,null,285,320,9,null,237,266,9,null,null,null,null,null,null,null,null,null,4351,"to",4800,1,1,9,11,null,4401,"to",4850,1,1,9,11]
[289,320,10,null,217,240,10,null,267,295,10,null,267,295,10,null,289,320,10,null,312,345,10,null,244,270,10,null,294,325,10,null,244,270,10,null,267,295,10,null,269,297,10,null,222,245,10,null,253,280,10,null,203,225,10,null,222,245,10,null,267,295,10,null,1271,1410,10,null,4331,4810,10,null,203,225,10,null,222,245,10,null,321,355,10,null,267,295,10,null,null,null,null,null,null,null,null,null,4801,"to",5250,1,1,10,12,null,4851,"to",5300,1,1,10,12]
[321,352,11,null,241,264,11,null,296,325,11,null,296,325,11,null,321,352,11,null,346,380,11,null,271,297,11,null,326,358,11,null,271,297,11,null,296,325,11,null,298,327,11,null,246,270,11,null,281,308,11,null,226,247,11,null,246,270,11,null,296,325,11,null,1411,1550,11,null,4811,5290,11,null,226,247,11,null,246,270,11,null,356,391,11,null,296,325,11,null,null,null,null,null,null,null,null,null,5251,"to",9999,1,1,11,13,null,5301,"to",9999,1,1,11,13]
[353,384,12,null,265,288,12,null,326,354,12,null,326,354,12,null,353,384,12,null,381,414,12,null,298,324,12,null,359,390,12,null,298,324,12,null,326,354,12,null,328,357,12,null,271,295,12,null,309,336,12,null,248,270,12,null,271,295,12,null,326,355,12,null,1551,1690,12,null,5291,5770,12,null,248,270,12,null,271,295,12,null,392,426,12,null,326,355,12]
[385,416,13,null,289,312,13,null,355,384,13,null,355,384,13,null,385,416,13,null,415,449,13,null,325,351,13,null,391,423,13,null,325,351,13,null,355,384,13,null,358,387,13,null,296,319,13,null,337,364,13,null,271,292,13,null,296,319,13,null,356,384,13,null,1691,1830,13,null,5771,6250,13,null,271,292,13,null,296,319,13,null,427,462,13,null,356,384,13]
[417,448,14,null,313,336,14,null,385,413,14,null,385,413,14,null,417,448,14,null,450,483,14,null,352,378,14,null,424,455,14,null,352,378,14,null,385,413,14,null,388,417,14,null,320,344,14,null,365,392,14,null,293,315,14,null,320,344,14,null,385,414,14,null,1831,1970,14,null,6251,6730,14,null,293,315,14,null,320,344,14,null,463,497,14,null,385,414,14]
[449,480,15,null,337,360,15,null,414,443,15,null,414,443,15,null,449,480,15,null,484,518,15,null,379,405,15,null,456,488,15,null,379,405,15,null,414,443,15,null,418,446,15,null,345,368,15,null,393,420,15,null,316,337,15,null,345,368,15,null,415,443,15,null,1971,2110,15,null,6731,7210,15,null,316,337,15,null,345,368,15,null,498,533,15,null,415,443,15]
[481,512,16,null,361,384,16,null,444,472,16,null,444,472,16,null,481,512,16,null,519,552,16,null,406,432,16,null,489,520,16,null,406,432,16,null,444,472,16,null,447,476,16,null,369,393,16,null,421,448,16,null,338,360,16,null,369,393,16,null,444,473,16,null,2111,2260,16,null,7211,7690,16,null,338,360,16,null,369,393,16,null,534,568,16,null,444,473,16]
[513,544,17,null,385,408,17,null,473,502,17,null,473,502,17,null,513,544,17,null,553,587,17,null,433,459,17,null,521,553,17,null,433,459,17,null,473,502,17,null,477,506,17,null,394,418,17,null,449,476,17,null,361,382,17,null,394,417,17,null,474,502,17,null,2261,2400,17,null,7691,8170,17,null,361,382,17,null,394,417,17,null,569,604,17,null,474,502,17]
[545,576,18,null,409,432,18,null,503,531,18,null,503,531,18,null,545,576,18,null,588,621,18,null,460,486,18,null,554,585,18,null,460,486,18,null,503,531,18,null,507,536,18,null,419,442,18,null,477,504,18,null,383,405,18,null,418,442,18,null,503,532,18,null,2401,2540,18,null,8171,8650,18,null,383,405,18,null,418,442,18,null,605,639,18,null,503,532,18]
[577,608,19,null,433,456,19,null,532,561,19,null,532,561,19,null,577,608,19,null,622,656,19,null,487,513,19,null,586,618,19,null,487,513,19,null,532,561,19,null,537,565,19,null,443,467,19,null,505,532,19,null,406,427,19,null,443,467,19,null,533,562,19,null,2541,2680,19,null,8651,9130,19,null,406,427,19,null,443,467,19,null,640,675,19,null,533,562,19]
[609,640,20,null,457,480,20,null,562,590,20,null,562,590,20,null,609,640,20,null,657,690,20,null,514,540,20,null,619,650,20,null,514,540,20,null,562,590,20,null,566,595,20,null,468,491,20,null,533,561,20,null,428,450,20,null,468,491,20,null,563,591,20,null,2681,2820,20,null,9131,9610,20,null,428,450,20,null,468,491,20,null,676,710,20,null,563,591,20]
[641,672,21,null,481,504,21,null,591,620,21,null,591,620,21,null,641,672,21,null,691,725,21,null,541,567,21,null,651,683,21,null,541,567,21,null,591,620,21,null,596,625,21,null,492,516,21,null,562,589,21,null,451,472,21,null,492,516,21,null,592,621,21,null,2821,2960,21,null,9611,10100,21,null,451,472,21,null,492,516,21,null,711,746,21,null,592,621,21]
[673,704,22,null,505,528,22,null,621,649,22,null,621,649,22,null,673,704,22,null,726,759,22,null,568,594,22,null,684,715,22,null,568,594,22,null,621,649,22,null,626,655,22,null,517,541,22,null,590,617,22,null,473,495,22,null,517,540,22,null,622,650,22,null,2961,3100,22,null,10101,10580,22,null,473,495,22,null,517,540,22,null,747,781,22,null,622,650,22]
[705,736,23,null,529,552,23,null,650,679,23,null,650,679,23,null,705,736,23,null,760,794,23,null,595,621,23,null,716,748,23,null,595,621,23,null,650,679,23,null,656,685,23,null,542,565,23,null,618,645,23,null,496,517,23,null,541,565,23,null,651,680,23,null,null,null,null,null,null,null,null,null,496,517,23,null,541,565,23,null,782,817,23,null,651,680,23]
[737,768,24,null,553,576,24,null,680,708,24,null,680,708,24,null,737,768,24,null,795,828,24,null,622,648,24,null,749,780,24,null,622,648,24,null,680,708,24,null,686,714,24,null,566,590,24,null,646,673,24,null,518,540,24,null,566,590,24,null,681,710,24,null,null,null,null,null,null,null,null,null,518,540,24,null,566,590,24,null,818,852,24,null,681,710,24]
[769,800,25,null,577,600,25,null,709,738,25,null,709,738,25,null,769,800,25,null,829,863,25,null,649,675,25,null,781,813,25,null,649,675,25,null,709,738,25,null,715,744,25,null,591,614,25,null,674,701,25,null,541,562,25,null,591,614,25,null,711,739,25,null,null,null,null,null,null,null,null,null,541,562,25,null,591,614,25,null,853,888,25,null,711,739,25]
[801,832,26,null,601,624,26,null,739,767,26,null,739,767,26,null,801,832,26,null,864,897,26,null,676,702,26,null,814,845,26,null,676,702,26,null,739,767,26,null,745,774,26,null,615,639,26,null,702,729,26,null,563,585,26,null,615,639,26,null,740,769,26,null,null,null,null,null,null,null,null,null,563,585,26,null,615,639,26,null,889,923,26,null,740,769,26]
[833,864,27,null,625,648,27,null,768,797,27,null,768,797,27,null,833,864,27,null,898,932,27,null,703,729,27,null,846,878,27,null,703,729,27,null,768,797,27,null,775,804,27,null,640,663,27,null,730,757,27,null,586,607,27,null,640,663,27,null,770,798,27,null,null,null,null,null,null,null,null,null,586,607,27,null,640,663,27,null,924,959,27,null,770,798,27]
[865,896,28,null,649,672,28,null,798,826,28,null,798,826,28,null,865,896,28,null,933,966,28,null,730,756,28,null,879,910,28,null,730,756,28,null,798,826,28,null,805,834,28,null,664,688,28,null,758,785,28,null,608,630,28,null,664,688,28,null,799,828,28,null,null,null,null,null,null,null,null,null,608,630,28,null,664,688,28,null,960,994,28,null,799,828,28]
[897,928,29,null,673,696,29,null,827,856,29,null,827,856,29,null,897,928,29,null,967,1001,29,null,757,783,29,null,911,943,29,null,757,783,29,null,827,856,29,null,835,863,29,null,689,713,29,null,786,813,29,null,631,652,29,null,689,712,29,null,829,857,29,null,null,null,null,null,null,null,null,null,631,652,29,null,689,712,29,null,995,1030,29,null,829,857,29]
[929,960,30,null,697,720,30,null,857,885,30,null,857,885,30,null,929,960,30,null,1002,1035,30,null,784,810,30,null,944,975,30,null,784,810,30,null,857,885,30,null,864,893,30,null,714,737,30,null,814,841,30,null,653,675,30,null,713,737,30,null,858,887,30,null,null,null,null,null,null,null,null,null,653,675,30,null,713,737,30,null,1031,1065,30,null,858,887,30]
[961,992,31,null,721,744,31,null,886,915,31,null,886,915,31,null,961,992,31,null,1036,1070,31,null,811,837,31,null,976,1008,31,null,811,837,31,null,886,915,31,null,894,923,31,null,738,762,31,null,842,869,31,null,676,697,31,null,738,762,31,null,888,917,31,null,null,null,null,null,null,null,null,null,676,697,31,null,738,762,31,null,1066,1101,31,null,888,917,31]
[993,1024,32,null,745,768,32,null,916,944,32,null,916,944,32,null,993,1024,32,null,1071,1104,32,null,838,864,32,null,1009,1040,32,null,838,864,32,null,916,944,32,null,924,953,32,null,763,786,32,null,870,897,32,null,698,720,32,null,763,786,32,null,918,946,32,null,null,null,null,null,null,null,null,null,698,720,32,null,763,786,32,null,1102,1136,32,null,918,946,32]
[1025,1056,33,null,769,792,33,null,945,974,33,null,945,974,33,null,1025,1056,33,null,1105,1139,33,null,865,891,33,null,1041,1073,33,null,865,891,33,null,945,974,33,null,954,983,33,null,787,811,33,null,898,925,33,null,721,742,33,null,787,811,33,null,947,976,33,null,null,null,null,null,null,null,null,null,721,742,33,null,787,811,33,null,1137,1172,33,null,947,976,33]
[1057,1088,34,null,793,816,34,null,975,1003,34,null,975,1003,34,null,1057,1088,34,null,1140,1173,34,null,892,918,34,null,1074,1105,34,null,892,918,34,null,975,1003,34,null,984,1012,34,null,812,836,34,null,926,953,34,null,743,765,34,null,812,835,34,null,977,1005,34,null,null,null,null,null,null,null,null,null,743,765,34,null,812,835,34,null,1173,1207,34,null,977,1005,34]
[1089,1120,35,null,817,840,35,null,1004,1033,35,null,1004,1033,35,null,1089,1120,35,null,1174,1208,35,null,919,945,35,null,1106,1138,35,null,919,945,35,null,1004,1033,35,null,1013,1042,35,null,837,860,35,null,954,981,35,null,766,787,35,null,836,860,35,null,1006,1035,35,null,null,null,null,null,null,null,null,null,766,787,35,null,836,860,35,null,1208,1243,35,null,1006,1035,35]
[1121,1152,36,null,841,864,36,null,1034,1062,36,null,1034,1062,36,null,1121,1152,36,null,1209,1242,36,null,946,972,36,null,1139,1170,36,null,946,972,36,null,1034,1062,36,null,1043,1072,36,null,861,885,36,null,982,1009,36,null,788,810,36,null,861,885,36,null,1036,1065,36,null,null,null,null,null,null,null,null,null,788,810,36,null,861,885,36,null,1244,1278,36,null,1036,1065,36]
[1153,1184,37,null,865,888,37,null,1063,1092,37,null,1063,1092,37,null,1153,1184,37,null,1243,1277,37,null,973,999,37,null,1171,1203,37,null,973,999,37,null,1063,1092,37,null,1073,1102,37,null,886,909,37,null,1010,1037,37,null,811,832,37,null,886,909,37,null,1066,1094,37,null,null,null,null,null,null,null,null,null,811,832,37,null,886,909,37,null,1279,1314,37,null,1066,1094,37]
[1185,1216,38,null,889,912,38,null,1093,1121,38,null,1093,1121,38,null,1185,1216,38,null,1278,1311,38,null,1000,1026,38,null,1204,1235,38,null,1000,1026,38,null,1093,1121,38,null,1103,1131,38,null,910,934,38,null,1038,1065,38,null,833,855,38,null,910,934,38,null,1095,1124,38,null,null,null,null,null,null,null,null,null,833,855,38,null,910,934,38,null,1315,1349,38,null,1095,1124,38]
[1217,1248,39,null,913,936,39,null,1122,1151,39,null,1122,1151,39,null,1217,1248,39,null,1312,1346,39,null,1027,1053,39,null,1236,1268,39,null,1027,1053,39,null,1122,1151,39,null,1132,1161,39,null,935,959,39,null,1066,1093,39,null,856,877,39,null,935,958,39,null,1125,1153,39,null,null,null,null,null,null,null,null,null,856,877,39,null,935,958,39,null,1350,1385,39,null,1125,1153,39]
[1249,1280,40,null,937,960,40,null,1152,1180,40,null,1152,1180,40,null,1249,1280,40,null,1347,1380,40,null,1054,1080,40,null,1269,1300,40,null,1054,1080,40,null,1152,1180,40,null,1162,1191,40,null,960,983,40,null,1094,1122,40,null,878,900,40,null,959,983,40,null,1154,1183,40,null,null,null,null,null,null,null,null,null,878,900,40,null,959,983,40,null,1386,1420,40,null,1154,1183,40]
[1281,1312,41,null,961,984,41,null,1181,1210,41,null,1181,1210,41,null,1281,1312,41,null,1381,1415,41,null,1081,1107,41,null,1301,1333,41,null,1081,1107,41,null,1181,1210,41,null,1192,1221,41,null,984,1008,41,null,1123,1150,41,null,901,922,41,null,984,1007,41,null,1184,1212,41,null,null,null,null,null,null,null,null,null,901,922,41,null,984,1007,41,null,1421,1456,41,null,1184,1212,41]
[1313,1344,42,null,985,1008,42,null,1211,1239,42,null,1211,1239,42,null,1313,1344,42,null,1416,1449,42,null,1108,1134,42,null,1334,1365,42,null,1108,1134,42,null,1211,1239,42,null,1222,1251,42,null,1009,1032,42,null,1151,1178,42,null,923,945,42,null,1008,1032,42,null,1213,1242,42,null,null,null,null,null,null,null,null,null,923,945,42,null,1008,1032,42,null,1457,1491,42,null,1213,1242,42]
[1345,1376,43,null,1009,1032,43,null,1240,1269,43,null,1240,1269,43,null,1345,1376,43,null,1450,1484,43,null,1135,1161,43,null,1366,1398,43,null,1135,1161,43,null,1240,1269,43,null,1252,1280,43,null,1033,1057,43,null,1179,1206,43,null,946,967,43,null,1033,1057,43,null,1243,1272,43,null,null,null,null,null,null,null,null,null,946,967,43,null,1033,1057,43,null,1492,1527,43,null,1243,1272,43]
[1377,1408,44,null,1033,1056,44,null,1270,1298,44,null,1270,1298,44,null,1377,1408,44,null,1485,1518,44,null,1162,1188,44,null,1399,1430,44,null,1162,1188,44,null,1270,1298,44,null,1281,1310,44,null,1058,1082,44,null,1207,1234,44,null,968,990,44,null,1058,1081,44,null,1273,1301,44,null,null,null,null,null,null,null,null,null,968,990,44,null,1058,1081,44,null,1528,1562,44,null,1273,1301,44]
[1409,1440,45,null,1057,1080,45,null,1299,1328,45,null,1299,1328,45,null,1409,1440,45,null,1519,1553,45,null,1189,1215,45,null,1431,1463,45,null,1189,1215,45,null,1299,1328,45,null,1311,1340,45,null,1083,1106,45,null,1235,1262,45,null,991,1012,45,null,1082,1106,45,null,1302,1331,45,null,null,null,null,null,null,null,null,null,991,1012,45,null,1082,1106,45,null,1563,1598,45,null,1302,1331,45]
[1441,1472,46,null,1081,1104,46,null,1329,1357,46,null,1329,1357,46,null,1441,1472,46,null,1554,1587,46,null,1216,1242,46,null,1464,1495,46,null,1216,1242,46,null,1329,1357,46,null,1341,1370,46,null,1107,1131,46,null,1263,1290,46,null,1013,1035,46,null,1107,1130,46,null,1332,1360,46,null,null,null,null,null,null,null,null,null,1013,1035,46,null,1107,1130,46,null,1599,1633,46,null,1332,1360,46]
[1473,1504,47,null,1105,1128,47,null,1358,1387,47,null,1358,1387,47,null,1473,1504,47,null,1588,1622,47,null,1243,1269,47,null,1496,1528,47,null,1243,1269,47,null,1358,1387,47,null,1371,1400,47,null,1132,1155,47,null,1291,1318,47,null,1036,1057,47,null,1131,1155,47,null,1361,1390,47,null,null,null,null,null,null,null,null,null,1036,1057,47,null,1131,1155,47,null,1634,1669,47,null,1361,1390,47]
[1505,1536,48,null,1129,1152,48,null,1388,1416,48,null,1388,1416,48,null,1505,1536,48,null,1623,1656,48,null,1270,1296,48,null,1529,1560,48,null,1270,1296,48,null,1388,1416,48,null,1401,1429,48,null,1156,1180,48,null,1319,1346,48,null,1058,1080,48,null,1156,1180,48,null,1391,1420,48,null,null,null,null,null,null,null,null,null,1058,1080,48,null,1156,1180,48,null,1670,1704,48,null,1391,1420,48]
[1537,1568,49,null,1153,1176,49,null,1417,1446,49,null,1417,1446,49,null,1537,1568,49,null,1657,1691,49,null,1297,1323,49,null,1561,1593,49,null,1297,1323,49,null,1417,1446,49,null,1430,1459,49,null,1181,1204,49,null,1347,1374,49,null,1081,1102,49,null,1181,1204,49,null,1421,1449,49,null,null,null,null,null,null,null,null,null,1081,1102,49,null,1181,1204,49,null,1705,1740,49,null,1421,1449,49]
[1569,1600,50,null,1177,1200,50,null,1447,1475,50,null,1447,1475,50,null,1569,1600,50,null,1692,1725,50,null,1324,1350,50,null,1594,1625,50,null,1324,1350,50,null,1447,1475,50,null,1460,1489,50,null,1205,1229,50,null,1375,1402,50,null,1103,1125,50,null,1205,1229,50,null,1450,1479,50,null,null,null,null,null,null,null,null,null,1103,1125,50,null,1205,1229,50,null,1741,1775,50,null,1450,1479,50]
[1601,1632,51,null,1201,1224,51,null,1476,1505,51,null,1476,1505,51,null,1601,1632,51,null,1726,1760,51,null,1351,1377,51,null,1626,1658,51,null,1351,1377,51,null,1476,1505,51,null,1490,1519,51,null,1230,1254,51,null,1403,1430,51,null,1126,1147,51,null,1230,1253,51,null,1480,1508,51,null,null,null,null,null,null,null,null,null,1126,1147,51,null,1230,1253,51,null,1776,1811,51,null,1480,1508,51]
[1633,1664,52,null,1225,1248,52,null,1506,1534,52,null,1506,1534,52,null,1633,1664,52,null,1761,1794,52,null,1378,1404,52,null,1659,1690,52,null,1378,1404,52,null,1506,1534,52,null,1520,1549,52,null,1255,1278,52,null,1431,1458,52,null,1148,1170,52,null,1254,1278,52,null,1509,1538,52,null,null,null,null,null,null,null,null,null,1148,1170,52,null,1254,1278,52,null,1812,1846,52,null,1509,1538,52]
[1665,1696,53,null,1249,1272,53,null,1535,1564,53,null,1535,1564,53,null,1665,1696,53,null,1795,1829,53,null,1405,1431,53,null,1691,1723,53,null,1405,1431,53,null,1535,1564,53,null,1550,1578,53,null,1279,1303,53,null,1459,1486,53,null,1171,1192,53,null,1279,1302,53,null,1539,1567,53,null,null,null,null,null,null,null,null,null,1171,1192,53,null,1279,1302,53,null,1847,1882,53,null,1539,1567,53]
[1697,1728,54,null,1273,1296,54,null,1565,1593,54,null,1565,1593,54,null,1697,1728,54,null,1830,1863,54,null,1432,1458,54,null,1724,1755,54,null,1432,1458,54,null,1565,1593,54,null,1579,1608,54,null,1304,1327,54,null,1487,1514,54,null,1193,1215,54,null,1303,1327,54,null,1568,1597,54,null,null,null,null,null,null,null,null,null,1193,1215,54,null,1303,1327,54,null,1883,1917,54,null,1568,1597,54]
[1729,1760,55,null,1297,1320,55,null,1594,1623,55,null,1594,1623,55,null,1729,1760,55,null,1864,1898,55,null,1459,1485,55,null,1756,1788,55,null,1459,1485,55,null,1594,1623,55,null,1609,1638,55,null,1328,1352,55,null,1515,1542,55,null,1216,1237,55,null,1328,1352,55,null,1598,1627,55,null,null,null,null,null,null,null,null,null,1216,1237,55,null,1328,1352,55,null,1918,1953,55,null,1598,1627,55]
[1761,1792,56,null,1321,1344,56,null,1624,1652,56,null,1624,1652,56,null,1761,1792,56,null,1899,1932,56,null,1486,1512,56,null,1789,1820,56,null,1486,1512,56,null,1624,1652,56,null,1639,1668,56,null,1353,1377,56,null,1543,1570,56,null,1238,1260,56,null,1353,1376,56,null,1628,1656,56,null,null,null,null,null,null,null,null,null,1238,1260,56,null,1353,1376,56,null,1954,1988,56,null,1628,1656,56]
[1793,1824,57,null,1345,1368,57,null,1653,1682,57,null,1653,1682,57,null,1793,1824,57,null,1933,1967,57,null,1513,1539,57,null,1821,1853,57,null,1513,1539,57,null,1653,1682,57,null,1669,1697,57,null,1378,1401,57,null,1571,1598,57,null,1261,1282,57,null,1377,1401,57,null,1657,1686,57,null,null,null,null,null,null,null,null,null,1261,1282,57,null,1377,1401,57,null,1989,2024,57,null,1657,1686,57]
[1825,1856,58,null,1369,1392,58,null,1683,1711,58,null,1683,1711,58,null,1825,1856,58,null,1968,2001,58,null,1540,1566,58,null,1854,1885,58,null,1540,1566,58,null,1683,1711,58,null,1698,1727,58,null,1402,1426,58,null,1599,1626,58,null,1283,1305,58,null,1402,1425,58,null,1687,1715,58,null,null,null,null,null,null,null,null,null,1283,1305,58,null,1402,1425,58,null,2025,2059,58,null,1687,1715,58]
[1857,1888,59,null,1393,1416,59,null,1712,1741,59,null,1712,1741,59,null,1857,1888,59,null,2002,2036,59,null,1567,1593,59,null,1886,1918,59,null,1567,1593,59,null,1712,1741,59,null,1728,1757,59,null,1427,1450,59,null,1627,1654,59,null,1306,1327,59,null,1426,1450,59,null,1716,1745,59,null,null,null,null,null,null,null,null,null,1306,1327,59,null,1426,1450,59,null,2060,2095,59,null,1716,1745,59]
[1889,1920,60,null,1417,1440,60,null,1742,1770,60,null,1742,1770,60,null,1889,1920,60,null,2037,2070,60,null,1594,1620,60,null,1919,1950,60,null,1594,1620,60,null,1742,1770,60,null,1758,1787,60,null,1451,1475,60,null,1655,1683,60,null,1328,1350,60,null,1451,1475,60,null,1746,1775,60,null,null,null,null,null,null,null,null,null,1328,1350,60,null,1451,1475,60,null,2096,2130,60,null,1746,1775,60]
[1921,1952,61,null,1441,1464,61,null,1771,1800,61,null,1771,1800,61,null,1921,1952,61,null,2071,2105,61,null,1621,1647,61,null,1951,1983,61,null,1621,1647,61,null,1771,1800,61,null,1788,1817,61,null,1476,1500,61,null,1684,1711,61,null,1351,1372,61,null,1476,1499,61,null,1776,1804,61,null,null,null,null,null,null,null,null,null,1351,1372,61,null,1476,1499,61,null,2131,2166,61,null,1776,1804,61]
[1953,1984,62,null,1465,1488,62,null,1801,1829,62,null,1801,1829,62,null,1953,1984,62,null,2106,2139,62,null,1648,1674,62,null,1984,2015,62,null,1648,1674,62,null,1801,1829,62,null,1818,1846,62,null,1501,1524,62,null,1712,1739,62,null,1373,1395,62,null,1500,1524,62,null,1805,1834,62,null,null,null,null,null,null,null,null,null,1373,1395,62,null,1500,1524,62,null,2167,2201,62,null,1805,1834,62]
[1985,2016,63,null,1489,1512,63,null,1830,1859,63,null,1830,1859,63,null,1985,2016,63,null,2140,2174,63,null,1675,1701,63,null,2016,2048,63,null,1675,1701,63,null,1830,1859,63,null,1847,1876,63,null,1525,1549,63,null,1740,1767,63,null,1396,1417,63,null,1525,1548,63,null,1835,1863,63,null,null,null,null,null,null,null,null,null,1396,1417,63,null,1525,1548,63,null,2202,2237,63,null,1835,1863,63]
[2017,2048,64,null,1513,1536,64,null,1860,1888,64,null,1860,1888,64,null,2017,2048,64,null,2175,2208,64,null,1702,1728,64,null,2049,2080,64,null,1702,1728,64,null,1860,1888,64,null,1877,1906,64,null,1550,1573,64,null,1768,1795,64,null,1418,1440,64,null,1549,1573,64,null,1864,1893,64,null,null,null,null,null,null,null,null,null,1418,1440,64,null,1549,1573,64,null,2238,2272,64,null,1864,1893,64]
[2049,2080,65,null,1537,1560,65,null,1889,1918,65,null,1889,1918,65,null,2049,2080,65,null,2209,2243,65,null,1729,1755,65,null,2081,2113,65,null,1729,1755,65,null,1889,1918,65,null,1907,1936,65,null,1574,1598,65,null,1796,1823,65,null,1441,1462,65,null,1574,1597,65,null,1894,1922,65,null,null,null,null,null,null,null,null,null,1441,1462,65,null,1574,1597,65,null,2273,2308,65,null,1894,1922,65]
[2081,2112,66,null,1561,1584,66,null,1919,1947,66,null,1919,1947,66,null,2081,2112,66,null,2244,2277,66,null,1756,1782,66,null,2114,2145,66,null,1756,1782,66,null,1919,1947,66,null,1937,1966,66,null,1599,1623,66,null,1824,1851,66,null,1463,1485,66,null,1598,1622,66,null,1923,1952,66,null,null,null,null,null,null,null,null,null,1463,1485,66,null,1598,1622,66,null,2309,2343,66,null,1923,1952,66]
[2113,2144,67,null,1585,1608,67,null,1948,1977,67,null,1948,1977,67,null,2113,2144,67,null,2278,2312,67,null,1783,1809,67,null,2146,2178,67,null,1783,1809,67,null,1948,1977,67,null,1967,1995,67,null,1624,1647,67,null,1852,1879,67,null,1486,1507,67,null,1623,1647,67,null,1953,1982,67,null,null,null,null,null,null,null,null,null,1486,1507,67,null,1623,1647,67,null,2344,2379,67,null,1953,1982,67]
[2145,2176,68,null,1609,1632,68,null,1978,2006,68,null,1978,2006,68,null,2145,2176,68,null,2313,2346,68,null,1810,1836,68,null,2179,2210,68,null,1810,1836,68,null,1978,2006,68,null,1996,2025,68,null,1648,1672,68,null,1880,1907,68,null,1508,1530,68,null,1648,1671,68,null,1983,2011,68,null,null,null,null,null,null,null,null,null,1508,1530,68,null,1648,1671,68,null,2380,2414,68,null,1983,2011,68]
[2177,2208,69,null,1633,1656,69,null,2007,2036,69,null,2007,2036,69,null,2177,2208,69,null,2347,2381,69,null,1837,1863,69,null,2211,2243,69,null,1837,1863,69,null,2007,2036,69,null,2026,2055,69,null,1673,1696,69,null,1908,1935,69,null,1531,1552,69,null,1672,1696,69,null,2012,2041,69,null,null,null,null,null,null,null,null,null,1531,1552,69,null,1672,1696,69,null,2415,2450,69,null,2012,2041,69]
[2209,2240,70,null,1657,1680,70,null,2037,2065,70,null,2037,2065,70,null,2209,2240,70,null,2382,2415,70,null,1864,1890,70,null,2244,2275,70,null,1864,1890,70,null,2037,2065,70,null,2056,2085,70,null,1697,1721,70,null,1936,1963,70,null,1553,1575,70,null,1697,1720,70,null,2042,2070,70,null,null,null,null,null,null,null,null,null,1553,1575,70,null,1697,1720,70,null,2451,2485,70,null,2042,2070,70]
[2241,2272,71,null,1681,1704,71,null,2066,2095,71,null,2066,2095,71,null,2241,2272,71,null,2416,2450,71,null,1891,1917,71,null,2276,2308,71,null,1891,1917,71,null,2066,2095,71,null,2086,2115,71,null,1722,1746,71,null,1964,1991,71,null,1576,1597,71,null,1721,1745,71,null,2071,2100,71,null,null,null,null,null,null,null,null,null,1576,1597,71,null,1721,1745,71,null,2486,2521,71,null,2071,2100,71]
[2273,2304,72,null,1705,1728,72,null,2096,2124,72,null,2096,2124,72,null,2273,2304,72,null,2451,2484,72,null,1918,1944,72,null,2309,2340,72,null,1918,1944,72,null,2096,2124,72,null,2116,2144,72,null,1747,1770,72,null,1992,2019,72,null,1598,1620,72,null,1746,1770,72,null,2101,2130,72,null,null,null,null,null,null,null,null,null,1598,1620,72,null,1746,1770,72,null,2522,2556,72,null,2101,2130,72]
[2305,2336,73,null,1729,1752,73,null,2125,2154,73,null,2125,2154,73,null,2305,2336,73,null,2485,2519,73,null,null,null,null,null,null,null,null,null,null,null,null,null,null,null,null,null,2145,2174,73,null,1771,1795,73,null,2020,2047,73,null,1621,1642,73,null,1771,1794,73,null,2131,2159,73,null,null,null,null,null,null,null,null,null,1621,1642,73,null,1771,1794,73,null,2557,2592,73,null,2131,2159,73]
[2337,2368,74,null,1753,1776,74,null,2155,2183,74,null,2155,2183,74,null,2337,2368,74,null,2520,2553,74,null,null,null,null,null,null,null,null,null,null,null,null,null,null,null,null,null,2175,2204,74,null,1796,1819,74,null,2048,2075,74,null,1643,1665,74,null,1795,1819,74,null,2160,2189,74,null,null,null,null,null,null,null,null,null,1643,1665,74,null,1795,1819,74,null,2593,2627,74,null,2160,2189,74]
[2369,2400,75,null,1777,1800,75,null,2184,2213,75,null,2184,2213,75,null,2369,2400,75,null,2554,2588,75,null,null,null,null,null,null,null,null,null,null,null,null,null,null,null,null,null,2205,2234,75,null,1820,1844,75,null,2076,2103,75,null,1666,1687,75,null,1820,1843,75,null,2190,2218,75,null,null,null,null,null,null,null,null,null,1666,1687,75,null,1820,1843,75,null,2628,2663,75,null,2190,2218,75]
[2401,2432,76,null,1801,1824,76,null,2214,2242,76,null,2214,2242,76,null,2401,2432,76,null,2589,2622,76,null,null,null,null,null,null,null,null,null,null,null,null,null,null,null,null,null,2235,2263,76,null,1845,1868,76,null,2104,2131,76,null,1688,1710,76,null,1844,1868,76,null,2219,2248,76,null,null,null,null,null,null,null,null,null,1688,1710,76,null,1844,1868,76,null,2664,2698,76,null,2219,2248,76]
[2433,2464,77,null,1825,1848,77,null,2243,2272,77,null,2243,2272,77,null,2433,2464,77,null,2623,2657,77,null,null,null,null,null,null,null,null,null,null,null,null,null,null,null,null,null,2264,2293,77,null,1869,1893,77,null,2132,2159,77,null,1711,1732,77,null,1869,1892,77,null,2249,2277,77,null,null,null,null,null,null,null,null,null,1711,1732,77,null,1869,1892,77,null,2699,2734,77,null,2249,2277,77]
[2465,2496,78,null,1849,1872,78,null,2273,2301,78,null,2273,2301,78,null,2465,2496,78,null,2658,2691,78,null,null,null,null,null,null,null,null,null,null,null,null,null,null,null,null,null,2294,2323,78,null,1894,1918,78,null,2160,2187,78,null,1733,1755,78,null,1893,1917,78,null,2278,2307,78,null,null,null,null,null,null,null,null,null,1733,1755,78,null,1893,1917,78,null,2735,2769,78,null,2278,2307,78]
[2497,2528,79,null,1873,1896,79,null,2302,2331,79,null,2302,2331,79,null,2497,2528,79,null,2692,2726,79,null,null,null,null,null,null,null,null,null,null,null,null,null,null,null,null,null,2324,2353,79,null,1919,1942,79,null,2188,2215,79,null,1756,1777,79,null,1918,1942,79,null,2308,2337,79,null,null,null,null,null,null,null,null,null,1756,1777,79,null,1918,1942,79,null,2770,2805,79,null,2308,2337,79]
[2529,2560,80,null,1897,1920,80,null,2332,2360,80,null,2332,2360,80,null,2529,2560,80,null,2727,2760,80,null,null,null,null,null,null,null,null,null,null,null,null,null,null,null,null,null,2354,2383,80,null,1943,1967,80,null,2216,2244,80,null,1778,1800,80,null,1943,1966,80,null,2338,2366,80,null,null,null,null,null,null,null,null,null,1778,1800,80,null,1943,1966,80,null,2806,2840,80,null,2338,2366,80]
[2561,2592,81,null,1921,1944,81,null,2361,2390,81,null,2361,2390,81,null,2561,2592,81,null,2761,2795,81,null,null,null,null,null,null,null,null,null,null,null,null,null,null,null,null,null,2384,2412,81,null,1968,1991,81,null,2245,2272,81,null,1801,1822,81,null,1967,1991,81,null,2367,2396,81,null,null,null,null,null,null,null,null,null,1801,1822,81,null,1967,1991,81,null,2841,2876,81,null,2367,2396,81]
[2593,2624,82,null,1945,1968,82,null,2391,2419,82,null,2391,2419,82,null,2593,2624,82,null,2796,2829,82,null,null,null,null,null,null,null,null,null,null,null,null,null,null,null,null,null,2413,2442,82,null,1992,2016,82,null,2273,2300,82,null,1823,1845,82,null,1992,2015,82,null,2397,2425,82,null,null,null,null,null,null,null,null,null,1823,1845,82,null,1992,2015,82,null,2877,2911,82,null,2397,2425,82]
[2625,2656,83,null,1969,1992,83,null,2420,2449,83,null,2420,2449,83,null,2625,2656,83,null,2830,2864,83,null,null,null,null,null,null,null,null,null,null,null,null,null,null,null,null,null,2443,2472,83,null,2017,2041,83,null,2301,2328,83,null,1846,1867,83,null,2016,2040,83,null,2426,2455,83,null,null,null,null,null,null,null,null,null,1846,1867,83,null,2016,2040,83,null,2912,2947,83,null,2426,2455,83]
[2657,2688,84,null,1993,2016,84,null,2450,2478,84,null,2450,2478,84,null,2657,2688,84,null,2865,2898,84,null,null,null,null,null,null,null,null,null,null,null,null,null,null,null,null,null,2473,2502,84,null,2042,2065,84,null,2329,2356,84,null,1868,1890,84,null,2041,2065,84,null,2456,2485,84,null,null,null,null,null,null,null,null,null,1868,1890,84,null,2041,2065,84,null,2948,2982,84,null,2456,2485,84]
[2689,2720,85,null,2017,2040,85,null,2479,2508,85,null,2479,2508,85,null,2689,2720,85,null,2899,2933,85,null,null,null,null,null,null,null,null,null,null,null,null,null,null,null,null,null,2503,2532,85,null,2066,2090,85,null,2357,2384,85,null,1891,1912,85,null,2066,2089,85,null,2486,2514,85,null,null,null,null,null,null,null,null,null,1891,1912,85,null,2066,2089,85,null,2983,3018,85,null,2486,2514,85]
[2721,2752,86,null,2041,2064,86,null,2509,2537,86,null,2509,2537,86,null,2721,2752,86,null,2934,2967,86,null,null,null,null,null,null,null,null,null,null,null,null,null,null,null,null,null,2533,2561,86,null,2091,2114,86,null,2385,2412,86,null,1913,1935,86,null,2090,2114,86,null,2515,2544,86,null,null,null,null,null,null,null,null,null,1913,1935,86,null,2090,2114,86,null,3019,3053,86,null,2515,2544,86]
[2753,2784,87,null,2065,2088,87,null,2538,2567,87,null,2538,2567,87,null,2753,2784,87,null,2968,3002,87,null,null,null,null,null,null,null,null,null,null,null,null,null,null,null,null,null,2562,2591,87,null,2115,2139,87,null,2413,2440,87,null,1936,1957,87,null,2115,2138,87,null,2545,2573,87,null,null,null,null,null,null,null,null,null,1936,1957,87,null,2115,2138,87,null,3054,3089,87,null,2545,2573,87]
[2785,2816,88,null,2089,2112,88,null,2568,2596,88,null,2568,2596,88,null,2785,2816,88,null,3003,3036,88,null,null,null,null,null,null,null,null,null,null,null,null,null,null,null,null,null,2592,2621,88,null,2140,2164,88,null,2441,2468,88,null,1958,1980,88,null,2139,2163,88,null,2574,2603,88,null,null,null,null,null,null,null,null,null,1958,1980,88,null,2139,2163,88,null,3090,3124,88,null,2574,2603,88]
[2817,2848,89,null,2113,2136,89,null,2597,2626,89,null,2597,2626,89,null,2817,2848,89,null,3037,3071,89,null,null,null,null,null,null,null,null,null,null,null,null,null,null,null,null,null,2622,2651,89,null,2165,2188,89,null,2469,2496,89,null,1981,2002,89,null,2164,2187,89,null,2604,2632,89,null,null,null,null,null,null,null,null,null,1981,2002,89,null,2164,2187,89,null,3125,3160,89,null,2604,2632,89]
[2849,2880,90,null,2137,2160,90,null,2627,2655,90,null,2627,2655,90,null,2849,2880,90,null,3072,3105,90,null,null,null,null,null,null,null,null,null,null,null,null,null,null,null,null,null,2652,2680,90,null,2189,2213,90,null,2497,2524,90,null,2003,2025,90,null,2188,2212,90,null,2633,2662,90,null,null,null,null,null,null,null,null,null,2003,2025,90,null,2188,2212,90,null,3161,3195,90,null,2633,2662,90]
[2881,2912,91,null,2161,2184,91,null,2656,2685,91,null,2656,2685,91,null,2881,2912,91,null,3106,3140,91,null,null,null,null,null,null,null,null,null,null,null,null,null,null,null,null,null,2681,2710,91,null,2214,2237,91,null,2525,2552,91,null,2026,2047,91,null,2213,2237,91,null,2663,2692,91,null,null,null,null,null,null,null,null,null,2026,2047,91,null,2213,2237,91,null,3196,3231,91,null,2663,2692,91]
[2913,2944,92,null,2185,2208,92,null,2686,2714,92,null,2686,2714,92,null,2913,2944,92,null,3141,3174,92,null,null,null,null,null,null,null,null,null,null,null,null,null,null,null,null,null,2711,2740,92,null,2238,2262,92,null,2553,2580,92,null,2048,2070,92,null,2238,2261,92,null,2693,2721,92,null,null,null,null,null,null,null,null,null,2048,2070,92,null,2238,2261,92,null,3232,3266,92,null,2693,2721,92]
[2945,2976,93,null,2209,2232,93,null,2715,2744,93,null,2715,2744,93,null,2945,2976,93,null,3175,3209,93,null,null,null,null,null,null,null,null,null,null,null,null,null,null,null,null,null,2741,2770,93,null,2263,2287,93,null,2581,2608,93,null,2071,2092,93,null,2262,2286,93,null,2722,2751,93,null,null,null,null,null,null,null,null,null,2071,2092,93,null,2262,2286,93,null,3267,3302,93,null,2722,2751,93]
[2977,3008,94,null,2233,2256,94,null,2745,2773,94,null,2745,2773,94,null,2977,3008,94,null,3210,3243,94,null,null,null,null,null,null,null,null,null,null,null,null,null,null,null,null,null,2771,2800,94,null,2288,2311,94,null,2609,2636,94,null,2093,2115,94,null,2287,2310,94,null,2752,2780,94,null,null,null,null,null,null,null,null,null,2093,2115,94,null,2287,2310,94,null,3303,3337,94,null,2752,2780,94]
[3009,3040,95,null,2257,2280,95,null,2774,2803,95,null,2774,2803,95,null,3009,3040,95,null,3244,3278,95,null,null,null,null,null,null,null,null,null,null,null,null,null,null,null,null,null,2801,2829,95,null,2312,2336,95,null,2637,2664,95,null,2116,2137,95,null,2311,2335,95,null,2781,2810,95,null,null,null,null,null,null,null,null,null,2116,2137,95,null,2311,2335,95,null,3338,3373,95,null,2781,2810,95]
[3041,3072,96,null,2281,2304,96,null,2804,2832,96,null,2804,2832,96,null,3041,3072,96,null,3279,3312,96,null,null,null,null,null,null,null,null,null,null,null,null,null,null,null,null,null,2830,2859,96,null,2337,2360,96,null,2665,2692,96,null,2138,2160,96,null,2336,2360,96,null,2811,2840,96,null,null,null,null,null,null,null,null,null,2138,2160,96,null,2336,2360,96,null,3374,3408,96,null,2811,2840,96]
[3073,3104,97,null,2305,2328,97,null,2833,2862,97,null,2833,2862,97,null,3073,3104,97,null,3313,3347,97,null,null,null,null,null,null,null,null,null,null,null,null,null,null,null,null,null,2860,2889,97,null,2361,2385,97,null,2693,2720,97,null,2161,2182,97,null,2361,2384,97,null,2841,2869,97,null,null,null,null,null,null,null,null,null,2161,2182,97,null,2361,2384,97,null,3409,3444,97,null,2841,2869,97]
[3105,3136,98,null,2329,2352,98,null,2863,2891,98,null,2863,2891,98,null,3105,3136,98,null,3348,3381,98,null,null,null,null,null,null,null,null,null,null,null,null,null,null,null,null,null,2890,2919,98,null,2386,2409,98,null,2721,2748,98,null,2183,2205,98,null,2385,2409,98,null,2870,2899,98,null,null,null,null,null,null,null,null,null,2183,2205,98,null,2385,2409,98,null,3445,3479,98,null,2870,2899,98]
[3137,3168,99,null,2353,2376,99,null,2892,2921,99,null,2892,2921,99,null,3137,3168,99,null,3382,3416,99,null,null,null,null,null,null,null,null,null,null,null,null,null,null,null,null,null,2920,2949,99,null,2410,2434,99,null,2749,2777,99,null,2206,2227,99,null,2410,2433,99,null,2900,2928,99,null,null,null,null,null,null,null,null,null,2206,2227,99,null,2410,2433,99,null,3480,3515,99,null,2900,2928,99]
[3169,3200,100,null,2377,2400,100,null,2922,2950,100,null,2922,2950,100,null,3169,3200,100,null,3417,3450,100,null,null,null,null,null,null,null,null,null,null,null,null,null,null,null,null,null,2950,2978,100,null,2435,2459,100,null,2778,2805,100,null,2228,2250,100,null,2434,2458,100,null,2929,2958,100,null,null,null,null,null,null,null,null,null,2228,2250,100,null,2434,2458,100,null,3516,3550,100,null,2929,2958,100]
[3201,3232,101,null,2401,2424,101,null,2951,2980,101,null,2951,2980,101,null,3201,3232,101,null,3451,3485,101,null,null,null,null,null,null,null,null,null,null,null,null,null,null,null,null,null,2979,3008,101,null,2460,2483,101,null,2806,2833,101,null,2251,2272,101,null,2459,2482,101,null,2959,2987,101,null,null,null,null,null,null,null,null,null,2251,2272,101,null,2459,2482,101,null,3551,3586,101,null,2959,2987,101]
[3233,3264,102,null,2425,2448,102,null,2981,3009,102,null,2981,3009,102,null,3233,3264,102,null,3486,3519,102,null,null,null,null,null,null,null,null,null,null,null,null,null,null,null,null,null,3009,3038,102,null,2484,2508,102,null,2834,2861,102,null,2273,2295,102,null,2483,2507,102,null,2988,3017,102,null,null,null,null,null,null,null,null,null,2273,2295,102,null,2483,2507,102,null,3587,3621,102,null,2988,3017,102]
[3265,3296,103,null,2449,2472,103,null,3010,3039,103,null,3010,3039,103,null,3265,3296,103,null,3520,3554,103,null,null,null,null,null,null,null,null,null,null,null,null,null,null,null,null,null,3039,3068,103,null,2509,2532,103,null,2862,2889,103,null,2296,2317,103,null,2508,2532,103,null,3018,3047,103,null,null,null,null,null,null,null,null,null,2296,2317,103,null,2508,2532,103,null,3622,3657,103,null,3018,3047,103]
[3297,3328,104,null,2473,2496,104,null,3040,3068,104,null,3040,3068,104,null,3297,3328,104,null,3555,3588,104,null,null,null,null,null,null,null,null,null,null,null,null,null,null,null,null,null,3069,3098,104,null,2533,2557,104,null,2890,2917,104,null,2318,2340,104,null,2533,2556,104,null,3048,3076,104,null,null,null,null,null,null,null,null,null,2318,2340,104,null,2533,2556,104,null,3658,3692,104,null,3048,3076,104]
[3329,3360,105,null,2497,2520,105,null,3069,3098,105,null,3069,3098,105,null,3329,3360,105,null,3589,3623,105,null,null,null,null,null,null,null,null,null,null,null,null,null,null,null,null,null,3099,3127,105,null,2558,2582,105,null,2918,2945,105,null,2341,2362,105,null,2557,2581,105,null,3077,3106,105,null,null,null,null,null,null,null,null,null,2341,2362,105,null,2557,2581,105,null,3693,3728,105,null,3077,3106,105]
[3361,3392,106,null,2521,2544,106,null,3099,3127,106,null,3099,3127,106,null,3361,3392,106,null,3624,3657,106,null,null,null,null,null,null,null,null,null,null,null,null,null,null,null,null,null,3128,3157,106,null,2583,2606,106,null,2946,2973,106,null,2363,2385,106,null,2582,2605,106,null,3107,3135,106,null,null,null,null,null,null,null,null,null,2363,2385,106,null,2582,2605,106,null,3729,3763,106,null,3107,3135,106]
[3393,3424,107,null,2545,2568,107,null,3128,3157,107,null,3128,3157,107,null,3393,3424,107,null,3658,3692,107,null,null,null,null,null,null,null,null,null,null,null,null,null,null,null,null,null,3158,3187,107,null,2607,2631,107,null,2974,3001,107,null,2386,2407,107,null,2606,2630,107,null,3136,3165,107,null,null,null,null,null,null,null,null,null,2386,2407,107,null,2606,2630,107,null,3764,3799,107,null,3136,3165,107]
[3425,3456,108,null,2569,2592,108,null,3158,3186,108,null,3158,3186,108,null,3425,3456,108,null,3693,3726,108,null,null,null,null,null,null,null,null,null,null,null,null,null,null,null,null,null,3188,3217,108,null,2632,2655,108,null,3002,3029,108,null,2408,2430,108,null,2631,2655,108,null,3166,3195,108,null,null,null,null,null,null,null,null,null,2408,2430,108,null,2631,2655,108,null,3800,3834,108,null,3166,3195,108]
[3457,3488,109,null,2593,2616,109,null,3187,3216,109,null,3187,3216,109,null,3457,3488,109,null,3727,3761,109,null,null,null,null,null,null,null,null,null,null,null,null,null,null,null,null,null,3218,3246,109,null,2656,2680,109,null,3030,3057,109,null,2431,2452,109,null,2656,2679,109,null,3196,3224,109,null,null,null,null,null,null,null,null,null,2431,2452,109,null,2656,2679,109,null,3835,3870,109,null,3196,3224,109]
[3489,3520,110,null,2617,2640,110,null,3217,3245,110,null,3217,3245,110,null,3489,3520,110,null,3762,3795,110,null,null,null,null,null,null,null,null,null,null,null,null,null,null,null,null,null,3247,3276,110,null,2681,2705,110,null,3058,3085,110,null,2453,2475,110,null,2680,2704,110,null,3225,3254,110,null,null,null,null,null,null,null,null,null,2453,2475,110,null,2680,2704,110,null,3871,3905,110,null,3225,3254,110]
[3521,3552,111,null,2641,2664,111,null,3246,3275,111,null,3246,3275,111,null,3521,3552,111,null,3796,3830,111,null,null,null,null,null,null,null,null,null,null,null,null,null,null,null,null,null,3277,3306,111,null,2706,2729,111,null,3086,3113,111,null,2476,2497,111,null,2705,2728,111,null,3255,3283,111,null,null,null,null,null,null,null,null,null,2476,2497,111,null,2705,2728,111,null,3906,3941,111,null,3255,3283,111]
[3553,3584,112,null,2665,2688,112,null,3276,3304,112,null,3276,3304,112,null,3553,3584,112,null,3831,3864,112,null,null,null,null,null,null,null,null,null,null,null,null,null,null,null,null,null,3307,3336,112,null,2730,2754,112,null,3114,3141,112,null,2498,2520,112,null,2729,2753,112,null,3284,3313,112,null,null,null,null,null,null,null,null,null,2498,2520,112,null,2729,2753,112,null,3942,3976,112,null,3284,3313,112]
[3585,3616,113,null,2689,2712,113,null,3305,3334,113,null,3305,3334,113,null,3585,3616,113,null,3865,3899,113,null,null,null,null,null,null,null,null,null,null,null,null,null,null,null,null,null,3337,3366,113,null,2755,2778,113,null,3142,3169,113,null,2521,2542,113,null,2754,2777,113,null,3314,3342,113,null,null,null,null,null,null,null,null,null,2521,2542,113,null,2754,2777,113,null,3977,4012,113,null,3314,3342,113]
[3617,3648,114,null,2713,2736,114,null,3335,3363,114,null,3335,3363,114,null,3617,3648,114,null,3900,3933,114,null,null,null,null,null,null,null,null,null,null,null,null,null,null,null,null,null,3367,3395,114,null,2779,2803,114,null,3170,3197,114,null,2543,2565,114,null,2778,2802,114,null,3343,3372,114,null,null,null,null,null,null,null,null,null,2543,2565,114,null,2778,2802,114,null,4013,4047,114,null,3343,3372,114]
[3649,3680,115,null,2737,2760,115,null,3364,3393,115,null,3364,3393,115,null,3649,3680,115,null,3934,3968,115,null,null,null,null,null,null,null,null,null,null,null,null,null,null,null,null,null,3396,3425,115,null,2804,2828,115,null,3198,3225,115,null,2566,2587,115,null,2803,2827,115,null,3373,3402,115,null,null,null,null,null,null,null,null,null,2566,2587,115,null,2803,2827,115,null,4048,4083,115,null,3373,3402,115]
[3681,3712,116,null,2761,2784,116,null,3394,3422,116,null,3394,3422,116,null,3681,3712,116,null,3969,4002,116,null,null,null,null,null,null,null,null,null,null,null,null,null,null,null,null,null,3426,3455,116,null,2829,2852,116,null,3226,3253,116,null,2588,2610,116,null,2828,2851,116,null,3403,3431,116,null,null,null,null,null,null,null,null,null,2588,2610,116,null,2828,2851,116,null,4084,4118,116,null,3403,3431,116]
[3713,3744,117,null,2785,2808,117,null,3423,3452,117,null,3423,3452,117,null,3713,3744,117,null,4003,4037,117,null,null,null,null,null,null,null,null,null,null,null,null,null,null,null,null,null,3456,3485,117,null,2853,2877,117,null,3254,3281,117,null,2611,2632,117,null,2852,2876,117,null,3432,3461,117,null,null,null,null,null,null,null,null,null,2611,2632,117,null,2852,2876,117,null,4119,4154,117,null,3432,3461,117]
[3745,3776,118,null,2809,2832,118,null,3453,3481,118,null,3453,3481,118,null,3745,3776,118,null,4038,4071,118,null,null,null,null,null,null,null,null,null,null,null,null,null,null,null,null,null,3486,3515,118,null,2878,2901,118,null,3282,3309,118,null,2633,2655,118,null,2877,2900,118,null,3462,3490,118,null,null,null,null,null,null,null,null,null,2633,2655,118,null,2877,2900,118,null,4155,4189,118,null,3462,3490,118]
[3777,3808,119,null,2833,2856,119,null,3482,3511,119,null,3482,3511,119,null,3777,3808,119,null,4072,4106,119,null,null,null,null,null,null,null,null,null,null,null,null,null,null,null,null,null,3516,3544,119,null,2902,2926,119,null,3310,3338,119,null,2656,2677,119,null,2901,2925,119,null,3491,3520,119,null,null,null,null,null,null,null,null,null,2656,2677,119,null,2901,2925,119,null,4190,4225,119,null,3491,3520,119]
[3809,3840,120,null,2857,2880,120,null,3512,3540,120,null,3512,3540,120,null,3809,3840,120,null,4107,4140,120,null,null,null,null,null,null,null,null,null,null,null,null,null,null,null,null,null,3545,3574,120,null,2927,2951,120,null,3339,3366,120,null,2678,2700,120,null,2926,2950,120,null,3521,3550,120,null,null,null,null,null,null,null,null,null,2678,2700,120,null,2926,2950,120,null,4226,4260,120,null,3521,3550,120]
[3841,3872,121,null,2881,2904,121,null,3541,3570,121,null,3541,3570,121,null,3841,3872,121,null,4141,4175,121,null,null,null,null,null,null,null,null,null,null,null,null,null,null,null,null,null,3575,3604,121,null,2952,2975,121,null,3367,3394,121,null,2701,2722,121,null,2951,2974,121,null,3551,3579,121,null,null,null,null,null,null,null,null,null,2701,2722,121,null,2951,2974,121,null,4261,4296,121,null,3551,3579,121]
[3873,3904,122,null,2905,2928,122,null,3571,3599,122,null,3571,3599,122,null,3873,3904,122,null,4176,4209,122,null,null,null,null,null,null,null,null,null,null,null,null,null,null,null,null,null,3605,3634,122,null,2976,3000,122,null,3395,3422,122,null,2723,2745,122,null,2975,2999,122,null,3580,3609,122,null,null,null,null,null,null,null,null,null,2723,2745,122,null,2975,2999,122,null,4297,4331,122,null,3580,3609,122]
[3905,3936,123,null,2929,2952,123,null,3600,3629,123,null,3600,3629,123,null,3905,3936,123,null,4210,4244,123,null,null,null,null,null,null,null,null,null,null,null,null,null,null,null,null,null,3635,3664,123,null,3001,3024,123,null,3423,3450,123,null,2746,2767,123,null,3000,3023,123,null,3610,3638,123,null,null,null,null,null,null,null,null,null,2746,2767,123,null,3000,3023,123,null,4332,4367,123,null,3610,3638,123]
[3937,3968,124,null,2953,2976,124,null,3630,3658,124,null,3630,3658,124,null,3937,3968,124,null,4245,4278,124,null,null,null,null,null,null,null,null,null,null,null,null,null,null,null,null,null,3665,3693,124,null,3025,3049,124,null,3451,3478,124,null,2768,2790,124,null,3024,3048,124,null,3639,3668,124,null,null,null,null,null,null,null,null,null,2768,2790,124,null,3024,3048,124,null,4368,4402,124,null,3639,3668,124]
[3969,4000,125,null,2977,3000,125,null,3659,3688,125,null,3659,3688,125,null,3969,4000,125,null,4279,4313,125,null,null,null,null,null,null,null,null,null,null,null,null,null,null,null,null,null,3694,3723,125,null,3050,3073,125,null,3479,3506,125,null,2791,2812,125,null,3049,3072,125,null,3669,3697,125,null,null,null,null,null,null,null,null,null,2791,2812,125,null,3049,3072,125,null,4403,4438,125,null,3669,3697,125]
[4001,4032,126,null,3001,3024,126,null,3689,3717,126,null,3689,3717,126,null,4001,4032,126,null,4314,4347,126,null,null,null,null,null,null,null,null,null,null,null,null,null,null,null,null,null,3724,3753,126,null,3074,3098,126,null,3507,3534,126,null,2813,2835,126,null,3073,3097,126,null,3698,3727,126,null,null,null,null,null,null,null,null,null,2813,2835,126,null,3073,3097,126,null,4439,4473,126,null,3698,3727,126]
[4033,4064,127,null,3025,3048,127,null,3718,3747,127,null,3718,3747,127,null,4033,4064,127,null,4348,4382,127,null,null,null,null,null,null,null,null,null,null,null,null,null,null,null,null,null,3754,3783,127,null,3099,3123,127,null,3535,3562,127,null,2836,2857,127,null,3098,3122,127,null,3728,3757,127,null,null,null,null,null,null,null,null,null,2836,2857,127,null,3098,3122,127,null,4474,4509,127,null,3728,3757,127]
[4065,4096,128,null,3049,3072,128,null,3748,3776,128,null,3748,3776,128,null,4065,4096,128,null,4383,4416,128,null,null,null,null,null,null,null,null,null,null,null,null,null,null,null,null,null,3784,3812,128,null,3124,3147,128,null,3563,3590,128,null,2858,2880,128,null,3123,3146,128,null,3758,3786,128,null,null,null,null,null,null,null,null,null,2858,2880,128,null,3123,3146,128,null,4510,4544,128,null,3758,3786,128]
[4097,4128,129,null,3073,3096,129,null,3777,3806,129,null,3777,3806,129,null,4097,4128,129,null,4417,4451,129,null,null,null,null,null,null,null,null,null,null,null,null,null,null,null,null,null,3813,3842,129,null,3148,3172,129,null,3591,3618,129,null,2881,2902,129,null,3147,3171,129,null,3787,3816,129,null,null,null,null,null,null,null,null,null,2881,2902,129,null,3147,3171,129,null,4545,4580,129,null,3787,3816,129]
[4129,4160,130,null,3097,3120,130,null,3807,3835,130,null,3807,3835,130,null,4129,4160,130,null,4452,4485,130,null,null,null,null,null,null,null,null,null,null,null,null,null,null,null,null,null,3843,3872,130,null,3173,3196,130,null,3619,3646,130,null,2903,2925,130,null,3172,3195,130,null,3817,3845,130,null,null,null,null,null,null,null,null,null,2903,2925,130,null,3172,3195,130,null,4581,4615,130,null,3817,3845,130]
[null,null,null,null,null,null,null,null,null,null,null,null,null,null,null,null,null,null,null,null,4486,4520,131,null,null,null,null,null,null,null,null,null,null,null,null,null,null,null,null,null,3873,3902,131,null,3197,3221,131,null,3647,3674,131,null,2926,2947,131,null,3196,3220,131,null,3846,3875,131,null,null,null,null,null,null,null,null,null,2926,2947,131,null,3196,3220,131,null,4616,4651,131,null,3846,3875,131]
[null,null,null,null,null,null,null,null,null,null,null,null,null,null,null,null,null,null,null,null,null,null,null,null,null,null,null,null,null,null,null,null,null,null,null,null,null,null,null,null,3903,3932,132,null,3222,3246,132,null,3675,3702,132,null,2948,2970,132,null,3221,3245,132,null,3876,3905,132,null,null,null,null,null,null,null,null,null,2948,2970,132,null,3221,3245,132,null,null,null,null,null,3876,3905,132]
[null,null,null,null,null,null,null,null,null,null,null,null,null,null,null,null,null,null,null,null,null,null,null,null,null,null,null,null,null,null,null,null,null,null,null,null,null,null,null,null,3933,3961,133,null,3247,3270,133,null,3703,3730,133,null,2971,2992,133,null,3246,3269,133,null,3906,3934,133,null,null,null,null,null,null,null,null,null,2971,2992,133,null,3246,3269,133,null,null,null,null,null,3906,3934,133]
[null,null,null,null,null,null,null,null,null,null,null,null,null,null,null,null,null,null,null,null,null,null,null,null,null,null,null,null,null,null,null,null,null,null,null,null,null,null,null,null,3962,3991,134,null,3271,3295,134,null,3731,3758,134,null,2993,3015,134,null,3270,3294,134,null,3935,3964,134,null,null,null,null,null,null,null,null,null,2993,3015,134,null,3270,3294,134,null,null,null,null,null,3935,3964,134]
[null,null,null,null,null,null,null,null,null,null,null,null,null,null,null,null,null,null,null,null,null,null,null,null,null,null,null,null,null,null,null,null,null,null,null,null,null,null,null,null,3992,4021,135,null,3296,3319,135,null,3759,3786,135,null,3016,3037,135,null,3295,3318,135,null,3965,3993,135,null,null,null,null,null,null,null,null,null,3016,3037,135,null,3295,3318,135,null,null,null,null,null,3965,3993,135]
[null,null,null,null,null,null,null,null,null,null,null,null,null,null,null,null,null,null,null,null,null,null,null,null,null,null,null,null,null,null,null,null,null,null,null,null,null,null,null,null,4022,4051,136,null,3320,3344,136,null,3787,3814,136,null,3038,3060,136,null,3319,3343,136,null,3994,4023,136,null,null,null,null,null,null,null,null,null,3038,3060,136,null,3319,3343,136,null,null,null,null,null,3994,4023,136]
[null,null,null,null,null,null,null,null,null,null,null,null,null,null,null,null,null,null,null,null,null,null,null,null,null,null,null,null,null,null,null,null,null,null,null,null,null,null,null,null,4052,4081,137,null,3345,3369,137,null,3815,3842,137,null,3061,3082,137,null,3344,3367,137,null,4024,4052,137,null,null,null,null,null,null,null,null,null,3061,3082,137,null,3344,3367,137,null,null,null,null,null,4024,4052,137]
[null,null,null,null,null,null,null,null,null,null,null,null,null,null,null,null,null,null,null,null,null,null,null,null,null,null,null,null,null,null,null,null,null,null,null,null,null,null,null,null,4082,4110,138,null,3370,3393,138,null,3843,3870,138,null,3083,3105,138,null,3368,3392,138,null,4053,4082,138,null,null,null,null,null,null,null,null,null,3083,3105,138,null,3368,3392,138,null,null,null,null,null,4053,4082,138]
[null,null,null,null,null,null,null,null,null,null,null,null,null,null,null,null,null,null,null,null,null,null,null,null,null,null,null,null,null,null,null,null,null,null,null,null,null,null,null,null,4111,4140,139,null,3394,3418,139,null,3871,3899,139,null,3106,3127,139,null,3393,3417,139,null,4083,4112,139,null,null,null,null,null,null,null,null,null,3106,3127,139,null,3393,3417,139,null,null,null,null,null,4083,4112,139]
[null,null,null,null,null,null,null,null,null,null,null,null,null,null,null,null,null,null,null,null,null,null,null,null,null,null,null,null,null,null,null,null,null,null,null,null,null,null,null,null,4141,4170,140,null,3419,3442,140,null,3900,3927,140,null,3128,3150,140,null,3418,3441,140,null,4113,4141,140,null,null,null,null,null,null,null,null,null,3128,3150,140,null,3418,3441,140,null,null,null,null,null,4113,4141,140]

{"sheet":"4x4","index":5,"n_rows":143,"n_cols":89,"rows_kept":143,"cut":false,"hidden":true,"merged":[[0,44,0,46],[0,0,0,2],[0,4,0,6],[0,8,0,10],[0,12,0,14],[0,16,0,18],[0,20,0,22],[0,24,0,26],[0,28,0,30],[0,32,0,34],[0,36,0,38],[0,40,0,42],[0,84,0,86],[0,72,0,74],[0,76,0,78],[0,48,0,50],[0,52,0,54],[0,56,0,58],[0,60,0,62],[0,64,0,66],[0,68,0,70]]}
["Dist K-3",null,null,null,"K-3 State",null,null,null,"K-3 PHBAO",null,null,null,"Mag II K-3 PHBAO",null,null,null,"Mag I K-3 Deseg/Receiver",null,null,null,"Dist 4-5 (6) for Magnet I",null,null,null,"4-5 (6) PHBAO",null,null,null,"4-5(6) Deseg/Receiver",null,null,null,"Mag II 4-5 (6) PHBAO",null,null,null,"Mag I 4-5(6) Deseg/Receiver",null,null,null,"6-8 District Norm",null,null,null,"6-8 PHBAO",null,null,null,"6-8 Deseg/Receiver",null,null,null,"Mag II  6-8",null,null,null,"Mag I 6-8 Deseg/Receiver",null,null,null,"9-12 District Norm",null,null,null,"9-10 CSR PHBAO",null,null,null,"9-10 CSR Deseg/Receiver",null,null,null,"Mag II 9-12 PHBAO",null,null,null,"Mag I 9-12 Deseg/Receiver",null,null,null,"4-5 District for Deseg/PHBAO/Magnet II",null,null,null,"6-8 District for TIIG Magnet I and TIIG Magnet II",null,null,null,"Updated 1/4/22"]
[]
[-1,0,0,null,-1,0,0,null,-1,0,0,null,-1,0,0,null,-1,0,0,null,-1,0,0,null,-1,0,0,null,-1,0,0,null,-1,0,0,null,-1,0,0,null,-1,0,0,null,-1,0,0,null,-1,0,0,null,-1,0,0,null,-1,0,0,null,-1,0,0,null,-1,0,0,null,-1,0,0,null,-1,0,0,null,-1,0,0,null,-1,0,0,null,-1,0,0]
[1,32,1,null,1,24,1,null,1,30,1,null,1,30,1,null,1,32,1,null,1,35,1,null,1,27,1,null,1,33,1,null,1,27,1,null,1,30,1,null,1,26,1,null,1,21,1,null,1,25,1,null,1,20,1,null,1,22,1,null,1,26,1,null,1,110,1,null,1,380,1,null,1,20,1,null,1,22,1,null,1,36,1,null,1,26,1]
[33,64,2,null,25,48,2,null,31,59,2,null,31,59,2,null,33,64,2,null,36,69,2,null,28,54,2,null,34,65,2,null,28,54,2,null,31,59,2,null,27,53,2,null,22,43,2,null,26,50,2,null,21,40,2,null,23,44,2,null,27,53,2,null,111,230,2,null,381,770,2,null,21,40,2,null,23,44,2,null,37,71,2,null,27,53,2]
[65,96,3,null,49,72,3,null,60,89,3,null,60,89,3,null,65,96,3,null,70,104,3,null,55,81,3,null,66,98,3,null,55,81,3,null,60,89,3,null,54,80,3,null,44,64,3,null,51,75,3,null,41,60,3,null,45,66,3,null,54,79,3,null,231,340,3,null,771,1150,3,null,41,60,3,null,45,66,3,null,72,107,3,null,54,79,3]
[97,128,4,null,73,96,4,null,90,118,4,null,90,118,4,null,97,128,4,null,105,138,4,null,82,108,4,null,99,130,4,null,82,108,4,null,90,118,4,null,81,107,4,null,65,86,4,null,76,100,4,null,61,81,4,null,67,88,4,null,80,106,4,null,341,450,4,null,1151,1540,4,null,61,81,4,null,67,88,4,null,108,142,4,null,80,106,4]
[129,160,5,null,97,120,5,null,119,148,5,null,119,148,5,null,129,160,5,null,139,173,5,null,109,135,5,null,131,163,5,null,109,135,5,null,119,148,5,null,108,133,5,null,87,108,5,null,101,125,5,null,82,101,5,null,89,110,5,null,107,133,5,null,451,560,5,null,1541,1920,5,null,82,101,5,null,89,110,5,null,143,178,5,null,107,133,5]
[161,192,6,null,121,144,6,null,149,177,6,null,149,177,6,null,161,192,6,null,174,207,6,null,136,162,6,null,164,195,6,null,136,162,6,null,149,177,6,null,134,160,6,null,109,129,6,null,126,150,6,null,102,121,6,null,111,132,6,null,134,159,6,null,561,680,6,null,1921,2310,6,null,102,121,6,null,111,132,6,null,179,213,6,null,134,159,6]
[193,224,7,null,145,168,7,null,178,207,7,null,178,207,7,null,193,224,7,null,208,242,7,null,163,189,7,null,196,228,7,null,163,189,7,null,178,207,7,null,161,187,7,null,130,151,7,null,151,175,7,null,122,141,7,null,133,154,7,null,160,186,7,null,681,790,7,null,2311,2690,7,null,122,141,7,null,133,154,7,null,214,249,7,null,160,186,7]
[225,256,8,null,169,192,8,null,208,236,8,null,208,236,8,null,225,256,8,null,243,276,8,null,190,216,8,null,229,260,8,null,190,216,8,null,208,236,8,null,188,214,8,null,152,173,8,null,176,200,8,null,142,162,8,null,155,177,8,null,187,213,8,null,791,900,8,null,2691,3080,8,null,142,162,8,null,155,177,8,null,250,284,8,null,187,213,8]
[257,288,9,null,193,216,9,null,237,266,9,null,237,266,9,null,257,288,9,null,277,311,9,null,217,243,9,null,261,293,9,null,217,243,9,null,237,266,9,null,215,240,9,null,174,194,9,null,201,225,9,null,163,182,9,null,178,199,9,null,214,239,9,null,901,1010,9,null,3081,3460,9,null,163,182,9,null,178,199,9,null,285,320,9,null,214,239,9]
[289,320,10,null,217,240,10,null,267,295,10,null,267,295,10,null,289,320,10,null,312,345,10,null,244,270,10,null,294,325,10,null,244,270,10,null,267,295,10,null,241,267,10,null,195,216,10,null,226,250,10,null,183,202,10,null,200,221,10,null,240,266,10,null,1011,1130,10,null,3461,3850,10,null,183,202,10,null,200,221,10,null,321,355,10,null,240,266,10]
[321,352,11,null,241,264,11,null,296,325,11,null,296,325,11,null,321,352,11,null,346,380,11,null,271,297,11,null,326,358,11,null,271,297,11,null,296,325,11,null,268,294,11,null,217,237,11,null,251,275,11,null,203,222,11,null,222,243,11,null,267,292,11,null,1131,1240,11,null,3851,4230,11,null,203,222,11,null,222,243,11,null,356,391,11,null,267,292,11]
[353,384,12,null,265,288,12,null,326,354,12,null,326,354,12,null,353,384,12,null,381,414,12,null,298,324,12,null,359,390,12,null,298,324,12,null,326,354,12,null,295,321,12,null,238,259,12,null,276,300,12,null,223,243,12,null,244,265,12,null,293,319,12,null,1241,1350,12,null,4231,4620,12,null,223,243,12,null,244,265,12,null,392,426,12,null,293,319,12]
[385,416,13,null,289,312,13,null,355,384,13,null,355,384,13,null,385,416,13,null,415,449,13,null,325,351,13,null,391,423,13,null,325,351,13,null,355,384,13,null,322,347,13,null,260,281,13,null,301,325,13,null,244,263,13,null,266,287,13,null,320,346,13,null,1351,1470,13,null,4621,5000,13,null,244,263,13,null,266,287,13,null,427,462,13,null,320,346,13]
[417,448,14,null,313,336,14,null,385,413,14,null,385,413,14,null,417,448,14,null,450,483,14,null,352,378,14,null,424,455,14,null,352,378,14,null,385,413,14,null,348,374,14,null,282,302,14,null,326,350,14,null,264,283,14,null,288,309,14,null,347,372,14,null,1471,1580,14,null,5001,5380,14,null,264,283,14,null,288,309,14,null,463,497,14,null,347,372,14]
[449,480,15,null,337,360,15,null,414,443,15,null,414,443,15,null,449,480,15,null,484,518,15,null,379,405,15,null,456,488,15,null,379,405,15,null,414,443,15,null,375,401,15,null,303,324,15,null,351,375,15,null,284,303,15,null,310,331,15,null,373,399,15,null,1581,1690,15,null,5381,5770,15,null,284,303,15,null,310,331,15,null,498,533,15,null,373,399,15]
[481,512,16,null,361,384,16,null,444,472,16,null,444,472,16,null,481,512,16,null,519,552,16,null,406,432,16,null,489,520,16,null,406,432,16,null,444,472,16,null,402,428,16,null,325,346,16,null,376,400,16,null,304,324,16,null,332,354,16,null,400,426,16,null,1691,1800,16,null,5771,6150,16,null,304,324,16,null,332,354,16,null,534,568,16,null,400,426,16]
[513,544,17,null,385,408,17,null,473,502,17,null,473,502,17,null,513,544,17,null,553,587,17,null,433,459,17,null,521,553,17,null,433,459,17,null,473,502,17,null,429,454,17,null,347,367,17,null,401,425,17,null,325,344,17,null,355,376,17,null,427,452,17,null,1801,1920,17,null,6151,6540,17,null,325,344,17,null,355,376,17,null,569,604,17,null,427,452,17]
[545,576,18,null,409,432,18,null,503,531,18,null,503,531,18,null,545,576,18,null,588,621,18,null,460,486,18,null,554,585,18,null,460,486,18,null,503,531,18,null,455,481,18,null,368,389,18,null,426,450,18,null,345,364,18,null,377,398,18,null,453,479,18,null,1921,2030,18,null,6541,6920,18,null,345,364,18,null,377,398,18,null,605,639,18,null,453,479,18]
[577,608,19,null,433,456,19,null,532,561,19,null,532,561,19,null,577,608,19,null,622,656,19,null,487,513,19,null,586,618,19,null,487,513,19,null,532,561,19,null,482,508,19,null,390,410,19,null,451,475,19,null,365,384,19,null,399,420,19,null,480,505,19,null,2031,2140,19,null,6921,7310,19,null,365,384,19,null,399,420,19,null,640,675,19,null,480,505,19]
[609,640,20,null,457,480,20,null,562,590,20,null,562,590,20,null,609,640,20,null,657,690,20,null,514,540,20,null,619,650,20,null,514,540,20,null,562,590,20,null,509,535,20,null,411,432,20,null,476,500,20,null,385,405,20,null,421,442,20,null,506,532,20,null,2141,2260,20,null,7311,7690,20,null,385,405,20,null,421,442,20,null,676,710,20,null,506,532,20]
[641,672,21,null,481,504,21,null,591,620,21,null,591,620,21,null,641,672,21,null,691,725,21,null,541,567,21,null,651,683,21,null,541,567,21,null,591,620,21,null,536,562,21,null,433,454,21,null,501,525,21,null,406,425,21,null,443,464,21,null,533,559,21,null,2261,2370,21,null,7691,8080,21,null,406,425,21,null,443,464,21,null,711,746,21,null,533,559,21]
[673,704,22,null,505,528,22,null,621,649,22,null,621,649,22,null,673,704,22,null,726,759,22,null,568,594,22,null,684,715,22,null,568,594,22,null,621,649,22,null,563,588,22,null,455,475,22,null,526,550,22,null,426,445,22,null,465,486,22,null,560,585,22,null,2371,2480,22,null,8081,8460,22,null,426,445,22,null,465,486,22,null,747,781,22,null,560,585,22]
[705,736,23,null,529,552,23,null,650,679,23,null,650,679,23,null,705,736,23,null,760,794,23,null,595,621,23,null,716,748,23,null,595,621,23,null,650,679,23,null,589,615,23,null,476,497,23,null,551,575,23,null,446,465,23,null,487,508,23,null,586,612,23,null,null,null,null,null,null,null,null,null,446,465,23,null,487,508,23,null,782,817,23,null,586,612,23]
[737,768,24,null,553,576,24,null,680,708,24,null,680,708,24,null,737,768,24,null,795,828,24,null,622,648,24,null,749,780,24,null,622,648,24,null,680,708,24,null,616,642,24,null,498,519,24,null,576,600,24,null,466,486,24,null,509,531,24,null,613,639,24,null,null,null,null,null,null,null,null,null,466,486,24,null,509,531,24,null,818,852,24,null,613,639,24]
[769,800,25,null,577,600,25,null,709,738,25,null,709,738,25,null,769,800,25,null,829,863,25,null,649,675,25,null,781,813,25,null,649,675,25,null,709,738,25,null,643,669,25,null,520,540,25,null,601,625,25,null,487,506,25,null,532,553,25,null,640,665,25,null,null,null,null,null,null,null,null,null,487,506,25,null,532,553,25,null,853,888,25,null,640,665,25]
[801,832,26,null,601,624,26,null,739,767,26,null,739,767,26,null,801,832,26,null,864,897,26,null,676,702,26,null,814,845,26,null,676,702,26,null,739,767,26,null,670,695,26,null,541,562,26,null,626,650,26,null,507,526,26,null,554,575,26,null,666,692,26,null,null,null,null,null,null,null,null,null,507,526,26,null,554,575,26,null,889,923,26,null,666,692,26]
[833,864,27,null,625,648,27,null,768,797,27,null,768,797,27,null,833,864,27,null,898,932,27,null,703,729,27,null,846,878,27,null,703,729,27,null,768,797,27,null,696,722,27,null,563,584,27,null,651,675,27,null,527,546,27,null,576,597,27,null,693,718,27,null,null,null,null,null,null,null,null,null,527,546,27,null,576,597,27,null,924,959,27,null,693,718,27]
[865,896,28,null,649,672,28,null,798,826,28,null,798,826,28,null,865,896,28,null,933,966,28,null,730,756,28,null,879,910,28,null,730,756,28,null,798,826,28,null,723,749,28,null,585,605,28,null,676,700,28,null,547,567,28,null,598,619,28,null,719,745,28,null,null,null,null,null,null,null,null,null,547,567,28,null,598,619,28,null,960,994,28,null,719,745,28]
[897,928,29,null,673,696,29,null,827,856,29,null,827,856,29,null,897,928,29,null,967,1001,29,null,757,783,29,null,911,943,29,null,757,783,29,null,827,856,29,null,750,776,29,null,606,627,29,null,701,725,29,null,568,587,29,null,620,641,29,null,746,772,29,null,null,null,null,null,null,null,null,null,568,587,29,null,620,641,29,null,995,1030,29,null,746,772,29]
[929,960,30,null,697,720,30,null,857,885,30,null,857,885,30,null,929,960,30,null,1002,1035,30,null,784,810,30,null,944,975,30,null,784,810,30,null,857,885,30,null,777,802,30,null,628,648,30,null,726,750,30,null,588,607,30,null,642,663,30,null,773,798,30,null,null,null,null,null,null,null,null,null,588,607,30,null,642,663,30,null,1031,1065,30,null,773,798,30]
[961,992,31,null,721,744,31,null,886,915,31,null,886,915,31,null,961,992,31,null,1036,1070,31,null,811,837,31,null,976,1008,31,null,811,837,31,null,886,915,31,null,803,829,31,null,649,670,31,null,751,775,31,null,608,627,31,null,664,685,31,null,799,825,31,null,null,null,null,null,null,null,null,null,608,627,31,null,664,685,31,null,1066,1101,31,null,799,825,31]
[993,1024,32,null,745,768,32,null,916,944,32,null,916,944,32,null,993,1024,32,null,1071,1104,32,null,838,864,32,null,1009,1040,32,null,838,864,32,null,916,944,32,null,830,856,32,null,671,692,32,null,776,800,32,null,628,648,32,null,686,708,32,null,826,852,32,null,null,null,null,null,null,null,null,null,628,648,32,null,686,708,32,null,1102,1136,32,null,826,852,32]
[1025,1056,33,null,769,792,33,null,945,974,33,null,945,974,33,null,1025,1056,33,null,1105,1139,33,null,865,891,33,null,1041,1073,33,null,865,891,33,null,945,974,33,null,857,883,33,null,693,713,33,null,801,825,33,null,649,668,33,null,709,730,33,null,853,878,33,null,null,null,null,null,null,null,null,null,649,668,33,null,709,730,33,null,1137,1172,33,null,853,878,33]
[1057,1088,34,null,793,816,34,null,975,1003,34,null,975,1003,34,null,1057,1088,34,null,1140,1173,34,null,892,918,34,null,1074,1105,34,null,892,918,34,null,975,1003,34,null,884,909,34,null,714,735,34,null,826,850,34,null,669,688,34,null,731,752,34,null,879,905,34,null,null,null,null,null,null,null,null,null,669,688,34,null,731,752,34,null,1173,1207,34,null,879,905,34]
[1089,1120,35,null,817,840,35,null,1004,1033,35,null,1004,1033,35,null,1089,1120,35,null,1174,1208,35,null,919,945,35,null,1106,1138,35,null,919,945,35,null,1004,1033,35,null,910,936,35,null,736,757,35,null,851,875,35,null,689,708,35,null,753,774,35,null,906,931,35,null,null,null,null,null,null,null,null,null,689,708,35,null,753,774,35,null,1208,1243,35,null,906,931,35]
[1121,1152,36,null,841,864,36,null,1034,1062,36,null,1034,1062,36,null,1121,1152,36,null,1209,1242,36,null,946,972,36,null,1139,1170,36,null,946,972,36,null,1034,1062,36,null,937,963,36,null,758,778,36,null,876,900,36,null,709,729,36,null,775,796,36,null,932,958,36,null,null,null,null,null,null,null,null,null,709,729,36,null,775,796,36,null,1244,1278,36,null,932,958,36]
[1153,1184,37,null,865,888,37,null,1063,1092,37,null,1063,1092,37,null,1153,1184,37,null,1243,1277,37,null,973,999,37,null,1171,1203,37,null,973,999,37,null,1063,1092,37,null,964,990,37,null,779,800,37,null,901,925,37,null,730,749,37,null,797,818,37,null,959,985,37,null,null,null,null,null,null,null,null,null,730,749,37,null,797,818,37,null,1279,1314,37,null,959,985,37]
[1185,1216,38,null,889,912,38,null,1093,1121,38,null,1093,1121,38,null,1185,1216,38,null,1278,1311,38,null,1000,1026,38,null,1204,1235,38,null,1000,1026,38,null,1093,1121,38,null,991,1017,38,null,801,821,38,null,926,950,38,null,750,769,38,null,819,840,38,null,986,1011,38,null,null,null,null,null,null,null,null,null,750,769,38,null,819,840,38,null,1315,1349,38,null,986,1011,38]
[1217,1248,39,null,913,936,39,null,1122,1151,39,null,1122,1151,39,null,1217,1248,39,null,1312,1346,39,null,1027,1053,39,null,1236,1268,39,null,1027,1053,39,null,1122,1151,39,null,1018,1043,39,null,822,843,39,null,951,975,39,null,770,789,39,null,841,862,39,null,1012,1038,39,null,null,null,null,null,null,null,null,null,770,789,39,null,841,862,39,null,1350,1385,39,null,1012,1038,39]
[1249,1280,40,null,937,960,40,null,1152,1180,40,null,1152,1180,40,null,1249,1280,40,null,1347,1380,40,null,1054,1080,40,null,1269,1300,40,null,1054,1080,40,null,1152,1180,40,null,1044,1070,40,null,844,865,40,null,976,1000,40,null,790,810,40,null,863,885,40,null,1039,1065,40,null,null,null,null,null,null,null,null,null,790,810,40,null,863,885,40,null,1386,1420,40,null,1039,1065,40]
[1281,1312,41,null,961,984,41,null,1181,1210,41,null,1181,1210,41,null,1281,1312,41,null,1381,1415,41,null,1081,1107,41,null,1301,1333,41,null,1081,1107,41,null,1181,1210,41,null,1071,1097,41,null,866,886,41,null,1001,1025,41,null,811,830,41,null,886,907,41,null,1066,1091,41,null,null,null,null,null,null,null,null,null,811,830,41,null,886,907,41,null,1421,1456,41,null,1066,1091,41]
[1313,1344,42,null,985,1008,42,null,1211,1239,42,null,1211,1239,42,null,1313,1344,42,null,1416,1449,42,null,1108,1134,42,null,1334,1365,42,null,1108,1134,42,null,1211,1239,42,null,1098,1124,42,null,887,908,42,null,1026,1050,42,null,831,850,42,null,908,929,42,null,1092,1118,42,null,null,null,null,null,null,null,null,null,831,850,42,null,908,929,42,null,1457,1491,42,null,1092,1118,42]
[1345,1376,43,null,1009,1032,43,null,1240,1269,43,null,1240,1269,43,null,1345,1376,43,null,1450,1484,43,null,1135,1161,43,null,1366,1398,43,null,1135,1161,43,null,1240,1269,43,null,1125,1150,43,null,909,930,43,null,1051,1075,43,null,851,870,43,null,930,951,43,null,1119,1144,43,null,null,null,null,null,null,null,null,null,851,870,43,null,930,951,43,null,1492,1527,43,null,1119,1144,43]
[1377,1408,44,null,1033,1056,44,null,1270,1298,44,null,1270,1298,44,null,1377,1408,44,null,1485,1518,44,null,1162,1188,44,null,1399,1430,44,null,1162,1188,44,null,1270,1298,44,null,1151,1177,44,null,931,951,44,null,1076,1100,44,null,871,891,44,null,952,973,44,null,1145,1171,44,null,null,null,null,null,null,null,null,null,871,891,44,null,952,973,44,null,1528,1562,44,null,1145,1171,44]
[1409,1440,45,null,1057,1080,45,null,1299,1328,45,null,1299,1328,45,null,1409,1440,45,null,1519,1553,45,null,1189,1215,45,null,1431,1463,45,null,1189,1215,45,null,1299,1328,45,null,1178,1204,45,null,952,973,45,null,1101,1125,45,null,892,911,45,null,974,995,45,null,1172,1198,45,null,null,null,null,null,null,null,null,null,892,911,45,null,974,995,45,null,1563,1598,45,null,1172,1198,45]
[1441,1472,46,null,1081,1104,46,null,1329,1357,46,null,1329,1357,46,null,1441,1472,46,null,1554,1587,46,null,1216,1242,46,null,1464,1495,46,null,1216,1242,46,null,1329,1357,46,null,1205,1231,46,null,974,994,46,null,1126,1151,46,null,912,931,46,null,996,1017,46,null,1199,1224,46,null,null,null,null,null,null,null,null,null,912,931,46,null,996,1017,46,null,1599,1633,46,null,1199,1224,46]
[1473,1504,47,null,1105,1128,47,null,1358,1387,47,null,1358,1387,47,null,1473,1504,47,null,1588,1622,47,null,1243,1269,47,null,1496,1528,47,null,1243,1269,47,null,1358,1387,47,null,1232,1257,47,null,995,1016,47,null,1152,1176,47,null,932,951,47,null,1018,1039,47,null,1225,1251,47,null,null,null,null,null,null,null,null,null,932,951,47,null,1018,1039,47,null,1634,1669,47,null,1225,1251,47]
[1505,1536,48,null,1129,1152,48,null,1388,1416,48,null,1388,1416,48,null,1505,1536,48,null,1623,1656,48,null,1270,1296,48,null,1529,1560,48,null,1270,1296,48,null,1388,1416,48,null,1258,1284,48,null,1017,1038,48,null,1177,1201,48,null,952,972,48,null,1040,1062,48,null,1252,1278,48,null,null,null,null,null,null,null,null,null,952,972,48,null,1040,1062,48,null,1670,1704,48,null,1252,1278,48]
[1537,1568,49,null,1153,1176,49,null,1417,1446,49,null,1417,1446,49,null,1537,1568,49,null,1657,1691,49,null,1297,1323,49,null,1561,1593,49,null,1297,1323,49,null,1417,1446,49,null,1285,1311,49,null,1039,1059,49,null,1202,1226,49,null,973,992,49,null,1063,1084,49,null,1279,1304,49,null,null,null,null,null,null,null,null,null,973,992,49,null,1063,1084,49,null,1705,1740,49,null,1279,1304,49]
[1569,1600,50,null,1177,1200,50,null,1447,1475,50,null,1447,1475,50,null,1569,1600,50,null,1692,1725,50,null,1324,1350,50,null,1594,1625,50,null,1324,1350,50,null,1447,1475,50,null,1312,1338,50,null,1060,1081,50,null,1227,1251,50,null,993,1012,50,null,1085,1106,50,null,1305,1331,50,null,null,null,null,null,null,null,null,null,993,1012,50,null,1085,1106,50,null,1741,1775,50,null,1305,1331,50]
[1601,1632,51,null,1201,1224,51,null,1476,1505,51,null,1476,1505,51,null,1601,1632,51,null,1726,1760,51,null,1351,1377,51,null,1626,1658,51,null,1351,1377,51,null,1476,1505,51,null,1339,1364,51,null,1082,1103,51,null,1252,1276,51,null,1013,1032,51,null,1107,1128,51,null,1332,1357,51,null,null,null,null,null,null,null,null,null,1013,1032,51,null,1107,1128,51,null,1776,1811,51,null,1332,1357,51]
[1633,1664,52,null,1225,1248,52,null,1506,1534,52,null,1506,1534,52,null,1633,1664,52,null,1761,1794,52,null,1378,1404,52,null,1659,1690,52,null,1378,1404,52,null,1506,1534,52,null,1365,1391,52,null,1104,1124,52,null,1277,1301,52,null,1033,1053,52,null,1129,1150,52,null,1358,1384,52,null,null,null,null,null,null,null,null,null,1033,1053,52,null,1129,1150,52,null,1812,1846,52,null,1358,1384,52]
[1665,1696,53,null,1249,1272,53,null,1535,1564,53,null,1535,1564,53,null,1665,1696,53,null,1795,1829,53,null,1405,1431,53,null,1691,1723,53,null,1405,1431,53,null,1535,1564,53,null,1392,1418,53,null,1125,1146,53,null,1302,1326,53,null,1054,1073,53,null,1151,1172,53,null,1385,1411,53,null,null,null,null,null,null,null,null,null,1054,1073,53,null,1151,1172,53,null,1847,1882,53,null,1385,1411,53]
[1697,1728,54,null,1273,1296,54,null,1565,1593,54,null,1565,1593,54,null,1697,1728,54,null,1830,1863,54,null,1432,1458,54,null,1724,1755,54,null,1432,1458,54,null,1565,1593,54,null,1419,1445,54,null,1147,1168,54,null,1327,1351,54,null,1074,1093,54,null,1173,1194,54,null,1412,1437,54,null,null,null,null,null,null,null,null,null,1074,1093,54,null,1173,1194,54,null,1883,1917,54,null,1412,1437,54]
[1729,1760,55,null,1297,1320,55,null,1594,1623,55,null,1594,1623,55,null,1729,1760,55,null,1864,1898,55,null,1459,1485,55,null,1756,1788,55,null,1459,1485,55,null,1594,1623,55,null,1446,1471,55,null,1169,1189,55,null,1352,1376,55,null,1094,1113,55,null,1195,1216,55,null,1438,1464,55,null,null,null,null,null,null,null,null,null,1094,1113,55,null,1195,1216,55,null,1918,1953,55,null,1438,1464,55]
[1761,1792,56,null,1321,1344,56,null,1624,1652,56,null,1624,1652,56,null,1761,1792,56,null,1899,1932,56,null,1486,1512,56,null,1789,1820,56,null,1486,1512,56,null,1624,1652,56,null,1472,1498,56,null,1190,1211,56,null,1377,1401,56,null,1114,1134,56,null,1217,1239,56,null,1465,1491,56,null,null,null,null,null,null,null,null,null,1114,1134,56,null,1217,1239,56,null,1954,1988,56,null,1465,1491,56]
[1793,1824,57,null,1345,1368,57,null,1653,1682,57,null,1653,1682,57,null,1793,1824,57,null,1933,1967,57,null,1513,1539,57,null,1821,1853,57,null,1513,1539,57,null,1653,1682,57,null,1499,1525,57,null,1212,1232,57,null,1402,1426,57,null,1135,1154,57,null,1240,1261,57,null,1492,1517,57,null,null,null,null,null,null,null,null,null,1135,1154,57,null,1240,1261,57,null,1989,2024,57,null,1492,1517,57]
[1825,1856,58,null,1369,1392,58,null,1683,1711,58,null,1683,1711,58,null,1825,1856,58,null,1968,2001,58,null,1540,1566,58,null,1854,1885,58,null,1540,1566,58,null,1683,1711,58,null,1526,1552,58,null,1233,1254,58,null,1427,1451,58,null,1155,1174,58,null,1262,1283,58,null,1518,1544,58,null,null,null,null,null,null,null,null,null,1155,1174,58,null,1262,1283,58,null,2025,2059,58,null,1518,1544,58]
[1857,1888,59,null,1393,1416,59,null,1712,1741,59,null,1712,1741,59,null,1857,1888,59,null,2002,2036,59,null,1567,1593,59,null,1886,1918,59,null,1567,1593,59,null,1712,1741,59,null,1553,1579,59,null,1255,1276,59,null,1452,1476,59,null,1175,1194,59,null,1284,1305,59,null,1545,1570,59,null,null,null,null,null,null,null,null,null,1175,1194,59,null,1284,1305,59,null,2060,2095,59,null,1545,1570,59]
[1889,1920,60,null,1417,1440,60,null,1742,1770,60,null,1742,1770,60,null,1889,1920,60,null,2037,2070,60,null,1594,1620,60,null,1919,1950,60,null,1594,1620,60,null,1742,1770,60,null,1580,1605,60,null,1277,1297,60,null,1477,1501,60,null,1195,1215,60,null,1306,1327,60,null,1571,1597,60,null,null,null,null,null,null,null,null,null,1195,1215,60,null,1306,1327,60,null,2096,2130,60,null,1571,1597,60]
[1921,1952,61,null,1441,1464,61,null,1771,1800,61,null,1771,1800,61,null,1921,1952,61,null,2071,2105,61,null,1621,1647,61,null,1951,1983,61,null,1621,1647,61,null,1771,1800,61,null,1606,1632,61,null,1298,1319,61,null,1502,1526,61,null,1216,1235,61,null,1328,1349,61,null,1598,1624,61,null,null,null,null,null,null,null,null,null,1216,1235,61,null,1328,1349,61,null,2131,2166,61,null,1598,1624,61]
[1953,1984,62,null,1465,1488,62,null,1801,1829,62,null,1801,1829,62,null,1953,1984,62,null,2106,2139,62,null,1648,1674,62,null,1984,2015,62,null,1648,1674,62,null,1801,1829,62,null,1633,1659,62,null,1320,1341,62,null,1527,1551,62,null,1236,1255,62,null,1350,1371,62,null,1625,1650,62,null,null,null,null,null,null,null,null,null,1236,1255,62,null,1350,1371,62,null,2167,2201,62,null,1625,1650,62]
[1985,2016,63,null,1489,1512,63,null,1830,1859,63,null,1830,1859,63,null,1985,2016,63,null,2140,2174,63,null,1675,1701,63,null,2016,2048,63,null,1675,1701,63,null,1830,1859,63,null,1660,1686,63,null,1342,1362,63,null,1552,1576,63,null,1256,1275,63,null,1372,1393,63,null,1651,1677,63,null,null,null,null,null,null,null,null,null,1256,1275,63,null,1372,1393,63,null,2202,2237,63,null,1651,1677,63]
[2017,2048,64,null,1513,1536,64,null,1860,1888,64,null,1860,1888,64,null,2017,2048,64,null,2175,2208,64,null,1702,1728,64,null,2049,2080,64,null,1702,1728,64,null,1860,1888,64,null,1687,1712,64,null,1363,1384,64,null,1577,1601,64,null,1276,1296,64,null,1394,1416,64,null,1678,1704,64,null,null,null,null,null,null,null,null,null,1276,1296,64,null,1394,1416,64,null,2238,2272,64,null,1678,1704,64]
[2049,2080,65,null,1537,1560,65,null,1889,1918,65,null,1889,1918,65,null,2049,2080,65,null,2209,2243,65,null,1729,1755,65,null,2081,2113,65,null,1729,1755,65,null,1889,1918,65,null,1713,1739,65,null,1385,1405,65,null,1602,1626,65,null,1297,1316,65,null,1417,1438,65,null,1705,1730,65,null,null,null,null,null,null,null,null,null,1297,1316,65,null,1417,1438,65,null,2273,2308,65,null,1705,1730,65]
[2081,2112,66,null,1561,1584,66,null,1919,1947,66,null,1919,1947,66,null,2081,2112,66,null,2244,2277,66,null,1756,1782,66,null,2114,2145,66,null,1756,1782,66,null,1919,1947,66,null,1740,1766,66,null,1406,1427,66,null,1627,1651,66,null,1317,1336,66,null,1439,1460,66,null,1731,1757,66,null,null,null,null,null,null,null,null,null,1317,1336,66,null,1439,1460,66,null,2309,2343,66,null,1731,1757,66]
[2113,2144,67,null,1585,1608,67,null,1948,1977,67,null,1948,1977,67,null,2113,2144,67,null,2278,2312,67,null,1783,1809,67,null,2146,2178,67,null,1783,1809,67,null,1948,1977,67,null,1767,1793,67,null,1428,1449,67,null,1652,1676,67,null,1337,1356,67,null,1461,1482,67,null,1758,1783,67,null,null,null,null,null,null,null,null,null,1337,1356,67,null,1461,1482,67,null,2344,2379,67,null,1758,1783,67]
[2145,2176,68,null,1609,1632,68,null,1978,2006,68,null,1978,2006,68,null,2145,2176,68,null,2313,2346,68,null,1810,1836,68,null,2179,2210,68,null,1810,1836,68,null,1978,2006,68,null,1794,1819,68,null,1450,1470,68,null,1677,1701,68,null,1357,1377,68,null,1483,1504,68,null,1784,1810,68,null,null,null,null,null,null,null,null,null,1357,1377,68,null,1483,1504,68,null,2380,2414,68,null,1784,1810,68]
[2177,2208,69,null,1633,1656,69,null,2007,2036,69,null,2007,2036,69,null,2177,2208,69,null,2347,2381,69,null,1837,1863,69,null,2211,2243,69,null,1837,1863,69,null,2007,2036,69,null,1820,1846,69,null,1471,1492,69,null,1702,1726,69,null,1378,1397,69,null,1505,1526,69,null,1811,1837,69,null,null,null,null,null,null,null,null,null,1378,1397,69,null,1505,1526,69,null,2415,2450,69,null,1811,1837,69]
[2209,2240,70,null,1657,1680,70,null,2037,2065,70,null,2037,2065,70,null,2209,2240,70,null,2382,2415,70,null,1864,1890,70,null,2244,2275,70,null,1864,1890,70,null,2037,2065,70,null,1847,1873,70,null,1493,1514,70,null,1727,1751,70,null,1398,1417,70,null,1527,1548,70,null,1838,1863,70,null,null,null,null,null,null,null,null,null,1398,1417,70,null,1527,1548,70,null,2451,2485,70,null,1838,1863,70]
[2241,2272,71,null,1681,1704,71,null,2066,2095,71,null,2066,2095,71,null,2241,2272,71,null,2416,2450,71,null,1891,1917,71,null,2276,2308,71,null,1891,1917,71,null,2066,2095,71,null,1874,1900,71,null,1515,1535,71,null,1752,1776,71,null,1418,1437,71,null,1549,1570,71,null,1864,1890,71,null,null,null,null,null,null,null,null,null,1418,1437,71,null,1549,1570,71,null,2486,2521,71,null,1864,1890,71]
[2273,2304,72,null,1705,1728,72,null,2096,2124,72,null,2096,2124,72,null,2273,2304,72,null,2451,2484,72,null,1918,1944,72,null,2309,2340,72,null,1918,1944,72,null,2096,2124,72,null,1901,1926,72,null,1536,1557,72,null,1777,1801,72,null,1438,1458,72,null,1571,1593,72,null,1891,1917,72,null,null,null,null,null,null,null,null,null,1438,1458,72,null,1571,1593,72,null,2522,2556,72,null,1891,1917,72]
[2305,2336,73,null,1729,1752,73,null,2125,2154,73,null,2125,2154,73,null,2305,2336,73,null,2485,2519,73,null,null,null,null,null,null,null,null,null,null,null,null,null,null,null,null,null,1927,1953,73,null,1558,1578,73,null,1802,1826,73,null,1459,1478,73,null,1594,1615,73,null,1918,1943,73,null,null,null,null,null,null,null,null,null,1459,1478,73,null,1594,1615,73,null,2557,2592,73,null,1918,1943,73]
[2337,2368,74,null,1753,1776,74,null,2155,2183,74,null,2155,2183,74,null,2337,2368,74,null,2520,2553,74,null,null,null,null,null,null,null,null,null,null,null,null,null,null,null,null,null,1954,1980,74,null,1579,1600,74,null,1827,1851,74,null,1479,1498,74,null,1616,1637,74,null,1944,1970,74,null,null,null,null,null,null,null,null,null,1479,1498,74,null,1616,1637,74,null,2593,2627,74,null,1944,1970,74]
[2369,2400,75,null,1777,1800,75,null,2184,2213,75,null,2184,2213,75,null,2369,2400,75,null,2554,2588,75,null,null,null,null,null,null,null,null,null,null,null,null,null,null,null,null,null,1981,2007,75,null,1601,1622,75,null,1852,1876,75,null,1499,1518,75,null,1638,1659,75,null,1971,1996,75,null,null,null,null,null,null,null,null,null,1499,1518,75,null,1638,1659,75,null,2628,2663,75,null,1971,1996,75]
[2401,2432,76,null,1801,1824,76,null,2214,2242,76,null,2214,2242,76,null,2401,2432,76,null,2589,2622,76,null,null,null,null,null,null,null,null,null,null,null,null,null,null,null,null,null,2008,2034,76,null,1623,1643,76,null,1877,1901,76,null,1519,1539,76,null,1660,1681,76,null,1997,2023,76,null,null,null,null,null,null,null,null,null,1519,1539,76,null,1660,1681,76,null,2664,2698,76,null,1997,2023,76]
[2433,2464,77,null,1825,1848,77,null,2243,2272,77,null,2243,2272,77,null,2433,2464,77,null,2623,2657,77,null,null,null,null,null,null,null,null,null,null,null,null,null,null,null,null,null,2035,2060,77,null,1644,1665,77,null,1902,1926,77,null,1540,1559,77,null,1682,1703,77,null,2024,2050,77,null,null,null,null,null,null,null,null,null,1540,1559,77,null,1682,1703,77,null,2699,2734,77,null,2024,2050,77]
[2465,2496,78,null,1849,1872,78,null,2273,2301,78,null,2273,2301,78,null,2465,2496,78,null,2658,2691,78,null,null,null,null,null,null,null,null,null,null,null,null,null,null,null,null,null,2061,2087,78,null,1666,1687,78,null,1927,1951,78,null,1560,1579,78,null,1704,1725,78,null,2051,2076,78,null,null,null,null,null,null,null,null,null,1560,1579,78,null,1704,1725,78,null,2735,2769,78,null,2051,2076,78]
[2497,2528,79,null,1873,1896,79,null,2302,2331,79,null,2302,2331,79,null,2497,2528,79,null,2692,2726,79,null,null,null,null,null,null,null,null,null,null,null,null,null,null,null,null,null,2088,2114,79,null,1688,1708,79,null,1952,1976,79,null,1580,1599,79,null,1726,1747,79,null,2077,2103,79,null,null,null,null,null,null,null,null,null,1580,1599,79,null,1726,1747,79,null,2770,2805,79,null,2077,2103,79]
[2529,2560,80,null,1897,1920,80,null,2332,2360,80,null,2332,2360,80,null,2529,2560,80,null,2727,2760,80,null,null,null,null,null,null,null,null,null,null,null,null,null,null,null,null,null,2115,2141,80,null,1709,1730,80,null,1977,2001,80,null,1600,1620,80,null,1748,1770,80,null,2104,2130,80,null,null,null,null,null,null,null,null,null,1600,1620,80,null,1748,1770,80,null,2806,2840,80,null,2104,2130,80]
[2561,2592,81,null,1921,1944,81,null,2361,2390,81,null,2361,2390,81,null,2561,2592,81,null,2761,2795,81,null,null,null,null,null,null,null,null,null,null,null,null,null,null,null,null,null,2142,2167,81,null,1731,1752,81,null,2002,2026,81,null,1621,1640,81,null,1771,1792,81,null,2131,2156,81,null,null,null,null,null,null,null,null,null,1621,1640,81,null,1771,1792,81,null,2841,2876,81,null,2131,2156,81]
[2593,2624,82,null,1945,1968,82,null,2391,2419,82,null,2391,2419,82,null,2593,2624,82,null,2796,2829,82,null,null,null,null,null,null,null,null,null,null,null,null,null,null,null,null,null,2168,2194,82,null,1753,1773,82,null,2027,2051,82,null,1641,1660,82,null,1793,1814,82,null,2157,2183,82,null,null,null,null,null,null,null,null,null,1641,1660,82,null,1793,1814,82,null,2877,2911,82,null,2157,2183,82]
[2625,2656,83,null,1969,1992,83,null,2420,2449,83,null,2420,2449,83,null,2625,2656,83,null,2830,2864,83,null,null,null,null,null,null,null,null,null,null,null,null,null,null,null,null,null,2195,2221,83,null,1774,1795,83,null,2052,2076,83,null,1661,1680,83,null,1815,1836,83,null,2184,2209,83,null,null,null,null,null,null,null,null,null,1661,1680,83,null,1815,1836,83,null,2912,2947,83,null,2184,2209,83]
[2657,2688,84,null,1993,2016,84,null,2450,2478,84,null,2450,2478,84,null,2657,2688,84,null,2865,2898,84,null,null,null,null,null,null,null,null,null,null,null,null,null,null,null,null,null,2222,2248,84,null,1796,1816,84,null,2077,2101,84,null,1681,1701,84,null,1837,1858,84,null,2210,2236,84,null,null,null,null,null,null,null,null,null,1681,1701,84,null,1837,1858,84,null,2948,2982,84,null,2210,2236,84]
[2689,2720,85,null,2017,2040,85,null,2479,2508,85,null,2479,2508,85,null,2689,2720,85,null,2899,2933,85,null,null,null,null,null,null,null,null,null,null,null,null,null,null,null,null,null,2249,2274,85,null,1817,1838,85,null,2102,2126,85,null,1702,1721,85,null,1859,1880,85,null,2237,2263,85,null,null,null,null,null,null,null,null,null,1702,1721,85,null,1859,1880,85,null,2983,3018,85,null,2237,2263,85]
[2721,2752,86,null,2041,2064,86,null,2509,2537,86,null,2509,2537,86,null,2721,2752,86,null,2934,2967,86,null,null,null,null,null,null,null,null,null,null,null,null,null,null,null,null,null,2275,2301,86,null,1839,1860,86,null,2127,2151,86,null,1722,1741,86,null,1881,1902,86,null,2264,2289,86,null,null,null,null,null,null,null,null,null,1722,1741,86,null,1881,1902,86,null,3019,3053,86,null,2264,2289,86]
[2753,2784,87,null,2065,2088,87,null,2538,2567,87,null,2538,2567,87,null,2753,2784,87,null,2968,3002,87,null,null,null,null,null,null,null,null,null,null,null,null,null,null,null,null,null,2302,2328,87,null,1861,1881,87,null,2152,2176,87,null,1742,1761,87,null,1903,1924,87,null,2290,2316,87,null,null,null,null,null,null,null,null,null,1742,1761,87,null,1903,1924,87,null,3054,3089,87,null,2290,2316,87]
[2785,2816,88,null,2089,2112,88,null,2568,2596,88,null,2568,2596,88,null,2785,2816,88,null,3003,3036,88,null,null,null,null,null,null,null,null,null,null,null,null,null,null,null,null,null,2329,2355,88,null,1882,1903,88,null,2177,2201,88,null,1762,1782,88,null,1925,1947,88,null,2317,2343,88,null,null,null,null,null,null,null,null,null,1762,1782,88,null,1925,1947,88,null,3090,3124,88,null,2317,2343,88]
[2817,2848,89,null,2113,2136,89,null,2597,2626,89,null,2597,2626,89,null,2817,2848,89,null,3037,3071,89,null,null,null,null,null,null,null,null,null,null,null,null,null,null,null,null,null,2356,2381,89,null,1904,1925,89,null,2202,2226,89,null,1783,1802,89,null,1948,1969,89,null,2344,2369,89,null,null,null,null,null,null,null,null,null,1783,1802,89,null,1948,1969,89,null,3125,3160,89,null,2344,2369,89]
[2849,2880,90,null,2137,2160,90,null,2627,2655,90,null,2627,2655,90,null,2849,2880,90,null,3072,3105,90,null,null,null,null,null,null,null,null,null,null,null,null,null,null,null,null,null,2382,2408,90,null,1926,1946,90,null,2227,2251,90,null,1803,1822,90,null,1970,1991,90,null,2370,2396,90,null,null,null,null,null,null,null,null,null,1803,1822,90,null,1970,1991,90,null,3161,3195,90,null,2370,2396,90]
[2881,2912,91,null,2161,2184,91,null,2656,2685,91,null,2656,2685,91,null,2881,2912,91,null,3106,3140,91,null,null,null,null,null,null,null,null,null,null,null,null,null,null,null,null,null,2409,2435,91,null,1947,1968,91,null,2252,2277,91,null,1823,1842,91,null,1992,2013,91,null,2397,2422,91,null,null,null,null,null,null,null,null,null,1823,1842,91,null,1992,2013,91,null,3196,3231,91,null,2397,2422,91]
[2913,2944,92,null,2185,2208,92,null,2686,2714,92,null,2686,2714,92,null,2913,2944,92,null,3141,3174,92,null,null,null,null,null,null,null,null,null,null,null,null,null,null,null,null,null,2436,2462,92,null,1969,1989,92,null,2278,2302,92,null,1843,1863,92,null,2014,2035,92,null,2423,2449,92,null,null,null,null,null,null,null,null,null,1843,1863,92,null,2014,2035,92,null,3232,3266,92,null,2423,2449,92]
[2945,2976,93,null,2209,2232,93,null,2715,2744,93,null,2715,2744,93,null,2945,2976,93,null,3175,3209,93,null,null,null,null,null,null,null,null,null,null,null,null,null,null,null,null,null,2463,2488,93,null,1990,2011,93,null,2303,2327,93,null,1864,1883,93,null,2036,2057,93,null,2450,2476,93,null,null,null,null,null,null,null,null,null,1864,1883,93,null,2036,2057,93,null,3267,3302,93,null,2450,2476,93]
[2977,3008,94,null,2233,2256,94,null,2745,2773,94,null,2745,2773,94,null,2977,3008,94,null,3210,3243,94,null,null,null,null,null,null,null,null,null,null,null,null,null,null,null,null,null,2489,2515,94,null,2012,2033,94,null,2328,2352,94,null,1884,1903,94,null,2058,2079,94,null,2477,2502,94,null,null,null,null,null,null,null,null,null,1884,1903,94,null,2058,2079,94,null,3303,3337,94,null,2477,2502,94]
[3009,3040,95,null,2257,2280,95,null,2774,2803,95,null,2774,2803,95,null,3009,3040,95,null,3244,3278,95,null,null,null,null,null,null,null,null,null,null,null,null,null,null,null,null,null,2516,2542,95,null,2034,2054,95,null,2353,2377,95,null,1904,1923,95,null,2080,2101,95,null,2503,2529,95,null,null,null,null,null,null,null,null,null,1904,1923,95,null,2080,2101,95,null,3338,3373,95,null,2503,2529,95]
[3041,3072,96,null,2281,2304,96,null,2804,2832,96,null,2804,2832,96,null,3041,3072,96,null,3279,3312,96,null,null,null,null,null,null,null,null,null,null,null,null,null,null,null,null,null,2543,2569,96,null,2055,2076,96,null,2378,2402,96,null,1924,1944,96,null,2102,2124,96,null,2530,2556,96,null,null,null,null,null,null,null,null,null,1924,1944,96,null,2102,2124,96,null,3374,3408,96,null,2530,2556,96]
[3073,3104,97,null,2305,2328,97,null,2833,2862,97,null,2833,2862,97,null,3073,3104,97,null,3313,3347,97,null,null,null,null,null,null,null,null,null,null,null,null,null,null,null,null,null,2570,2596,97,null,2077,2098,97,null,2403,2427,97,null,1945,1964,97,null,2125,2146,97,null,2557,2582,97,null,null,null,null,null,null,null,null,null,1945,1964,97,null,2125,2146,97,null,3409,3444,97,null,2557,2582,97]
[3105,3136,98,null,2329,2352,98,null,2863,2891,98,null,2863,2891,98,null,3105,3136,98,null,3348,3381,98,null,null,null,null,null,null,null,null,null,null,null,null,null,null,null,null,null,2597,2622,98,null,2099,2119,98,null,2428,2452,98,null,1965,1984,98,null,2147,2168,98,null,2583,2609,98,null,null,null,null,null,null,null,null,null,1965,1984,98,null,2147,2168,98,null,3445,3479,98,null,2583,2609,98]
[3137,3168,99,null,2353,2376,99,null,2892,2921,99,null,2892,2921,99,null,3137,3168,99,null,3382,3416,99,null,null,null,null,null,null,null,null,null,null,null,null,null,null,null,null,null,2623,2649,99,null,2120,2141,99,null,2453,2477,99,null,1985,2004,99,null,2169,2190,99,null,2610,2635,99,null,null,null,null,null,null,null,null,null,1985,2004,99,null,2169,2190,99,null,3480,3515,99,null,2610,2635,99]
[3169,3200,100,null,2377,2400,100,null,2922,2950,100,null,2922,2950,100,null,3169,3200,100,null,3417,3450,100,null,null,null,null,null,null,null,null,null,null,null,null,null,null,null,null,null,2650,2676,100,null,2142,2162,100,null,2478,2502,100,null,2005,2025,100,null,2191,2212,100,null,2636,2662,100,null,null,null,null,null,null,null,null,null,2005,2025,100,null,2191,2212,100,null,3516,3550,100,null,2636,2662,100]
[3201,3232,101,null,2401,2424,101,null,2951,2980,101,null,2951,2980,101,null,3201,3232,101,null,3451,3485,101,null,null,null,null,null,null,null,null,null,null,null,null,null,null,null,null,null,2677,2703,101,null,2163,2184,101,null,2503,2527,101,null,2026,2045,101,null,2213,2234,101,null,2663,2689,101,null,null,null,null,null,null,null,null,null,2026,2045,101,null,2213,2234,101,null,3551,3586,101,null,2663,2689,101]
[3233,3264,102,null,2425,2448,102,null,2981,3009,102,null,2981,3009,102,null,3233,3264,102,null,3486,3519,102,null,null,null,null,null,null,null,null,null,null,null,null,null,null,null,null,null,2704,2729,102,null,2185,2206,102,null,2528,2552,102,null,2046,2065,102,null,2235,2256,102,null,2690,2715,102,null,null,null,null,null,null,null,null,null,2046,2065,102,null,2235,2256,102,null,3587,3621,102,null,2690,2715,102]
[3265,3296,103,null,2449,2472,103,null,3010,3039,103,null,3010,3039,103,null,3265,3296,103,null,3520,3554,103,null,null,null,null,null,null,null,null,null,null,null,null,null,null,null,null,null,2730,2756,103,null,2207,2227,103,null,2553,2577,103,null,2066,2085,103,null,2257,2278,103,null,2716,2742,103,null,null,null,null,null,null,null,null,null,2066,2085,103,null,2257,2278,103,null,3622,3657,103,null,2716,2742,103]
[3297,3328,104,null,2473,2496,104,null,3040,3068,104,null,3040,3068,104,null,3297,3328,104,null,3555,3588,104,null,null,null,null,null,null,null,null,null,null,null,null,null,null,null,null,null,2757,2783,104,null,2228,2249,104,null,2578,2602,104,null,2086,2106,104,null,2279,2301,104,null,2743,2769,104,null,null,null,null,null,null,null,null,null,2086,2106,104,null,2279,2301,104,null,3658,3692,104,null,2743,2769,104]
[3329,3360,105,null,2497,2520,105,null,3069,3098,105,null,3069,3098,105,null,3329,3360,105,null,3589,3623,105,null,null,null,null,null,null,null,null,null,null,null,null,null,null,null,null,null,2784,2810,105,null,2250,2271,105,null,2603,2627,105,null,2107,2126,105,null,2302,2323,105,null,2770,2795,105,null,null,null,null,null,null,null,null,null,2107,2126,105,null,2302,2323,105,null,3693,3728,105,null,2770,2795,105]
[3361,3392,106,null,2521,2544,106,null,3099,3127,106,null,3099,3127,106,null,3361,3392,106,null,3624,3657,106,null,null,null,null,null,null,null,null,null,null,null,null,null,null,null,null,null,2811,2836,106,null,2272,2292,106,null,2628,2652,106,null,2127,2146,106,null,2324,2345,106,null,2796,2822,106,null,null,null,null,null,null,null,null,null,2127,2146,106,null,2324,2345,106,null,3729,3763,106,null,2796,2822,106]
[3393,3424,107,null,2545,2568,107,null,3128,3157,107,null,3128,3157,107,null,3393,3424,107,null,3658,3692,107,null,null,null,null,null,null,null,null,null,null,null,null,null,null,null,null,null,2837,2863,107,null,2293,2314,107,null,2653,2677,107,null,2147,2166,107,null,2346,2367,107,null,2823,2848,107,null,null,null,null,null,null,null,null,null,2147,2166,107,null,2346,2367,107,null,3764,3799,107,null,2823,2848,107]
[3425,3456,108,null,2569,2592,108,null,3158,3186,108,null,3158,3186,108,null,3425,3456,108,null,3693,3726,108,null,null,null,null,null,null,null,null,null,null,null,null,null,null,null,null,null,2864,2890,108,null,2315,2336,108,null,2678,2702,108,null,2167,2187,108,null,2368,2389,108,null,2849,2875,108,null,null,null,null,null,null,null,null,null,2167,2187,108,null,2368,2389,108,null,3800,3834,108,null,2849,2875,108]
[3457,3488,109,null,2593,2616,109,null,3187,3216,109,null,3187,3216,109,null,3457,3488,109,null,3727,3761,109,null,null,null,null,null,null,null,null,null,null,null,null,null,null,null,null,null,2891,2917,109,null,2337,2357,109,null,2703,2727,109,null,2188,2207,109,null,2390,2411,109,null,2876,2902,109,null,null,null,null,null,null,null,null,null,2188,2207,109,null,2390,2411,109,null,3835,3870,109,null,2876,2902,109]
[3489,3520,110,null,2617,2640,110,null,3217,3245,110,null,3217,3245,110,null,3489,3520,110,null,3762,3795,110,null,null,null,null,null,null,null,null,null,null,null,null,null,null,null,null,null,2918,2943,110,null,2358,2379,110,null,2728,2752,110,null,2208,2227,110,null,2412,2433,110,null,2903,2928,110,null,null,null,null,null,null,null,null,null,2208,2227,110,null,2412,2433,110,null,3871,3905,110,null,2903,2928,110]
[3521,3552,111,null,2641,2664,111,null,3246,3275,111,null,3246,3275,111,null,3521,3552,111,null,3796,3830,111,null,null,null,null,null,null,null,null,null,null,null,null,null,null,null,null,null,2944,2970,111,null,2380,2400,111,null,2753,2777,111,null,2228,2247,111,null,2434,2455,111,null,2929,2955,111,null,null,null,null,null,null,null,null,null,2228,2247,111,null,2434,2455,111,null,3906,3941,111,null,2929,2955,111]
[3553,3584,112,null,2665,2688,112,null,3276,3304,112,null,3276,3304,112,null,3553,3584,112,null,3831,3864,112,null,null,null,null,null,null,null,null,null,null,null,null,null,null,null,null,null,2971,2997,112,null,2401,2422,112,null,2778,2802,112,null,2248,2268,112,null,2456,2478,112,null,2956,2982,112,null,null,null,null,null,null,null,null,null,2248,2268,112,null,2456,2478,112,null,3942,3976,112,null,2956,2982,112]
[3585,3616,113,null,2689,2712,113,null,3305,3334,113,null,3305,3334,113,null,3585,3616,113,null,3865,3899,113,null,null,null,null,null,null,null,null,null,null,null,null,null,null,null,null,null,2998,3024,113,null,2423,2444,113,null,2803,2827,113,null,2269,2288,113,null,2479,2500,113,null,2983,3008,113,null,null,null,null,null,null,null,null,null,2269,2288,113,null,2479,2500,113,null,3977,4012,113,null,2983,3008,113]
[3617,3648,114,null,2713,2736,114,null,3335,3363,114,null,3335,3363,114,null,3617,3648,114,null,3900,3933,114,null,null,null,null,null,null,null,null,null,null,null,null,null,null,null,null,null,3025,3051,114,null,2445,2465,114,null,2828,2852,114,null,2289,2308,114,null,2501,2522,114,null,3009,3035,114,null,null,null,null,null,null,null,null,null,2289,2308,114,null,2501,2522,114,null,4013,4047,114,null,3009,3035,114]
[3649,3680,115,null,2737,2760,115,null,3364,3393,115,null,3364,3393,115,null,3649,3680,115,null,3934,3968,115,null,null,null,null,null,null,null,null,null,null,null,null,null,null,null,null,null,3052,3077,115,null,2466,2487,115,null,2853,2877,115,null,2309,2328,115,null,2523,2544,115,null,3036,3061,115,null,null,null,null,null,null,null,null,null,2309,2328,115,null,2523,2544,115,null,4048,4083,115,null,3036,3061,115]
[3681,3712,116,null,2761,2784,116,null,3394,3422,116,null,3394,3422,116,null,3681,3712,116,null,3969,4002,116,null,null,null,null,null,null,null,null,null,null,null,null,null,null,null,null,null,3078,3104,116,null,2488,2509,116,null,2878,2902,116,null,2329,2349,116,null,2545,2566,116,null,3062,3088,116,null,null,null,null,null,null,null,null,null,2329,2349,116,null,2545,2566,116,null,4084,4118,116,null,3062,3088,116]
[3713,3744,117,null,2785,2808,117,null,3423,3452,117,null,3423,3452,117,null,3713,3744,117,null,4003,4037,117,null,null,null,null,null,null,null,null,null,null,null,null,null,null,null,null,null,3105,3131,117,null,2510,2530,117,null,2903,2927,117,null,2350,2369,117,null,2567,2588,117,null,3089,3115,117,null,null,null,null,null,null,null,null,null,2350,2369,117,null,2567,2588,117,null,4119,4154,117,null,3089,3115,117]
[3745,3776,118,null,2809,2832,118,null,3453,3481,118,null,3453,3481,118,null,3745,3776,118,null,4038,4071,118,null,null,null,null,null,null,null,null,null,null,null,null,null,null,null,null,null,3132,3158,118,null,2531,2552,118,null,2928,2952,118,null,2370,2389,118,null,2589,2610,118,null,3116,3141,118,null,null,null,null,null,null,null,null,null,2370,2389,118,null,2589,2610,118,null,4155,4189,118,null,3116,3141,118]
[3777,3808,119,null,2833,2856,119,null,3482,3511,119,null,3482,3511,119,null,3777,3808,119,null,4072,4106,119,null,null,null,null,null,null,null,null,null,null,null,null,null,null,null,null,null,3159,3184,119,null,2553,2573,119,null,2953,2977,119,null,2390,2409,119,null,2611,2632,119,null,3142,3168,119,null,null,null,null,null,null,null,null,null,2390,2409,119,null,2611,2632,119,null,4190,4225,119,null,3142,3168,119]
[3809,3840,120,null,2857,2880,120,null,3512,3540,120,null,3512,3540,120,null,3809,3840,120,null,4107,4140,120,null,null,null,null,null,null,null,null,null,null,null,null,null,null,null,null,null,3185,3211,120,null,2574,2595,120,null,2978,3002,120,null,2410,2430,120,null,2633,2655,120,null,3169,3195,120,null,null,null,null,null,null,null,null,null,2410,2430,120,null,2633,2655,120,null,4226,4260,120,null,3169,3195,120]
[3841,3872,121,null,2881,2904,121,null,3541,3570,121,null,3541,3570,121,null,3841,3872,121,null,4141,4175,121,null,null,null,null,null,null,null,null,null,null,null,null,null,null,null,null,null,3212,3238,121,null,2596,2617,121,null,3003,3027,121,null,2431,2450,121,null,2656,2677,121,null,3196,3221,121,null,null,null,null,null,null,null,null,null,2431,2450,121,null,2656,2677,121,null,4261,4296,121,null,3196,3221,121]
[3873,3904,122,null,2905,2928,122,null,3571,3599,122,null,3571,3599,122,null,3873,3904,122,null,4176,4209,122,null,null,null,null,null,null,null,null,null,null,null,null,null,null,null,null,null,3239,3265,122,null,2618,2638,122,null,3028,3052,122,null,2451,2470,122,null,2678,2699,122,null,3222,3248,122,null,null,null,null,null,null,null,null,null,2451,2470,122,null,2678,2699,122,null,4297,4331,122,null,3222,3248,122]
[3905,3936,123,null,2929,2952,123,null,3600,3629,123,null,3600,3629,123,null,3905,3936,123,null,4210,4244,123,null,null,null,null,null,null,null,null,null,null,null,null,null,null,null,null,null,3266,3291,123,null,2639,2660,123,null,3053,3077,123,null,2471,2490,123,null,2700,2721,123,null,3249,3274,123,null,null,null,null,null,null,null,null,null,2471,2490,123,null,2700,2721,123,null,4332,4367,123,null,3249,3274,123]
[3937,3968,124,null,2953,2976,124,null,3630,3658,124,null,3630,3658,124,null,3937,3968,124,null,4245,4278,124,null,null,null,null,null,null,null,null,null,null,null,null,null,null,null,null,null,3292,3318,124,null,2661,2682,124,null,3078,3102,124,null,2491,2511,124,null,2722,2743,124,null,3275,3301,124,null,null,null,null,null,null,null,null,null,2491,2511,124,null,2722,2743,124,null,4368,4402,124,null,3275,3301,124]
[3969,4000,125,null,2977,3000,125,null,3659,3688,125,null,3659,3688,125,null,3969,4000,125,null,4279,4313,125,null,null,null,null,null,null,null,null,null,null,null,null,null,null,null,null,null,3319,3345,125,null,2683,2703,125,null,3103,3127,125,null,2512,2531,125,null,2744,2765,125,null,3302,3328,125,null,null,null,null,null,null,null,null,null,2512,2531,125,null,2744,2765,125,null,4403,4438,125,null,3302,3328,125]
[4001,4032,126,null,3001,3024,126,null,3689,3717,126,null,3689,3717,126,null,4001,4032,126,null,4314,4347,126,null,null,null,null,null,null,null,null,null,null,null,null,null,null,null,null,null,3346,3372,126,null,2704,2725,126,null,3128,3152,126,null,2532,2551,126,null,2766,2787,126,null,3329,3354,126,null,null,null,null,null,null,null,null,null,2532,2551,126,null,2766,2787,126,null,4439,4473,126,null,3329,3354,126]
[4033,4064,127,null,3025,3048,127,null,3718,3747,127,null,3718,3747,127,null,4033,4064,127,null,4348,4382,127,null,null,null,null,null,null,null,null,null,null,null,null,null,null,null,null,null,3373,3398,127,null,2726,2746,127,null,3153,3177,127,null,2552,2571,127,null,2788,2809,127,null,3355,3381,127,null,null,null,null,null,null,null,null,null,2552,2571,127,null,2788,2809,127,null,4474,4509,127,null,3355,3381,127]
[4065,4096,128,null,3049,3072,128,null,3748,3776,128,null,3748,3776,128,null,4065,4096,128,null,4383,4416,128,null,null,null,null,null,null,null,null,null,null,null,null,null,null,null,null,null,3399,3425,128,null,2747,2768,128,null,3178,3202,128,null,2572,2592,128,null,2810,2832,128,null,3382,3408,128,null,null,null,null,null,null,null,null,null,2572,2592,128,null,2810,2832,128,null,4510,4544,128,null,3382,3408,128]
[4097,4128,129,null,3073,3096,129,null,3777,3806,129,null,3777,3806,129,null,4097,4128,129,null,4417,4451,129,null,null,null,null,null,null,null,null,null,null,null,null,null,null,null,null,null,3426,3452,129,null,2769,2790,129,null,3203,3227,129,null,2593,2612,129,null,2833,2854,129,null,3409,3434,129,null,null,null,null,null,null,null,null,null,2593,2612,129,null,2833,2854,129,null,4545,4580,129,null,3409,3434,129]
[4129,4160,130,null,3097,3120,130,null,3807,3835,130,null,3807,3835,130,null,4129,4160,130,null,4452,4485,130,null,null,null,null,null,null,null,null,null,null,null,null,null,null,null,null,null,3453,3479,130,null,2791,2811,130,null,3228,3252,130,null,2613,2632,130,null,2855,2876,130,null,3435,3461,130,null,null,null,null,null,null,null,null,null,2613,2632,130,null,2855,2876,130,null,4581,4615,130,null,3435,3461,130]
[null,null,null,null,null,null,null,null,null,null,null,null,null,null,null,null,null,null,null,null,4486,4520,131,null,null,null,null,null,null,null,null,null,null,null,null,null,null,null,null,null,3480,3506,131,null,2812,2833,131,null,3253,3277,131,null,2633,2652,131,null,2877,2898,131,null,3462,3487,131,null,null,null,null,null,null,null,null,null,2633,2652,131,null,2877,2898,131,null,4616,4651,131,null,3462,3487,131]
[null,null,null,null,null,null,null,null,null,null,null,null,null,null,null,null,null,null,null,null,null,null,null,null,null,null,null,null,null,null,null,null,null,null,null,null,null,null,null,null,3507,3532,132,null,2834,2855,132,null,3278,3302,132,null,2653,2673,132,null,2899,2920,132,null,3488,3514,132,null,null,null,null,null,null,null,null,null,2653,2673,132,null,2899,2920,132,null,null,null,null,null,3488,3514,132]
[null,null,null,null,null,null,null,null,null,null,null,null,null,null,null,null,null,null,null,null,null,null,null,null,null,null,null,null,null,null,null,null,null,null,null,null,null,null,null,null,3533,3559,133,null,2856,2876,133,null,3303,3327,133,null,2674,2693,133,null,2921,2942,133,null,3515,3541,133,null,null,null,null,null,null,null,null,null,2674,2693,133,null,2921,2942,133,null,null,null,null,null,3515,3541,133]
[null,null,null,null,null,null,null,null,null,null,null,null,null,null,null,null,null,null,null,null,null,null,null,null,null,null,null,null,null,null,null,null,null,null,null,null,null,null,null,null,3560,3586,134,null,2877,2898,134,null,3328,3352,134,null,2694,2713,134,null,2943,2964,134,null,3542,3567,134,null,null,null,null,null,null,null,null,null,2694,2713,134,null,2943,2964,134,null,null,null,null,null,3542,3567,134]
[null,null,null,null,null,null,null,null,null,null,null,null,null,null,null,null,null,null,null,null,null,null,null,null,null,null,null,null,null,null,null,null,null,null,null,null,null,null,null,null,3587,3613,135,null,2899,2920,135,null,3353,3377,135,null,2714,2733,135,null,2965,2986,135,null,3568,3594,135,null,null,null,null,null,null,null,null,null,2714,2733,135,null,2965,2986,135,null,null,null,null,null,3568,3594,135]
[null,null,null,null,null,null,null,null,null,null,null,null,null,null,null,null,null,null,null,null,null,null,null,null,null,null,null,null,null,null,null,null,null,null,null,null,null,null,null,null,3614,3639,136,null,2921,2941,136,null,3378,3403,136,null,2734,2754,136,null,2987,3009,136,null,3595,3621,136,null,null,null,null,null,null,null,null,null,2734,2754,136,null,2987,3009,136,null,null,null,null,null,3595,3621,136]
[null,null,null,null,null,null,null,null,null,null,null,null,null,null,null,null,null,null,null,null,null,null,null,null,null,null,null,null,null,null,null,null,null,null,null,null,null,null,null,null,3640,3666,137,null,2942,2963,137,null,3404,3428,137,null,2755,2774,137,null,3010,3031,137,null,3622,3647,137,null,null,null,null,null,null,null,null,null,2755,2774,137,null,3010,3031,137,null,null,null,null,null,3622,3647,137]
[null,null,null,null,null,null,null,null,null,null,null,null,null,null,null,null,null,null,null,null,null,null,null,null,null,null,null,null,null,null,null,null,null,null,null,null,null,null,null,null,3667,3693,138,null,2964,2984,138,null,3429,3453,138,null,2775,2794,138,null,3032,3053,138,null,3648,3674,138,null,null,null,null,null,null,null,null,null,2775,2794,138,null,3032,3053,138,null,null,null,null,null,3648,3674,138]
[null,null,null,null,null,null,null,null,null,null,null,null,null,null,null,null,null,null,null,null,null,null,null,null,null,null,null,null,null,null,null,null,null,null,null,null,null,null,null,null,3694,3720,139,null,2985,3006,139,null,3454,3478,139,null,2795,2814,139,null,3054,3075,139,null,3675,3700,139,null,null,null,null,null,null,null,null,null,2795,2814,139,null,3054,3075,139,null,null,null,null,null,3675,3700,139]
[null,null,null,null,null,null,null,null,null,null,null,null,null,null,null,null,null,null,null,null,null,null,null,null,null,null,null,null,null,null,null,null,null,null,null,null,null,null,null,null,3721,3746,140,null,3007,3028,140,null,3479,3503,140,null,2815,2835,140,null,3076,3097,140,null,3701,3727,140,null,null,null,null,null,null,null,null,null,2815,2835,140,null,3076,3097,140,null,null,null,null,null,3701,3727,140]

{"sheet":"2x8","index":6,"n_rows":143,"n_cols":89,"rows_kept":143,"cut":false,"hidden":true,"merged":[[0,44,0,46],[0,0,0,2],[0,4,0,6],[0,8,0,10],[0,12,0,14],[0,16,0,18],[0,20,0,22],[0,24,0,26],[0,28,0,30],[0,32,0,34],[0,36,0,38],[0,40,0,42],[0,72,0,74],[0,76,0,78],[0,84,0,86],[0,48,0,50],[0,52,0,54],[0,56,0,58],[0,60,0,62],[0,64,0,66],[0,68,0,70]]}
["Dist K-3",null,null,null,"K-3 State",null,null,null,"K-3 PHBAO",null,null,null,"Mag II K-3 PHBAO",null,null,null,"Mag I K-3 Deseg/Receiver",null,null,null,"Dist 4-5 (6) for Magnet I",null,null,null,"4-5 (6) PHBAO",null,null,null,"4-5(6) Deseg/Receiver",null,null,null,"Mag II 4-5 (6) PHBAO",null,null,null,"Mag I 4-5(6) Deseg/Receiver",null,null,null,"6-8 District Norm",null,null,null,"6-8 PHBAO",null,null,null,"6-8 Deseg/Receiver",null,null,null,"Mag II  6-8",null,null,null,"Mag I 6-8 Deseg/Receiver",null,null,null,"9-12 District Norm",null,null,null,"9-10 CSR PHBAO",null,null,null,"9-10 CSR Deseg/Receiver",null,null,null,"Mag II 9-12 PHBAO",null,null,null,"Mag I 9-12 Deseg/Receiver",null,null,null,"4-5 District for Deseg/PHBAO/Magnet II",null,null,null,"6-8 District for TIIG Magnet I and TIIG Magnet II",null,null,null,"Updated 1/6/22"]
[]
[-1,0,0,null,-1,0,0,null,-1,0,0,null,-1,0,0,null,-1,0,0,null,-1,0,0,null,-1,0,0,null,-1,0,0,null,-1,0,0,null,-1,0,0,null,-1,0,0,null,-1,0,0,null,-1,0,0,null,-1,0,0,null,-1,0,0,null,-1,0,0,null,-1,0,0,null,-1,0,0,null,-1,0,0,null,-1,0,0,null,-1,0,0,null,-1,0,0]
[1,32,1,null,1,24,1,null,1,30,1,null,1,30,1,null,1,32,1,null,1,35,1,null,1,27,1,null,1,33,1,null,1,27,1,null,1,30,1,null,1,26,1,null,1,22,1,null,1,25,1,null,1,20,1,null,1,22,1,null,1,26,1,null,1,140,1,null,1,460,1,null,1,20,1,null,1,22,1,null,1,36,1,null,1,26,1]
[33,64,2,null,25,48,2,null,31,59,2,null,31,59,2,null,33,64,2,null,36,69,2,null,28,54,2,null,34,65,2,null,28,54,2,null,31,59,2,null,27,53,2,null,23,44,2,null,26,50,2,null,21,40,2,null,23,44,2,null,27,53,2,null,141,270,2,null,461,920,2,null,21,40,2,null,23,44,2,null,37,71,2,null,27,53,2]
[65,96,3,null,49,72,3,null,60,89,3,null,60,89,3,null,65,96,3,null,70,104,3,null,55,81,3,null,66,98,3,null,55,81,3,null,60,89,3,null,54,80,3,null,45,67,3,null,51,76,3,null,41,60,3,null,45,66,3,null,54,79,3,null,271,410,3,null,921,1380,3,null,41,60,3,null,45,66,3,null,72,107,3,null,54,79,3]
[97,128,4,null,73,96,4,null,90,118,4,null,90,118,4,null,97,128,4,null,105,138,4,null,82,108,4,null,99,130,4,null,82,108,4,null,90,118,4,null,81,107,4,null,68,89,4,null,77,101,4,null,61,81,4,null,67,88,4,null,80,106,4,null,411,540,4,null,1381,1850,4,null,61,81,4,null,67,88,4,null,108,142,4,null,80,106,4]
[129,160,5,null,97,120,5,null,119,148,5,null,119,148,5,null,129,160,5,null,139,173,5,null,109,135,5,null,131,163,5,null,109,135,5,null,119,148,5,null,108,134,5,null,90,111,5,null,102,126,5,null,82,101,5,null,89,110,5,null,107,133,5,null,541,680,5,null,1851,2310,5,null,82,101,5,null,89,110,5,null,143,178,5,null,107,133,5]
[161,192,6,null,121,144,6,null,149,177,6,null,149,177,6,null,161,192,6,null,174,207,6,null,136,162,6,null,164,195,6,null,136,162,6,null,149,177,6,null,135,160,6,null,112,134,6,null,127,152,6,null,102,121,6,null,111,132,6,null,134,159,6,null,681,810,6,null,2311,2770,6,null,102,121,6,null,111,132,6,null,179,213,6,null,134,159,6]
[193,224,7,null,145,168,7,null,178,207,7,null,178,207,7,null,193,224,7,null,208,242,7,null,163,189,7,null,196,228,7,null,163,189,7,null,178,207,7,null,161,187,7,null,135,156,7,null,153,177,7,null,122,141,7,null,133,154,7,null,160,186,7,null,811,950,7,null,2771,3230,7,null,122,141,7,null,133,154,7,null,214,249,7,null,160,186,7]
[225,256,8,null,169,192,8,null,208,236,8,null,208,236,8,null,225,256,8,null,243,276,8,null,190,216,8,null,229,260,8,null,190,216,8,null,208,236,8,null,188,214,8,null,157,179,8,null,178,202,8,null,142,162,8,null,155,177,8,null,187,213,8,null,951,1080,8,null,3231,3690,8,null,142,162,8,null,155,177,8,null,250,284,8,null,187,213,8]
[257,288,9,null,193,216,9,null,237,266,9,null,237,266,9,null,257,288,9,null,277,311,9,null,217,243,9,null,261,293,9,null,217,243,9,null,237,266,9,null,215,241,9,null,180,201,9,null,203,228,9,null,163,182,9,null,178,199,9,null,214,239,9,null,1081,1220,9,null,3691,4150,9,null,163,182,9,null,178,199,9,null,285,320,9,null,214,239,9]
[289,320,10,null,217,240,10,null,267,295,10,null,267,295,10,null,289,320,10,null,312,345,10,null,244,270,10,null,294,325,10,null,244,270,10,null,267,295,10,null,242,268,10,null,202,223,10,null,229,253,10,null,183,202,10,null,200,221,10,null,240,266,10,null,1221,1350,10,null,4151,4620,10,null,183,202,10,null,200,221,10,null,321,355,10,null,240,266,10]
[321,352,11,null,241,264,11,null,296,325,11,null,296,325,11,null,321,352,11,null,346,380,11,null,271,297,11,null,326,358,11,null,271,297,11,null,296,325,11,null,269,295,11,null,224,246,11,null,254,278,11,null,203,222,11,null,222,243,11,null,267,292,11,null,1351,1490,11,null,4621,5080,11,null,203,222,11,null,222,243,11,null,356,391,11,null,267,292,11]
[353,384,12,null,265,288,12,null,326,354,12,null,326,354,12,null,353,384,12,null,381,414,12,null,298,324,12,null,359,390,12,null,298,324,12,null,326,354,12,null,296,321,12,null,247,268,12,null,279,304,12,null,223,243,12,null,244,265,12,null,293,319,12,null,1491,1620,12,null,5081,5540,12,null,223,243,12,null,244,265,12,null,392,426,12,null,293,319,12]
[385,416,13,null,289,312,13,null,355,384,13,null,355,384,13,null,385,416,13,null,415,449,13,null,325,351,13,null,391,423,13,null,325,351,13,null,355,384,13,null,322,348,13,null,269,291,13,null,305,329,13,null,244,263,13,null,266,287,13,null,320,346,13,null,1621,1760,13,null,5541,6000,13,null,244,263,13,null,266,287,13,null,427,462,13,null,320,346,13]
[417,448,14,null,313,336,14,null,385,413,14,null,385,413,14,null,417,448,14,null,450,483,14,null,352,378,14,null,424,455,14,null,352,378,14,null,385,413,14,null,349,375,14,null,292,313,14,null,330,355,14,null,264,283,14,null,288,309,14,null,347,372,14,null,1761,1890,14,null,6001,6460,14,null,264,283,14,null,288,309,14,null,463,497,14,null,347,372,14]
[449,480,15,null,337,360,15,null,414,443,15,null,414,443,15,null,449,480,15,null,484,518,15,null,379,405,15,null,456,488,15,null,379,405,15,null,414,443,15,null,376,402,15,null,314,335,15,null,356,380,15,null,284,303,15,null,310,331,15,null,373,399,15,null,1891,2030,15,null,6461,6920,15,null,284,303,15,null,310,331,15,null,498,533,15,null,373,399,15]
[481,512,16,null,361,384,16,null,444,472,16,null,444,472,16,null,481,512,16,null,519,552,16,null,406,432,16,null,489,520,16,null,406,432,16,null,444,472,16,null,403,429,16,null,336,358,16,null,381,405,16,null,304,324,16,null,332,354,16,null,400,426,16,null,2031,2170,16,null,6921,7380,16,null,304,324,16,null,332,354,16,null,534,568,16,null,400,426,16]
[513,544,17,null,385,408,17,null,473,502,17,null,473,502,17,null,513,544,17,null,553,587,17,null,433,459,17,null,521,553,17,null,433,459,17,null,473,502,17,null,430,456,17,null,359,380,17,null,406,431,17,null,325,344,17,null,355,376,17,null,427,452,17,null,2171,2300,17,null,7381,7850,17,null,325,344,17,null,355,376,17,null,569,604,17,null,427,452,17]
[545,576,18,null,409,432,18,null,503,531,18,null,503,531,18,null,545,576,18,null,588,621,18,null,460,486,18,null,554,585,18,null,460,486,18,null,503,531,18,null,457,482,18,null,381,403,18,null,432,456,18,null,345,364,18,null,377,398,18,null,453,479,18,null,2301,2440,18,null,7851,8310,18,null,345,364,18,null,377,398,18,null,605,639,18,null,453,479,18]
[577,608,19,null,433,456,19,null,532,561,19,null,532,561,19,null,577,608,19,null,622,656,19,null,487,513,19,null,586,618,19,null,487,513,19,null,532,561,19,null,483,509,19,null,404,425,19,null,457,481,19,null,365,384,19,null,399,420,19,null,480,505,19,null,2441,2570,19,null,8311,8770,19,null,365,384,19,null,399,420,19,null,640,675,19,null,480,505,19]
[609,640,20,null,457,480,20,null,562,590,20,null,562,590,20,null,609,640,20,null,657,690,20,null,514,540,20,null,619,650,20,null,514,540,20,null,562,590,20,null,510,536,20,null,426,447,20,null,482,507,20,null,385,405,20,null,421,442,20,null,506,532,20,null,2571,2710,20,null,8771,9230,20,null,385,405,20,null,421,442,20,null,676,710,20,null,506,532,20]
[641,672,21,null,481,504,21,null,591,620,21,null,591,620,21,null,641,672,21,null,691,725,21,null,541,567,21,null,651,683,21,null,541,567,21,null,591,620,21,null,537,563,21,null,448,470,21,null,508,532,21,null,406,425,21,null,443,464,21,null,533,559,21,null,2711,2840,21,null,9231,9690,21,null,406,425,21,null,443,464,21,null,711,746,21,null,533,559,21]
[673,704,22,null,505,528,22,null,621,649,22,null,621,649,22,null,673,704,22,null,726,759,22,null,568,594,22,null,684,715,22,null,568,594,22,null,621,649,22,null,564,590,22,null,471,492,22,null,533,557,22,null,426,445,22,null,465,486,22,null,560,585,22,null,2841,2980,22,null,9691,10150,22,null,426,445,22,null,465,486,22,null,747,781,22,null,560,585,22]
[705,736,23,null,529,552,23,null,650,679,23,null,650,679,23,null,705,736,23,null,760,794,23,null,595,621,23,null,716,748,23,null,595,621,23,null,650,679,23,null,591,617,23,null,493,515,23,null,558,583,23,null,446,465,23,null,487,508,23,null,586,612,23,null,null,null,null,null,null,null,null,null,446,465,23,null,487,508,23,null,782,817,23,null,586,612,23]
[737,768,24,null,553,576,24,null,680,708,24,null,680,708,24,null,737,768,24,null,795,828,24,null,622,648,24,null,749,780,24,null,622,648,24,null,680,708,24,null,618,643,24,null,516,537,24,null,584,608,24,null,466,486,24,null,509,531,24,null,613,639,24,null,null,null,null,null,null,null,null,null,466,486,24,null,509,531,24,null,818,852,24,null,613,639,24]
[769,800,25,null,577,600,25,null,709,738,25,null,709,738,25,null,769,800,25,null,829,863,25,null,649,675,25,null,781,813,25,null,649,675,25,null,709,738,25,null,644,670,25,null,538,559,25,null,609,633,25,null,487,506,25,null,532,553,25,null,640,665,25,null,null,null,null,null,null,null,null,null,487,506,25,null,532,553,25,null,853,888,25,null,640,665,25]
[801,832,26,null,601,624,26,null,739,767,26,null,739,767,26,null,801,832,26,null,864,897,26,null,676,702,26,null,814,845,26,null,676,702,26,null,739,767,26,null,671,697,26,null,560,582,26,null,634,659,26,null,507,526,26,null,554,575,26,null,666,692,26,null,null,null,null,null,null,null,null,null,507,526,26,null,554,575,26,null,889,923,26,null,666,692,26]
[833,864,27,null,625,648,27,null,768,797,27,null,768,797,27,null,833,864,27,null,898,932,27,null,703,729,27,null,846,878,27,null,703,729,27,null,768,797,27,null,698,724,27,null,583,604,27,null,660,684,27,null,527,546,27,null,576,597,27,null,693,718,27,null,null,null,null,null,null,null,null,null,527,546,27,null,576,597,27,null,924,959,27,null,693,718,27]
[865,896,28,null,649,672,28,null,798,826,28,null,798,826,28,null,865,896,28,null,933,966,28,null,730,756,28,null,879,910,28,null,730,756,28,null,798,826,28,null,725,751,28,null,605,626,28,null,685,710,28,null,547,567,28,null,598,619,28,null,719,745,28,null,null,null,null,null,null,null,null,null,547,567,28,null,598,619,28,null,960,994,28,null,719,745,28]
[897,928,29,null,673,696,29,null,827,856,29,null,827,856,29,null,897,928,29,null,967,1001,29,null,757,783,29,null,911,943,29,null,757,783,29,null,827,856,29,null,752,778,29,null,627,649,29,null,711,735,29,null,568,587,29,null,620,641,29,null,746,772,29,null,null,null,null,null,null,null,null,null,568,587,29,null,620,641,29,null,995,1030,29,null,746,772,29]
[929,960,30,null,697,720,30,null,857,885,30,null,857,885,30,null,929,960,30,null,1002,1035,30,null,784,810,30,null,944,975,30,null,784,810,30,null,857,885,30,null,779,804,30,null,650,671,30,null,736,760,30,null,588,607,30,null,642,663,30,null,773,798,30,null,null,null,null,null,null,null,null,null,588,607,30,null,642,663,30,null,1031,1065,30,null,773,798,30]
[961,992,31,null,721,744,31,null,886,915,31,null,886,915,31,null,961,992,31,null,1036,1070,31,null,811,837,31,null,976,1008,31,null,811,837,31,null,886,915,31,null,805,831,31,null,672,694,31,null,761,786,31,null,608,627,31,null,664,685,31,null,799,825,31,null,null,null,null,null,null,null,null,null,608,627,31,null,664,685,31,null,1066,1101,31,null,799,825,31]
[993,1024,32,null,745,768,32,null,916,944,32,null,916,944,32,null,993,1024,32,null,1071,1104,32,null,838,864,32,null,1009,1040,32,null,838,864,32,null,916,944,32,null,832,858,32,null,695,716,32,null,787,811,32,null,628,648,32,null,686,708,32,null,826,852,32,null,null,null,null,null,null,null,null,null,628,648,32,null,686,708,32,null,1102,1136,32,null,826,852,32]
[1025,1056,33,null,769,792,33,null,945,974,33,null,945,974,33,null,1025,1056,33,null,1105,1139,33,null,865,891,33,null,1041,1073,33,null,865,891,33,null,945,974,33,null,859,885,33,null,717,738,33,null,812,836,33,null,649,668,33,null,709,730,33,null,853,878,33,null,null,null,null,null,null,null,null,null,649,668,33,null,709,730,33,null,1137,1172,33,null,853,878,33]
[1057,1088,34,null,793,816,34,null,975,1003,34,null,975,1003,34,null,1057,1088,34,null,1140,1173,34,null,892,918,34,null,1074,1105,34,null,892,918,34,null,975,1003,34,null,886,912,34,null,739,761,34,null,837,862,34,null,669,688,34,null,731,752,34,null,879,905,34,null,null,null,null,null,null,null,null,null,669,688,34,null,731,752,34,null,1173,1207,34,null,879,905,34]
[1089,1120,35,null,817,840,35,null,1004,1033,35,null,1004,1033,35,null,1089,1120,35,null,1174,1208,35,null,919,945,35,null,1106,1138,35,null,919,945,35,null,1004,1033,35,null,913,939,35,null,762,783,35,null,863,887,35,null,689,708,35,null,753,774,35,null,906,931,35,null,null,null,null,null,null,null,null,null,689,708,35,null,753,774,35,null,1208,1243,35,null,906,931,35]
[1121,1152,36,null,841,864,36,null,1034,1062,36,null,1034,1062,36,null,1121,1152,36,null,1209,1242,36,null,946,972,36,null,1139,1170,36,null,946,972,36,null,1034,1062,36,null,940,965,36,null,784,806,36,null,888,912,36,null,709,729,36,null,775,796,36,null,932,958,36,null,null,null,null,null,null,null,null,null,709,729,36,null,775,796,36,null,1244,1278,36,null,932,958,36]
[1153,1184,37,null,865,888,37,null,1063,1092,37,null,1063,1092,37,null,1153,1184,37,null,1243,1277,37,null,973,999,37,null,1171,1203,37,null,973,999,37,null,1063,1092,37,null,966,992,37,null,807,828,37,null,913,938,37,null,730,749,37,null,797,818,37,null,959,985,37,null,null,null,null,null,null,null,null,null,730,749,37,null,797,818,37,null,1279,1314,37,null,959,985,37]
[1185,1216,38,null,889,912,38,null,1093,1121,38,null,1093,1121,38,null,1185,1216,38,null,1278,1311,38,null,1000,1026,38,null,1204,1235,38,null,1000,1026,38,null,1093,1121,38,null,993,1019,38,null,829,850,38,null,939,963,38,null,750,769,38,null,819,840,38,null,986,1011,38,null,null,null,null,null,null,null,null,null,750,769,38,null,819,840,38,null,1315,1349,38,null,986,1011,38]
[1217,1248,39,null,913,936,39,null,1122,1151,39,null,1122,1151,39,null,1217,1248,39,null,1312,1346,39,null,1027,1053,39,null,1236,1268,39,null,1027,1053,39,null,1122,1151,39,null,1020,1046,39,null,851,873,39,null,964,988,39,null,770,789,39,null,841,862,39,null,1012,1038,39,null,null,null,null,null,null,null,null,null,770,789,39,null,841,862,39,null,1350,1385,39,null,1012,1038,39]
[1249,1280,40,null,937,960,40,null,1152,1180,40,null,1152,1180,40,null,1249,1280,40,null,1347,1380,40,null,1054,1080,40,null,1269,1300,40,null,1054,1080,40,null,1152,1180,40,null,1047,1073,40,null,874,895,40,null,989,1014,40,null,790,810,40,null,863,885,40,null,1039,1065,40,null,null,null,null,null,null,null,null,null,790,810,40,null,863,885,40,null,1386,1420,40,null,1039,1065,40]
[1281,1312,41,null,961,984,41,null,1181,1210,41,null,1181,1210,41,null,1281,1312,41,null,1381,1415,41,null,1081,1107,41,null,1301,1333,41,null,1081,1107,41,null,1181,1210,41,null,1074,1100,41,null,896,918,41,null,1015,1039,41,null,811,830,41,null,886,907,41,null,1066,1091,41,null,null,null,null,null,null,null,null,null,811,830,41,null,886,907,41,null,1421,1456,41,null,1066,1091,41]
[1313,1344,42,null,985,1008,42,null,1211,1239,42,null,1211,1239,42,null,1313,1344,42,null,1416,1449,42,null,1108,1134,42,null,1334,1365,42,null,1108,1134,42,null,1211,1239,42,null,1101,1126,42,null,919,940,42,null,1040,1065,42,null,831,850,42,null,908,929,42,null,1092,1118,42,null,null,null,null,null,null,null,null,null,831,850,42,null,908,929,42,null,1457,1491,42,null,1092,1118,42]
[1345,1376,43,null,1009,1032,43,null,1240,1269,43,null,1240,1269,43,null,1345,1376,43,null,1450,1484,43,null,1135,1161,43,null,1366,1398,43,null,1135,1161,43,null,1240,1269,43,null,1127,1153,43,null,941,962,43,null,1066,1090,43,null,851,870,43,null,930,951,43,null,1119,1144,43,null,null,null,null,null,null,null,null,null,851,870,43,null,930,951,43,null,1492,1527,43,null,1119,1144,43]
[1377,1408,44,null,1033,1056,44,null,1270,1298,44,null,1270,1298,44,null,1377,1408,44,null,1485,1518,44,null,1162,1188,44,null,1399,1430,44,null,1162,1188,44,null,1270,1298,44,null,1154,1180,44,null,963,985,44,null,1091,1115,44,null,871,891,44,null,952,973,44,null,1145,1171,44,null,null,null,null,null,null,null,null,null,871,891,44,null,952,973,44,null,1528,1562,44,null,1145,1171,44]
[1409,1440,45,null,1057,1080,45,null,1299,1328,45,null,1299,1328,45,null,1409,1440,45,null,1519,1553,45,null,1189,1215,45,null,1431,1463,45,null,1189,1215,45,null,1299,1328,45,null,1181,1207,45,null,986,1007,45,null,1116,1141,45,null,892,911,45,null,974,995,45,null,1172,1198,45,null,null,null,null,null,null,null,null,null,892,911,45,null,974,995,45,null,1563,1598,45,null,1172,1198,45]
[1441,1472,46,null,1081,1104,46,null,1329,1357,46,null,1329,1357,46,null,1441,1472,46,null,1554,1587,46,null,1216,1242,46,null,1464,1495,46,null,1216,1242,46,null,1329,1357,46,null,1208,1234,46,null,1008,1030,46,null,1142,1166,46,null,912,931,46,null,996,1017,46,null,1199,1224,46,null,null,null,null,null,null,null,null,null,912,931,46,null,996,1017,46,null,1599,1633,46,null,1199,1224,46]
[1473,1504,47,null,1105,1128,47,null,1358,1387,47,null,1358,1387,47,null,1473,1504,47,null,1588,1622,47,null,1243,1269,47,null,1496,1528,47,null,1243,1269,47,null,1358,1387,47,null,1235,1261,47,null,1031,1052,47,null,1167,1191,47,null,932,951,47,null,1018,1039,47,null,1225,1251,47,null,null,null,null,null,null,null,null,null,932,951,47,null,1018,1039,47,null,1634,1669,47,null,1225,1251,47]
[1505,1536,48,null,1129,1152,48,null,1388,1416,48,null,1388,1416,48,null,1505,1536,48,null,1623,1656,48,null,1270,1296,48,null,1529,1560,48,null,1270,1296,48,null,1388,1416,48,null,1262,1287,48,null,1053,1074,48,null,1192,1217,48,null,952,972,48,null,1040,1062,48,null,1252,1278,48,null,null,null,null,null,null,null,null,null,952,972,48,null,1040,1062,48,null,1670,1704,48,null,1252,1278,48]
[1537,1568,49,null,1153,1176,49,null,1417,1446,49,null,1417,1446,49,null,1537,1568,49,null,1657,1691,49,null,1297,1323,49,null,1561,1593,49,null,1297,1323,49,null,1417,1446,49,null,1288,1314,49,null,1075,1097,49,null,1218,1242,49,null,973,992,49,null,1063,1084,49,null,1279,1304,49,null,null,null,null,null,null,null,null,null,973,992,49,null,1063,1084,49,null,1705,1740,49,null,1279,1304,49]
[1569,1600,50,null,1177,1200,50,null,1447,1475,50,null,1447,1475,50,null,1569,1600,50,null,1692,1725,50,null,1324,1350,50,null,1594,1625,50,null,1324,1350,50,null,1447,1475,50,null,1315,1341,50,null,1098,1119,50,null,1243,1267,50,null,993,1012,50,null,1085,1106,50,null,1305,1331,50,null,null,null,null,null,null,null,null,null,993,1012,50,null,1085,1106,50,null,1741,1775,50,null,1305,1331,50]
[1601,1632,51,null,1201,1224,51,null,1476,1505,51,null,1476,1505,51,null,1601,1632,51,null,1726,1760,51,null,1351,1377,51,null,1626,1658,51,null,1351,1377,51,null,1476,1505,51,null,1342,1368,51,null,1120,1142,51,null,1268,1293,51,null,1013,1032,51,null,1107,1128,51,null,1332,1357,51,null,null,null,null,null,null,null,null,null,1013,1032,51,null,1107,1128,51,null,1776,1811,51,null,1332,1357,51]
[1633,1664,52,null,1225,1248,52,null,1506,1534,52,null,1506,1534,52,null,1633,1664,52,null,1761,1794,52,null,1378,1404,52,null,1659,1690,52,null,1378,1404,52,null,1506,1534,52,null,1369,1395,52,null,1143,1164,52,null,1294,1318,52,null,1033,1053,52,null,1129,1150,52,null,1358,1384,52,null,null,null,null,null,null,null,null,null,1033,1053,52,null,1129,1150,52,null,1812,1846,52,null,1358,1384,52]
[1665,1696,53,null,1249,1272,53,null,1535,1564,53,null,1535,1564,53,null,1665,1696,53,null,1795,1829,53,null,1405,1431,53,null,1691,1723,53,null,1405,1431,53,null,1535,1564,53,null,1396,1422,53,null,1165,1186,53,null,1319,1344,53,null,1054,1073,53,null,1151,1172,53,null,1385,1411,53,null,null,null,null,null,null,null,null,null,1054,1073,53,null,1151,1172,53,null,1847,1882,53,null,1385,1411,53]
[1697,1728,54,null,1273,1296,54,null,1565,1593,54,null,1565,1593,54,null,1697,1728,54,null,1830,1863,54,null,1432,1458,54,null,1724,1755,54,null,1432,1458,54,null,1565,1593,54,null,1423,1448,54,null,1187,1209,54,null,1345,1369,54,null,1074,1093,54,null,1173,1194,54,null,1412,1437,54,null,null,null,null,null,null,null,null,null,1074,1093,54,null,1173,1194,54,null,1883,1917,54,null,1412,1437,54]
[1729,1760,55,null,1297,1320,55,null,1594,1623,55,null,1594,1623,55,null,1729,1760,55,null,1864,1898,55,null,1459,1485,55,null,1756,1788,55,null,1459,1485,55,null,1594,1623,55,null,1449,1475,55,null,1210,1231,55,null,1370,1394,55,null,1094,1113,55,null,1195,1216,55,null,1438,1464,55,null,null,null,null,null,null,null,null,null,1094,1113,55,null,1195,1216,55,null,1918,1953,55,null,1438,1464,55]
[1761,1792,56,null,1321,1344,56,null,1624,1652,56,null,1624,1652,56,null,1761,1792,56,null,1899,1932,56,null,1486,1512,56,null,1789,1820,56,null,1486,1512,56,null,1624,1652,56,null,1476,1502,56,null,1232,1253,56,null,1395,1420,56,null,1114,1134,56,null,1217,1239,56,null,1465,1491,56,null,null,null,null,null,null,null,null,null,1114,1134,56,null,1217,1239,56,null,1954,1988,56,null,1465,1491,56]
[1793,1824,57,null,1345,1368,57,null,1653,1682,57,null,1653,1682,57,null,1793,1824,57,null,1933,1967,57,null,1513,1539,57,null,1821,1853,57,null,1513,1539,57,null,1653,1682,57,null,1503,1529,57,null,1254,1276,57,null,1421,1445,57,null,1135,1154,57,null,1240,1261,57,null,1492,1517,57,null,null,null,null,null,null,null,null,null,1135,1154,57,null,1240,1261,57,null,1989,2024,57,null,1492,1517,57]
[1825,1856,58,null,1369,1392,58,null,1683,1711,58,null,1683,1711,58,null,1825,1856,58,null,1968,2001,58,null,1540,1566,58,null,1854,1885,58,null,1540,1566,58,null,1683,1711,58,null,1530,1556,58,null,1277,1298,58,null,1446,1470,58,null,1155,1174,58,null,1262,1283,58,null,1518,1544,58,null,null,null,null,null,null,null,null,null,1155,1174,58,null,1262,1283,58,null,2025,2059,58,null,1518,1544,58]
[1857,1888,59,null,1393,1416,59,null,1712,1741,59,null,1712,1741,59,null,1857,1888,59,null,2002,2036,59,null,1567,1593,59,null,1886,1918,59,null,1567,1593,59,null,1712,1741,59,null,1557,1583,59,null,1299,1321,59,null,1471,1496,59,null,1175,1194,59,null,1284,1305,59,null,1545,1570,59,null,null,null,null,null,null,null,null,null,1175,1194,59,null,1284,1305,59,null,2060,2095,59,null,1545,1570,59]
[1889,1920,60,null,1417,1440,60,null,1742,1770,60,null,1742,1770,60,null,1889,1920,60,null,2037,2070,60,null,1594,1620,60,null,1919,1950,60,null,1594,1620,60,null,1742,1770,60,null,1584,1609,60,null,1322,1343,60,null,1497,1521,60,null,1195,1215,60,null,1306,1327,60,null,1571,1597,60,null,null,null,null,null,null,null,null,null,1195,1215,60,null,1306,1327,60,null,2096,2130,60,null,1571,1597,60]
[1921,1952,61,null,1441,1464,61,null,1771,1800,61,null,1771,1800,61,null,1921,1952,61,null,2071,2105,61,null,1621,1647,61,null,1951,1983,61,null,1621,1647,61,null,1771,1800,61,null,1610,1636,61,null,1344,1365,61,null,1522,1546,61,null,1216,1235,61,null,1328,1349,61,null,1598,1624,61,null,null,null,null,null,null,null,null,null,1216,1235,61,null,1328,1349,61,null,2131,2166,61,null,1598,1624,61]
[1953,1984,62,null,1465,1488,62,null,1801,1829,62,null,1801,1829,62,null,1953,1984,62,null,2106,2139,62,null,1648,1674,62,null,1984,2015,62,null,1648,1674,62,null,1801,1829,62,null,1637,1663,62,null,1366,1388,62,null,1547,1572,62,null,1236,1255,62,null,1350,1371,62,null,1625,1650,62,null,null,null,null,null,null,null,null,null,1236,1255,62,null,1350,1371,62,null,2167,2201,62,null,1625,1650,62]
[1985,2016,63,null,1489,1512,63,null,1830,1859,63,null,1830,1859,63,null,1985,2016,63,null,2140,2174,63,null,1675,1701,63,null,2016,2048,63,null,1675,1701,63,null,1830,1859,63,null,1664,1690,63,null,1389,1410,63,null,1573,1597,63,null,1256,1275,63,null,1372,1393,63,null,1651,1677,63,null,null,null,null,null,null,null,null,null,1256,1275,63,null,1372,1393,63,null,2202,2237,63,null,1651,1677,63]
[2017,2048,64,null,1513,1536,64,null,1860,1888,64,null,1860,1888,64,null,2017,2048,64,null,2175,2208,64,null,1702,1728,64,null,2049,2080,64,null,1702,1728,64,null,1860,1888,64,null,1691,1717,64,null,1411,1433,64,null,1598,1622,64,null,1276,1296,64,null,1394,1416,64,null,1678,1704,64,null,null,null,null,null,null,null,null,null,1276,1296,64,null,1394,1416,64,null,2238,2272,64,null,1678,1704,64]
[2049,2080,65,null,1537,1560,65,null,1889,1918,65,null,1889,1918,65,null,2049,2080,65,null,2209,2243,65,null,1729,1755,65,null,2081,2113,65,null,1729,1755,65,null,1889,1918,65,null,1718,1744,65,null,1434,1455,65,null,1623,1648,65,null,1297,1316,65,null,1417,1438,65,null,1705,1730,65,null,null,null,null,null,null,null,null,null,1297,1316,65,null,1417,1438,65,null,2273,2308,65,null,1705,1730,65]
[2081,2112,66,null,1561,1584,66,null,1919,1947,66,null,1919,1947,66,null,2081,2112,66,null,2244,2277,66,null,1756,1782,66,null,2114,2145,66,null,1756,1782,66,null,1919,1947,66,null,1745,1770,66,null,1456,1477,66,null,1649,1673,66,null,1317,1336,66,null,1439,1460,66,null,1731,1757,66,null,null,null,null,null,null,null,null,null,1317,1336,66,null,1439,1460,66,null,2309,2343,66,null,1731,1757,66]
[2113,2144,67,null,1585,1608,67,null,1948,1977,67,null,1948,1977,67,null,2113,2144,67,null,2278,2312,67,null,1783,1809,67,null,2146,2178,67,null,1783,1809,67,null,1948,1977,67,null,1771,1797,67,null,1478,1500,67,null,1674,1699,67,null,1337,1356,67,null,1461,1482,67,null,1758,1783,67,null,null,null,null,null,null,null,null,null,1337,1356,67,null,1461,1482,67,null,2344,2379,67,null,1758,1783,67]
[2145,2176,68,null,1609,1632,68,null,1978,2006,68,null,1978,2006,68,null,2145,2176,68,null,2313,2346,68,null,1810,1836,68,null,2179,2210,68,null,1810,1836,68,null,1978,2006,68,null,1798,1824,68,null,1501,1522,68,null,1700,1724,68,null,1357,1377,68,null,1483,1504,68,null,1784,1810,68,null,null,null,null,null,null,null,null,null,1357,1377,68,null,1483,1504,68,null,2380,2414,68,null,1784,1810,68]
[2177,2208,69,null,1633,1656,69,null,2007,2036,69,null,2007,2036,69,null,2177,2208,69,null,2347,2381,69,null,1837,1863,69,null,2211,2243,69,null,1837,1863,69,null,2007,2036,69,null,1825,1851,69,null,1523,1545,69,null,1725,1749,69,null,1378,1397,69,null,1505,1526,69,null,1811,1837,69,null,null,null,null,null,null,null,null,null,1378,1397,69,null,1505,1526,69,null,2415,2450,69,null,1811,1837,69]
[2209,2240,70,null,1657,1680,70,null,2037,2065,70,null,2037,2065,70,null,2209,2240,70,null,2382,2415,70,null,1864,1890,70,null,2244,2275,70,null,1864,1890,70,null,2037,2065,70,null,1852,1878,70,null,1546,1567,70,null,1750,1775,70,null,1398,1417,70,null,1527,1548,70,null,1838,1863,70,null,null,null,null,null,null,null,null,null,1398,1417,70,null,1527,1548,70,null,2451,2485,70,null,1838,1863,70]
[2241,2272,71,null,1681,1704,71,null,2066,2095,71,null,2066,2095,71,null,2241,2272,71,null,2416,2450,71,null,1891,1917,71,null,2276,2308,71,null,1891,1917,71,null,2066,2095,71,null,1879,1905,71,null,1568,1589,71,null,1776,1800,71,null,1418,1437,71,null,1549,1570,71,null,1864,1890,71,null,null,null,null,null,null,null,null,null,1418,1437,71,null,1549,1570,71,null,2486,2521,71,null,1864,1890,71]
[2273,2304,72,null,1705,1728,72,null,2096,2124,72,null,2096,2124,72,null,2273,2304,72,null,2451,2484,72,null,1918,1944,72,null,2309,2340,72,null,1918,1944,72,null,2096,2124,72,null,1906,1931,72,null,1590,1612,72,null,1801,1825,72,null,1438,1458,72,null,1571,1593,72,null,1891,1917,72,null,null,null,null,null,null,null,null,null,1438,1458,72,null,1571,1593,72,null,2522,2556,72,null,1891,1917,72]
[2305,2336,73,null,1729,1752,73,null,2125,2154,73,null,2125,2154,73,null,2305,2336,73,null,2485,2519,73,null,null,null,null,null,null,null,null,null,null,null,null,null,null,null,null,null,1932,1958,73,null,1613,1634,73,null,1826,1851,73,null,1459,1478,73,null,1594,1615,73,null,1918,1943,73,null,null,null,null,null,null,null,null,null,1459,1478,73,null,1594,1615,73,null,2557,2592,73,null,1918,1943,73]
[2337,2368,74,null,1753,1776,74,null,2155,2183,74,null,2155,2183,74,null,2337,2368,74,null,2520,2553,74,null,null,null,null,null,null,null,null,null,null,null,null,null,null,null,null,null,1959,1985,74,null,1635,1657,74,null,1852,1876,74,null,1479,1498,74,null,1616,1637,74,null,1944,1970,74,null,null,null,null,null,null,null,null,null,1479,1498,74,null,1616,1637,74,null,2593,2627,74,null,1944,1970,74]
[2369,2400,75,null,1777,1800,75,null,2184,2213,75,null,2184,2213,75,null,2369,2400,75,null,2554,2588,75,null,null,null,null,null,null,null,null,null,null,null,null,null,null,null,null,null,1986,2012,75,null,1658,1679,75,null,1877,1901,75,null,1499,1518,75,null,1638,1659,75,null,1971,1996,75,null,null,null,null,null,null,null,null,null,1499,1518,75,null,1638,1659,75,null,2628,2663,75,null,1971,1996,75]
[2401,2432,76,null,1801,1824,76,null,2214,2242,76,null,2214,2242,76,null,2401,2432,76,null,2589,2622,76,null,null,null,null,null,null,null,null,null,null,null,null,null,null,null,null,null,2013,2039,76,null,1680,1701,76,null,1902,1927,76,null,1519,1539,76,null,1660,1681,76,null,1997,2023,76,null,null,null,null,null,null,null,null,null,1519,1539,76,null,1660,1681,76,null,2664,2698,76,null,1997,2023,76]
[2433,2464,77,null,1825,1848,77,null,2243,2272,77,null,2243,2272,77,null,2433,2464,77,null,2623,2657,77,null,null,null,null,null,null,null,null,null,null,null,null,null,null,null,null,null,2040,2066,77,null,1702,1724,77,null,1928,1952,77,null,1540,1559,77,null,1682,1703,77,null,2024,2050,77,null,null,null,null,null,null,null,null,null,1540,1559,77,null,1682,1703,77,null,2699,2734,77,null,2024,2050,77]
[2465,2496,78,null,1849,1872,78,null,2273,2301,78,null,2273,2301,78,null,2465,2496,78,null,2658,2691,78,null,null,null,null,null,null,null,null,null,null,null,null,null,null,null,null,null,2067,2092,78,null,1725,1746,78,null,1953,1977,78,null,1560,1579,78,null,1704,1725,78,null,2051,2076,78,null,null,null,null,null,null,null,null,null,1560,1579,78,null,1704,1725,78,null,2735,2769,78,null,2051,2076,78]
[2497,2528,79,null,1873,1896,79,null,2302,2331,79,null,2302,2331,79,null,2497,2528,79,null,2692,2726,79,null,null,null,null,null,null,null,null,null,null,null,null,null,null,null,null,null,2093,2119,79,null,1747,1769,79,null,1978,2003,79,null,1580,1599,79,null,1726,1747,79,null,2077,2103,79,null,null,null,null,null,null,null,null,null,1580,1599,79,null,1726,1747,79,null,2770,2805,79,null,2077,2103,79]
[2529,2560,80,null,1897,1920,80,null,2332,2360,80,null,2332,2360,80,null,2529,2560,80,null,2727,2760,80,null,null,null,null,null,null,null,null,null,null,null,null,null,null,null,null,null,2120,2146,80,null,1770,1791,80,null,2004,2028,80,null,1600,1620,80,null,1748,1770,80,null,2104,2130,80,null,null,null,null,null,null,null,null,null,1600,1620,80,null,1748,1770,80,null,2806,2840,80,null,2104,2130,80]
[2561,2592,81,null,1921,1944,81,null,2361,2390,81,null,2361,2390,81,null,2561,2592,81,null,2761,2795,81,null,null,null,null,null,null,null,null,null,null,null,null,null,null,null,null,null,2147,2173,81,null,1792,1813,81,null,2029,2054,81,null,1621,1640,81,null,1771,1792,81,null,2131,2156,81,null,null,null,null,null,null,null,null,null,1621,1640,81,null,1771,1792,81,null,2841,2876,81,null,2131,2156,81]
[2593,2624,82,null,1945,1968,82,null,2391,2419,82,null,2391,2419,82,null,2593,2624,82,null,2796,2829,82,null,null,null,null,null,null,null,null,null,null,null,null,null,null,null,null,null,2174,2200,82,null,1814,1836,82,null,2055,2079,82,null,1641,1660,82,null,1793,1814,82,null,2157,2183,82,null,null,null,null,null,null,null,null,null,1641,1660,82,null,1793,1814,82,null,2877,2911,82,null,2157,2183,82]
[2625,2656,83,null,1969,1992,83,null,2420,2449,83,null,2420,2449,83,null,2625,2656,83,null,2830,2864,83,null,null,null,null,null,null,null,null,null,null,null,null,null,null,null,null,null,2201,2227,83,null,1837,1858,83,null,2080,2104,83,null,1661,1680,83,null,1815,1836,83,null,2184,2209,83,null,null,null,null,null,null,null,null,null,1661,1680,83,null,1815,1836,83,null,2912,2947,83,null,2184,2209,83]
[2657,2688,84,null,1993,2016,84,null,2450,2478,84,null,2450,2478,84,null,2657,2688,84,null,2865,2898,84,null,null,null,null,null,null,null,null,null,null,null,null,null,null,null,null,null,2228,2253,84,null,1859,1880,84,null,2105,2130,84,null,1681,1701,84,null,1837,1858,84,null,2210,2236,84,null,null,null,null,null,null,null,null,null,1681,1701,84,null,1837,1858,84,null,2948,2982,84,null,2210,2236,84]
[2689,2720,85,null,2017,2040,85,null,2479,2508,85,null,2479,2508,85,null,2689,2720,85,null,2899,2933,85,null,null,null,null,null,null,null,null,null,null,null,null,null,null,null,null,null,2254,2280,85,null,1881,1903,85,null,2131,2155,85,null,1702,1721,85,null,1859,1880,85,null,2237,2263,85,null,null,null,null,null,null,null,null,null,1702,1721,85,null,1859,1880,85,null,2983,3018,85,null,2237,2263,85]
[2721,2752,86,null,2041,2064,86,null,2509,2537,86,null,2509,2537,86,null,2721,2752,86,null,2934,2967,86,null,null,null,null,null,null,null,null,null,null,null,null,null,null,null,null,null,2281,2307,86,null,1904,1925,86,null,2156,2180,86,null,1722,1741,86,null,1881,1902,86,null,2264,2289,86,null,null,null,null,null,null,null,null,null,1722,1741,86,null,1881,1902,86,null,3019,3053,86,null,2264,2289,86]
[2753,2784,87,null,2065,2088,87,null,2538,2567,87,null,2538,2567,87,null,2753,2784,87,null,2968,3002,87,null,null,null,null,null,null,null,null,null,null,null,null,null,null,null,null,null,2308,2334,87,null,1926,1948,87,null,2181,2206,87,null,1742,1761,87,null,1903,1924,87,null,2290,2316,87,null,null,null,null,null,null,null,null,null,1742,1761,87,null,1903,1924,87,null,3054,3089,87,null,2290,2316,87]
[2785,2816,88,null,2089,2112,88,null,2568,2596,88,null,2568,2596,88,null,2785,2816,88,null,3003,3036,88,null,null,null,null,null,null,null,null,null,null,null,null,null,null,null,null,null,2335,2361,88,null,1949,1970,88,null,2207,2231,88,null,1762,1782,88,null,1925,1947,88,null,2317,2343,88,null,null,null,null,null,null,null,null,null,1762,1782,88,null,1925,1947,88,null,3090,3124,88,null,2317,2343,88]
[2817,2848,89,null,2113,2136,89,null,2597,2626,89,null,2597,2626,89,null,2817,2848,89,null,3037,3071,89,null,null,null,null,null,null,null,null,null,null,null,null,null,null,null,null,null,2362,2388,89,null,1971,1992,89,null,2232,2256,89,null,1783,1802,89,null,1948,1969,89,null,2344,2369,89,null,null,null,null,null,null,null,null,null,1783,1802,89,null,1948,1969,89,null,3125,3160,89,null,2344,2369,89]
[2849,2880,90,null,2137,2160,90,null,2627,2655,90,null,2627,2655,90,null,2849,2880,90,null,3072,3105,90,null,null,null,null,null,null,null,null,null,null,null,null,null,null,null,null,null,2389,2414,90,null,1993,2015,90,null,2257,2282,90,null,1803,1822,90,null,1970,1991,90,null,2370,2396,90,null,null,null,null,null,null,null,null,null,1803,1822,90,null,1970,1991,90,null,3161,3195,90,null,2370,2396,90]
[2881,2912,91,null,2161,2184,91,null,2656,2685,91,null,2656,2685,91,null,2881,2912,91,null,3106,3140,91,null,null,null,null,null,null,null,null,null,null,null,null,null,null,null,null,null,2415,2441,91,null,2016,2037,91,null,2283,2307,91,null,1823,1842,91,null,1992,2013,91,null,2397,2422,91,null,null,null,null,null,null,null,null,null,1823,1842,91,null,1992,2013,91,null,3196,3231,91,null,2397,2422,91]
[2913,2944,92,null,2185,2208,92,null,2686,2714,92,null,2686,2714,92,null,2913,2944,92,null,3141,3174,92,null,null,null,null,null,null,null,null,null,null,null,null,null,null,null,null,null,2442,2468,92,null,2038,2060,92,null,2308,2333,92,null,1843,1863,92,null,2014,2035,92,null,2423,2449,92,null,null,null,null,null,null,null,null,null,1843,1863,92,null,2014,2035,92,null,3232,3266,92,null,2423,2449,92]
[2945,2976,93,null,2209,2232,93,null,2715,2744,93,null,2715,2744,93,null,2945,2976,93,null,3175,3209,93,null,null,null,null,null,null,null,null,null,null,null,null,null,null,null,null,null,2469,2495,93,null,2061,2082,93,null,2334,2358,93,null,1864,1883,93,null,2036,2057,93,null,2450,2476,93,null,null,null,null,null,null,null,null,null,1864,1883,93,null,2036,2057,93,null,3267,3302,93,null,2450,2476,93]
[2977,3008,94,null,2233,2256,94,null,2745,2773,94,null,2745,2773,94,null,2977,3008,94,null,3210,3243,94,null,null,null,null,null,null,null,null,null,null,null,null,null,null,null,null,null,2496,2522,94,null,2083,2104,94,null,2359,2383,94,null,1884,1903,94,null,2058,2079,94,null,2477,2502,94,null,null,null,null,null,null,null,null,null,1884,1903,94,null,2058,2079,94,null,3303,3337,94,null,2477,2502,94]
[3009,3040,95,null,2257,2280,95,null,2774,2803,95,null,2774,2803,95,null,3009,3040,95,null,3244,3278,95,null,null,null,null,null,null,null,null,null,null,null,null,null,null,null,null,null,2523,2549,95,null,2105,2127,95,null,2384,2409,95,null,1904,1923,95,null,2080,2101,95,null,2503,2529,95,null,null,null,null,null,null,null,null,null,1904,1923,95,null,2080,2101,95,null,3338,3373,95,null,2503,2529,95]
[3041,3072,96,null,2281,2304,96,null,2804,2832,96,null,2804,2832,96,null,3041,3072,96,null,3279,3312,96,null,null,null,null,null,null,null,null,null,null,null,null,null,null,null,null,null,2550,2575,96,null,2128,2149,96,null,2410,2434,96,null,1924,1944,96,null,2102,2124,96,null,2530,2556,96,null,null,null,null,null,null,null,null,null,1924,1944,96,null,2102,2124,96,null,3374,3408,96,null,2530,2556,96]
[3073,3104,97,null,2305,2328,97,null,2833,2862,97,null,2833,2862,97,null,3073,3104,97,null,3313,3347,97,null,null,null,null,null,null,null,null,null,null,null,null,null,null,null,null,null,2576,2602,97,null,2150,2172,97,null,2435,2459,97,null,1945,1964,97,null,2125,2146,97,null,2557,2582,97,null,null,null,null,null,null,null,null,null,1945,1964,97,null,2125,2146,97,null,3409,3444,97,null,2557,2582,97]
[3105,3136,98,null,2329,2352,98,null,2863,2891,98,null,2863,2891,98,null,3105,3136,98,null,3348,3381,98,null,null,null,null,null,null,null,null,null,null,null,null,null,null,null,null,null,2603,2629,98,null,2173,2194,98,null,2460,2485,98,null,1965,1984,98,null,2147,2168,98,null,2583,2609,98,null,null,null,null,null,null,null,null,null,1965,1984,98,null,2147,2168,98,null,3445,3479,98,null,2583,2609,98]
[3137,3168,99,null,2353,2376,99,null,2892,2921,99,null,2892,2921,99,null,3137,3168,99,null,3382,3416,99,null,null,null,null,null,null,null,null,null,null,null,null,null,null,null,null,null,2630,2656,99,null,2195,2216,99,null,2486,2510,99,null,1985,2004,99,null,2169,2190,99,null,2610,2635,99,null,null,null,null,null,null,null,null,null,1985,2004,99,null,2169,2190,99,null,3480,3515,99,null,2610,2635,99]
[3169,3200,100,null,2377,2400,100,null,2922,2950,100,null,2922,2950,100,null,3169,3200,100,null,3417,3450,100,null,null,null,null,null,null,null,null,null,null,null,null,null,null,null,null,null,2657,2683,100,null,2217,2239,100,null,2511,2535,100,null,2005,2025,100,null,2191,2212,100,null,2636,2662,100,null,null,null,null,null,null,null,null,null,2005,2025,100,null,2191,2212,100,null,3516,3550,100,null,2636,2662,100]
[3201,3232,101,null,2401,2424,101,null,2951,2980,101,null,2951,2980,101,null,3201,3232,101,null,3451,3485,101,null,null,null,null,null,null,null,null,null,null,null,null,null,null,null,null,null,2684,2710,101,null,2240,2261,101,null,2536,2561,101,null,2026,2045,101,null,2213,2234,101,null,2663,2689,101,null,null,null,null,null,null,null,null,null,2026,2045,101,null,2213,2234,101,null,3551,3586,101,null,2663,2689,101]
[3233,3264,102,null,2425,2448,102,null,2981,3009,102,null,2981,3009,102,null,3233,3264,102,null,3486,3519,102,null,null,null,null,null,null,null,null,null,null,null,null,null,null,null,null,null,2711,2736,102,null,2262,2284,102,null,2562,2586,102,null,2046,2065,102,null,2235,2256,102,null,2690,2715,102,null,null,null,null,null,null,null,null,null,2046,2065,102,null,2235,2256,102,null,3587,3621,102,null,2690,2715,102]
[3265,3296,103,null,2449,2472,103,null,3010,3039,103,null,3010,3039,103,null,3265,3296,103,null,3520,3554,103,null,null,null,null,null,null,null,null,null,null,null,null,null,null,null,null,null,2737,2763,103,null,2285,2306,103,null,2587,2611,103,null,2066,2085,103,null,2257,2278,103,null,2716,2742,103,null,null,null,null,null,null,null,null,null,2066,2085,103,null,2257,2278,103,null,3622,3657,103,null,2716,2742,103]
[3297,3328,104,null,2473,2496,104,null,3040,3068,104,null,3040,3068,104,null,3297,3328,104,null,3555,3588,104,null,null,null,null,null,null,null,null,null,null,null,null,null,null,null,null,null,2764,2790,104,null,2307,2328,104,null,2612,2637,104,null,2086,2106,104,null,2279,2301,104,null,2743,2769,104,null,null,null,null,null,null,null,null,null,2086,2106,104,null,2279,2301,104,null,3658,3692,104,null,2743,2769,104]
[3329,3360,105,null,2497,2520,105,null,3069,3098,105,null,3069,3098,105,null,3329,3360,105,null,3589,3623,105,null,null,null,null,null,null,null,null,null,null,null,null,null,null,null,null,null,2791,2817,105,null,2329,2351,105,null,2638,2662,105,null,2107,2126,105,null,2302,2323,105,null,2770,2795,105,null,null,null,null,null,null,null,null,null,2107,2126,105,null,2302,2323,105,null,3693,3728,105,null,2770,2795,105]
[3361,3392,106,null,2521,2544,106,null,3099,3127,106,null,3099,3127,106,null,3361,3392,106,null,3624,3657,106,null,null,null,null,null,null,null,null,null,null,null,null,null,null,null,null,null,2818,2844,106,null,2352,2373,106,null,2663,2688,106,null,2127,2146,106,null,2324,2345,106,null,2796,2822,106,null,null,null,null,null,null,null,null,null,2127,2146,106,null,2324,2345,106,null,3729,3763,106,null,2796,2822,106]
[3393,3424,107,null,2545,2568,107,null,3128,3157,107,null,3128,3157,107,null,3393,3424,107,null,3658,3692,107,null,null,null,null,null,null,null,null,null,null,null,null,null,null,null,null,null,2845,2871,107,null,2374,2396,107,null,2689,2713,107,null,2147,2166,107,null,2346,2367,107,null,2823,2848,107,null,null,null,null,null,null,null,null,null,2147,2166,107,null,2346,2367,107,null,3764,3799,107,null,2823,2848,107]
[3425,3456,108,null,2569,2592,108,null,3158,3186,108,null,3158,3186,108,null,3425,3456,108,null,3693,3726,108,null,null,null,null,null,null,null,null,null,null,null,null,null,null,null,null,null,2872,2897,108,null,2397,2418,108,null,2714,2738,108,null,2167,2187,108,null,2368,2389,108,null,2849,2875,108,null,null,null,null,null,null,null,null,null,2167,2187,108,null,2368,2389,108,null,3800,3834,108,null,2849,2875,108]
[3457,3488,109,null,2593,2616,109,null,3187,3216,109,null,3187,3216,109,null,3457,3488,109,null,3727,3761,109,null,null,null,null,null,null,null,null,null,null,null,null,null,null,null,null,null,2898,2924,109,null,2419,2440,109,null,2739,2764,109,null,2188,2207,109,null,2390,2411,109,null,2876,2902,109,null,null,null,null,null,null,null,null,null,2188,2207,109,null,2390,2411,109,null,3835,3870,109,null,2876,2902,109]
[3489,3520,110,null,2617,2640,110,null,3217,3245,110,null,3217,3245,110,null,3489,3520,110,null,3762,3795,110,null,null,null,null,null,null,null,null,null,null,null,null,null,null,null,null,null,2925,2951,110,null,2441,2463,110,null,2765,2789,110,null,2208,2227,110,null,2412,2433,110,null,2903,2928,110,null,null,null,null,null,null,null,null,null,2208,2227,110,null,2412,2433,110,null,3871,3905,110,null,2903,2928,110]
[3521,3552,111,null,2641,2664,111,null,3246,3275,111,null,3246,3275,111,null,3521,3552,111,null,3796,3830,111,null,null,null,null,null,null,null,null,null,null,null,null,null,null,null,null,null,2952,2978,111,null,2464,2485,111,null,2790,2814,111,null,2228,2247,111,null,2434,2455,111,null,2929,2955,111,null,null,null,null,null,null,null,null,null,2228,2247,111,null,2434,2455,111,null,3906,3941,111,null,2929,2955,111]
[3553,3584,112,null,2665,2688,112,null,3276,3304,112,null,3276,3304,112,null,3553,3584,112,null,3831,3864,112,null,null,null,null,null,null,null,null,null,null,null,null,null,null,null,null,null,2979,3005,112,null,2486,2507,112,null,2815,2840,112,null,2248,2268,112,null,2456,2478,112,null,2956,2982,112,null,null,null,null,null,null,null,null,null,2248,2268,112,null,2456,2478,112,null,3942,3976,112,null,2956,2982,112]
[3585,3616,113,null,2689,2712,113,null,3305,3334,113,null,3305,3334,113,null,3585,3616,113,null,3865,3899,113,null,null,null,null,null,null,null,null,null,null,null,null,null,null,null,null,null,3006,3032,113,null,2508,2530,113,null,2841,2865,113,null,2269,2288,113,null,2479,2500,113,null,2983,3008,113,null,null,null,null,null,null,null,null,null,2269,2288,113,null,2479,2500,113,null,3977,4012,113,null,2983,3008,113]
[3617,3648,114,null,2713,2736,114,null,3335,3363,114,null,3335,3363,114,null,3617,3648,114,null,3900,3933,114,null,null,null,null,null,null,null,null,null,null,null,null,null,null,null,null,null,3033,3058,114,null,2531,2552,114,null,2866,2890,114,null,2289,2308,114,null,2501,2522,114,null,3009,3035,114,null,null,null,null,null,null,null,null,null,2289,2308,114,null,2501,2522,114,null,4013,4047,114,null,3009,3035,114]
[3649,3680,115,null,2737,2760,115,null,3364,3393,115,null,3364,3393,115,null,3649,3680,115,null,3934,3968,115,null,null,null,null,null,null,null,null,null,null,null,null,null,null,null,null,null,3059,3085,115,null,2553,2575,115,null,2891,2916,115,null,2309,2328,115,null,2523,2544,115,null,3036,3061,115,null,null,null,null,null,null,null,null,null,2309,2328,115,null,2523,2544,115,null,4048,4083,115,null,3036,3061,115]
[3681,3712,116,null,2761,2784,116,null,3394,3422,116,null,3394,3422,116,null,3681,3712,116,null,3969,4002,116,null,null,null,null,null,null,null,null,null,null,null,null,null,null,null,null,null,3086,3112,116,null,2576,2597,116,null,2917,2941,116,null,2329,2349,116,null,2545,2566,116,null,3062,3088,116,null,null,null,null,null,null,null,null,null,2329,2349,116,null,2545,2566,116,null,4084,4118,116,null,3062,3088,116]
[3713,3744,117,null,2785,2808,117,null,3423,3452,117,null,3423,3452,117,null,3713,3744,117,null,4003,4037,117,null,null,null,null,null,null,null,null,null,null,null,null,null,null,null,null,null,3113,3139,117,null,2598,2619,117,null,2942,2966,117,null,2350,2369,117,null,2567,2588,117,null,3089,3115,117,null,null,null,null,null,null,null,null,null,2350,2369,117,null,2567,2588,117,null,4119,4154,117,null,3089,3115,117]
[3745,3776,118,null,2809,2832,118,null,3453,3481,118,null,3453,3481,118,null,3745,3776,118,null,4038,4071,118,null,null,null,null,null,null,null,null,null,null,null,null,null,null,null,null,null,3140,3166,118,null,2620,2642,118,null,2967,2992,118,null,2370,2389,118,null,2589,2610,118,null,3116,3141,118,null,null,null,null,null,null,null,null,null,2370,2389,118,null,2589,2610,118,null,4155,4189,118,null,3116,3141,118]
[3777,3808,119,null,2833,2856,119,null,3482,3511,119,null,3482,3511,119,null,3777,3808,119,null,4072,4106,119,null,null,null,null,null,null,null,null,null,null,null,null,null,null,null,null,null,3167,3193,119,null,2643,2664,119,null,2993,3017,119,null,2390,2409,119,null,2611,2632,119,null,3142,3168,119,null,null,null,null,null,null,null,null,null,2390,2409,119,null,2611,2632,119,null,4190,4225,119,null,3142,3168,119]
[3809,3840,120,null,2857,2880,120,null,3512,3540,120,null,3512,3540,120,null,3809,3840,120,null,4107,4140,120,null,null,null,null,null,null,null,null,null,null,null,null,null,null,null,null,null,3194,3219,120,null,2665,2687,120,null,3018,3043,120,null,2410,2430,120,null,2633,2655,120,null,3169,3195,120,null,null,null,null,null,null,null,null,null,2410,2430,120,null,2633,2655,120,null,4226,4260,120,null,3169,3195,120]
[3841,3872,121,null,2881,2904,121,null,3541,3570,121,null,3541,3570,121,null,3841,3872,121,null,4141,4175,121,null,null,null,null,null,null,null,null,null,null,null,null,null,null,null,null,null,3220,3246,121,null,2688,2709,121,null,3044,3068,121,null,2431,2450,121,null,2656,2677,121,null,3196,3221,121,null,null,null,null,null,null,null,null,null,2431,2450,121,null,2656,2677,121,null,4261,4296,121,null,3196,3221,121]
[3873,3904,122,null,2905,2928,122,null,3571,3599,122,null,3571,3599,122,null,3873,3904,122,null,4176,4209,122,null,null,null,null,null,null,null,null,null,null,null,null,null,null,null,null,null,3247,3273,122,null,2710,2731,122,null,3069,3093,122,null,2451,2470,122,null,2678,2699,122,null,3222,3248,122,null,null,null,null,null,null,null,null,null,2451,2470,122,null,2678,2699,122,null,4297,4331,122,null,3222,3248,122]
[3905,3936,123,null,2929,2952,123,null,3600,3629,123,null,3600,3629,123,null,3905,3936,123,null,4210,4244,123,null,null,null,null,null,null,null,null,null,null,null,null,null,null,null,null,null,3274,3300,123,null,2732,2754,123,null,3094,3119,123,null,2471,2490,123,null,2700,2721,123,null,3249,3274,123,null,null,null,null,null,null,null,null,null,2471,2490,123,null,2700,2721,123,null,4332,4367,123,null,3249,3274,123]
[3937,3968,124,null,2953,2976,124,null,3630,3658,124,null,3630,3658,124,null,3937,3968,124,null,4245,4278,124,null,null,null,null,null,null,null,null,null,null,null,null,null,null,null,null,null,3301,3327,124,null,2755,2776,124,null,3120,3144,124,null,2491,2511,124,null,2722,2743,124,null,3275,3301,124,null,null,null,null,null,null,null,null,null,2491,2511,124,null,2722,2743,124,null,4368,4402,124,null,3275,3301,124]
[3969,4000,125,null,2977,3000,125,null,3659,3688,125,null,3659,3688,125,null,3969,4000,125,null,4279,4313,125,null,null,null,null,null,null,null,null,null,null,null,null,null,null,null,null,null,3328,3354,125,null,2777,2799,125,null,3145,3169,125,null,2512,2531,125,null,2744,2765,125,null,3302,3328,125,null,null,null,null,null,null,null,null,null,2512,2531,125,null,2744,2765,125,null,4403,4438,125,null,3302,3328,125]
[4001,4032,126,null,3001,3024,126,null,3689,3717,126,null,3689,3717,126,null,4001,4032,126,null,4314,4347,126,null,null,null,null,null,null,null,null,null,null,null,null,null,null,null,null,null,3355,3380,126,null,2800,2821,126,null,3170,3195,126,null,2532,2551,126,null,2766,2787,126,null,3329,3354,126,null,null,null,null,null,null,null,null,null,2532,2551,126,null,2766,2787,126,null,4439,4473,126,null,3329,3354,126]
[4033,4064,127,null,3025,3048,127,null,3718,3747,127,null,3718,3747,127,null,4033,4064,127,null,4348,4382,127,null,null,null,null,null,null,null,null,null,null,null,null,null,null,null,null,null,3381,3407,127,null,2822,2843,127,null,3196,3220,127,null,2552,2571,127,null,2788,2809,127,null,3355,3381,127,null,null,null,null,null,null,null,null,null,2552,2571,127,null,2788,2809,127,null,4474,4509,127,null,3355,3381,127]
[4065,4096,128,null,3049,3072,128,null,3748,3776,128,null,3748,3776,128,null,4065,4096,128,null,4383,4416,128,null,null,null,null,null,null,null,null,null,null,null,null,null,null,null,null,null,3408,3434,128,null,2844,2866,128,null,3221,3245,128,null,2572,2592,128,null,2810,2832,128,null,3382,3408,128,null,null,null,null,null,null,null,null,null,2572,2592,128,null,2810,2832,128,null,4510,4544,128,null,3382,3408,128]
[4097,4128,129,null,3073,3096,129,null,3777,3806,129,null,3777,3806,129,null,4097,4128,129,null,4417,4451,129,null,null,null,null,null,null,null,null,null,null,null,null,null,null,null,null,null,3435,3461,129,null,2867,2888,129,null,3246,3271,129,null,2593,2612,129,null,2833,2854,129,null,3409,3434,129,null,null,null,null,null,null,null,null,null,2593,2612,129,null,2833,2854,129,null,4545,4580,129,null,3409,3434,129]
[4129,4160,130,null,3097,3120,130,null,3807,3835,130,null,3807,3835,130,null,4129,4160,130,null,4452,4485,130,null,null,null,null,null,null,null,null,null,null,null,null,null,null,null,null,null,3462,3488,130,null,2889,2911,130,null,3272,3296,130,null,2613,2632,130,null,2855,2876,130,null,3435,3461,130,null,null,null,null,null,null,null,null,null,2613,2632,130,null,2855,2876,130,null,4581,4615,130,null,3435,3461,130]
[null,null,null,null,null,null,null,null,null,null,null,null,null,null,null,null,null,null,null,null,4486,4520,131,null,null,null,null,null,null,null,null,null,null,null,null,null,null,null,null,null,3489,3515,131,null,2912,2933,131,null,3297,3321,131,null,2633,2652,131,null,2877,2898,131,null,3462,3487,131,null,null,null,null,null,null,null,null,null,2633,2652,131,null,2877,2898,131,null,4616,4651,131,null,3462,3487,131]
[null,null,null,null,null,null,null,null,null,null,null,null,null,null,null,null,null,null,null,null,null,null,null,null,null,null,null,null,null,null,null,null,null,null,null,null,null,null,null,null,3516,3541,132,null,2934,2955,132,null,3322,3347,132,null,2653,2673,132,null,2899,2920,132,null,3488,3514,132,null,null,null,null,null,null,null,null,null,2653,2673,132,null,2899,2920,132,null,null,null,null,null,3488,3514,132]
[null,null,null,null,null,null,null,null,null,null,null,null,null,null,null,null,null,null,null,null,null,null,null,null,null,null,null,null,null,null,null,null,null,null,null,null,null,null,null,null,3542,3568,133,null,2956,2978,133,null,3348,3372,133,null,2674,2693,133,null,2921,2942,133,null,3515,3541,133,null,null,null,null,null,null,null,null,null,2674,2693,133,null,2921,2942,133,null,null,null,null,null,3515,3541,133]
[null,null,null,null,null,null,null,null,null,null,null,null,null,null,null,null,null,null,null,null,null,null,null,null,null,null,null,null,null,null,null,null,null,null,null,null,null,null,null,null,3569,3595,134,null,2979,3000,134,null,3373,3398,134,null,2694,2713,134,null,2943,2964,134,null,3542,3567,134,null,null,null,null,null,null,null,null,null,2694,2713,134,null,2943,2964,134,null,null,null,null,null,3542,3567,134]
[null,null,null,null,null,null,null,null,null,null,null,null,null,null,null,null,null,null,null,null,null,null,null,null,null,null,null,null,null,null,null,null,null,null,null,null,null,null,null,null,3596,3622,135,null,3001,3023,135,null,3399,3423,135,null,2714,2733,135,null,2965,2986,135,null,3568,3594,135,null,null,null,null,null,null,null,null,null,2714,2733,135,null,2965,2986,135,null,null,null,null,null,3568,3594,135]
[null,null,null,null,null,null,null,null,null,null,null,null,null,null,null,null,null,null,null,null,null,null,null,null,null,null,null,null,null,null,null,null,null,null,null,null,null,null,null,null,3623,3649,136,null,3024,3045,136,null,3424,3448,136,null,2734,2754,136,null,2987,3009,136,null,3595,3621,136,null,null,null,null,null,null,null,null,null,2734,2754,136,null,2987,3009,136,null,null,null,null,null,3595,3621,136]
[null,null,null,null,null,null,null,null,null,null,null,null,null,null,null,null,null,null,null,null,null,null,null,null,null,null,null,null,null,null,null,null,null,null,null,null,null,null,null,null,3650,3676,137,null,3046,3067,137,null,3449,3474,137,null,2755,2774,137,null,3010,3031,137,null,3622,3647,137,null,null,null,null,null,null,null,null,null,2755,2774,137,null,3010,3031,137,null,null,null,null,null,3622,3647,137]
[null,null,null,null,null,null,null,null,null,null,null,null,null,null,null,null,null,null,null,null,null,null,null,null,null,null,null,null,null,null,null,null,null,null,null,null,null,null,null,null,3677,3702,138,null,3068,3090,138,null,3475,3499,138,null,2775,2794,138,null,3032,3053,138,null,3648,3674,138,null,null,null,null,null,null,null,null,null,2775,2794,138,null,3032,3053,138,null,null,null,null,null,3648,3674,138]
[null,null,null,null,null,null,null,null,null,null,null,null,null,null,null,null,null,null,null,null,null,null,null,null,null,null,null,null,null,null,null,null,null,null,null,null,null,null,null,null,3703,3729,139,null,3091,3112,139,null,3500,3524,139,null,2795,2814,139,null,3054,3075,139,null,3675,3700,139,null,null,null,null,null,null,null,null,null,2795,2814,139,null,3054,3075,139,null,null,null,null,null,3675,3700,139]
[null,null,null,null,null,null,null,null,null,null,null,null,null,null,null,null,null,null,null,null,null,null,null,null,null,null,null,null,null,null,null,null,null,null,null,null,null,null,null,null,3730,3756,140,null,3113,3134,140,null,3525,3550,140,null,2815,2835,140,null,3076,3097,140,null,3701,3727,140,null,null,null,null,null,null,null,null,null,2815,2835,140,null,3076,3097,140,null,null,null,null,null,3701,3727,140]

{"sheet":"ECAST Lookup","index":7,"n_rows":1214,"n_cols":10,"rows_kept":1214,"cut":false,"hidden":true,"merged":[]}
["School","School Name","Final Short Name","Char Count",null,"School Type","School Type Final",null,null,"1/15/22 updated"]
["1190801","Leichman Career Preparatory & Transit Ct","Leichman Career PTC",{"$f":"LEN(C2)","v":19},null,"Community Day School","Community Day School",{"$f":"LEN(G2)","v":20}]
["1191001","Miller CTC","Miller CTC",{"$f":"LEN(C3)","v":10},null,"Continuation High School","Continuation HS",{"$f":"LEN(G3)","v":15}]
["1191401","Widney Career Prep & Tran Ctr","Widney Career Prep",18,null,"Dual Language Ctr - Elementary","DLC, Elementary",15]
["1191701","Riley HS Cyesis","Riley HS Cyesis",15,null,"Dual Language Ctr - PC","DLC, Primary Ctr",16]
["1191801","Mc Alister HS Cyesis","Mc Alister HS Cyesis",20,null,"Elementary School","Elementary School",17]
["1194101","Banneker Center & Transition Center","Banneker CTC",12,null,"Independent Study","Independent Study",17]
["1194401","Carlson Hosp (K-12)","Carlson Hosp (K-12)",19,null,"Magnet Ctr -Elementary","Magnet Ctr, Elem",16]
["1194402","Carlson Home School (K12)","Carlson Home School",19,null,"Magnet Ctr -Middle School","Magnet Ctr, MS",14]
["1194701","Lokrantz Sp Ed Ctr","Lokrantz Sp Ed Ctr",18,null,"Magnet Ctr -Senior High","Magnet Ctr, SH",14]
["1194801","Lowman Sp Ed & Career Transition Center","Lowman Sp Ed & CTC",18,null,"Magnet Ctr-SPAN","Magnet Ctr, Span",16]
["1194901","Marlton","Marlton",7,null,"Magnet School - ELEM","Magnet School, Elem",19]
["1195201","Mcbride Sp Ed Ctr","Mcbride Sp Ed Ctr",17,null,"Magnet School - MS","Magnet School, MS",17]
["1195202","CTC - West","CTC - West",10,null,"Magnet School - SHS","Magnet School, SH",17]
["1195301","Perez Sp Ed Ctr","Perez Sp Ed Ctr",15,null,"Middle School","Middle School",13]
["1195501","Sophia T Salvin Spec Ed Center","Sophia T Salvin Spec",20,null,"Opportunity School","Opportunity School",18]
["1195701","Willenberg Sp Ed Ctr","Willenberg Sp Ed Ctr",20,null,"Primary Center","Primary Center",14]
["1201401","Albion El","Albion El",9,null,"Senior High School","Senior High School",18]
["1202701","Aldama El","Aldama El",9,null,"Span Magnet School","Span Magnet School",18]
["1202702","Aldama El DL Two-Way Im Spanish","Aldama El DTS",13,null,"Span School","Span School",11]
["1204101","Alexandria El","Alexandria El",13,null,"Special Education School","Special Ed School",17]
["1204102","Alexandria Ave. El DL Two-Way Im Spanish","Alexandria El DTS",17]
["1204201","Harvard El","Harvard El",10]
["1204202","Harvard El DL Two-Way Im Spanish","Harvard El DTS",14]
["1206801","Allesandro El","Allesandro El",13]
["1206802","Allesndro Coop Lr Mg","Allesndro Coop Lr Mg",20]
["1208201","Alta Loma El","Alta Loma El",12]
["1208202","Alta Loma El DL Two-Way Im Spanish","Alta Loma El DTS",16]
["1208901","Ambler El","Ambler El",9]
["1208902","Ambler Avenue Elementary Gifted Magnet","Ambler Av Gifted Mag",20]
["1208903","Ambler El DL Two-Way Im Spanish","Ambler El DTS",13]
["1209601","Amestoy El","Amestoy El",10]
["1209602","Amestoy ES Multilingual/Multicultural Mg","Amestoy ES Ml/MC Mag",20]
["1209603","Amestoy El DL Two-Way Im Japanese","Amestoy El DTJ",14]
["1211001","Anatola El","Anatola El",10]
["1211701","Andasol El","Andasol El",10]
["1212301","Angeles Mesa El","Angeles Mesa El",15]
["1212302","Angeles Mesa ES DREAMS Magnet","Angls Msa DREAMS Mg",19]
["1213701","Ann El","Ann El",6]
["1214601","Annalee El","Annalee El",10]
["1214602","Annalee Av ES STEAM Mag","Annalee Av STEAM Mag",20]
["1215101","Annandale El","Annandale El",12]
["1216401","Apperson El","Apperson El",11]
["1217801","Aragon El","Aragon El",9]
["1219201","Arlington Hts El","Arlington Hts El",16]
["1219202","Arlington Hts El DL Two-Way Im Spanish","Arlington Hts DTS",17]
["1220501","Arminta El","Arminta El",10]
["1220502","Arminta El DL Two-Way Im Spanish","Arminta EL DTS",14]
["1221901","Ascot El","Ascot El",8]
["1223301","Atwater El","Atwater El",10]
["1223302","Atwater El DL Two-Way Im Spanish","Atwater El DTS",14]
["1224701","Avalon Gardens El","Avalon Gardens El",17]
["1225001","Acad For Enrch Sci","Acad For Enrch Sci",18]
["1226901","Balboa G/HA Mag","Balboa G/HA Mag",15]
["1227401","Baldwin Hills El","Baldwin Hills El",16]
["1227402","Baldwin Hills Elementary Gifted Magnet","Bldwn Hls Gifted Mag",20]
["1228801","Bandini El","Bandini El",10]
["1228802","Bandini St El DL Two-Way Im Spanish","Bandini St El DTS",17]
["1230101","De La Torre Jr El","De La Torre Jr El",17]
["1230102","De La Torre ES STEAM Magnet","De La Torre STEAM Mg",20]
["1230201","Obama El","Obama El",8]
["1230301","Porter Ranch School","Porter Ranch School",19]
["1230302","Porter Ranch School DL Two-Way Im Korean","Porter Ranch Sch DTK",20]
["1230601","Playa Vista Elementary Sch","Playa Vista El Sch",18]
["1230701","Lee Med Hlth Mag","Lee Med Hlth Mag",16]
["1230801","Ride El Smart Acad","Ride El Smart Acad",18]
["1230901","Willow El","Willow El",{"$f":"LEN(C67)","v":9}]
["1230902","Willow El DL Two-Way Im Spanish","Willow El DTS",13]
["1231101","Poindexter Lamotte El","Poindexter Lamotte El",21]
["1231201","Lawson Acad A/M/S","Lawson Acad A/M/S",17]
["1231301","Moore M/S/T Acad","Moore M/S/T Acad",16]
["1231501","Barton Hill El","Barton Hill El",14]
["1231502","Barton Hill ES Maritime STEAM Magnet","Barton Hill M STEAM Mg",22]
["1232301","Bassett El","Bassett El",10]
["1232302","Bassett ES Media Arts/Technology Magnet","Bassett ES MAT Mag",18]
["1232303","Bassett El DL Two-Way Im Spanish","Bassett El DTS",14]
["1232901","Beachy El","Beachy El",9]
["1233501","Beckford Chtr Enr St","Beckford Chtr Enr St",20]
["1234201","Beethoven El","Beethoven El",12]
["1236901","RFK Ambsdr Glbl Edu","RFK Ambsdr Glbl Edu",19]
["1236902","RFK Ambsdr Glbl DL One-Way Im Spanish","RFK Ambsdr Gbl DOS",18]
["1236903","RFK Ambsdr Glbl Ed DL Two-Way Im Korean","RFK Ambsdr Gbl DTK",18]
["1237201","Ochoa LC","Ochoa LC",8]
["1237202","Ochoa Lc DL Two-Way Im Spanish","Ochoa LC DTS",12]
["1237501","Hughes El","Hughes El",9]
["1237502","Teresa P Hughes Elem Science/Tech/Math Magnet","Hughes El STEM Mag",18]
["1237801","Nueva Vista El","Nueva Vista El",14]
["1237802","Nueva Vista Elem Visual And Performing Arts","Nueva Vista VAPA Mag",20]
["1238101","Maywood El","Maywood El",10]
["1238102","Maywood ES Computer Science Magnet","Maywood CS Mag",14]
["1238301","Esperanza El","Esperanza El",12]
["1238401","Politi El","Politi El",9]
["1238501","Gratts LA for YS","Gratts LA for YS",16]
["1238502","Gratts LA For YS DL One-Way Im Spanish","Gratts LA for YS DOS",20]
["1238601","Del Olmo El","Del Olmo El",11]
["1239101","Huntington Park El","Huntington Park El",18]
["1239102","Huntington Pk El DL Two-Way Im Spanish","Huntington Pk DTS",17]
["1239201","Olympic PC","Olympic PC",10]
["1239301","Lake St Primary","Lake St Primary",15]
["1239701","Belvedere El","Belvedere El",12]
["1243801","Bertrand El","Bertrand El",11]
["1247001","Blythe El","Blythe El",9]
["1247301","Bonita El","Bonita El",9]
["1247901","Braddock Drive El","Braddock Drive El",17]
["1247902","Braddock Drive Elementary Gifted Magnet","Braddock Gifted Mag",19]
["1247903","Braddock Dr El DL Two-Way Im Mandarin","Braddock Dr El DTM",18]
["1248601","Brainard El","Brainard El",11]
["1249301","Breed El","Breed El",8]
["1250701","Brentwood Sci Mag","Brentwood Sci Mag",17]
["1252101","Bridge El","Bridge El",9]
["1252701","Broad Ave El","Broad Ave El",12]
["1252702","Broad Ave El DL Two-Way Im Spanish","Broad Ave El DTS",16]
["1253001","Broadacres El","Broadacres El",13]
["1253002","Broadacres Av ES Visual/Perf Arts Magnet","Broadacres VAPA Mag",19]
["1253401","Broadway El","Broadway El",11]
["1253402","Broadway El DL Two-Way Im Spanish","Broadway El DTS",15]
["1253403","Broadway El DL Two-Way Im Mandarin","Broadway El DTM",15]
["1254201","White El","White El",8]
["1254202","White ES Visual Arts Magnet","White Es Vis Art Mag",20]
["1254301","Lafayette Park PC","Lafayette Park PC",17]
["1254401","Macarthur Park VPA","Macarthur Park VPA",18]
["1254402","Macarthur Park VPA DL Two-Way Im Spanish","Macarthur Pk VPA DTS",20]
["1254801","Brockton El","Brockton El",11]
["1256201","Brooklyn Ave El","Brooklyn Ave El",15]
["1258901","Bryson El","Bryson El",9]
["1258902","Bryson Avenue Elem Science/Tech/Math Mag","Bryson Av El STEM Mag",21]
["1260301","Buchanan El","Buchanan El",11]
["1260302","Buchanan Street Elem Science/Tech/Math Magnet","Buchanan El STEM Mag",20]
["1260303","Buchanan El DL Two-Way Im Spanish","Buchanan El DTS",15]
["1261601","Budlong El","Budlong El",10]
["1261901","Wilshire Park El","Wilshire Park El",{"$f":"LEN(C131)","v":16}]
["1261902","Wilshire Park El DL World Lang Im Korean","Wilshire Park EL DWK",20]
["1263001","Burbank El","Burbank El",10]
["1263002","Burbank El Gifted Global Learning Mag","Burbank Gifted/GL Mg",20]
["1264401","Saturn El","Saturn El",9]
["1264402","Saturn St ES Arts/Media Magnet","Saturn Arts/Media Mag",21]
["1265801","Burton El","Burton El",9]
["1267101","Bushnell Way El","Bushnell Way El",15]
["1267102","Bushnell Way El DL Two-Way Im Spanish","Bushnell Way DTS",16]
["1268001","Elementary CDS","Elementary CDS",14]
["1268501","Cabrillo El","Cabrillo El",11]
["1268502","Cabrillo Av ES STEAM Magnet","Cabrillo STEAM Mag",18]
["1269901","Cahuenga El","Cahuenga El",11]
["1269902","Cahuenga El DL One-Way Im Spanish","Cahuenga El DOS",15]
["1269903","Cahuenga El DL Two-Way Im Korean","Cahuenga El DTK",15]
["1270101","Kim El","Kim El",6]
["1270102","Kim El DL Two-Way Im Spanish","Kim El DTS",10]
["1270103","Kim El DL One-Way Im Korean","Kim El DOK",10]
["1270401","Calabash CA","Calabash CA",11]
["1270601","Calahan Street Elementary","Calahan St El",13]
["1271201","Calvert Chtr For ES","Calvert Chtr For ES",19]
["1272601","Camellia El","Camellia El",11]
["1272602","Camellia Ave El DL Two-Way Im Spanish","Camellia El DTS",15]
["1274001","Canfield El","Canfield El",11]
["1274101","Community El Mag CS","Community El Mag CS",19]
["1275301","Canoga Park El","Canoga Park El",14]
["1276701","Cantara El","Cantara El",10]
["1276702","Cantara St ES Visual/Perf Arts Magnet","Cantara VAPA Mag",16]
["1278101","Canterbury El","Canterbury El",13]
["1278102","Canterbury Avenue Elementary Gifted Magnet","Canterbury Gifted Mg",20]
["1279501","Canyon El","Canyon El",9]
["1280201","Capistrano El","Capistrano El",13]
["1281501","Caroldale Lrng Comm","Caroldale Lrng Comm",19]
["1282201","Carpenter Community Center","Carpenter Comm Ctr",18]
["1283601","Carson El","Carson El",9]
["1284901","Carthay El ES Mag","Carthay El ES Mag",17]
["1286301","Castelar El","Castelar El",11]
["1286302","Castelar El DL Two-Way Im Mandarin","Castelar St El DTM",18]
["1287701","Castle Hts El","Castle Hts El",13]
["1287702","Castle Heights El World Lang Im Spanish","Castle Hts El DWS",17]
["1288101","Castlebay Lane Charter","Castlebay Lane",14]
["1289001","Catskill El","Catskill El",11]
["1289002","Catskill El DL Two-Way Im Spanish","Catskill El DTS",15]
["1293901","Carson-Gore Academy","Carson-Gore Academy",19]
["1293902","Carson-Gore El DL Two-Way Im Spanish","Carson-Gore DTS",15]
["1294201","Estrella El","Estrella El",11]
["1294301","Jones El","Jones El",8]
["1294401","Huerta El","Huerta El",9]
["1294501","Century Park El","Century Park El",15]
["1295901","Chandler El","Chandler El",11]
["1298601","Chapman El","Chapman El",10]
["1298602","Chapman El DL Two-Way Im Mandarin","Chapman El DTM",14]
["1300201","Charnock Road El","Charnock Road El",16]
["1301401","Chase El","Chase El",8]
["1302701","Chatsworth Park ES UP/CD Magnet","Chatsworth UP/CD Mag",20]
["1304101","Cheremoya El","Cheremoya El",12]
["1306801","Cienega El","Cienega El",10]
["1306802","Cienega El DL Two-Way Im Spanish","Cienega El DTS",14]
["1308201","Cimarron El","Cimarron El",11]
["1308202","Cimarron Av ES STEAM Magnet","Cimarron STEAM Mag",18]
["1309601","City Terrace El","City Terrace El",15]
["1309602","City Terrace El DL Two-Way Im Mandarin","City Terrace DTM",16]
["1311001","Clifford El","Clifford El",11]
["1312301","Clover El","Clover El",9]
["1313701","Cohasset El","Cohasset El",{"$f":"LEN(C195)","v":11}]
["1313702","Cohasset El DL One-Way Im Spanish","Cohasset St El DOS",18]
["1315101","Coldwater Cyn El","Coldwater Cyn El",16]
["1315102","Coldwater Cyn DL Two-Way Im Spanish","Coldwater Cyn DTS",17]
["1316401","Colfax Charter El","Colfax Charter El",17]
["1317801","Coliseum El","Coliseum El",11]
["1319201","Commonwealth El","Commonwealth El",15]
["1319202","Commonwealth Avenue Elem Gifted Arts/Tech","Commonwealth GAT Mag",20]
["1320501","Compton El","Compton El",10]
["1321001","Madison El","Madison El",10]
["1321002","Madison El DL Two-Way Im Spanish","Madison El DTS",14]
["1321901","Corona El","Corona El",9]
["1322001","Escutia PC","Escutia PC",10]
["1324701","Plasencia El","Plasencia El",12]
["1324702","Plasencia ES STEAM Magnet","Plasencia STEAM Mag",19]
["1326001","Cowan El","Cowan El",8]
["1326002","Cowan Avenue Elem Gifted Int Humanities","Cowan Gifted/IH Mag",19]
["1326003","Cowan El DL World Lang Im Spanish","Cowan El DWS",12]
["1328801","Crescent Hts L/A/S/J","Crescent Hts L/A/S/J",20]
["1330201","Crestwood St ES STEAM Magnet","Crestwood STEAM Mag",19]
["1331101","Westside Glbl Awr Mg","Westside Glbl Awr Mg",20]
["1331501","Dena El","Dena El",7]
["1332901","Dahlia Heights El","Dahlia Heights El",17]
["1333501","Danube El","Danube El",9]
["1334001","Darby Avenue Elementary","Darby Ave El",12]
["1335601","Dayton Heights El","Dayton Heights El",17]
["1335602","Dayton Heights ES Urban Env Science Mag","Dayton Hts UES Mag",18]
["1337701","Dearborn El CA","Dearborn El CA",14]
["1338401","Del Amo El","Del Amo El",10]
["1339701","Delevan Drive El","Delevan Drive El",16]
["1342501","Denker El","Denker El",9]
["1342502","Denker El DL Two-Way Im Korean","Denker Ave El DTK",17]
["1342601","Garza PC","Garza PC",8]
["1343801","Dixie Cyn Comm Chtr","Dixie Cyn Comm Chtr",19]
["1345201","Dolores El","Dolores El",10]
["1346601","Dominguez El","Dominguez El",12]
["1346602","Dominguez El DL Two-Way Im Spanish","Dominguez El DTS",16]
["1347901","Dorris Place El","Dorris Place El",15]
["1349301","Dyer El","Dyer El",7]
["1350001","Midcity Prescott Mag","Midcity Prescott Mag",20]
["1350701","Eagle Rock El","Eagle Rock El",13]
["1350702","Eagle Rock Hg El Mag","Eagle Rock Hg El Mag",20]
["1350703","Eagle Rck G/HA El Mg","Eagle Rck G/HA El Mg",20]
["1352101","Eastman El","Eastman El",10]
["1352102","Eastman El DL One & Two-Way Im Spanish","Eastman El DTS & DOS",20]
["1354101","El Dorado El","El Dorado El",12]
["1354501","El Oro Way Chtr CES","El Oro Way Chtr CES",19]
["1354801","Elizabeth LC","Elizabeth LC",12]
["1354805","Elizabeth LC DL Two-Way Im Arabic","Elizabeth LC DTA",16]
["1356201","El Sereno El","El Sereno El",12]
["1357401","Sendak El","Sendak El",9]
["1357402","Sendak ES Arts/Comm/Technology Magnet","Sendak A/C/T Mag",16]
["1357501","Elysian Heights ES Arts Magnet","Elysian Hts Arts Mag",20]
["1357601","Parks LC","Parks LC",8]
["1357701","Bellingham El","Bellingham El",13]
["1358901","Emelita St El","Emelita St El",13]
["1361001","Enadia Way Tech Charter","Enadia Way",10]
["1361601","Encino Charter El","Encino Charter El",17]
["1363001","Erwin El","Erwin El",8]
["1364001","Eshelman El","Eshelman El",11]
["1367101","Euclid El","Euclid El",9]
["1367102","Euclid Av ES Gifted/STEAM Magnet","Euclid ES GSTEAM Mag",20]
["1367103","Euclid El DL Two-Way Im Spanish","Euclid Ave El DTS",17]
["1369901","Evergreen El","Evergreen El",12]
["1371201","Fair El","Fair El",{"$f":"LEN(C259)","v":7}]
["1372601","Fairburn El","Fairburn El",11]
["1374001","Farmdale El","Farmdale El",11]
["1374002","Farmdale El DL Two-Way Im Spanish","Farmdale El DOS",15]
["1375301","Fernangeles El","Fernangeles El",14]
["1375302","Fernangeles DL One & Two-Way Im Spanish","Fernangeles DTS & DOS",21]
["1376701","15th St El","15th St El",10]
["1378101","54th St El","54th St El",10]
["1379501","59th St El","59th St El",10]
["1380801","52nd St El","52nd St El",10]
["1382201","Figueroa El","Figueroa El",11]
["1382901","Broadous El","Broadous El",11]
["1382902","Hillery T Broadous Elem Science/Tech/Math","Broadous El STEM Mag",20]
["1383601","1st St El","1st St El",9]
["1384901","Fishburn El","Fishburn El",11]
["1384902","Fishburn El DL Two-Way Im Spanish","Fishburn El DTS",15]
["1387701","Fletcher Dr El","Fletcher Dr El",14]
["1387702","Fletcher Dr ES STEAM Magnet","Fletcher STEAM Mag",18]
["1389001","Florence El","Florence El",11]
["1389002","Florence El DL Two-Way Im Spanish","Florence El DTS",15]
["1391801","Ford Blvd El","Ford Blvd El",12]
["1391802","Ford Blvd El DL Two-Way Im Spanish","Ford Blvd El DTS",16]
["1393201","49th St El","49th St El",10]
["1395901","42nd St El","42nd St El",10]
["1395902","42nd St El DL World Lang Im Spanish","42nd St El DWS",14]
["1397301","4th St El","4th St El",9]
["1397302","4th Street El DL Two-Way Im Spanish","4th Street El DTS",17]
["1397401","4th Street Primary Center","4th St Primary Ctr",18]
["1397402","4th St PC DL Two-Way Im Spanish","4th St PC DTS",13]
["1398601","Franklin El","Franklin El",11]
["1401401","Fries El","Fries El",8]
["1402001","Bakewell PC","Bakewell PC",11]
["1402701","Fullbright El","Fullbright El",13]
["1402702","Fullbright Ave El DL Two-Way Im Spanish","Fullbright El DTS",17]
["1404101","Gardena El","Gardena El",10]
["1404102","Gardena El DL Two-Way Im Spanish","Gardena El DTS",14]
["1405501","Garden Grove El","Garden Grove El",15]
["1406801","Gardner El","Gardner El",10]
["1406802","Gardner St ES Arts Integration Magnet","Gardner St ES AI Mag",20]
["1408201","Garvanza ES Tech/Leadership Magnet","Garvanza ES Tech/Lea",20]
["1409601","Gates El","Gates El",8]
["1409602","Gates El DL Two-Way Im Spanish","Gates St El DTS",15]
["1409603","Gates St El DL Two-Way Im Mandarin","Gates St El  DTM",16]
["1411001","Gault El","Gault El",8]
["1411701","Germain Acad AA","Germain Acad AA",15]
["1412301","Glassell Park ES STEAM Magnet","Glassell Pk STEAM Mg",20]
["1413001","Gledhill El","Gledhill El",11]
["1413002","Gledhill Street Elem Science/Tech/Math Magnet","Gledhill El STEM Mag",20]
["1413701","Glen Alta El","Glen Alta El",12]
["1416401","Glenfeliz Blvd El","Glenfeliz Blvd El",17]
["1419201","Glenwood El","Glenwood El",11]
["1421901","Graham El","Graham El",9]
["1421902","Graham El DL Two-Way Im Spanish","Graham El DTS",13]
["1423301","Granada Elementary","Granada Elementary",18]
["1424701","Grand View El","Grand View El",13]
["1424702","Grand View El DL Two-Way Im Spanish","Grand View El DTS",17]
["1426001","Grant El","Grant El",8]
["1426002","Grant El DL Two-Way Im Armenian","Grant St El DTR",15]
["1427401","Grape El","Grape El",8]
["1429501","Gridley El","Gridley El",10]
["1429502","Gridley El DL Two-Way Im Spanish","Gridley St El DTS",17]
["1430101","Griffin El","Griffin El",10]
["1431501","Gulf El","Gulf El",7]
["1431502","Gulf ES STEAM Magnet","Gulf ES STEAM Magnet",20]
["1432201","Arroyo Seco Musm Sci","Arroyo Seco Musm Sci",{"$f":"LEN(C323)","v":20}]
["1432901","Haddon El","Haddon El",9]
["1432902","Haddon Av ES STEAM Magnet","Haddon STEAM Mag",16]
["1434201","Halldale El","Halldale El",11]
["1434901","Hamlin CA","Hamlin CA",9]
["1435601","Anton El","Anton El",8]
["1435602","Anton El DL Two-Way Im Spanish","Anton El DTS",12]
["1439701","Hancock Park El","Hancock Park El",15]
["1442501","Harbor City El","Harbor City El",14]
["1443101","Harding El","Harding El",10]
["1443801","Harrison El","Harrison El",11]
["1443802","Harrison El DL Two-Way Im Spanish","Harrison El DTS",15]
["1444501","Hart St El","Hart St El",10]
["1445201","Haskell STEAM Magnet","Haskell STEAM Magnet",20]
["1446601","Hawaiian El","Hawaiian El",11]
["1446602","Hawaiian ES STEAM Magnet","Hawaiian ES",11]
["1447301","Haynes CES","Haynes CES",10]
["1449301","Hazeltine El","Hazeltine El",12]
["1449302","Hazeltine El DL Two-Way Im Spanish","Hazeltine El DTS",16]
["1450701","Heliotrope El","Heliotrope El",13]
["1451501","Herrick El","Herrick El",10]
["1452101","Hesby Oaks Lead Chtr","Hesby Oaks Lead Chtr",20]
["1452801","Hillcrest Dr El","Hillcrest Dr El",15]
["1452802","Hillcrest Drive Elementary Music Magnet","Hillcrest El Mus Mag",20]
["1452803","Hillcrest Dr El DL Two-Way Im Spanish","Hillcrest El DTS",16]
["1453401","Hillside El","Hillside El",11]
["1454801","Hobart Blvd El","Hobart Blvd El",14]
["1454802","Hobart Blvd El DL Two-Way Im Spanish","Hobart Blvd DTS",15]
["1456201","Holmes El","Holmes El",9]
["1457501","Hooper El","Hooper El",9]
["1457502","Hooper El DL Two-Way Im Spanish","Hooper El DTS",13]
["1457601","Hooper PC","Hooper PC",9]
["1457602","Hooper PC El DL Two-Way Im Spanish","Hooper PC DTS",13]
["1458901","Hoover El","Hoover El",9]
["1460301","Hubbard El","Hubbard El",10]
["1460302","Hubbard St ES STEAM Magnet","Hubbard STEAM Mag",17]
["1461601","Humphreys El","Humphreys El",12]
["1461602","Humphreys Avenue Elem Science/Tech/Math","Humphreys El STEM Mag",21]
["1461603","Humphreys El DL Two-Way Im Spanish","Humphreys El DTS",16]
["1463001","Huntington Dr El","Huntington Dr El",16]
["1463002","Huntington Dr El DL Two-Way Im Spanish","Huntington Dr El DTS",20]
["1464001","Walnut Park El","Walnut Park El",14]
["1464002","Walnut Park El DL Two-Way Im Spanish","Walnut Prk El DTS",17]
["1464101","San Antonio El","San Antonio El",14]
["1464102","San Antonio ES STEM Magnet","San Antonio STEM Mag",20]
["1464201","Pacific Blvd School","Pacific Blvd School",19]
["1464202","Pacific Blvd El DL Two-Way Im Spanish","Pacific Blvd El DTS",19]
["1465801","YES Academy","YES Academy",11]
["1467101","Ivanhoe El","Ivanhoe El",10]
["1468001","Lizarraga El","Lizarraga El",12]
["1468002","Lizarraga El DL Two-Way Im Spanish","Lizarraga El DTS",16]
["1468101","Harmony El","Harmony El",10]
["1468102","Harmony El DL Two-Way Im Spanish","Harmony El DTS",14]
["1468501","Aurora El","Aurora El",9]
["1468502","Aurora El DL Two-Way Im Spanish","Aurora El DTS",13]
["1469201","Justice St Acad Chtr","Justice St Acad Chtr",20]
["1469601","Kennedy El","Kennedy El",10]
["1469901","Kenter Canyon Elementary Charter","Kenter Canyon",13]
["1471201","Kentwood El","Kentwood El",11]
["1472601","Kester El","Kester El",9]
["1472602","Kester Avenue Elementary Gifted Magnet","Kester El Gifted Mag",20]
["1476001","Kittridge El","Kittridge El",12]
["1476002","Kittridge El DL Two-Way Im Spanish","Kittridge El DTS",16]
["1476003","Kittridge El DL Two-Way Im Armenian","Kittridge El DTR",16]
["1476201","Knollwood Prep Acad","Knollwood Prep Acad",{"$f":"LEN(C387)","v":19}]
["1476401","Lanai El","Lanai El",8]
["1476701","Lane El","Lane El",7]
["1477501","Langdon El","Langdon El",10]
["1477601","Primary Academy","Primary Academy",15]
["1478101","Lankershim El","Lankershim El",13]
["1478601","La Salle El","La Salle El",11]
["1478602","La Salle El DL Two-Way Im Spanish","La Salle El DTS",15]
["1479001","Lassen El","Lassen El",9]
["1479002","Lassen El DL Two-Way Im Spanish","Lassen El DTS",13]
["1479501","Latona El","Latona El",9]
["1479502","Latona El DL Two-Way Im Spanish","Latona El DTS",13]
["1480801","Laurel Cinematic Arts Creative Tech Mag","Laurel CACT Mag",15]
["1482901","Leapwood El","Leapwood El",11]
["1483601","Leland El","Leland El",9]
["1483602","Leland St ES Global Awareness Magnet","Leland GA Mag",13]
["1484901","Lemay El","Lemay El",8]
["1486301","Liberty El","Liberty El",10]
["1487001","Liggett El","Liggett El",10]
["1487701","Lillian El","Lillian El",10]
["1488101","Limerick El","Limerick El",11]
["1488102","Limerick Ave El DL Two-Way Im Spanish","Limerick Ave El DTS",19]
["1488701","Lockhurst Dr Chtr El","Lockhurst Dr Chtr El",20]
["1489001","Lockwood El","Lockwood El",11]
["1490401","Logan Academy of Global Ecology","Logan Acad Globl Eco",20]
["1490402","Logan Acad Globl Ecol Two-Way Im Spanish","Logan Acad ES DL TWI",20]
["1491801","Loma Vista El","Loma Vista El",13]
["1491802","Loma Vista El DL Two-Way Im Spanish","Loma Vista El DTS",17]
["1493201","Lomita Math/Sci Mag","Lomita Math/Sci Mag",19]
["1494501","Lorena El","Lorena El",9]
["1494502","Lorena St. El DL Two-Way Im Spanish","Lorena St El DTS",16]
["1495901","Loreto El","Loreto El",9]
["1495902","Loreto El DL Two-Way Im Spanish","Loreto St El DTS",16]
["1497301","Lorne El","Lorne El",8]
["1497302","Lorne Street Elem Science/Tech/Math Magnet","Lorne St El STEM Mag",20]
["1498001","Pio Pico MS","Pio Pico MS",11]
["1498201","Los Angeles El","Los Angeles El",14]
["1498301","Mariposa-Nabi PC","Mariposa-Nabi PC",16]
["1498601","Los Feliz STEMM Magnet","Los Feliz STEMM Mag",19]
["1501401","Loyola Village ES Fine/Performing Arts Magnet","Loyola Vill ES Mag",18]
["1501601","Coughlin El","Coughlin El",11]
["1505501","Magnolia El","Magnolia El",11]
["1505502","Magnolia El DL One & Two-Way Im Spanish","Magnolia El DTS & DOS",21]
["1506801","Main St El","Main St El",10]
["1506802","Main St El DL Two-Way Im Spanish","Main St El DTS",14]
["1508201","Malabar El","Malabar El",10]
["1509601","Manchester El","Manchester El",13]
["1509602","Manchester Av ES Comm/Broadcasting Mag","Manchester C/B Mag",18]
["1511001","Manhattan Place El","Manhattan Place El",18]
["1511101","Alexander Sci Ctr Sc","Alexander Sci Ctr Sc",20]
["1511102","Alexander Sci Ctr DL Two-Way Im Spanish","Alexander SCS DTS",17]
["1511201","Jones PC","Jones PC",8]
["1511301","Mack El","Mack El",7]
["1511302","Mack El DL Two-Way Im Spanish","Mack El DTS",11]
["1513701","Marianna El","Marianna El",11]
["1513702","Marianna Ave El DL Two-Way Im Spanish","Marianna El DTS",15]
["1515301","Orchard Academies 2B","Orchard Academies 2B",20]
["1515401","Orchard Academies 2C","Orchard Academies 2C",20]
["1516401","Marquez Charter","Marquez Charter",15]
["1517001","Lexington Ave PC","Lexington Ave PC",16]
["1517301","Dr. Julian Nava Learning Academy","Dr. Julian Nava Acad",20]
["1517801","Marvin El","Marvin El",9]
["1517802","Marvin Dual Lang Mag","Marvin Dual Lang Mag",20]
["1519201","Mar Vista El","Mar Vista El",12]
["1519301","Walnut Park MS STEM","Walnut Park MS STEM",{"$f":"LEN(C451)","v":19}]
["1519801","Mayall El","Mayall El",9]
["1520501","Mayberry El","Mayberry El",11]
["1520502","Mayberry El DL Two-Way Im Spanish","Mayberry St El DTS",18]
["1521901","Melrose M/S/T Mag","Melrose M/S/T Mag",17]
["1523301","Melvin El","Melvin El",9]
["1523302","Melvin Av ES Humanities/Leadership Mag","Melvin Hum/Lead Mag",19]
["1524001","Katherine Johnson STEM Academy","Johnson STEM Academy",20]
["1524701","Menlo El","Menlo El",8]
["1524702","Menlo Ave. El Two-Way Im Spanish","Menlo Ave El DTS",16]
["1524703","Menlo ES STEAM Magnet","Menlo ES STEAM Mag",18]
["1528801","Micheltorena El","Micheltorena El",15]
["1528802","Micheltorena DL Two-Way Im Spanish","Micheltorena El DTS",19]
["1530101","Middleton El","Middleton El",12]
["1530201","Middleton PC","Middleton PC",12]
["1531501","Miles El","Miles El",8]
["1531502","Miles Avenue Elem Science/Tech/Math Magnet","Miles Av El STEM Mag",20]
["1531503","Miles El DL Two-Way Im Spanish","Miles Ave El DTS",16]
["1532101","Miller El","Miller El",9]
["1532901","Miramonte El","Miramonte El",12]
["1532902","Miramonte El DL Two-Way Im Spanish","Miramonte El DTS",16]
["1534201","Monlux El","Monlux El",9]
["1534202","John B Monlux Elem Science/Tech/Math Mag","Monlux El STEM Mag",18]
["1538401","Monte Vista El","Monte Vista El",14]
["1538402","Monte Vista St ES Film/Comm Magnet","Monte Vista FC Mag",18]
["1538501","Riordan PC","Riordan PC",10]
["1538502","Riordan PC DL Two-Way Im French","Riordan PC DTF",14]
["1539701","Morningside El","Morningside El",14]
["1540401","Mountain View El","Mountain View El",16]
["1540402","Mountain View El DL Two-Way Im Armenian","Mountain View El DTR",20]
["1541101","Mt Washington El","Mt Washington El",16]
["1542501","Multnomah El","Multnomah El",12]
["1542502","Multnomah Street Elementary Gifted Magnet","Multnomah Gifted Mag",20]
["1542503","Multnomah Env Sc Mag","Multnomah Env Sc Mag",20]
["1543801","Murchison El","Murchison El",12]
["1544601","Napa El","Napa El",7]
["1544602","Napa St El DL Two-Way Im Spanish","Napa St El DTS",14]
["1545201","Nestle Ave Charter","Nestle Ave Charter",18]
["1545901","Nevada El","Nevada El",9]
["1545902","Nevada El DL Two-Way Im Spanish","Nevada El DTS",13]
["1546601","Nevin El","Nevin El",8]
["1547901","Newcastle El","Newcastle El",12]
["1550501","9th St El","9th St El",9]
["1552101","95th St El","95th St El",10]
["1553401","99th St El","99th St El",10]
["1554801","92nd St El","92nd St El",10]
["1556201","Barrett El","Barrett El",10]
["1556202","Barrett El DL Two-Way Im Spanish","Barrett El DTS",14]
["1557501","96th St El","96th St El",10]
["1557502","96th St El DL Two-Way Im Spanish","96th St El DTS",14]
["1558201","93rd St El","93rd St El",10]
["1558202","93rd St El DL Two-Way Im Spanish","93rd St El DTS",14]
["1558203","93rd St ES STEAM Magnet","93rd St STEAM",13]
["1560301","Noble El","Noble El",8]
["1560401","Panorama City El","Panorama City El",16]
["1563001","Normandie El","Normandie El",12]
["1563002","Normandie El DL Two-Way Im Spanish","Normandie Ave El DTS",20]
["1564401","Normont El","Normont El",10]
["1564402","Normont El DL Two-Way Im Spanish","Normont El  DTS",15]
["1569901","Norwood El","Norwood El",10]
["1572601","O Melveny El","O Melveny El",12]
["1574001","118th St El","118th St El",11]
["1574002","118th St El DL Two-Way Im Spanish","118th St El DTS",15]
["1575301","186th St El","186th St El",11]
["1578101","Flournoy El","Flournoy El",{"$f":"LEN(C515)","v":11}]
["1578102","Flournoy ES STEAM Magnet","Flournoy STEAM Mag",18]
["1578103","Flournoy El DL Two-Way Im Spanish","Flournoy El DTS",15]
["1580801","156th St El","156th St El",11]
["1582201","153rd St El","153rd St El",11]
["1582202","153rd St El DL Two-Way Im Spanish","153rd St EL DTS",15]
["1583601","109th St El","109th St El",11]
["1584901","Griffith Joyner El","Griffith Joyner El",18]
["1584902","Griffith Joyner ES Visual/Perf Arts Mag","Griffith Jyner VAPA Mg",22]
["1585701","107th St El","107th St El",11]
["1585702","107th St ES STEAM Magnet","107th St STEAM Mag",18]
["1586301","116th St El","116th St El",11]
["1586302","116th St El DL Two-Way Im Spanish","116th St El DTS",15]
["1587701","135th St El","135th St El",11]
["1587702","135th St El DL Two-Way Im Spanish","135th St El DTS",15]
["1588401","112th St El","112th St El",11]
["1588701","122nd St El","122nd St El",11]
["1588702","122nd St El DL Two-Way Im Spanish","122nd St El DTS",15]
["1588901","Open Charter Magnet","Open Charter Magnet",19]
["1589401","Osceola El","Osceola El",10]
["1590401","Overland El","Overland El",11]
["1591801","Oxnard El","Oxnard El",9]
["1595901","Palisades Charter El","Palisades Charter El",20]
["1598601","Palms El","Palms El",8]
["1600501","Park Ave El","Park Ave El",11]
["1600502","Park Ave El DL Two-Way Im Spanish","Park Ave El DTS",15]
["1601301","Park Western El","Park Western El",15]
["1601302","Park Western Pl ES Gifted/STEAM Magnet","Park Wstrn GSTEAM Mg",20]
["1602101","Parmelee El","Parmelee El",11]
["1602102","Parmelee Ave El DL Two-Way Im Spanish","Parmelee Ave El DTS",19]
["1602701","Parthenia Academy of Arts and Technology","Parthenia Ac Art Tech",21]
["1605201","Paseo Del Rey DL & STEAM Academy","Paseo Del Rey Academy",21]
["1605202","Paseo Del Rey DL Two-Way Im Spanish","Paseo Del Rey DTS",17]
["1605203","Paseo Del Rey ES Natural Science Magnet","Paseo Del Rey NS Mag",20]
["1606801","Pinewood El","Pinewood El",11]
["1608701","Girls Acad Leader, Dr. King Sch for STEM","GALA Dr King Sc STEM",20]
["1609601","Plainview Academc CA","Plainview Academc CA",20]
["1611001","Playa Del Rey El","Playa Del Rey El",16]
["1612301","Plummer El","Plummer El",10]
["1613701","Pt Fermin Mar Sci Mg","Pt Fermin Mar Sci Mg",20]
["1614001","Pomelo Community CS","Pomelo Community CS",19]
["1614002","Pomelo CCES Arts/Sciences Magnet","Pomelo Arts/Sci Mag",19]
["1614801","President El","President El",12]
["1614802","President El DL Two-Way Im Spanish","President Ave El DTS",20]
["1615801","Purche El","Purche El",9]
["1615802","Purche ES STEAM Magnet","Purche STEAM Mag",16]
["1616401","Queen Anne El","Queen Anne El",13]
["1616402","Queen Anne El DL Two-Way Im Spanish","Queen Anne Pl El DTS",20]
["1617801","Ramona El","Ramona El",9]
["1617901","Kingsley El","Kingsley El",11]
["1617902","Kingsley El DL Two-Way Im Spanish","Kingsley El DTS",15]
["1619201","Ranchito El","Ranchito El",11]
["1619202","Ranchito Ave El DL Two-Way Im Spanish","Ranchito Ave DTS",16]
["1621901","Raymond Ave El","Raymond Ave El",14]
["1623301","Reseda El","Reseda El",9]
["1626001","Richland El","Richland El",11]
["1626002","Richland El DL Two-Way Im French","Richland Av El DTF",18]
["1627401","Hamasaki Medical/Science Magnet School","Hamasaki Med/Sci Mg",19]
["1628801","Rio Vista El","Rio Vista El",12]
["1630101","Ritter El","Ritter El",9]
["1631501","Riverside Drive Charter","Riverside Drive",15]
["1632901","Rockdale VAPA Mag","Rockdale VAPA Mag",17]
["1634201","Coeur D Alene El","Coeur D Alene El",16]
["1635601","Roscoe El","Roscoe El",9]
["1635602","Roscoe El DL Two-Way Ime Spanish","Roscoe El DTS",{"$f":"LEN(C579)","v":13}]
["1636301","Roscomare El","Roscomare El",12]
["1637001","Rosemont El","Rosemont El",11]
["1638401","Rosewood Av ES Urban/Plan Des Magnet","Rosewood UP/UD Mag",18]
["1642501","Rowan El","Rowan El",8]
["1642502","Rowan Ave El DL Two-Way Im Spanish","Rowan Ave El DTS",16]
["1642601","Amanecer PC","Amanecer PC",11]
["1643801","Russell El","Russell El",10]
["1643802","Russell Elementary Gifted Magnet","Russell El Gifted Mg",20]
["1645201","San Fernando El","San Fernando El",15]
["1645202","San Fernando El DL Two-Way Im Spanish","San Fernando El DTS",19]
["1646601","San Gabriel El","San Gabriel El",14]
["1646602","San Gabriel El DL Two-Way Im Spanish","San Gabriel DTS",15]
["1647901","San Jose El","San Jose El",11]
["1647902","San Jose Hg Mag","San Jose Hg Mag",15]
["1649301","San Pascual Avenue Elementary STEAM Magnet","San Pascual STEAM Mg",20]
["1650101","San Fernando MS IAM","San Fernando MS IAM",19]
["1650701","San Pedro El","San Pedro El",12]
["1653401","King Jr El","King Jr El",10]
["1653402","King Jr El DL Two-Way Im Spanish","King Jr El DTS",14]
["1654901","Hollywood Elementary School","Hollywood ES",12]
["1656501","Saticoy El","Saticoy El",10]
["1656502","Saticoy El DL Two-Way Im Armenian","Saticoy El DTR",14]
["1657501","2nd St El","2nd St El",9]
["1657502","2nd St El DL Two-Way Im Spanish","2nd St El DTS",13]
["1660601","Serrania CES","Serrania CES",12]
["1661601","7th St ES Arts Integration Magnet","7th St ES AI Mag",16]
["1663001","75th St El","75th St El",10]
["1663002","75Th St El DL Two-Way Im Spanish","75th St El DTS",14]
["1664401","74th St El","74th St El",10]
["1664402","74th Street Elementary Gifted Magnet","74th St El Gifted Mg",20]
["1665801","Mc Kinley El","Mc Kinley El",12]
["1666501","Sharp El","Sharp El",8]
["1667101","Shenandoah El","Shenandoah El",13]
["1668501","Sheridan St El","Sheridan St El",14]
["1668502","Sheridan El DL Two-Way Im Spanish","Sheridan El DTS",15]
["1669901","Sherman Oaks El CS","Sherman Oaks El CS",18]
["1671201","Shirley El","Shirley El",10]
["1674001","Short El","Short El",8]
["1675301","Sierra Park El","Sierra Park El",14]
["1676701","Sierra Vista El","Sierra Vista El",15]
["1678101","6th Ave El","6th Ave El",10]
["1678102","6th Av El DL Two-Way Im Spanish","6th Ave El DTS",14]
["1679501","Gil Garcetti Learning Academy","G. Garcetti Lrng Aca",20]
["1680801","61st St El","61st St El",10]
["1680802","61st St El DL Two-Way Im Spanish","61st St El DTS",14]
["1682201","66th St El","66th St El",10]
["1683601","Solano El","Solano El",9]
["1684901","Soto El","Soto El",7]
["1686301","South Park El","South Park El",13]
["1686302","South Park El DL Two-Way Im Spanish","South Park El DTS",17]
["1686701","Bridges School","Bridges School",14]
["1686801","Obama Global Prep Acad","Obama Glbl Prep Acad",20]
["1686802","Obama GPA STEAM Magnet","Obama GPA STEAM Mag",19]
["1686901","Knox El","Knox El",7]
["1686902","Knox El DL Two-Way Im Spanish","Knox El DTS",11]
["1686903","Knox ES Visual/Performing Arts Magnet","Knox VAPA Mag",13]
["1687001","S Shores Per Arts Mg","S Shores Per Arts Mg",20]
["1687201","Wisdom El","Wisdom El",9]
["1687301","Escalante El","Escalante El",12]
["1687501","San Miguel El","San Miguel El",13]
["1687502","San Miguel ES Steam Magnet","San Miguel STEAM Mag",20]
["1687503","San Miguel El DL Two-Way Im Spanish","San Miguel El DTS",17]
["1687504","San Miguel El DL World Lang Im Mandarin","San Miguel El Dwm",17]
["1687801","Montara Ave El","Montara Ave El",{"$f":"LEN(C643)","v":14}]
["1687802","Montara Avenue Elem Science/Tech/Math Mag","Montara El STEM Mag",19]
["1687803","Montara Ave El DL Two-Way Im Spanish","Montara Ave El DTS",18]
["1688001","Independence El","Independence El",15]
["1688002","Independence Elementary STEM Magnet","Independence STEM Mg",20]
["1688003","Independence El DL Two-Way Im Spanish","Independence DTS",16]
["1688401","Roybal-Allard El","Roybal-Allard El",16]
["1688402","Roybal-Allard El DL Two-Way Im Spanish","Roybal-Allard El DTS",20]
["1688403","Roybal-Allard ES DREAMS Magnet","Rybl-Allrd DREAMS Mg",20]
["1688601","BACA Arts Acad","BACA Arts Acad",14]
["1688602","Baca Arts Acad DL Two-Way Im Spanish","Baca Arts Aca DTS",17]
["1689001","Stagg El","Stagg El",8]
["1690401","Stanford El","Stanford El",11]
["1690402","Stanford Ave El DL Two-Way Im Spanish","Stanford Ave El DTS",19]
["1690501","Stanford PC","Stanford PC",11]
["1690502","Stanford PC El DL Two-Way Im Spanish","Stanford PC DTS",15]
["1691801","State El","State El",8]
["1691802","State St El DL Two-Way Im Spanish","State St El DTS",15]
["1692001","Hope El","Hope El",7]
["1693201","Sterry El","Sterry El",9]
["1693202","Sterry El DL Two-Way Im Japanese","Sterry El DTJ",13]
["1694501","Stonehurst Av ES STEAM Magnet","Stonehurst STEAM Mag",20]
["1695201","Stoner El","Stoner El",9]
["1695202","Stoner El DL One-Way Im Spanish","Stoner Ave El DOS",17]
["1695901","Strathern El","Strathern El",12]
["1697301","Sunland El","Sunland El",10]
["1697302","Sunland Elementary Gifted Magnet","Sunland El Gifted Mg",20]
["1698601","Sunny Brae El","Sunny Brae El",13]
["1698602","Sunny Brae Av ES Global Awareness Magnet","Sunny Brae GA Mag",17]
["1698603","Sunny Brae El DL Two-Way Im Spanish","Sunny Brae El DTS",17]
["1698801","Sunrise El","Sunrise El",10]
["1698802","Sunrise El DL Two-Way Im Spanish","Sunrise El DTS",14]
["1700701","Superior El","Superior El",11]
["1701401","Sylmar El","Sylmar El",9]
["1702701","Sylvan Park El","Sylvan Park El",14]
["1703501","Taper El","Taper El",8]
["1703502","Taper ES STEAM Magnet","Taper STEAM Mag",15]
["1704101","Tarzana El","Tarzana El",10]
["1706801","Telfair El","Telfair El",10]
["1706802","Telfair Ave El DL Two-Way Im Spanish","Telfair Ave El DTS",18]
["1708201","10th St El","10th St El",10]
["1711001","3rd St El","3rd St El",9]
["1711002","3rd St El DL Two-Way Im Korean","3rd St El DTK",13]
["1711003","3rd Street ES Gifted Magnet","3rd St ES Gifted Mag",20]
["1712301","Bradley Glbl Awr Mag","Bradley Glbl Awr Mag",20]
["1713701","32nd/USC Per Art Mag","32nd/USC Per Art Mag",20]
["1713702","LAUSD/USC Media Arts/Engineering Magnet","LAUSD/USC",9]
["1715101","Weemes El","Weemes El",9]
["1716401","Bright El","Bright El",9]
["1717801","Toland Way El","Toland Way El",13]
["1719201","Toluca Lake El","Toluca Lake El",14]
["1719801","Topanga El CS","Topanga El CS",13]
["1720101","Topeka Charter for Advanced Studies","Topeka Charter",14]
["1720501","Towne El","Towne El",8]
["1721901","Trinity El","Trinity El",10]
["1721902","Trinity St El DL Two-Way Im Spanish","Trinity St El DTS",17]
["1722001","Maple PC","Maple PC",8]
["1722002","Maple PC DL Two-Way Im Spanish","Maple PC DTS",12]
["1724701","Tulsa El","Tulsa El",8]
["1726001","Tweedy El","Tweedy El",9]
["1726002","Tweedy EL DL Two-Way Im Spanish","Tweedy El DTS",13]
["1727401","20th St El","20th St El",10]
["1727402","20th St El DL Two-Way Im Spanish","20th St El DTS",14]
["1728801","28th St El","28th St El",10]
["1728802","28th St El DL One-Way Im Spanish","28th St El DOS",{"$f":"LEN(C707)","v":14}]
["1730101","24th St El","24th St El",10]
["1732901","232nd Pl El","232nd Pl El",11]
["1732902","232nd Pl ES STEMM Magnet","232nd STEMM Mag",15]
["1734201","Meyler El","Meyler El",9]
["1734202","Meyler El DL Two-Way Im Spanish","Meyler St El DTS",16]
["1735601","Union El","Union El",8]
["1737001","Utah El","Utah El",7]
["1738401","Valerio El","Valerio El",10]
["1739001","Lake Balboa College Prep Magnet K-12","Lake Balboa Clg Prep",20]
["1739701","Valley View El","Valley View El",14]
["1739801","Alta California El","Alta California El",18]
["1739802","Alta California ES Gifted/STEAM Magnet","Alta Cal GSTEAM Mag",19]
["1739901","Korenstein El","Korenstein El",13]
["1740001","Vista Del Valle Acad","Vista Del Valle Acad",20]
["1740002","Vista Del Valle Ac DL Two-Way Im Spanish","Vista Del Valle DTS",19]
["1740101","Cardenas El","Cardenas El",11]
["1740201","Mosk El","Mosk El",7]
["1740202","Mosk ES STEAM Magnet","Mosk ES STEAM Magnet",20]
["1740401","Santana Arts Academy","Santana Arts Academy",20]
["1740402","Santana Arts Acad DL Two-Way Im Spanish","Santana Arts Aca DTS",20]
["1740801","Sylmar Ldshp Acad","Sylmar Ldshp Acad",17]
["1741101","Vanalden El","Vanalden El",11]
["1741901","Van Deene El","Van Deene El",12]
["1742201","Van Gogh Charter","Van Gogh Charter",16]
["1742501","Van Ness El","Van Ness El",11]
["1743201","Columbus Ave El","Columbus Ave El",15]
["1743801","Van Nuys El","Van Nuys El",11]
["1746601","Vena El","Vena El",7]
["1746602","Vena Avenue Elementary Gifted Magnet","Vena El Gifted Mag",18]
["1747901","Vermont El","Vermont El",10]
["1749301","Vernon City El","Vernon City El",14]
["1750701","Victoria El","Victoria El",11]
["1751301","Regional HS Int. Des./Tech./Entr. Magnet","Regional HS IDTE Mag",20]
["1752101","Victory El","Victory El",10]
["1752102","Victory Bl ES STEAM Magnet","Victory STEAM Mag",17]
["1753401","Vine El","Vine El",7]
["1754801","Vinedale College Preparatory Academy","Vinedale College Pep",20]
["1756201","Vintage Math/Sci Mag","Vintage Math/Sci Mag",20]
["1756601","University Pathways Public Svc Academy","Univ Pathwys Pub Srv",20]
["1756701","University Pathways Medical Mag Academy","Univ Pathwys Medical",20]
["1756901","Boys Academic Leadership Academy","Boys Acad Leader",16]
["1757401","Horace Mann UCLA Community School","Horace Mann UCLA",16]
["1757501","Virginia El","Virginia El",11]
["1757502","Virginia Rd El DL Two-Way Im Spanish","Virginia Rd El DTS",18]
["1758901","Wadsworth El","Wadsworth El",12]
["1760301","Walgrove El","Walgrove El",11]
["1760401","The Science Academy STEM Magnet","Science Ac STEM Mag",19]
["1761401","Nava Coll Prep Acad","Nava Coll Prep Acad",19]
["1761501","Boyle Heights HS STEM Magnet","Boyle Hts STEM Mag",18]
["1761601","Warner El","Warner El",9]
["1763001","Washington PC","Washington PC",13]
["1763002","Washington PC DL Two-Way Im Spanish","Washington PC DTS",17]
["1763401","Weigand El","Weigand El",10]
["1763701","Welby Way Charter ES & GHA Magnet","Welby Way Chtr",14]
["1763702","Welby Way Charter Elementary Gifted Magnet","Welby Way Gifted Mag",20]
["1764001","Chavez El","Chavez El",9]
["1764401","West Athens El","West Athens El",14]
["1764901","West Hollywood El","West Hollywood El",17]
["1765401","West Vernon El","West Vernon El",14]
["1765601","Carson Acad Med Arts","Carson Acad Med Arts",20]
["1765701","Carson Acad Ed & Emp","Carson Acad Ed & Emp",20]
["1765801","Sylmar Academy Biotech Health/Eng Magnet","Sylmar Acad BH/E Mag",20]
["1766401","Legacy SH VAPA","Legacy SH VAPA",14]
["1766701","Dymally SH","Dymally SH",{"$f":"LEN(C771)","v":10}]
["1766702","Dymally HS Biomed Science/Research Mag","Dymally BMS/R Mag",17]
["1766901","Marquez SH Soc Jus","Marquez SH Soc Jus",18]
["1767101","Western Av Tech/Eng/Comm/Hum Magnet","Western Av Tech Mag",19]
["1769901","Westminster ES Math/Tech/Env Stud Magnet","Westminster MTES Mag",20]
["1771201","Westport Hts El","Westport Hts El",15]
["1771501","Chavez LA Artes Mag","Chavez LA Artes Mag",19]
["1771601","Chavez LA SJ Hum Ac","Chavez LA SJ Hum Ac",19]
["1771701","Chavez LA ASE","Chavez LA ASE",13]
["1771801","Rivera LC Com & Tech","Rivera LC Com & Tech",20]
["1771901","Diego Rivera LC Green Design STEAM Acad","Rivera LC STEAM Acad",20]
["1772101","Rivera LC Perf Arts","Rivera LC Perf Arts",19]
["1772201","Dr. Maya Angelou Community Senior High","Dr. Maya Angelou",16]
["1772501","Marquez SH LIBRA","Marquez SH LIBRA",16]
["1773401","Bernstein SH STEM","Bernstein SH STEM",17]
["1774001","Westwood Chtr El","Westwood Chtr El",16]
["1774901","Roosevelt SH","Roosevelt SH",12]
["1774902","Roosevelt HS Law/Public Services Magnet","Roosevelt LPS Mag",17]
["1775101","Roosevelt Senior High Science/Tech/Math","Roosevelt SH STM Mag",20]
["1775201","Solis Learning Acad","Solis Learning Acad",19]
["1776101","CDS Johnson","CDS Johnson",11]
["1776701","White Point El","White Point El",14]
["1777101","RFK Ambsdr Glbl Ldsh","RFK Ambsdr Glbl Ldsh",20]
["1777201","Torres Renaissance","Torres Renaissance",18]
["1777301","Torres Eng & Tech","Torres Eng & Tech",17]
["1777401","Wilbur El","Wilbur El",9]
["1777501","Torres Hum/Art/Tech","Torres Hum/Art/Tech",19]
["1777701","Torres HS Social Justice Ldshp Ac Magnet","Torres HS SJLA Mag",18]
["1778001","RFK UCLA Comm Sch","RFK UCLA Comm Sch",17]
["1778002","RFK UCLA Comm Sch DL One-Way Im Spanish","RFK UCLA Comm DOS",17]
["1778101","Wilmington Park El","Wilmington Park El",18]
["1778301","RFK Comm Schs-New Open World Acad K-12","RFK Comm Schs-New",17]
["1779501","Wilshire Crest El","Wilshire Crest El",17]
["1779502","Wilshire Crest El DL Two-Way Im Spanish","Wilshire Crst DTS",17]
["1780801","Wilton Pl El","Wilton Pl El",12]
["1780802","Wilton Pl El DL Two-Way Im Spanish","Wilton Pl El DTS",16]
["1780803","Wilton Pl El DL Two-Way Im Korean","Wilton Pl El DTK",16]
["1782201","Windsor M/S Aero Mag","Windsor M/S Aero Mag",20]
["1783601","Winnetka El","Winnetka El",11]
["1784901","Wonderland El","Wonderland El",13]
["1784902","Wonderland G/HA Mag","Wonderland G/HA Mag",19]
["1786301","Woodcrest El","Woodcrest El",12]
["1787701","Woodlake Elementary Community Charter","Woodlake Charter",16]
["1789001","Woodland Hills CES","Woodland Hills CES",18]
["1789501","Valley Oaks Center for Enr Studies Mag","Valley Oaks CES Mag",19]
["1790401","Woodlawn El","Woodlawn El",11]
["1790402","Woodlawn Ave El DL Two-Way Im Spanish","Woodlawn Ave El DTS",19]
["1795901","Yorkdale El","Yorkdale El",11]
["1800901","Adams MS","Adams MS",8]
["1800902","John Adams MS Gifted Magnet","Adams MS Gifted Mag",19]
["1802801","Audubon MS","Audubon MS",10]
["1802802","Audubon MS Gifted Magnet","Audubon MS Gifted Mg",20]
["1803801","Bancroft MS","Bancroft MS",11]
["1803802","Bancroft Per Art Mag","Bancroft Per Art Mag",20]
["1803803","Hubert Howe Bancroft MS Gifted STEAM Mag","Bancroft GSTEAM Mag",19]
["1804501","Castro MS","Castro MS",9]
["1804701","Belvedere MS","Belvedere MS",12]
["1804702","Belvedere Media Mag","Belvedere Media Mag",19]
["1804703","Belvedere MS STEAM Magnet","Belvedere STEAM Mag",19]
["1805701","Berendo MS","Berendo MS",10]
["1805801","Liechty MS","Liechty MS",10]
["1806001","Bethune MS","Bethune MS",10]
["1806002","Mary Mcleod Bethune MS Science/Tech/Math","Bethune MS STM Mag",18]
["1806201","Clinton MS","Clinton MS",10]
["1806202","Clinton MS Medical/Health Careers Magnet","Clinton MS M/HC Mag",{"$f":"LEN(C835)","v":19}]
["1806401","Kim Academy","Kim Academy",11]
["1806601","Burbank MS Arts/Tech/Comm Magnet","Burbank MS Arts/Tech",20]
["1806603","Burbank Police Ac Mg","Burbank Police Ac Mg",20]
["1807501","Burroughs MS","Burroughs MS",12]
["1807502","John Burroughs MS Gifted Magnet","Burroughs Gifted Mag",20]
["1808001","Byrd MS","Byrd MS",7]
["1808002","Richard E Byrd MS Science/Tech/Math Magnet","Byrd MS STM Mag",15]
["1809001","Carnegie MS","Carnegie MS",11]
["1809002","Carnegie MS Medical Magnet","Carnegie Medical Mag",20]
["1809003","Carnegie MS Arts/Media/Music/Ent. Magnet","Carnegie MS AMME Mag",20]
["1809201","CDS London","CDS London",10]
["1809401","Carver MS","Carver MS",9]
["1810201","Columbus MS","Columbus MS",11]
["1810202","Columbus MS M/S/Med","Columbus MS M/S/Med",19]
["1810203","Columbus MS Media Arts/Comm Magnet","Columbus MS MAC Mag",19]
["1810301","Curtiss MS","Curtiss MS",10]
["1810302","Curtiss MS STEAM Magnet","Curtiss STEAM Mag",17]
["1810401","Dana MS","Dana MS",7]
["1810402","Dana STEAM Magnet","Dana STEAM Magnet",17]
["1810701","Gaspar De Portola Charter Middle","Gaspar de Portola CM",20]
["1810702","Portola Highly Gifted Magnet","Portola HG Magnet",17]
["1810703","Academy of Integrated Arts & Technology","Acad of Int Art",15]
["1811001","Dodson MS","Dodson MS",9]
["1811002","Rudecinda Sepulveda Dodson MS Gifted Mag","Dodson MS Gifted Mag",20]
["1811003","Dodson MS Visual/Performing Arts Magnet","Dodson VAPA Mag",15]
["1811201","Drew MS","Drew MS",7]
["1811202","Charles Drew MS Gifted Magnet","Drew MS Gifted Mag",18]
["1811301","Edison MS","Edison MS",9]
["1811601","Romer MS","Romer MS",8]
["1811602","Romer STEM Magnet","Romer STEM Magnet",17]
["1811603","Romer MS Gifted/Humanities Magnet","Romer Gifted/Hum Mag",20]
["1811701","Vista MS","Vista MS",8]
["1811703","Vista MS Sports Med/College Prep Magnet","Vista SMCP Mag",14]
["1811704","Vista MS Gifted STEAM Magnet","Vista GSTEAM Mag",16]
["1811705","Vista MS Law/Gov/Social Just/Lead Magnet","Vista MS LGSJL Mag",18]
["1811801","El Sereno MS","El Sereno MS",12]
["1811802","El Sereno MS Science/Tech/Math Magnet","El Sereno STEM Mag",18]
["1811803","El Sereno MS Gifted Magnet","El Sereno Gifted Mag",20]
["1811804","El Sereno MS Env Sci/Humanitarian Magnet","El Sereno ESH Mag",17]
["1812301","Emerson Comm Charter","Emerson Comm Charter",20]
["1812701","Fleming MS","Fleming MS",10]
["1812702","Alexander Fleming MS Science/Tech/Math Mag","Fleming MS STM Mag",18]
["1813201","Foshay LC","Foshay LC",9]
["1813701","Frost MS","Frost MS",8]
["1813702","Frost MS Steam Magnet","Frost MS STEAM Mag",18]
["1813703","Frost MS Gifted/Music Conserv Magnet","Frost MS GMC Mag",16]
["1814201","Fulton College Prep","Fulton College Prep",19]
["1814204","Fulton Communication Arts/Music Magnet","Fulton CAM Mag",14]
["1815101","Gage MS","Gage MS",7]
["1815102","Henry T Gage MS Science/Tech/Math Magnet","Gage MS STEM Mag",16]
["1815301","Southeast MS","Southeast MS",12]
["1815302","Southeast MS DREAMS Magnet","Southeast DREAMS Mg",19]
["1816001","Gompers MS","Gompers MS",10]
["1816002","Gompers MS STEAM Magnet","Gompers STEAM Mag",17]
["1816801","Griffith MS STEAM Magnet","Griffith MS",11]
["1816901","George E Hale Charter Acad","G E Hale Chrtr Acad",19]
["1816902","George Ellery Hale Charter Aca Gifted St","Hale Gifted/STEAM Mg",20]
["1816903","Hale Charter Academy VAPA Magnet","Hale VAPA Mag",13]
["1817001","Harte Prep MS","Harte Prep MS",13]
["1817401","Henry MS","Henry MS",8]
["1817402","Henry MS Comp/M/S Mg","Henry MS Comp/M/S Mg",20]
["1817403","Henry Visual And Performing Arts Magnet","Henry MS VAPA Mag",17]
["1817901","Hollenbeck MS","Hollenbeck MS",13]
["1817902","Hollenbeck MS STEMM Magnet","Hollenbeck STEAMM Mg",{"$f":"LEN(C899)","v":20}]
["1817903","Hollenbeck MS Law/Public Service Magnet","Hollenbeck L/PS Mag",19]
["1818201","Holmes MS","Holmes MS",9]
["1818202","Holmes Int Human Mag","Holmes Int Human Mag",20]
["1818901","Irving MME Mag","Irving MME Mag",14]
["1820001","Los Angeles Acad MS","Los Angeles Acad MS",19]
["1820002","Los Angeles Academy STEAM Magnet","LA Academy STEAM Mag",20]
["1820601","RFK Sch Vis Arts/Hum","RFK Sch Vis Arts/Hum",20]
["1820701","Contreras LC ALC","Contreras LC ALC",16]
["1820801","King Film/Media Mag","King Film/Media Mag",19]
["1820802","Thomas Starr King MS Gifted/Arts/Technology","King MS Gifted/AT Mg",20]
["1820803","King MS ESTEAM Magnet","King ESTEAM Mag",15]
["1821701","Lawrence MS","Lawrence MS",11]
["1821702","Ernest Lawrence MS Gifted Magnet","Lawrence Gifted Mag",19]
["1821703","Lawrence MS Pioneering Science Magnet","Lawrence Pio Sci Mag",20]
["1822601","Le Conte MS","Le Conte MS",11]
["1822602","Le Conte HEAT Magnet","Le Conte HEAT Magnet",20]
["1822603","Le Conte CES CA Mag","Le Conte CES CA Mag",19]
["1822801","Maclay MS","Maclay MS",9]
["1823001","Madison MS","Madison MS",10]
["1823002","Madison M/S/Med Mag","Madison M/S/Med Mag",19]
["1823003","Madison Computer Sci/Eng Design Magnet","Madison CSED Mag",16]
["1823501","Marina Del Rey MS","Marina Del Rey MS",17]
["1823502","Marina Del Rey PA Mg","Marina Del Rey PA Mg",20]
["1823701","Markham MS","Markham MS",10]
["1823702","Markham Hlth CAR Mag","Markham Hlth CAR Mag",20]
["1823703","Markham MS Visual/Performing Arts Magnet","Markham MS VAPA Mag",19]
["1823801","Robert A. Millikan Affiliated Chtr & PAM","Robert A. Millikan",18]
["1823802","Millikan Charter MS Performing Arts Mag","Millikan CMS PA Mag",19]
["1823804","Millikan Charter MS Socl/Gndr Equity Mg","Millikan CMS SGE Mag",20]
["1824001","Mount Gleason MS","Mount Gleason MS",16]
["1824002","Mount Gleason MS Gifted Magnet","Mt Gleason Gifted Mg",20]
["1824003","Mount Gleason MS STEAM Magnet","Mt Gleason STEAM Mg",19]
["1824501","Cochran MS","Cochran MS",10]
["1825501","Muir MS","Muir MS",7]
["1825502","John Muir MS Science/Tech/Math Magnet","Muir MS STEM Mag",16]
["1825901","Mulholland MS","Mulholland MS",13]
["1825902","Mulholland MS Police Academy","Mulholland MS Police",20]
["1825903","Mulholland Robotics Magnet","Mulholland Robotics",19]
["1826401","Nightingale MS","Nightingale MS",14]
["1826402","Nightingale BET Magnet","Nightingale BET Mag",19]
["1826403","Florence Nightingale MS Gifted STEM Magnet","Nightingale GSTEM Mg",20]
["1826404","Nightingale MS Med/Hea/Kinesiology Mag","Nightingale M/H/K Mg",20]
["1826801","Nimitz MS","Nimitz MS",9]
["1826802","Chester W Nimitz MS Science/Technology/Math","Nimitz MS STEM Mag",18]
["1827201","Alfred B. Nobel Charter Middle","Alfred B. Nobel",15]
["1827202","Nobel Charter MS STEAM Magnet","Nobel CMS STEAM Mag",19]
["1828301","Northridge MS","Northridge MS",13]
["1828303","Northridge MS Medical/Health Careers Mag","Northridge Med/HC Mg",20]
["1828304","Northridge MS Liberal Arts Magnet","Northridge MS LA Mag",20]
["1830601","Olive Vista MS","Olive Vista MS",14]
["1830602","Olive Vista MS STEAM Magnet","Olive Vista STEAM Mg",20]
["1832101","Pacoima MS","Pacoima MS",10]
["1832102","Pacoima MS Film/Media/Perf Arts Magnet","Pacoima FMPA Mag",16]
["1832103","Pacoima MS Computer Science/Math Magnet","Pacoima MS CS/M Mag",19]
["1834001","Palms MS","Palms MS",8]
["1834002","Palms MS Gifted Magnet","Palms MS Gifted Mag",19]
["1834003","PalMS MS Modern Media/Comm. Magnet","Palms MMC Mag",13]
["1834401","Woodland Hills Acad","Woodland Hills Acad",19]
["1834402","Woodland Hills Academy Humanities Magnet","Woodland Hls Hum Mag",20]
["1835201","Peary MS","Peary MS",8]
["1835202","Peary MS STEAM Magnet","Peary STEAM Mag",15]
["1835203","Peary MS Gifted Magnet","Peary Gifted Mag",16]
["1835401","Porter MS","Porter MS",9]
["1835402","George K Porter MS Gifted Magnet","Porter MS Gifted Mag",{"$f":"LEN(C963)","v":20}]
["1835501","Reed MS","Reed MS",7]
["1835601","Revere MS","Revere MS",9]
["1835602","Paul Revere Charter MS Science/Tech/Math","Revere CMS STEM Mag",19]
["1835801","San Fernando MS","San Fernando MS",15]
["1836301","Sepulveda MS","Sepulveda MS",12]
["1836302","Francisco Sepulveda MS Gifted Magnet","Sepulveda Gifted Mag",20]
["1836303","Sepulveda MS Kine/Sports Medicine Magnet","Sepulveda KSM Mag",17]
["1837701","South Gate MS","South Gate MS",13]
["1837702","South Gate MS Science/Tech/Math Magnet","South Gate MS STEM Mg",21]
["1838701","Robert L Stevenson College & Career Prep","Stevenson Col Car Pr",20]
["1838702","Stevenson Col & Car Prep Gifted Magnet","Stvnsn C&CP Gift Mag",20]
["1838703","Stevenson Col & Car Prep Ca Magnet","Stvnsn C&P CA Mag",17]
["1839001","Walnut Park MS SJ/SL","Walnut Park MS SJ/SL",20]
["1839601","Sun Valley ET Mag","Sun Valley ET Mag",17]
["1839602","Sun Valley ES Mag","Sun Valley ES Mag",17]
["1839603","Sun Valley BSEL Mag","Sun Valley BSEL Mag",19]
["1840601","Sutter MS","Sutter MS",9]
["1840602","Sutter MS STEAM Magnet","Sutter STEAM Mag",16]
["1842501","Mark Twain MS","Mark Twain MS",13]
["1842502","Mark Twain WL Mag","Mark Twain WL Mag",17]
["1843401","Van Nuys MS","Van Nuys MS",11]
["1843402","Van Nuys MS STEAM Magnet","Van Nuys STEAM Mag",18]
["1846201","Virgil MS","Virgil MS",9]
["1846202","Virgil Med & Health Sci Magnet","Virgil Med&Health Sc",20]
["1848101","Webster MS","Webster MS",10]
["1848102","Webster MS STEAM Magnet","Webster MS STEAM",16]
["1848701","White MS","White MS",8]
["1848702","White STEAM Magnet","White STEAM Magnet",18]
["1849001","Wilmington MS STEAM Magnet","Wilmington STEAM Mag",20]
["1849301","Wright Eng & Design Magnet","Wright Eng & Des Mag",20]
["1849303","Wright MS Gifted Magnet","Wright Gifted Mag",17]
["1849701","Secondary CDS","Secondary CDS",13]
["1850101","RFK LA SH Arts","RFK LA SH Arts",14]
["1850601","CDS Aggeler","CDS Aggeler",11]
["1850701","Aggeler HS","Aggeler HS",10]
["1851301","Northridge Acad SH","Northridge Acad SH",18]
["1851601","Cortines Sch Of VPA","Cortines Sch Of VPA",19]
["1851701","Contreras Bus Tour","Contreras Bus Tour",18]
["1851801","Dr. R.A. Vladovic Harbor Tchr Prep Acad","Dr. Vladovic HTPA",17]
["1852701","Contreras LC Soc Jus","Contreras LC Soc Jus",20]
["1852901","Banning SH","Banning SH",10]
["1852902","Banning HS College Preparatory Magnet","Banning Col Prep Mag",20]
["1852907","Phineas Banning Senior High Firefighter","Banning SH FF Mag",17]
["1852908","Phineas Banning Senior High STEAM Magnet","Banning SH STEAM Mag",20]
["1852909","Banning HS Police Academy Magnet","Banning PA Mag",14]
["1853101","Dan M. Isaacs Avalon High School","Dan Isaacs Avalon HS",20]
["1853601","Bell SH","Bell SH",7]
["1853614","Bell SH Gifted Science/Tech/Eng/Math Mag","Bell Gifted/STEM Mag",20]
["1854301","Belmont SH","Belmont SH",10]
["1854401","Roybal LC","Roybal LC",9]
["1854406","Roybal LC Innov Cine Arts/Music Prod Mag","Roybal ICAMP Mag",16]
["1854501","Newmark HS","Newmark HS",10]
["1855801","Pearl Journ/Comm Mag","Pearl Journ/Comm Mag",20]
["1855901","Independence HS","Independence HS",15]
["1857101","Canoga Park SH","Canoga Park SH",14]
["1857102","Canoga Park HS Eng & Env/Vet Sci Magnet","Canoga Park EEVS Mag",20]
["1857106","Canoga Park HS Comm Arts/Media Magnet","Canoga Park CAM Mag",19]
["1857301","Owensmouth HS","Owensmouth HS",13]
["1857501","Carson SH","Carson SH",9]
["1857510","Carson HS Musical Ent/Digital Art Magnet","Carson HS MEDiA Mag",19]
["1857701","Sotomayor Art/Sciences Magnet","Sotomayor Art/Sci Mg",20]
["1857801","Eagle Tree Contn HS","Eagle Tree Contn HS",19]
["1858001","Central HS","Central HS",10]
["1858301","Chatsworth Chtr HS","Chatsworth Chtr HS",{"$f":"LEN(C1027)","v":18}]
["1858309","Chatsworth Charter HS GSTEAM Magnet","Chatsworth GSTEAM Mg",20]
["1858501","Stoney Point HS","Stoney Point HS",15]
["1858901","CDS Johnston","CDS Johnston",12]
["1859001","Cleveland Chtr HS","Cleveland Chtr HS",17]
["1859002","Cleveland Human Mag","Cleveland Human Mag",19]
["1859007","Cleveland Charter HS GMS Magnet","Cleveland GMS Mag",17]
["1859101","Wooden HS","Wooden HS",9]
["1859601","Crenshaw STEMM Mag","Crenshaw STEMM Mag",18]
["1859801","Young HS","Young HS",8]
["1860001","Dorsey SH","Dorsey SH",9]
["1860002","Susan Miller Dorsey SH Science/Tech/Math","Dorsey SH STM Mag",17]
["1860003","Dorsey HS Sports Medicine/Law Magnet","Dorsey SM/L Mag",15]
["1860009","Dorsey HS Firefighter/EMS Magnet","Dorsey FEMS Mag",15]
["1860201","View Park Contn HS","View Park Contn HS",18]
["1860601","Torres ELA PA Mag","Torres ELA PA Mag",17]
["1860701","East Valley SH","East Valley SH",14]
["1860706","East Valley HS Incl. Creat. Media Magnet","East Valley ICM Mag",19]
["1860901","Arleta SH","Arleta SH",9]
["1861001","Panorama SH","Panorama SH",11]
["1861007","Panorama HS Sports Med/Info Tech Magnet","Panorama SMIT Mag",17]
["1861008","Panorama HS Gifted STEAM Magnet","Panorama GSTEAM Mag",19]
["1861009","Panorama HS Social Justice/Lead Magnet","Panorama HS SJL Mag",19]
["1861101","Mendez SH","Mendez SH",9]
["1861201","Burke HS","Burke HS",8]
["1861401","Eagle Rock HS","Eagle Rock HS",13]
["1861402","Eagle Rock High School Gifted Magnet","Eagle Rck SH Gifted Mg",22]
["1861801","Wilson SH","Wilson SH",9]
["1861802","Wilson Police Acd Mg","Wilson Police Acd Mg",20]
["1861803","Wilson Adm/Law Mag","Wilson Adm/Law Mag",18]
["1861810","Woodrow Wilson Senior High Firefighter Mag","Wilson SH FF Mag",16]
["1862101","Fairfax SH","Fairfax SH",10]
["1862102","Fairfax Vis Arts Mag","Fairfax Vis Arts Mag",20]
["1862108","Fairfax HS Police Academy Magnet","Fairfax PA Mag",14]
["1862301","Whitman HS","Whitman HS",10]
["1863601","Polytechnic SH","Polytechnic SH",14]
["1863602","John H Francis Polytechnic SH Sci/Tech/Math","Polytechnic STEM Mag",20]
["1863801","Lewis HS","Lewis HS",8]
["1864301","Franklin SH","Franklin SH",11]
["1864302","Benjamin Franklin SH Science/Tech/Math Mag","Franklin SH STM Mag",19]
["1864311","Franklin HS Dual Language Academy Magnet","Franklin DLA Mag",16]
["1864501","Highland Park HS","Highland Park HS",16]
["1865001","Fremont SH","Fremont SH",10]
["1865002","Fremont HS STEAM Magnet","Fremont STEAM Mag",17]
["1865201","Hope HS","Hope HS",7]
["1866401","Gardena SH","Gardena SH",10]
["1866402","Gardena HS Gobal Business Magnet","Gardena HS GB Mag",17]
["1866407","Gardena HS Law/Public Service Magnet","Gardena L/PS Mag",16]
["1866601","Moneta HS","Moneta HS",9]
["1867001","CDS Alonzo","CDS Alonzo",10]
["1867701","Monterey HS","Monterey HS",11]
["1867901","Garfield SH","Garfield SH",11]
["1867902","Garfield Comp Sci Mg","Garfield Comp Sci Mg",20]
["1868301","Grant SH","Grant SH",8]
["1868302","Grant HS College Prep/Digital Arts Mag","Grant CP/DA Mag",15]
["1868308","Grant HS Hum For Interdiscip Studies Mag","Grant H for IS Mag",18]
["1868501","London HS","London HS",9]
["1868601","Hamilton SH-Complex","Hamilton SH-Complex",19]
["1868602","Hamilton Music & Perf Arts Mag","Hamilton Music",14]
["1868603","Hamilton Human Mag","Hamilton Human Mag",18]
["1868801","Cheviot Hills HS","Cheviot Hills HS",16]
["1869301","Hollywood SH","Hollywood SH",12]
["1869302","Hollywood Per Art Mg","Hollywood Per Art Mg",20]
["1869307","Hollywood HS New Media Magnet","Hollywood HS",12]
["1869601","Bernstein SH","Bernstein SH",{"$f":"LEN(C1091)","v":12}]
["1869602","Bernstein HS Cine Arts/Creative Tech Mag","Bernstein CA/CT Mag",19]
["1870001","Huntington Park SH","Huntington Park SH",18]
["1870018","Huntington Park HS STEAM Magnet","Hntngtn Pk STEAM Mag",20]
["1870101","International St LC","International St LC",19]
["1870201","San Antonio HS","San Antonio HS",14]
["1871001","Early College Acad","Early College Acad",18]
["1871301","Hawkins SH C/DAGS","Hawkins SH C/DAGS",17]
["1871302","Hawkins HS Critical Design/Gaming Magnet","Hawkins HS CD/G Mag",19]
["1871401","Jefferson SH","Jefferson SH",12]
["1871601","Santee Educ Complex","Santee Educ Complex",19]
["1872101","Jordan SH","Jordan SH",9]
["1872301","Rodia HS","Rodia HS",8]
["1872501","Kennedy SH","Kennedy SH",10]
["1872502","Kennedy A/DD/FM Magnet","Kennedy A/DD/FM",15]
["1872508","John F Kennedy Senior High Gifted Medical Mag","Kennedy Gifted/Md Mg",20]
["1872509","Kennedy HS Global Lead/Env Action Magnet","Kennedy HS GLEA Mag",19]
["1872601","AddaMS HS","AddaMS HS",9]
["1872701","King-Drew Med Mag","King-Drew Med Mag",17]
["1872901","Lincoln SH","Lincoln SH",10]
["1872902","Abraham Lincoln SH Science/Tech/Math Mag","Lincoln SH STM Mag",18]
["1872908","Lincoln ESP Magnet","Lincoln ESP Magnet",18]
["1873101","Pueblo De LA HS","Pueblo De LA HS",15]
["1873601","Los Angeles SH","Los Angeles SH",14]
["1873602","Los Angeles HS STEAM Magnet","Los Angeles STEAM Mg",20]
["1873801","Downtwn Business Mag","Downtwn Business Mag",20]
["1873803","Downtown Computer Sci/Digital Media Arts","Downtown CS/DMA/E Mg",20]
["1874101","LACES Mag","LACES Mag",9]
["1874301","Manual Arts SH","Manual Arts SH",14]
["1874302","Manual Arts Col Prep","Manual Arts Col Prep",20]
["1874801","West Adams Prep SH","West Adams Prep SH",18]
["1874802","West Adams HS Firefighter Academy Magnet","W Adams FA Mag",14]
["1874803","West Adams HS Police Academy Magnet","W Adams PA Mag",14]
["1875001","Marshall SH","Marshall SH",11]
["1875002","John Marshall Senior High Gifted Magnet","Marshall Gifted Mag",19]
["1875401","Bravo Medical Mag","Bravo Medical Mag",17]
["1875701","Metropolitan HS","Metropolitan HS",15]
["1876001","Middle College HS","Middle College HS",17]
["1876801","Monroe SH","Monroe SH",9]
["1876802","Monroe Police Acd Mg","Monroe Police Acd Mg",20]
["1876803","Monroe Law/Gov Mag","Monroe Law/Gov Mag",18]
["1876812","Monroe HS Firefighter Academy Magnet","Monroe FA Mag",13]
["1877001","Einstein HS","Einstein HS",11]
["1877401","Contreras LC Glbl St","Contreras LC Glbl St",20]
["1877701","Kahlo HS","Kahlo HS",8]
["1877901","Narbonne SH","Narbonne SH",11]
["1877902","Narbonne HS STEAM Magnet","Narbonne STEAM Mag",18]
["1877911","Narbonne HS Bus/Entrep/Tech Magnet","Narbonne BET Mag",16]
["1878101","Patton HS","Patton HS",9]
["1878601","No Hollywood SH","No Hollywood SH",15]
["1878602","No Hollywood Hg Mag","No Hollywood Hg Mag",19]
["1878603","NHHS/LA Zoo Biol Mag","NHHS/LA Zoo Biol Mag",20]
["1878612","North Hollywood HS STEM Magnet","N Hollywood STEM Mag",20]
["1878801","Earhart HS","Earhart HS",10]
["1880101","City of Angels","City of Angels",14]
["1880102","City of Angels Virtual Academy","City of Angels VA",17]
["1880103","City of Angels Virtual Academy 1","Virtual Academy 1",17]
["1880104","City of Angels Virtual Academy 2","Virtual Academy 2",17]
["1880105","City of Angels Virtual Academy 3","Virtual Academy 3",17]
["1880106","City of Angels Virtual Academy 4","Virtual Academy 4",17]
["1880107","City of Angels Virtual Academy 5","Virtual Academy 5",17]
["1880108","City of Angels Virtual Academy 6","Virtual Academy 6",17]
["1880701","Ramona HS","Ramona HS",9]
["1881401","Reseda Charter High School","Reseda Charter HS",{"$f":"LEN(C1154)","v":17}]
["1881402","Reseda Charter HS Police Academy Magnet","Reseda CHS PA Mag",17]
["1881403","Reseda Charter HS Science Magnet","Reseda CHS Sci Mag",18]
["1881409","Reseda Charter HS Arts/Media/Ent Magnet","Reseda CHS AME Mag",18]
["1881601","Grey HS","Grey HS",7]
["1883101","Boyle Heights HS","Boyle Heights HS",16]
["1883801","Narbonne SH Harts LA","Narbonne SH Harts LA",20]
["1884201","SOCES Mag","SOCES Mag",9]
["1884301","San Fernando SH","San Fernando SH",15]
["1884302","San Fernando Senior High Science/Tech/Math","San Fernando STEM Mag",21]
["1884501","Mission HS","Mission HS",10]
["1885001","San Pedro SH","San Pedro SH",12]
["1885002","San Pedro Pol Acd Mg","San Pedro Pol Acd Mg",20]
["1885003","San Pedro Senior High Marine Science/Tech","San Pedro MS/T/M Mag",20]
["1885010","San Pedro Senior High Gifted STEAM Magnet","San Pedro G/STEAM Mg",20]
["1885011","San Pedro HS Visual/Perf Arts Magnet","San Pedro VAPA Mag",18]
["1885201","Angel's Gate HS","Angel's Gate HS",15]
["1885301","Orthopaedic Hosp Mag","Orthopaedic Hosp Mag",20]
["1886601","Marquez SH HPIAM","Marquez SH HPIAM",16]
["1886701","Rivera LC Pub Srv","Rivera LC Pub Srv",17]
["1886801","Rancho Domingz Prep","Rancho Domingz Prep",19]
["1886802","Rancho Dominguez PS Law/Gov/Pub Serv Mag","Rancho Dmngz L/G/PS Mg",22]
["1887101","South Gate SH","South Gate SH",13]
["1887110","South Gate HS Pub Service/Biomed Magnet","South Gate HS PSB Mg",20]
["1887301","Odyssey HS","Odyssey HS",10]
["1887601","Evergreen HS","Evergreen HS",12]
["1887801","Sylmar Charter High School","Sylmar Charter HS",17]
["1887802","Sylmar Charter HS Sci/Tech/Math Magnet","Sylmar CHS STM Mag",18]
["1888001","William Howard Taft Charter HS","William H Taft",14]
["1888007","William Howard Taft Charter SH Gifted St","Taft Gifted/STEAM Mg",20]
["1888101","South East SH","South East SH",13]
["1888108","South East HS Steam Magnet","South East STEAM Mag",20]
["1888201","Maywood Academy SH","Maywood Academy SH",18]
["1888301","Thoreau HS","Thoreau HS",10]
["1888601","University High School Charter","University HS Charter",21]
["1888607","University Charter HS Mth/Art/Sci/Tch Mg","Univrsty CHS MAST Mg",20]
["1889301","Van Nuys SH","Van Nuys SH",11]
["1889302","Van Nuys Medical Mag","Van Nuys Medical Mag",20]
["1889303","Van Nuys Senior High Science/Tech/Math Mag","Van Nuys SH STM Mag",19]
["1889304","Van Nuys Per Arts Mg","Van Nuys Per Arts Mg",20]
["1889501","Rogers HS","Rogers HS",9]
["1889801","Valley Acad Arts/Sci","Valley Acad Arts/Sci",20]
["1890101","Chavez Learning Acad-Technology Prep","Chavez LA Tech Prep",19]
["1890701","Venice SH","Venice SH",9]
["1890702","Venice SH World Languages/Global Studies","Venice SH WL/GS Mag",19]
["1890707","Venice SH STEMM Mag","Venice SH STEMM Mag",19]
["1890901","Phoenix HS","Phoenix HS",10]
["1891401","Verdugo Hills SH","Verdugo Hills SH",16]
["1891402","Verdguo Hills HS STEMM Magnet","Vrdgo Hlls STEMM Mg",19]
["1891408","Verdugo Hills SH Visual and Performing Acad","Verdgo Hls VAPA Mag",19]
["1891601","Mt Lukens HS","Mt Lukens HS",12]
["1891701","Maywood Center for Enriched Studies Mag","MaCES Magnet",12]
["1892101","Legacy SH STEAM","Legacy SH STEAM",15]
["1892801","Washington Prep SH","Washington Prep SH",18]
["1892803","Washington Preparatory HS STEAM Magnet","Washington STEAM Mag",20]
["1893001","Ellington HS","Ellington HS",12]
["1894301","WESM Hlth/Sports Med","WESM Hlth/Sports Med",20]
["1894309","Westchester Gifted/STEAM Magnet","WESM Gifted/STEAM Mg",20]
["1894310","WESM Env Natrl Sci","WESM Env Natrl Sci",18]
["1894801","Yth Opp Unltd Alt HS","Yth Opp Unltd Alt HS",20]
["1899101","CDS Tri-C","CDS Tri-C",9]

{"sheet":"Pivot ECAST","index":8,"n_rows":718,"n_cols":2,"rows_kept":718,"cut":false,"hidden":true,"merged":[]}
[]
[]
["Home School","Count of School"]
["1194901",1]
["1201401",1]
["1202701",2]
["1204101",2]
["1204201",2]
["1206801",2]
["1208201",2]
["1208901",3]
["1209601",3]
["1211001",1]
["1211701",1]
["1212301",2]
["1213701",1]
["1214601",2]
["1215101",1]
["1216401",1]
["1217801",1]
["1219201",2]
["1220501",1]
["1221901",1]
["1223301",2]
["1224701",1]
["1225001",1]
["1226901",1]
["1227401",2]
["1228801",2]
["1230101",2]
["1230201",1]
["1230301",2]
["1230601",1]
["1230701",1]
["1230801",1]
["1230901",2]
["1231101",1]
["1231201",1]
["1231301",1]
["1231501",2]
["1232301",3]
["1232901",1]
["1233501",1]
["1234201",1]
["1236901",3]
["1237201",2]
["1237501",2]
["1237801",2]
["1238101",2]
["1238301",1]
["1238401",1]
["1238501",2]
["1238601",1]
["1239101",2]
["1239201",1]
["1239301",1]
["1239701",1]
["1243801",1]
["1247001",1]
["1247301",1]
["1247901",3]
["1248601",1]
["1249301",1]
["1250701",1]
["1252101",1]
["1252701",2]
["1253001",2]
["1253401",3]
["1254201",2]
["1254301",1]
["1254401",2]
["1254801",1]
["1256201",1]
["1258901",2]
["1260301",3]
["1261601",1]
["1261901",2]
["1263001",2]
["1264401",2]
["1265801",1]
["1267101",2]
["1268501",2]
["1269901",3]
["1270101",3]
["1270401",1]
["1270601",1]
["1271201",1]
["1272601",2]
["1274001",1]
["1274101",1]
["1275301",1]
["1276701",2]
["1278101",2]
["1279501",1]
["1280201",1]
["1281501",1]
["1282201",1]
["1283601",1]
["1284901",1]
["1286301",2]
["1287701",2]
["1288101",1]
["1289001",2]
["1293901",2]
["1294201",1]
["1294301",1]
["1294401",1]
["1294501",1]
["1295901",1]
["1298601",2]
["1300201",1]
["1301401",1]
["1302701",1]
["1304101",1]
["1306801",2]
["1308201",2]
["1309601",2]
["1311001",1]
["1312301",1]
["1313701",2]
["1315101",2]
["1316401",1]
["1317801",1]
["1319201",2]
["1320501",1]
["1321001",2]
["1321901",1]
["1322001",1]
["1324701",2]
["1326001",3]
["1328801",1]
["1330201",1]
["1331101",1]
["1331501",1]
["1332901",1]
["1333501",1]
["1334001",1]
["1335601",2]
["1337701",1]
["1338401",1]
["1339701",1]
["1342501",2]
["1342601",1]
["1343801",1]
["1345201",1]
["1346601",2]
["1347901",1]
["1349301",1]
["1350001",1]
["1350701",3]
["1352101",2]
["1354101",1]
["1354501",1]
["1354801",2]
["1356201",1]
["1357401",2]
["1357501",1]
["1357601",1]
["1357701",1]
["1358901",1]
["1361001",1]
["1361601",1]
["1363001",1]
["1364001",1]
["1367101",3]
["1369901",1]
["1371201",1]
["1372601",1]
["1374001",2]
["1375301",2]
["1376701",1]
["1378101",1]
["1379501",1]
["1380801",1]
["1382201",1]
["1382901",2]
["1383601",1]
["1384901",2]
["1387701",2]
["1389001",2]
["1391801",2]
["1393201",1]
["1395901",2]
["1397301",2]
["1397401",2]
["1398601",1]
["1401401",1]
["1402001",1]
["1402701",2]
["1404101",2]
["1405501",1]
["1406801",2]
["1408201",1]
["1409601",3]
["1411001",1]
["1411701",1]
["1412301",1]
["1413001",2]
["1413701",1]
["1416401",1]
["1419201",1]
["1421901",2]
["1423301",1]
["1424701",2]
["1426001",2]
["1427401",1]
["1429501",2]
["1430101",1]
["1431501",2]
["1432201",1]
["1432901",2]
["1434201",1]
["1434901",1]
["1435601",2]
["1439701",1]
["1442501",1]
["1443101",1]
["1443801",2]
["1444501",1]
["1445201",1]
["1446601",2]
["1447301",1]
["1449301",2]
["1450701",1]
["1451501",1]
["1452101",1]
["1452801",3]
["1453401",1]
["1454801",2]
["1456201",1]
["1457501",2]
["1457601",2]
["1458901",1]
["1460301",2]
["1461601",3]
["1463001",2]
["1464001",2]
["1464101",2]
["1464201",2]
["1465801",1]
["1467101",1]
["1468001",2]
["1468101",2]
["1468501",2]
["1469201",1]
["1469601",1]
["1469901",1]
["1471201",1]
["1472601",2]
["1476001",3]
["1476201",1]
["1476401",1]
["1476701",1]
["1477501",1]
["1477601",1]
["1478101",1]
["1478601",2]
["1479001",2]
["1479501",2]
["1480801",1]
["1482901",1]
["1483601",2]
["1484901",1]
["1486301",1]
["1487001",1]
["1487701",1]
["1488101",2]
["1488701",1]
["1489001",1]
["1490401",2]
["1491801",2]
["1493201",1]
["1494501",2]
["1495901",2]
["1497301",2]
["1498001",1]
["1498201",1]
["1498301",1]
["1498601",1]
["1501401",1]
["1501601",1]
["1505501",2]
["1506801",2]
["1508201",1]
["1509601",2]
["1511001",1]
["1511101",2]
["1511201",1]
["1511301",2]
["1513701",2]
["1515301",1]
["1515401",1]
["1516401",1]
["1517001",1]
["1517301",1]
["1517801",2]
["1519201",1]
["1519301",1]
["1519801",1]
["1520501",2]
["1521901",1]
["1523301",2]
["1524001",1]
["1524701",3]
["1528801",2]
["1530101",1]
["1530201",1]
["1531501",3]
["1532101",1]
["1532901",2]
["1534201",2]
["1538401",2]
["1538501",2]
["1539701",1]
["1540401",2]
["1541101",1]
["1542501",3]
["1543801",1]
["1544601",2]
["1545201",1]
["1545901",2]
["1546601",1]
["1547901",1]
["1550501",1]
["1552101",1]
["1553401",1]
["1554801",1]
["1556201",2]
["1557501",2]
["1558201",3]
["1560301",1]
["1560401",1]
["1563001",2]
["1564401",2]
["1569901",1]
["1572601",1]
["1574001",2]
["1575301",1]
["1578101",3]
["1580801",1]
["1582201",2]
["1583601",1]
["1584901",2]
["1585701",2]
["1586301",2]
["1587701",2]
["1588401",1]
["1588701",2]
["1588901",1]
["1589401",1]
["1590401",1]
["1591801",1]
["1595901",1]
["1598601",1]
["1600501",2]
["1601301",2]
["1602101",2]
["1602701",1]
["1605201",3]
["1606801",1]
["1608701",1]
["1609601",1]
["1611001",1]
["1612301",1]
["1613701",1]
["1614001",2]
["1614801",2]
["1615801",2]
["1616401",2]
["1617801",1]
["1617901",2]
["1619201",2]
["1621901",1]
["1623301",1]
["1626001",2]
["1627401",1]
["1628801",1]
["1630101",1]
["1631501",1]
["1632901",1]
["1634201",1]
["1635601",2]
["1636301",1]
["1637001",1]
["1638401",1]
["1642501",2]
["1642601",1]
["1643801",2]
["1645201",2]
["1646601",2]
["1647901",2]
["1649301",1]
["1650101",1]
["1650701",1]
["1653401",2]
["1654901",1]
["1656501",2]
["1657501",2]
["1660601",1]
["1661601",1]
["1663001",2]
["1664401",2]
["1665801",1]
["1666501",1]
["1667101",1]
["1668501",2]
["1669901",1]
["1671201",1]
["1674001",1]
["1675301",1]
["1676701",1]
["1678101",2]
["1679501",1]
["1680801",2]
["1682201",1]
["1683601",1]
["1684901",1]
["1686301",2]
["1686701",1]
["1686801",2]
["1686901",3]
["1687001",1]
["1687201",1]
["1687301",1]
["1687501",4]
["1687801",3]
["1688001",3]
["1688401",3]
["1688601",2]
["1689001",1]
["1690401",2]
["1690501",2]
["1691801",2]
["1692001",1]
["1693201",2]
["1694501",1]
["1695201",2]
["1695901",1]
["1697301",2]
["1698601",3]
["1698801",2]
["1700701",1]
["1701401",1]
["1702701",1]
["1703501",2]
["1704101",1]
["1706801",2]
["1708201",1]
["1711001",3]
["1712301",1]
["1713701",2]
["1715101",1]
["1716401",1]
["1717801",1]
["1719201",1]
["1719801",1]
["1720101",1]
["1720501",1]
["1721901",2]
["1722001",2]
["1724701",1]
["1726001",2]
["1727401",2]
["1728801",2]
["1730101",1]
["1732901",2]
["1734201",2]
["1735601",1]
["1737001",1]
["1738401",1]
["1739001",1]
["1739701",1]
["1739801",2]
["1739901",1]
["1740001",2]
["1740101",1]
["1740201",2]
["1740401",2]
["1740801",1]
["1741101",1]
["1741901",1]
["1742201",1]
["1742501",1]
["1743201",1]
["1743801",1]
["1746601",2]
["1747901",1]
["1749301",1]
["1750701",1]
["1752101",2]
["1753401",1]
["1754801",1]
["1756201",1]
["1756601",1]
["1756701",1]
["1756901",1]
["1757401",1]
["1757501",2]
["1758901",1]
["1760301",1]
["1760401",1]
["1761401",1]
["1761501",1]
["1761601",1]
["1763001",2]
["1763401",1]
["1763701",2]
["1764001",1]
["1764401",1]
["1764901",1]
["1765401",1]
["1765601",1]
["1765701",1]
["1765801",1]
["1766401",1]
["1766701",2]
["1766901",1]
["1767101",1]
["1769901",1]
["1771201",1]
["1771501",1]
["1771601",1]
["1771701",1]
["1771801",1]
["1771901",1]
["1772101",1]
["1772201",1]
["1772501",1]
["1773401",1]
["1774001",1]
["1774901",2]
["1775101",1]
["1775201",1]
["1776701",1]
["1777101",1]
["1777201",1]
["1777301",1]
["1777401",1]
["1777501",1]
["1777701",1]
["1778001",2]
["1778101",1]
["1778301",1]
["1779501",2]
["1780801",3]
["1782201",1]
["1783601",1]
["1784901",2]
["1786301",1]
["1787701",1]
["1789001",1]
["1789501",1]
["1790401",2]
["1795901",1]
["1800901",2]
["1802801",2]
["1803801",3]
["1804501",1]
["1804701",3]
["1805701",1]
["1805801",1]
["1806001",2]
["1806201",2]
["1806401",1]
["1806601",2]
["1807501",2]
["1808001",2]
["1809001",3]
["1809401",1]
["1810201",3]
["1810301",2]
["1810401",2]
["1810701",3]
["1811001",3]
["1811201",2]
["1811301",1]
["1811601",3]
["1811701",4]
["1811801",4]
["1812301",1]
["1812701",2]
["1813201",1]
["1813701",3]
["1814201",2]
["1815101",2]
["1815301",2]
["1816001",2]
["1816801",1]
["1816901",3]
["1817001",1]
["1817401",3]
["1817901",3]
["1818201",2]
["1818901",1]
["1820001",2]
["1820601",1]
["1820701",1]
["1820801",3]
["1821701",3]
["1822601",3]
["1822801",1]
["1823001",3]
["1823501",2]
["1823701",3]
["1823801",3]
["1824001",3]
["1824501",1]
["1825501",2]
["1825901",3]
["1826401",4]
["1826801",2]
["1827201",2]
["1828301",3]
["1830601",2]
["1832101",3]
["1834001",3]
["1834401",2]
["1835201",3]
["1835401",2]
["1835501",1]
["1835601",2]
["1835801",1]
["1836301",3]
["1837701",2]
["1838701",3]
["1839001",1]
["1839601",3]
["1840601",2]
["1842501",2]
["1843401",2]
["1846201",2]
["1848101",2]
["1848701",2]
["1849001",1]
["1849301",2]
["1850101",1]
["1851301",1]
["1851601",1]
["1851701",1]
["1851801",1]
["1852701",1]
["1852901",5]
["1853601",2]
["1854301",1]
["1854401",2]
["1855801",1]
["1857101",3]
["1857501",2]
["1857701",1]
["1858301",2]
["1859001",3]
["1859601",1]
["1860001",4]
["1860601",1]
["1860701",2]
["1860901",1]
["1861001",4]
["1861101",1]
["1861401",2]
["1861801",4]
["1862101",3]
["1863601",2]
["1864301",3]
["1865001",2]
["1866401",3]
["1867901",2]
["1868301",3]
["1868601",3]
["1869301",3]
["1869601",2]
["1870001",2]
["1870101",1]
["1871001",1]
["1871301",2]
["1871401",1]
["1871601",1]
["1872101",1]
["1872501",4]
["1872701",1]
["1872901",3]
["1873601",2]
["1873801",2]
["1874101",1]
["1874301",2]
["1874801",3]
["1875001",2]
["1875401",1]
["1876001",1]
["1876801",4]
["1877401",1]
["1877901",3]
["1878601",4]
["1881401",4]
["1883801",1]
["1884201",1]
["1884301",2]
["1885001",5]
["1885301",1]
["1886601",1]
["1886701",1]
["1886801",2]
["1887101",2]
["1887801",2]
["1888001",2]
["1888101",2]
["1888201",1]
["1888601",2]
["1889301",4]
["1889801",1]
["1890101",1]
["1890701",3]
["1891401",3]
["1891701",1]
["1892101",1]
["1892801",2]
["1894301",3]
["1751301",1]
["Grand Total",1139]

{"sheet":"ECAST Enrollment","index":9,"n_rows":1144,"n_cols":49,"rows_kept":1144,"cut":false,"hidden":true,"merged":[]}
["Updated 7/29/22",null,1,{"$f":"C1+1","v":2},{"$f":"D1+1","v":3},4,5,6,7,8,9,10,11,12,13,14,15,16,17,18,19,20,{"$f":"V1+1","v":21},22,23,24,25,26,27,28,29,30,31,32,33,34,35,36,37,38,39,40,41,42,43,44,45,46,47]
["Count of Home Schools","Sort Count","Index","School Rev for ECAST Lookup","School","School Name","Loc Code","Home School","School Type","Norm Category (for Norming only)","Norm Category (official)","Affiliated (for Norming only)","Affiliated (Official)","Grade 6 Elem","OLC","Span","LD","Physical LD","SPAN Calc for Non-Tchr","Board District","Board Member","Schedule","Notes","Type","K","G1","G2","G3","G4","G5","G6","G7","G8","G9","G10","G11","G12","CONTINUATION_9_12","OPPORTUNITY_6_8","OPPORTUNITY_9_12","SDC K-5(6)","SDC 6-8","SDC 9-12","Pre-K SP ED","ST_PRE_SCH_PROG","TE","Total K-12 Enrollment Without SDC","Total K-12 With SDC","Grand Total"]
[{"$f":"VLOOKUP(H3,'Pivot ECAST'!A:B,2,FALSE)","v":1},{"$f":"IF(H3=H2,B2+1,1)","v":1},{"$f":"H3&B3","v":"11949011"},{"$f":"E3","v":"1194901"},"1194901","Marlton","1949","1194901","Special Education School","PHBAO","PHBAO","f","f","t","f","f","W","W","no","1","George McKenna",null,null,"ECAST",3,6,11,12,7,10,10,0,0,0,0,0,0,0,0,0,35,12,37,0,0,0,{"$f":"SUM(Y3:AN3)","v":59},{"$f":"AU3+AO3+AP3+AQ3","v":143},{"$f":"AV3+SUM(AR3:AT3)","v":143}]
[{"$f":"VLOOKUP(H4,'Pivot ECAST'!A:B,2,FALSE)","v":1},{"$f":"IF(H4=H3,B3+1,1)","v":1},"12014011",{"$f":"E4","v":"1201401"},"1201401","Albion El","2014","1201401","Elementary School","PHBAO","PHBAO","f","f","t","f","f","E","E","no","2","Monica Garcia",null,null,"ECAST",29,24,15,10,18,13,26,0,0,0,0,0,0,0,0,0,11,0,0,6,0,0,135,146,152]
[{"$f":"VLOOKUP(H5,'Pivot ECAST'!A:B,2,FALSE)","v":2},1,"12027011","1202701","1202701","Aldama El","2027","1202701","Elementary School","PHBAO","PHBAO","f","f","t","f","f","C","C","no","2","Monica Garcia",null,null,"ECAST",26,13,15,24,20,13,0,0,0,0,0,0,0,0,0,0,7,0,0,0,0,11,{"$f":"SUM(Y5:AN5)","v":111},{"$f":"AU5+AO5+AP5+AQ5","v":118},{"$f":"AV5+SUM(AR5:AT5)","v":129}]
[{"$f":"VLOOKUP(H6,'Pivot ECAST'!A:B,2,FALSE)","v":2},2,"12027012","1202702","1202702","Aldama El DL Two-Way Im Spanish","2768","1202701","Dual Language Ctr - Elementary","PHBAO","PHBAO","f","f","t","f","f","C","C","no","2","Monica Garcia",null,null,"ECAST",37,35,57,25,36,26,0,0,0,0,0,0,0,0,0,0,0,0,0,0,0,0,216,216,216]
[{"$f":"VLOOKUP(H7,'Pivot ECAST'!A:B,2,FALSE)","v":2},1,"12041011","1204101","1204101","Alexandria El","2041","1204101","Elementary School","PHBAO","PHBAO","f","f","t","f","f","C","C","no","2","Monica Garcia",null,null,"ECAST",109,64,62,48,47,78,0,0,0,0,0,0,0,0,0,0,23,0,0,7,0,16,408,431,454]
[{"$f":"VLOOKUP(H8,'Pivot ECAST'!A:B,2,FALSE)","v":2},2,"12041012","1204102","1204102","Alexandria Ave. El DL Two-Way Im Spanish","2400","1204101","Dual Language Ctr - Elementary","PHBAO","PHBAO","f","f","t","f","f","C","C","no","2","Monica Garcia",null,null,"ECAST",18,18,16,24,17,0,0,0,0,0,0,0,0,0,0,0,0,0,0,0,0,0,93,93,93]
[{"$f":"VLOOKUP(H9,'Pivot ECAST'!A:B,2,FALSE)","v":2},1,"12042011","1204201","1204201","Harvard El","2042","1204201","Elementary School","PHBAO","PHBAO","f","f","t","f","f","W","W","no","5","Jackie Goldberg",null,null,"ECAST",19,20,17,20,40,50,0,0,0,0,0,0,0,0,0,0,10,0,0,10,0,4,166,176,190]
[{"$f":"VLOOKUP(H10,'Pivot ECAST'!A:B,2,FALSE)","v":2},2,"12042012","1204202","1204202","Harvard El DL Two-Way Im Spanish","4826","1204201","Dual Language Ctr - Elementary","PHBAO","PHBAO","f","f","t","f","f","W","W","no","5","Jackie Goldberg",null,null,"ECAST",11,11,22,16,0,0,0,0,0,0,0,0,0,0,0,0,0,0,0,0,0,0,60,60,60]
[{"$f":"VLOOKUP(H11,'Pivot ECAST'!A:B,2,FALSE)","v":2},1,"12068011","1206801","1206801","Allesandro El","2068","1206801","Elementary School","PHBAO","PHBAO","f","f","t","f","f","C","C","no","5","Jackie Goldberg",null,null,"ECAST",63,15,14,12,16,25,0,0,0,0,0,0,0,0,0,0,6,0,0,0,24,15,145,151,190]
[{"$f":"VLOOKUP(H12,'Pivot ECAST'!A:B,2,FALSE)","v":2},2,"12068012","1206802","1206802","Allesndro Coop Lr Mg","2069","1206801","Magnet Ctr -Elementary","Magnet 2","Magnet 2","f","f","t","f","f","C","C","no","5","Jackie Goldberg",null,null,"ECAST",24,21,18,23,26,26,13,0,0,0,0,0,0,0,0,0,0,0,0,0,0,0,151,151,151]
[{"$f":"VLOOKUP(H13,'Pivot ECAST'!A:B,2,FALSE)","v":2},1,"12082011","1208201","1208201","Alta Loma El","2082","1208201","Elementary School","PHBAO","PHBAO","f","f","t","f","f","W","W","no","1","George McKenna",null,null,"ECAST",51,40,29,32,39,47,0,0,0,0,0,0,0,0,0,0,21,0,0,8,0,16,238,259,283]
[{"$f":"VLOOKUP(H14,'Pivot ECAST'!A:B,2,FALSE)","v":2},2,"12082012","1208202","1208202","Alta Loma El DL Two-Way Im Spanish","2289","1208201","Dual Language Ctr - Elementary","PHBAO","PHBAO","f","f","t","f","f","W","W","no","1","George McKenna",null,null,"ECAST",22,20,21,16,20,17,0,0,0,0,0,0,0,0,0,0,0,0,0,0,0,0,116,116,116]
[{"$f":"VLOOKUP(H15,'Pivot ECAST'!A:B,2,FALSE)","v":3},1,"12089011","1208901","1208901","Ambler El","2089","1208901","Elementary School","PHBAO","PHBAO","f","f","t","f","f","S","S","no","7","Tanya Ortiz Franklin",null,null,"ECAST",58,29,29,36,25,36,0,0,0,0,0,0,0,0,0,0,25,0,0,11,0,13,213,238,262]
[{"$f":"VLOOKUP(H16,'Pivot ECAST'!A:B,2,FALSE)","v":3},2,"12089012","1208902","1208902","Ambler Avenue Elementary Gifted Magnet","2091","1208901","Magnet Ctr -Elementary","Magnet 2","Magnet 2","f","f","t","f","f","S","S","no","7","Tanya Ortiz Franklin",null,null,"ECAST",0,17,20,19,29,37,0,0,0,0,0,0,0,0,0,0,0,0,0,0,0,0,122,122,122]
[{"$f":"VLOOKUP(H17,'Pivot ECAST'!A:B,2,FALSE)","v":3},3,"12089013","1208903","1208903","Ambler El DL Two-Way Im Spanish","2295","1208901","Dual Language Ctr - Elementary","PHBAO","PHBAO","f","f","t","f","f","S","S","no","7","Tanya Ortiz Franklin",null,null,"ECAST",24,22,20,19,16,13,0,0,0,0,0,0,0,0,0,0,0,0,0,0,0,0,114,114,114]
[{"$f":"VLOOKUP(H18,'Pivot ECAST'!A:B,2,FALSE)","v":3},1,"12096011","1209601","1209601","Amestoy El","2096","1209601","Elementary School","PHBAO","PHBAO","f","f","t","f","f","S","S","no","7","Tanya Ortiz Franklin",null,null,"ECAST",90,76,74,84,75,73,0,0,0,0,0,0,0,0,0,0,17,0,0,0,29,0,472,489,518]
[{"$f":"VLOOKUP(H19,'Pivot ECAST'!A:B,2,FALSE)","v":3},2,"12096012","1209602","1209602","Amestoy ES Multilingual/Multicultural Mg","2097","1209601","Magnet Ctr -Elementary","Magnet 2","Magnet 2","f","f","t","f","f","S","S","no","7","Tanya Ortiz Franklin",null,null,"ECAST",17,23,21,23,23,25,0,0,0,0,0,0,0,0,0,0,0,0,0,0,0,0,132,132,132]
[{"$f":"VLOOKUP(H20,'Pivot ECAST'!A:B,2,FALSE)","v":3},3,"12096013","1209603","1209603","Amestoy El DL Two-Way Im Japanese","2096","1209601","Dual Language Ctr - Elementary","PHBAO","PHBAO","f","f","t","f","f","S","S","no","7","Tanya Ortiz Franklin",null,null,"ECAST",12,12,0,0,0,0,0,0,0,0,0,0,0,0,0,0,0,0,0,0,0,0,24,24,24]
[{"$f":"VLOOKUP(H21,'Pivot ECAST'!A:B,2,FALSE)","v":1},1,"12110011","1211001","1211001","Anatola El","2110","1211001","Elementary School","PHBAO","PHBAO","f","f","t","f","f","NW","NW","no","3","Scott Schmerelson",null,null,"ECAST",46,37,35,35,33,34,0,0,0,0,0,0,0,0,0,0,17,0,0,0,0,15,220,237,252]
[{"$f":"VLOOKUP(H22,'Pivot ECAST'!A:B,2,FALSE)","v":1},1,"12117011","1211701","1211701","Andasol El","2117","1211701","Elementary School","PHBAO","PHBAO","f","f","t","f","f","NW","NW","no","3","Scott Schmerelson",null,null,"ECAST",68,43,53,79,54,60,0,0,0,0,0,0,0,0,0,0,34,0,0,9,22,0,357,391,422]
[{"$f":"VLOOKUP(H23,'Pivot ECAST'!A:B,2,FALSE)","v":2},1,"12123011","1212301","1212301","Angeles Mesa El","2123","1212301","Elementary School","PHBAO","PHBAO","f","f","t","f","f","W","W","no","1","George McKenna",null,null,"ECAST",41,12,15,19,18,19,0,0,0,0,0,0,0,0,0,0,4,0,0,15,0,9,124,128,152]
[{"$f":"VLOOKUP(H24,'Pivot ECAST'!A:B,2,FALSE)","v":2},2,"12123012","1212302","1212302","Angeles Mesa ES DREAMS Magnet","2322","1212301","Magnet Ctr -Elementary","Magnet 2","Magnet 2","f","f","t","f","f","W","W","no","1","George McKenna",null,null,"ECAST",0,17,23,23,21,25,0,0,0,0,0,0,0,0,0,0,0,0,0,0,0,0,109,109,109]
[{"$f":"VLOOKUP(H25,'Pivot ECAST'!A:B,2,FALSE)","v":1},1,"12137011","1213701","1213701","Ann El","2137","1213701","Elementary School","PHBAO","PHBAO","f","f","t","f","f","E","E","no","2","Monica Garcia",null,null,"ECAST",13,12,12,6,12,13,0,0,0,0,0,0,0,0,0,0,0,0,0,0,0,0,68,68,68]
[{"$f":"VLOOKUP(H26,'Pivot ECAST'!A:B,2,FALSE)","v":2},1,"12146011","1214601","1214601","Annalee El","2146","1214601","Elementary School","PHBAO","PHBAO","f","f","t","f","f","S","S","no","7","Tanya Ortiz Franklin",null,null,"ECAST",27,21,20,12,20,17,7,0,0,0,0,0,0,0,0,0,3,0,0,0,13,0,124,127,140]
[{"$f":"VLOOKUP(H27,'Pivot ECAST'!A:B,2,FALSE)","v":2},2,"12146012","1214602","1214602","Annalee Av ES STEAM Mag","2328","1214601","Magnet Ctr -Elementary","Magnet 2","Magnet 2","f","f","t","f","f","S","S","no","7","Tanya Ortiz Franklin",null,null,"ECAST",0,0,10,19,18,20,0,0,0,0,0,0,0,0,0,0,0,0,0,0,0,0,67,67,67]
[{"$f":"VLOOKUP(H28,'Pivot ECAST'!A:B,2,FALSE)","v":1},1,"12151011","1215101","1215101","Annandale El","2151","1215101","Elementary School","PHBAO","PHBAO","f","f","t","f","f","C","C","no","5","Jackie Goldberg",null,null,"ECAST",26,17,15,15,16,19,0,0,0,0,0,0,0,0,0,0,16,0,0,3,0,2,108,124,129]
[{"$f":"VLOOKUP(H29,'Pivot ECAST'!A:B,2,FALSE)","v":1},1,"12164011","1216401","1216401","Apperson El","2164","1216401","Elementary School","Desegregated/Receiver","Non-PHBAO","f","f","t","f","f","NE","NE","no","6","Kelly Gonez",null,null,"ECAST",57,44,48,60,50,60,0,0,0,0,0,0,0,0,0,0,4,0,0,6,0,19,319,323,348]
[{"$f":"VLOOKUP(H30,'Pivot ECAST'!A:B,2,FALSE)","v":1},1,"12178011","1217801","1217801","Aragon El","2178","1217801","Elementary School","PHBAO","PHBAO","f","f","t","f","f","C","C","no","2","Monica Garcia",null,null,"ECAST",41,27,19,37,34,31,0,0,0,0,0,0,0,0,0,0,0,0,0,0,0,5,189,189,194]
[{"$f":"VLOOKUP(H31,'Pivot ECAST'!A:B,2,FALSE)","v":2},1,"12192011","1219201","1219201","Arlington Hts El","2192","1219201","Elementary School","PHBAO","PHBAO","f","f","t","f","f","W","W","no","1","George McKenna",null,null,"ECAST",39,22,24,23,25,61,0,0,0,0,0,0,0,0,0,0,12,0,0,0,0,12,194,206,218]
[{"$f":"VLOOKUP(H32,'Pivot ECAST'!A:B,2,FALSE)","v":2},2,"12192012","1219202","1219202","Arlington Hts El DL Two-Way Im Spanish","4815","1219201","Dual Language Ctr - Elementary","PHBAO","PHBAO","f","f","t","f","f","W","W","no","1","George McKenna",null,null,"ECAST",22,20,18,18,0,0,0,0,0,0,0,0,0,0,0,0,0,0,0,0,0,0,78,78,78]
[{"$f":"VLOOKUP(H33,'Pivot ECAST'!A:B,2,FALSE)","v":1},1,"12205011","1220501","1220501","Arminta El","2205","1220501","Elementary School","PHBAO","PHBAO","f","f","t","f","f","NE","NE","no","6","Kelly Gonez",null,null,"ECAST",68,47,48,55,48,76,0,0,0,0,0,0,0,0,0,0,15,0,0,14,0,12,342,357,383]
[{"$f":"VLOOKUP(H34,'Pivot ECAST'!A:B,2,FALSE)","v":1},1,"12219011","1221901","1221901","Ascot El","2219","1221901","Elementary School","PHBAO","PHBAO","f","f","t","f","f","C","C","no","5","Jackie Goldberg",null,null,"ECAST",96,84,95,92,85,113,0,0,0,0,0,0,0,0,0,0,57,0,0,0,0,22,565,622,644]
[{"$f":"VLOOKUP(H35,'Pivot ECAST'!A:B,2,FALSE)","v":2},1,"12233011","1223301","1223301","Atwater El","2233","1223301","Elementary School","Desegregated/Receiver","Non-PHBAO","f","f","t","f","f","C","C","no","5","Jackie Goldberg",null,null,"ECAST",26,13,13,9,16,17,22,0,0,0,0,0,0,0,0,0,41,0,0,8,0,17,116,157,182]
[{"$f":"VLOOKUP(H36,'Pivot ECAST'!A:B,2,FALSE)","v":2},2,"12233012","1223302","1223302","Atwater El DL Two-Way Im Spanish","2297","1223301","Dual Language Ctr - Elementary","PHBAO","PHBAO","f","f","t","f","f","C","C","no","5","Jackie Goldberg",null,null,"ECAST",24,22,35,25,19,13,0,0,0,0,0,0,0,0,0,0,0,0,0,0,0,0,138,138,138]
[{"$f":"VLOOKUP(H37,'Pivot ECAST'!A:B,2,FALSE)","v":1},1,"12247011","1224701","1224701","Avalon Gardens El","2247","1224701","Elementary School","PHBAO","PHBAO","f","f","t","f","f","S","S","no","7","Tanya Ortiz Franklin",null,null,"ECAST",26,18,19,13,28,24,18,0,0,0,0,0,0,0,0,0,11,0,0,5,0,5,146,157,167]
[{"$f":"VLOOKUP(H38,'Pivot ECAST'!A:B,2,FALSE)","v":1},1,"12250011","1225001","1225001","Acad For Enrch Sci","2250","1225001","Magnet School - ELEM","Magnet 1","Magnet 1","f","f","t","f","f","NW","NW","no","3","Scott Schmerelson",null,null,"ECAST",48,48,48,48,48,57,0,0,0,0,0,0,0,0,0,0,6,0,0,0,0,0,297,303,303]
[{"$f":"VLOOKUP(H39,'Pivot ECAST'!A:B,2,FALSE)","v":1},1,"12269011","1226901","1226901","Balboa G/HA Mag","2269","1226901","Magnet School - ELEM","Magnet 1","Magnet 1","f","f","t","f","f","NW","NW","no","3","Scott Schmerelson",null,null,"ECAST",0,114,141,138,145,147,0,0,0,0,0,0,0,0,0,0,0,0,0,0,0,0,685,685,685]
[{"$f":"VLOOKUP(H40,'Pivot ECAST'!A:B,2,FALSE)","v":2},1,"12274011","1227401","1227401","Baldwin Hills El","2274","1227401","Elementary School","PHBAO","PHBAO","f","f","t","f","f","W","W","no","1","George McKenna",null,null,"ECAST",53,38,28,36,31,29,0,0,0,0,0,0,0,0,0,0,8,0,0,0,0,0,215,223,223]
[{"$f":"VLOOKUP(H41,'Pivot ECAST'!A:B,2,FALSE)","v":2},2,"12274012","1227402","1227402","Baldwin Hills Elementary Gifted Magnet","2275","1227401","Magnet Ctr -Elementary","Magnet 2","Magnet 2","f","f","t","f","f","W","W","no","1","George McKenna",null,null,"ECAST",0,19,30,33,40,44,0,0,0,0,0,0,0,0,0,0,0,0,0,0,0,0,166,166,166]
[{"$f":"VLOOKUP(H42,'Pivot ECAST'!A:B,2,FALSE)","v":2},1,"12288011","1228801","1228801","Bandini El","2288","1228801","Elementary School","PHBAO","PHBAO","f","f","t","f","f","S","S","no","7","Tanya Ortiz Franklin",null,null,"ECAST",21,15,17,27,34,28,0,0,0,0,0,0,0,0,0,0,11,0,0,5,0,16,142,153,174]
[{"$f":"VLOOKUP(H43,'Pivot ECAST'!A:B,2,FALSE)","v":2},2,"12288012","1228802","1228802","Bandini St El DL Two-Way Im Spanish","2765","1228801","Dual Language Ctr - Elementary","PHBAO","PHBAO","f","f","t","f","f","S","S","no","7","Tanya Ortiz Franklin",null,null,"ECAST",23,21,13,0,0,0,0,0,0,0,0,0,0,0,0,0,0,0,0,0,0,0,57,57,57]
[{"$f":"VLOOKUP(H44,'Pivot ECAST'!A:B,2,FALSE)","v":2},1,"12301011","1230101","1230101","De La Torre Jr El","2301","1230101","Span School","PHBAO","PHBAO","f","f","f","f","t","S","S","yes","7","Tanya Ortiz Franklin","2x8",null,"ECAST",68,45,57,50,50,58,69,64,49,0,0,0,0,0,0,0,20,1,0,0,28,0,510,531,559]
[{"$f":"VLOOKUP(H45,'Pivot ECAST'!A:B,2,FALSE)","v":2},2,"12301012","1230102","1230102","De La Torre ES STEAM Magnet","2324","1230101","Magnet Ctr -Elementary","Magnet 2","Magnet 2","f","f","t","f","f","S","S","yes","7","Tanya Ortiz Franklin",null,null,"ECAST",0,21,21,23,23,26,0,0,0,0,0,0,0,0,0,0,0,0,0,0,0,0,114,114,114]
[{"$f":"VLOOKUP(H46,'Pivot ECAST'!A:B,2,FALSE)","v":1},1,"12302011","1230201","1230201","Obama El","2302","1230201","Elementary School","PHBAO","PHBAO","f","f","t","f","f","NE","NE","no","6","Kelly Gonez",null,null,"ECAST",88,72,72,98,87,90,0,0,0,0,0,0,0,0,0,0,12,0,0,0,0,8,507,519,527]
[{"$f":"VLOOKUP(H47,'Pivot ECAST'!A:B,2,FALSE)","v":2},1,"12303011","1230301","1230301","Porter Ranch School","2303","1230301","Span School","Desegregated/Receiver","Non-PHBAO","f","f","f","f","t","NW","NW","yes","3","Scott Schmerelson",null,null,"ECAST",170,137,135,130,130,123,128,140,124,0,0,0,0,0,0,0,0,0,0,0,0,0,1217,1217,1217]
[{"$f":"VLOOKUP(H48,'Pivot ECAST'!A:B,2,FALSE)","v":2},2,"12303012","1230302","1230302","Porter Ranch School DL Two-Way Im Korean","2769","1230301","Dual Language Ctr - Elementary","PHBAO","PHBAO","f","f","f","f","f","NW","NW","yes","3","Scott Schmerelson",null,null,"ECAST",23,21,22,22,24,20,0,0,0,0,0,0,0,0,0,0,0,0,0,0,0,0,132,132,132]
[{"$f":"VLOOKUP(H49,'Pivot ECAST'!A:B,2,FALSE)","v":1},1,"12306011","1230601","1230601","Playa Vista Elementary Sch","2306","1230601","Elementary School","Desegregated/Receiver","Non-PHBAO","f","f","t","f","f","W","W","no","4","Nick Melvoin",null,null,"ECAST",92,67,59,63,58,52,0,0,0,0,0,0,0,0,0,0,0,0,0,0,0,0,391,391,391]
[{"$f":"VLOOKUP(H50,'Pivot ECAST'!A:B,2,FALSE)","v":1},1,"12307011","1230701","1230701","Lee Med Hlth Mag","2307","1230701","Magnet School - ELEM","Magnet 2","Magnet 2","f","f","t","f","f","C","C","no","2","Monica Garcia",null,null,"ECAST",87,107,102,112,106,101,0,0,0,0,0,0,0,0,0,0,0,0,0,0,0,0,615,615,615]
[{"$f":"VLOOKUP(H51,'Pivot ECAST'!A:B,2,FALSE)","v":1},1,"12308011","1230801","1230801","Ride El Smart Acad","2308","1230801","Elementary School","PHBAO","PHBAO","f","f","t","f","f","C","C","no","5","Jackie Goldberg",null,null,"ECAST",62,56,51,63,68,83,0,0,0,0,0,0,0,0,0,0,7,0,0,0,0,5,383,390,395]
[{"$f":"VLOOKUP(H52,'Pivot ECAST'!A:B,2,FALSE)","v":2},1,"12309011","1230901","1230901","Willow El","2309","1230901","Elementary School","PHBAO","PHBAO","f","f","t","f","f","E","E","no","5","Jackie Goldberg",null,null,"ECAST",37,23,22,26,46,25,0,0,0,0,0,0,0,0,0,0,10,0,0,5,0,0,179,189,194]
[{"$f":"VLOOKUP(H53,'Pivot ECAST'!A:B,2,FALSE)","v":2},2,"12309012","1230902","1230902","Willow El DL Two-Way Im Spanish","2770","1230901","Dual Language Ctr - Elementary","PHBAO","PHBAO","f","f","t","f","f","E","E","no","5","Jackie Goldberg",null,null,"ECAST",36,34,42,44,36,36,0,0,0,0,0,0,0,0,0,0,0,0,0,0,0,0,228,228,228]
[{"$f":"VLOOKUP(H54,'Pivot ECAST'!A:B,2,FALSE)","v":1},1,"12311011","1231101","1231101","Poindexter Lamotte El","2311","1231101","Elementary School","PHBAO","PHBAO","f","f","t","f","f","C","C","no","1","George McKenna",null,null,"ECAST",49,48,61,85,63,86,0,0,0,0,0,0,0,0,0,0,15,0,0,0,0,0,392,407,407]
[{"$f":"VLOOKUP(H55,'Pivot ECAST'!A:B,2,FALSE)","v":1},1,"12312011","1231201","1231201","Lawson Acad A/M/S","2312","1231201","Elementary School","PHBAO","PHBAO","f","f","t","f","f","W","W","no","1","George McKenna",null,null,"ECAST",65,61,60,62,60,70,41,0,0,0,0,0,0,0,0,0,20,0,0,0,0,9,419,439,448]
[{"$f":"VLOOKUP(H56,'Pivot ECAST'!A:B,2,FALSE)","v":1},1,"12313011","1231301","1231301","Moore M/S/T Acad","2313","1231301","Elementary School","PHBAO","PHBAO","f","f","t","f","f","S","S","no","7","Tanya Ortiz Franklin",null,null,"ECAST",75,62,78,82,95,78,0,0,0,0,0,0,0,0,0,0,9,0,0,0,0,14,470,479,493]
[{"$f":"VLOOKUP(H57,'Pivot ECAST'!A:B,2,FALSE)","v":2},1,"12315011","1231501","1231501","Barton Hill El","2315","1231501","Elementary School","PHBAO","PHBAO","f","f","t","f","f","S","S","no","7","Tanya Ortiz Franklin",null,null,"ECAST",65,33,42,29,47,47,0,0,0,0,0,0,0,0,0,0,15,0,0,5,16,0,263,278,299]
[{"$f":"VLOOKUP(H58,'Pivot ECAST'!A:B,2,FALSE)","v":2},2,"12315012","1231502","1231502","Barton Hill ES Maritime STEAM Magnet","2330","1231501","Magnet Ctr -Elementary","Magnet 2","Magnet 2","f","f","t","f","f","S","S","no","7","Tanya Ortiz Franklin",null,null,"ECAST",21,21,21,23,26,25,0,0,0,0,0,0,0,0,0,0,0,0,0,0,0,0,137,137,137]
[{"$f":"VLOOKUP(H59,'Pivot ECAST'!A:B,2,FALSE)","v":3},1,"12323011","1232301","1232301","Bassett El","2323","1232301","Elementary School","PHBAO","PHBAO","f","f","t","f","f","NW","NW","no","3","Scott Schmerelson",null,null,"ECAST",79,47,66,50,68,54,0,0,0,0,0,0,0,0,0,0,25,0,0,10,0,33,364,389,432]
[{"$f":"VLOOKUP(H60,'Pivot ECAST'!A:B,2,FALSE)","v":3},2,"12323012","1232302","1232302","Bassett ES Media Arts/Technology Magnet","2323","1232301","Magnet Ctr -Elementary","Magnet 2","Magnet 2","f","f","t","f","f","NW","NW","no","3","Scott Schmerelson",null,null,"ECAST",19,18,15,20,21,26,0,0,0,0,0,0,0,0,0,0,0,0,0,0,0,0,119,119,119]
[{"$f":"VLOOKUP(H61,'Pivot ECAST'!A:B,2,FALSE)","v":3},3,"12323013","1232303","1232303","Bassett El DL Two-Way Im Spanish","2368","1232301","Dual Language Ctr - Elementary","PHBAO","PHBAO","f","f","t","f","f","NW","NW","no","3","Scott Schmerelson",null,null,"ECAST",16,16,0,0,0,0,0,0,0,0,0,0,0,0,0,0,0,0,0,0,0,0,32,32,32]
[{"$f":"VLOOKUP(H62,'Pivot ECAST'!A:B,2,FALSE)","v":1},1,"12329011","1232901","1232901","Beachy El","2329","1232901","Elementary School","PHBAO","PHBAO","f","f","t","f","f","NE","NE","no","6","Kelly Gonez",null,null,"ECAST",67,40,68,59,52,57,0,0,0,0,0,0,0,0,0,0,26,0,0,9,20,11,343,369,409]
[{"$f":"VLOOKUP(H63,'Pivot ECAST'!A:B,2,FALSE)","v":1},1,"12335011","1233501","1233501","Beckford Chtr Enr St","2335","1233501","Elementary School","Desegregated/Receiver","Non-PHBAO","t","t","t","f","f","NW","NW","no","3","Scott Schmerelson",null,null,"ECAST",136,98,92,96,84,91,0,0,0,0,0,0,0,0,0,0,0,0,0,0,0,0,597,597,597]
[{"$f":"VLOOKUP(H64,'Pivot ECAST'!A:B,2,FALSE)","v":1},1,"12342011","1234201","1234201","Beethoven El","2342","1234201","Elementary School","Desegregated/Receiver","Non-PHBAO","f","f","t","f","f","W","W","no","4","Nick Melvoin",null,null,"ECAST",49,39,49,59,49,55,0,0,0,0,0,0,0,0,0,0,0,0,0,6,0,0,300,300,306]
[{"$f":"VLOOKUP(H65,'Pivot ECAST'!A:B,2,FALSE)","v":3},1,"12369011","1236901","1236901","RFK Ambsdr Glbl Edu","2369","1236901","Elementary School","PHBAO","PHBAO","f","f","t","f","f","C","C","no","5","Jackie Goldberg",null,null,"ECAST",20,11,14,15,21,21,0,0,0,0,0,0,0,0,0,0,27,0,0,0,0,0,102,129,129]
[{"$f":"VLOOKUP(H66,'Pivot ECAST'!A:B,2,FALSE)","v":3},2,"12369012","1236902","1236902","RFK Ambsdr Glbl DL One-Way Im Spanish","2771","1236901","Dual Language Ctr - Elementary","PHBAO","PHBAO","f","f","t","f","f","C","C","no","5","Jackie Goldberg",null,null,"ECAST",26,17,20,18,21,16,0,0,0,0,0,0,0,0,0,0,0,0,0,0,0,0,118,118,118]
[{"$f":"VLOOKUP(H67,'Pivot ECAST'!A:B,2,FALSE)","v":3},3,{"$f":"H67&B67","v":"12369013"},"1236903","1236903","RFK Ambsdr Glbl Ed DL Two-Way Im Korean","2772","1236901","Dual Language Ctr - Elementary","PHBAO","PHBAO","f","f","t","f","f","C","C","no","5","Jackie Goldberg",null,null,"ECAST",14,16,9,7,12,11,0,0,0,0,0,0,0,0,0,0,0,0,0,0,0,0,69,69,69]
[{"$f":"VLOOKUP(H68,'Pivot ECAST'!A:B,2,FALSE)","v":2},{"$f":"IF(H68=H67,B67+1,1)","v":1},"12372011",{"$f":"E68","v":"1237201"},"1237201","Ochoa LC","2372","1237201","Span School","PHBAO","PHBAO","f","f","f","f","t","E","E","yes","5","Jackie Goldberg",null,null,"ECAST",69,48,34,49,56,50,136,179,145,0,0,0,0,0,0,0,26,42,0,10,37,0,766,834,881]
[{"$f":"VLOOKUP(H69,'Pivot ECAST'!A:B,2,FALSE)","v":2},2,"12372012","1237202","1237202","Ochoa Lc DL Two-Way Im Spanish","2773","1237201","Dual Language Ctr - Elementary","PHBAO","PHBAO","f","f","f","f","f","E","E","yes","5","Jackie Goldberg",null,null,"ECAST",72,58,56,57,65,61,0,0,0,0,0,0,0,0,0,0,0,0,0,0,0,0,{"$f":"SUM(Y69:AN69)","v":369},{"$f":"AU69+AO69+AP69+AQ69","v":369},{"$f":"AV69+SUM(AR69:AT69)","v":369}]
[{"$f":"VLOOKUP(H70,'Pivot ECAST'!A:B,2,FALSE)","v":2},1,"12375011","1237501","1237501","Hughes El","2375","1237501","Elementary School","PHBAO","PHBAO","f","f","t","f","f","E","E","no","5","Jackie Goldberg",null,null,"ECAST",74,55,65,40,55,58,60,0,0,0,0,0,0,0,0,0,34,0,0,0,15,0,407,441,456]
[{"$f":"VLOOKUP(H71,'Pivot ECAST'!A:B,2,FALSE)","v":2},2,"12375012","1237502","1237502","Teresa P Hughes Elem Science/Tech/Math Magnet","2374","1237501","Magnet Ctr -Elementary","Magnet 2","Magnet 2","f","f","t","f","f","E","E","no","5","Jackie Goldberg",null,null,"ECAST",23,23,16,23,16,25,0,0,0,0,0,0,0,0,0,0,0,0,0,0,0,0,126,126,126]
[{"$f":"VLOOKUP(H72,'Pivot ECAST'!A:B,2,FALSE)","v":2},1,"12378011","1237801","1237801","Nueva Vista El","2378","1237801","Elementary School","PHBAO","PHBAO","f","f","t","f","f","E","E","no","5","Jackie Goldberg",null,null,"ECAST",119,98,65,63,63,55,54,0,0,0,0,0,0,0,0,0,25,0,0,3,0,10,517,542,555]
[{"$f":"VLOOKUP(H73,'Pivot ECAST'!A:B,2,FALSE)","v":2},2,"12378012","1237802","1237802","Nueva Vista Elem Visual And Performing Arts","5702","1237801","Magnet Ctr -Elementary","Magnet 2","Magnet 2","f","f","t","f","f","E","E","no","5","Jackie Goldberg",null,null,"ECAST",0,0,0,28,47,39,0,0,0,0,0,0,0,0,0,0,0,0,0,0,0,0,114,114,114]
[{"$f":"VLOOKUP(H74,'Pivot ECAST'!A:B,2,FALSE)","v":2},1,"12381011","1238101","1238101","Maywood El","2381","1238101","Elementary School","PHBAO","PHBAO","f","f","t","f","f","E","E","no","5","Jackie Goldberg",null,null,"ECAST",93,48,46,45,48,37,0,0,0,0,0,0,0,0,0,0,15,0,0,0,0,17,317,332,349]
[{"$f":"VLOOKUP(H75,'Pivot ECAST'!A:B,2,FALSE)","v":2},2,"12381012","1238102","1238102","Maywood ES Computer Science Magnet","2381","1238101","Magnet Ctr -Elementary","Magnet 2","Magnet 2","f","f","t","f","f","E","E","no","5","Jackie Goldberg",null,null,"ECAST",0,24,24,24,27,27,0,0,0,0,0,0,0,0,0,0,0,0,0,0,0,0,126,126,126]
[{"$f":"VLOOKUP(H76,'Pivot ECAST'!A:B,2,FALSE)","v":1},1,"12383011","1238301","1238301","Esperanza El","2383","1238301","Elementary School","PHBAO","PHBAO","f","f","t","f","f","C","C","no","2","Monica Garcia",null,null,"ECAST",87,87,93,88,105,95,0,0,0,0,0,0,0,0,0,0,30,0,0,7,0,17,555,585,609]
[{"$f":"VLOOKUP(H77,'Pivot ECAST'!A:B,2,FALSE)","v":1},1,"12384011","1238401","1238401","Politi El","2384","1238401","Elementary School","PHBAO","PHBAO","f","f","t","f","f","C","C","no","2","Monica Garcia",null,null,"ECAST",88,79,64,98,80,92,0,0,0,0,0,0,0,0,0,0,80,0,0,13,0,15,501,581,609]
[{"$f":"VLOOKUP(H78,'Pivot ECAST'!A:B,2,FALSE)","v":2},1,"12385011","1238501","1238501","Gratts LA for YS","2385","1238501","Elementary School","PHBAO","PHBAO","f","f","t","f","f","C","C","no","2","Monica Garcia",null,null,"ECAST",16,16,52,54,46,63,0,0,0,0,0,0,0,0,0,0,0,0,0,0,0,0,247,247,247]
[{"$f":"VLOOKUP(H79,'Pivot ECAST'!A:B,2,FALSE)","v":2},2,"12385012","1238502","1238502","Gratts LA For YS DL One-Way Im Spanish","2775","1238501","Dual Language Ctr - Elementary","PHBAO","PHBAO","f","f","t","f","f","C","C","no","2","Monica Garcia",null,null,"ECAST",14,14,22,0,21,34,0,0,0,0,0,0,0,0,0,0,0,0,0,0,0,0,105,105,105]
[{"$f":"VLOOKUP(H80,'Pivot ECAST'!A:B,2,FALSE)","v":1},1,"12386011","1238601","1238601","Del Olmo El","2386","1238601","Elementary School","PHBAO","PHBAO","f","f","t","f","f","C","C","no","2","Monica Garcia",null,null,"ECAST",95,76,81,67,82,67,0,0,0,0,0,0,0,0,0,0,22,0,0,5,0,30,468,490,525]
[{"$f":"VLOOKUP(H81,'Pivot ECAST'!A:B,2,FALSE)","v":2},1,"12391011","1239101","1239101","Huntington Park El","2391","1239101","Elementary School","PHBAO","PHBAO","f","f","t","f","f","E","E","no","5","Jackie Goldberg",null,null,"ECAST",46,41,39,23,35,35,0,0,0,0,0,0,0,0,0,0,8,0,0,0,14,0,219,227,241]
[{"$f":"VLOOKUP(H82,'Pivot ECAST'!A:B,2,FALSE)","v":2},2,"12391012","1239102","1239102","Huntington Pk El DL Two-Way Im Spanish","2413","1239101","Dual Language Ctr - Elementary","PHBAO","PHBAO","f","f","t","f","f","E","E","no","5","Jackie Goldberg",null,null,"ECAST",17,15,18,16,24,21,0,0,0,0,0,0,0,0,0,0,0,0,0,0,0,0,111,111,111]
[{"$f":"VLOOKUP(H83,'Pivot ECAST'!A:B,2,FALSE)","v":1},1,"12392011","1239201","1239201","Olympic PC","2392","1239201","Primary Center","PHBAO","PHBAO","f","f","t","f","f","C","C","no","2","Monica Garcia",null,null,"ECAST",118,0,0,0,0,0,0,0,0,0,0,0,0,0,0,0,0,0,0,14,0,24,118,118,156]
[{"$f":"VLOOKUP(H84,'Pivot ECAST'!A:B,2,FALSE)","v":1},1,"12393011","1239301","1239301","Lake St Primary","2393","1239301","Primary Center","PHBAO","PHBAO","f","f","t","f","f","C","C","no","2","Monica Garcia",null,null,"ECAST",43,43,0,0,0,0,0,0,0,0,0,0,0,0,0,0,15,0,0,36,0,5,86,101,142]
[{"$f":"VLOOKUP(H85,'Pivot ECAST'!A:B,2,FALSE)","v":1},1,"12397011","1239701","1239701","Belvedere El","2397","1239701","Elementary School","PHBAO","PHBAO","f","f","t","f","f","E","E","no","2","Monica Garcia",null,null,"ECAST",79,54,63,83,90,83,0,0,0,0,0,0,0,0,0,0,42,0,0,4,0,17,452,494,515]
[{"$f":"VLOOKUP(H86,'Pivot ECAST'!A:B,2,FALSE)","v":1},1,"12438011","1243801","1243801","Bertrand El","2438","1243801","Elementary School","PHBAO","PHBAO","f","f","t","f","f","NW","NW","no","4","Nick Melvoin",null,null,"ECAST",65,48,47,37,30,39,0,0,0,0,0,0,0,0,0,0,0,0,0,21,0,23,266,266,310]
[{"$f":"VLOOKUP(H87,'Pivot ECAST'!A:B,2,FALSE)","v":1},1,"12470011","1247001","1247001","Blythe El","2470","1247001","Elementary School","PHBAO","PHBAO","f","f","t","f","f","NW","NW","no","3","Scott Schmerelson",null,null,"ECAST",66,48,44,29,39,47,0,0,0,0,0,0,0,0,0,0,0,0,0,18,0,11,273,273,302]
[{"$f":"VLOOKUP(H88,'Pivot ECAST'!A:B,2,FALSE)","v":1},1,"12473011","1247301","1247301","Bonita El","2473","1247301","Elementary School","PHBAO","PHBAO","f","f","t","f","f","S","S","no","7","Tanya Ortiz Franklin",null,null,"ECAST",59,45,42,54,47,74,0,0,0,0,0,0,0,0,0,0,18,0,0,0,0,15,321,339,354]
[{"$f":"VLOOKUP(H89,'Pivot ECAST'!A:B,2,FALSE)","v":3},1,"12479011","1247901","1247901","Braddock Drive El","2479","1247901","Elementary School","PHBAO","PHBAO","f","f","t","f","f","W","W","no","4","Nick Melvoin",null,null,"ECAST",58,38,22,33,30,32,0,0,0,0,0,0,0,0,0,0,0,0,0,0,17,0,213,213,230]
[{"$f":"VLOOKUP(H90,'Pivot ECAST'!A:B,2,FALSE)","v":3},2,"12479012","1247902","1247902","Braddock Drive Elementary Gifted Magnet","2480","1247901","Magnet Ctr -Elementary","Magnet 1","Magnet 1","f","f","t","f","f","W","W","no","4","Nick Melvoin",null,null,"ECAST",0,0,13,22,23,29,0,0,0,0,0,0,0,0,0,0,0,0,0,0,0,0,87,87,87]
[{"$f":"VLOOKUP(H91,'Pivot ECAST'!A:B,2,FALSE)","v":3},3,"12479013","1247903","1247903","Braddock Dr El DL Two-Way Im Mandarin","2776","1247901","Dual Language Ctr - Elementary","PHBAO","PHBAO","f","f","t","f","f","W","W","no","4","Nick Melvoin",null,null,"ECAST",47,48,43,43,42,29,0,0,0,0,0,0,0,0,0,0,0,0,0,0,0,0,252,252,252]
[{"$f":"VLOOKUP(H92,'Pivot ECAST'!A:B,2,FALSE)","v":1},1,"12486011","1248601","1248601","Brainard El","2486","1248601","Elementary School","PHBAO","PHBAO","f","f","t","f","f","NE","NE","no","6","Kelly Gonez",null,null,"ECAST",22,15,17,19,16,15,0,0,0,0,0,0,0,0,0,0,22,0,0,8,0,2,104,126,136]
[{"$f":"VLOOKUP(H93,'Pivot ECAST'!A:B,2,FALSE)","v":1},1,"12493011","1249301","1249301","Breed El","2493","1249301","Elementary School","PHBAO","PHBAO","f","f","t","f","f","E","E","no","2","Monica Garcia",null,null,"ECAST",30,26,30,39,36,35,46,0,0,0,0,0,0,0,0,0,22,0,0,8,0,5,242,264,277]
[{"$f":"VLOOKUP(H94,'Pivot ECAST'!A:B,2,FALSE)","v":1},1,"12507011","1250701","1250701","Brentwood Sci Mag","2507","1250701","Magnet School - ELEM","Magnet 2","Magnet 2","f","f","t","f","f","W","W","no","4","Nick Melvoin",null,null,"ECAST",11,33,49,50,66,86,0,0,0,0,0,0,0,0,0,0,13,0,0,0,0,0,295,308,308]
[{"$f":"VLOOKUP(H95,'Pivot ECAST'!A:B,2,FALSE)","v":1},1,"12521011","1252101","1252101","Bridge El","2521","1252101","Elementary School","PHBAO","PHBAO","f","f","t","f","f","E","E","no","2","Monica Garcia",null,null,"ECAST",28,12,16,31,16,12,0,0,0,0,0,0,0,0,0,0,52,0,0,0,0,8,115,167,175]
[{"$f":"VLOOKUP(H96,'Pivot ECAST'!A:B,2,FALSE)","v":2},1,"12527011","1252701","1252701","Broad Ave El","2527","1252701","Elementary School","PHBAO","PHBAO","f","f","t","f","f","S","S","no","7","Tanya Ortiz Franklin",null,null,"ECAST",55,44,50,47,39,70,0,0,0,0,0,0,0,0,0,0,45,0,0,7,14,14,305,350,385]
[{"$f":"VLOOKUP(H97,'Pivot ECAST'!A:B,2,FALSE)","v":2},2,"12527012","1252702","1252702","Broad Ave El DL Two-Way Im Spanish","2453","1252701","Dual Language Ctr - Elementary","PHBAO","PHBAO","f","f","t","f","f","S","S","no","7","Tanya Ortiz Franklin",null,null,"ECAST",19,19,18,25,32,0,0,0,0,0,0,0,0,0,0,0,0,0,0,0,0,0,113,113,113]
[{"$f":"VLOOKUP(H98,'Pivot ECAST'!A:B,2,FALSE)","v":2},1,"12530011","1253001","1253001","Broadacres El","2530","1253001","Elementary School","PHBAO","PHBAO","f","f","t","f","f","S","S","no","7","Tanya Ortiz Franklin",null,null,"ECAST",31,19,46,42,28,29,0,0,0,0,0,0,0,0,0,0,18,0,0,0,0,7,195,213,220]
[{"$f":"VLOOKUP(H99,'Pivot ECAST'!A:B,2,FALSE)","v":2},2,"12530012","1253002","1253002","Broadacres Av ES Visual/Perf Arts Magnet","2531","1253001","Magnet Ctr -Elementary","Magnet 2","Magnet 2","f","f","t","f","f","S","S","no","7","Tanya Ortiz Franklin",null,null,"ECAST",15,15,0,0,0,0,0,0,0,0,0,0,0,0,0,0,0,0,0,0,0,0,30,30,30]
[{"$f":"VLOOKUP(H100,'Pivot ECAST'!A:B,2,FALSE)","v":3},1,"12534011","1253401","1253401","Broadway El","2534","1253401","Elementary School","PHBAO","PHBAO","f","f","t","f","f","W","W","no","4","Nick Melvoin",null,null,"ECAST",0,0,0,0,0,0,0,0,0,0,0,0,0,0,0,0,0,0,0,0,0,0,0,0,0]
[{"$f":"VLOOKUP(H101,'Pivot ECAST'!A:B,2,FALSE)","v":3},2,"12534012","1253402","1253402","Broadway El DL Two-Way Im Spanish","2777","1253401","Dual Language Ctr - Elementary","PHBAO","PHBAO","f","f","t","f","f","W","W","no","4","Nick Melvoin",null,null,"ECAST",23,28,36,37,25,25,0,0,0,0,0,0,0,0,0,0,0,0,0,0,0,0,174,174,174]
[{"$f":"VLOOKUP(H102,'Pivot ECAST'!A:B,2,FALSE)","v":3},3,"12534013","1253403","1253403","Broadway El DL Two-Way Im Mandarin","2778","1253401","Dual Language Ctr - Elementary","Desegregated/Receiver","Non-PHBAO","f","f","t","f","f","W","W","no","4","Nick Melvoin",null,null,"ECAST",68,66,59,51,60,58,0,0,0,0,0,0,0,0,0,0,0,0,0,0,0,0,362,362,362]
[{"$f":"VLOOKUP(H103,'Pivot ECAST'!A:B,2,FALSE)","v":2},1,"12542011","1254201","1254201","White El","2542","1254201","Elementary School","PHBAO","PHBAO","f","f","t","f","f","C","C","no","2","Monica Garcia",null,null,"ECAST",0,21,28,31,39,46,0,0,0,0,0,0,0,0,0,0,6,0,0,0,0,0,165,171,171]
[{"$f":"VLOOKUP(H104,'Pivot ECAST'!A:B,2,FALSE)","v":2},2,"12542012","1254202","1254202","White ES Visual Arts Magnet","2344","1254201","Magnet Ctr -Elementary","Magnet 2","Magnet 2","f","f","t","f","f","C","C","no","2","Monica Garcia",null,null,"ECAST",0,23,23,23,27,22,0,0,0,0,0,0,0,0,0,0,0,0,0,0,0,0,118,118,118]
[{"$f":"VLOOKUP(H105,'Pivot ECAST'!A:B,2,FALSE)","v":1},1,"12543011","1254301","1254301","Lafayette Park PC","2543","1254301","Primary Center","PHBAO","PHBAO","f","f","t","f","f","C","C","no","2","Monica Garcia",null,null,"ECAST",63,0,0,0,0,0,0,0,0,0,0,0,0,0,0,0,0,0,0,13,12,0,63,63,88]
[{"$f":"VLOOKUP(H106,'Pivot ECAST'!A:B,2,FALSE)","v":2},1,"12544011","1254401","1254401","Macarthur Park VPA","2544","1254401","Elementary School","PHBAO","PHBAO","f","f","t","f","f","C","C","no","2","Monica Garcia",null,null,"ECAST",43,27,30,28,37,27,0,0,0,0,0,0,0,0,0,0,0,0,0,0,0,13,192,192,205]
[{"$f":"VLOOKUP(H107,'Pivot ECAST'!A:B,2,FALSE)","v":2},2,"12544012","1254402","1254402","Macarthur Park VPA DL Two-Way Im Spanish","2779","1254401","Dual Language Ctr - Elementary","PHBAO","PHBAO","f","f","t","f","f","C","C","no","2","Monica Garcia",null,null,"ECAST",23,21,19,19,47,40,0,0,0,0,0,0,0,0,0,0,0,0,0,0,0,0,169,169,169]
[{"$f":"VLOOKUP(H108,'Pivot ECAST'!A:B,2,FALSE)","v":1},1,"12548011","1254801","1254801","Brockton El","2548","1254801","Elementary School","PHBAO","PHBAO","f","f","t","f","f","W","W","no","4","Nick Melvoin",null,null,"ECAST",44,23,23,19,15,25,0,0,0,0,0,0,0,0,0,0,12,0,0,4,0,18,149,161,183]
[{"$f":"VLOOKUP(H109,'Pivot ECAST'!A:B,2,FALSE)","v":1},1,"12562011","1256201","1256201","Brooklyn Ave El","2562","1256201","Span School","PHBAO","PHBAO","f","f","f","f","t","E","E","yes","2","Monica Garcia",null,null,"ECAST",67,43,54,44,57,55,45,56,58,0,0,0,0,0,0,0,16,9,0,0,0,0,479,504,504]
[{"$f":"VLOOKUP(H110,'Pivot ECAST'!A:B,2,FALSE)","v":2},1,"12589011","1258901","1258901","Bryson El","2589","1258901","Elementary School","PHBAO","PHBAO","f","f","t","f","f","E","E","no","5","Jackie Goldberg",null,null,"ECAST",152,69,61,61,43,50,0,0,0,0,0,0,0,0,0,0,22,0,0,0,0,22,436,458,480]
[{"$f":"VLOOKUP(H111,'Pivot ECAST'!A:B,2,FALSE)","v":2},2,"12589012","1258902","1258902","Bryson Avenue Elem Science/Tech/Math Mag","2590","1258901","Magnet Ctr -Elementary","Magnet 2","Magnet 2","f","f","t","f","f","E","E","no","5","Jackie Goldberg",null,null,"ECAST",42,42,48,42,51,49,0,0,0,0,0,0,0,0,0,0,0,0,0,0,0,0,274,274,274]
[{"$f":"VLOOKUP(H112,'Pivot ECAST'!A:B,2,FALSE)","v":3},1,"12603011","1260301","1260301","Buchanan El","2603","1260301","Elementary School","PHBAO","PHBAO","f","f","t","f","f","C","C","no","2","Monica Garcia",null,null,"ECAST",25,11,8,11,11,23,0,0,0,0,0,0,0,0,0,0,15,0,0,0,0,16,89,104,120]
[{"$f":"VLOOKUP(H113,'Pivot ECAST'!A:B,2,FALSE)","v":3},2,"12603012","1260302","1260302","Buchanan Street Elem Science/Tech/Math Magnet","2604","1260301","Magnet Ctr -Elementary","Magnet 2","Magnet 2","f","f","t","f","f","C","C","no","2","Monica Garcia",null,null,"ECAST",18,21,20,22,25,20,0,0,0,0,0,0,0,0,0,0,0,0,0,0,0,0,126,126,126]
[{"$f":"VLOOKUP(H114,'Pivot ECAST'!A:B,2,FALSE)","v":3},3,"12603013","1260303","1260303","Buchanan El DL Two-Way Im Spanish","4817","1260301","Dual Language Ctr - Elementary","PHBAO","PHBAO","f","f","t","f","f","C","C","no","2","Monica Garcia",null,null,"ECAST",15,15,0,0,0,0,0,0,0,0,0,0,0,0,0,0,0,0,0,0,0,0,30,30,30]
[{"$f":"VLOOKUP(H115,'Pivot ECAST'!A:B,2,FALSE)","v":1},1,"12616011","1261601","1261601","Budlong El","2616","1261601","Elementary School","PHBAO","PHBAO","f","f","t","f","f","W","W","no","1","George McKenna",null,null,"ECAST",107,86,89,105,106,98,0,0,0,0,0,0,0,0,0,0,12,0,0,0,0,0,591,603,603]
[{"$f":"VLOOKUP(H116,'Pivot ECAST'!A:B,2,FALSE)","v":2},1,"12619011","1261901","1261901","Wilshire Park El","2619","1261901","Elementary School","PHBAO","PHBAO","f","f","t","f","f","W","W","no","1","George McKenna",null,null,"ECAST",40,43,48,53,50,66,0,0,0,0,0,0,0,0,0,0,20,0,0,0,0,5,300,320,325]
[{"$f":"VLOOKUP(H117,'Pivot ECAST'!A:B,2,FALSE)","v":2},2,"12619012","1261902","1261902","Wilshire Park El DL World Lang Im Korean","2625","1261901","Dual Language Ctr - Elementary","PHBAO","PHBAO","f","f","t","f","f","W","W","no","1","George McKenna",null,null,"ECAST",20,0,0,0,0,0,0,0,0,0,0,0,0,0,0,0,0,0,0,0,0,0,20,20,20]
[{"$f":"VLOOKUP(H118,'Pivot ECAST'!A:B,2,FALSE)","v":2},1,"12630011","1263001","1263001","Burbank El","2630","1263001","Elementary School","PHBAO","PHBAO","f","f","t","f","f","NE","NE","no","3","Scott Schmerelson",null,null,"ECAST",62,48,33,24,20,35,0,0,0,0,0,0,0,0,0,0,0,0,0,9,19,0,222,222,250]
[{"$f":"VLOOKUP(H119,'Pivot ECAST'!A:B,2,FALSE)","v":2},2,"12630012","1263002","1263002","Burbank El Gifted Global Learning Mag","2285","1263001","Magnet Ctr -Elementary","Magnet 1","Magnet 1","f","f","t","f","f","NE","NE","no","3","Scott Schmerelson",null,null,"ECAST",0,0,15,21,23,30,0,0,0,0,0,0,0,0,0,0,0,0,0,0,0,0,89,89,89]
[{"$f":"VLOOKUP(H120,'Pivot ECAST'!A:B,2,FALSE)","v":2},1,"12644011","1264401","1264401","Saturn El","2644","1264401","Elementary School","PHBAO","PHBAO","f","f","t","f","f","W","W","no","1","George McKenna",null,null,"ECAST",24,15,18,16,9,17,0,0,0,0,0,0,0,0,0,0,29,0,0,17,0,16,99,128,161]
[{"$f":"VLOOKUP(H121,'Pivot ECAST'!A:B,2,FALSE)","v":2},2,"12644012","1264402","1264402","Saturn St ES Arts/Media Magnet","2449","1264401","Magnet Ctr -Elementary","Magnet 2","Magnet 2","f","f","t","f","f","W","W","no","1","George McKenna",null,null,"ECAST",20,17,20,20,19,24,0,0,0,0,0,0,0,0,0,0,0,0,0,0,0,0,120,120,120]
[{"$f":"VLOOKUP(H122,'Pivot ECAST'!A:B,2,FALSE)","v":1},1,"12658011","1265801","1265801","Burton El","2658","1265801","Elementary School","PHBAO","PHBAO","f","f","t","f","f","NE","NE","no","6","Kelly Gonez",null,null,"ECAST",29,27,47,30,36,33,0,0,0,0,0,0,0,0,0,0,31,0,0,14,0,15,202,233,262]
[{"$f":"VLOOKUP(H123,'Pivot ECAST'!A:B,2,FALSE)","v":2},1,"12671011","1267101","1267101","Bushnell Way El","2671","1267101","Elementary School","PHBAO","PHBAO","f","f","t","f","f","C","C","no","2","Monica Garcia",null,null,"ECAST",19,13,18,16,11,16,0,0,0,0,0,0,0,0,0,0,20,0,0,0,11,10,93,113,134]
[{"$f":"VLOOKUP(H124,'Pivot ECAST'!A:B,2,FALSE)","v":2},2,"12671012","1267102","1267102","Bushnell Way El DL Two-Way Im Spanish","4818","1267101","Dual Language Ctr - Elementary","PHBAO","PHBAO","f","f","t","f","f","C","C","no","2","Monica Garcia",null,null,"ECAST",12,12,11,13,12,0,0,0,0,0,0,0,0,0,0,0,0,0,0,0,0,0,60,60,60]
[{"$f":"VLOOKUP(H125,'Pivot ECAST'!A:B,2,FALSE)","v":2},1,"12685011","1268501","1268501","Cabrillo El","2685","1268501","Elementary School","PHBAO","PHBAO","f","f","t","f","f","S","S","no","7","Tanya Ortiz Franklin",null,null,"ECAST",74,39,27,29,21,39,0,0,0,0,0,0,0,0,0,0,0,0,0,11,0,0,229,229,240]
[{"$f":"VLOOKUP(H126,'Pivot ECAST'!A:B,2,FALSE)","v":2},2,"12685012","1268502","1268502","Cabrillo Av ES STEAM Magnet","2441","1268501","Magnet Ctr -Elementary","Magnet 2","Magnet 2","f","f","t","f","f","S","S","no","7","Tanya Ortiz Franklin",null,null,"ECAST",20,20,19,22,21,20,0,0,0,0,0,0,0,0,0,0,0,0,0,0,0,0,122,122,122]
[{"$f":"VLOOKUP(H127,'Pivot ECAST'!A:B,2,FALSE)","v":3},1,"12699011","1269901","1269901","Cahuenga El","2699","1269901","Elementary School","PHBAO","PHBAO","f","f","t","f","f","C","C","no","5","Jackie Goldberg",null,null,"ECAST",27,24,13,13,19,18,0,0,0,0,0,0,0,0,0,0,19,0,0,0,0,0,114,133,133]
[{"$f":"VLOOKUP(H128,'Pivot ECAST'!A:B,2,FALSE)","v":3},2,"12699012","1269902","1269902","Cahuenga El DL One-Way Im Spanish","2780","1269901","Dual Language Ctr - Elementary","PHBAO","PHBAO","f","f","t","f","f","C","C","no","5","Jackie Goldberg",null,null,"ECAST",28,20,17,14,14,12,0,0,0,0,0,0,0,0,0,0,0,0,0,0,0,0,105,105,105]
[{"$f":"VLOOKUP(H129,'Pivot ECAST'!A:B,2,FALSE)","v":3},3,"12699013","1269903","1269903","Cahuenga El DL Two-Way Im Korean","2783","1269901","Dual Language Ctr - Elementary","PHBAO","PHBAO","f","f","t","f","f","C","C","no","5","Jackie Goldberg",null,null,"ECAST",25,17,13,14,13,14,0,0,0,0,0,0,0,0,0,0,0,0,0,0,0,0,96,96,96]
[{"$f":"VLOOKUP(H130,'Pivot ECAST'!A:B,2,FALSE)","v":3},1,"12701011","1270101","1270101","Kim El","2701","1270101","Elementary School","PHBAO","PHBAO","f","f","t","f","f","C","C","no","5","Jackie Goldberg",null,null,"ECAST",39,18,28,26,42,49,0,0,0,0,0,0,0,0,0,0,10,0,0,7,0,0,202,212,219]
[{"$f":"VLOOKUP(H131,'Pivot ECAST'!A:B,2,FALSE)","v":3},2,{"$f":"H131&B131","v":"12701012"},"1270102","1270102","Kim El DL Two-Way Im Spanish","2784","1270101","Dual Language Ctr - Elementary","PHBAO","PHBAO","f","f","t","f","f","C","C","no","5","Jackie Goldberg",null,null,"ECAST",20,14,19,21,22,23,0,0,0,0,0,0,0,0,0,0,0,0,0,0,0,0,119,119,119]
[{"$f":"VLOOKUP(H132,'Pivot ECAST'!A:B,2,FALSE)","v":3},{"$f":"IF(H132=H131,B131+1,1)","v":3},"12701013",{"$f":"E132","v":"1270103"},"1270103","Kim El DL One-Way Im Korean","2785","1270101","Dual Language Ctr - Elementary","PHBAO","PHBAO","f","f","t","f","f","C","C","no","5","Jackie Goldberg",null,null,"ECAST",23,27,34,27,27,17,0,0,0,0,0,0,0,0,0,0,0,0,0,0,0,0,155,155,155]
[{"$f":"VLOOKUP(H133,'Pivot ECAST'!A:B,2,FALSE)","v":1},1,"12704011","1270401","1270401","Calabash CA","2704","1270401","Elementary School","Desegregated/Receiver","Non-PHBAO","t","t","t","f","f","NW","NW","no","3","Scott Schmerelson",null,null,"ECAST",97,70,71,55,57,51,0,0,0,0,0,0,0,0,0,0,0,0,0,0,0,0,{"$f":"SUM(Y133:AN133)","v":401},{"$f":"AU133+AO133+AP133+AQ133","v":401},{"$f":"AV133+SUM(AR133:AT133)","v":401}]
[{"$f":"VLOOKUP(H134,'Pivot ECAST'!A:B,2,FALSE)","v":1},1,"12706011","1270601","1270601","Calahan Street Elementary","2706","1270601","Elementary School","PHBAO","PHBAO","f","f","t","f","f","NW","NW","no","3","Scott Schmerelson",null,null,"ECAST",86,55,61,79,77,99,0,0,0,0,0,0,0,0,0,0,7,0,0,11,0,0,457,464,475]
[{"$f":"VLOOKUP(H135,'Pivot ECAST'!A:B,2,FALSE)","v":1},1,"12712011","1271201","1271201","Calvert Chtr For ES","2712","1271201","Elementary School","Desegregated/Receiver","Non-PHBAO","f","t","t","f","f","NW","NW","no","4","Nick Melvoin",null,null,"ECAST",61,36,42,34,50,54,0,0,0,0,0,0,0,0,0,0,25,0,0,0,13,0,277,302,315]
[{"$f":"VLOOKUP(H136,'Pivot ECAST'!A:B,2,FALSE)","v":2},1,"12726011","1272601","1272601","Camellia El","2726","1272601","Elementary School","PHBAO","PHBAO","f","f","t","f","f","NE","NE","no","6","Kelly Gonez",null,null,"ECAST",66,42,53,34,70,75,0,0,0,0,0,0,0,0,0,0,30,0,0,17,0,8,340,370,395]
[{"$f":"VLOOKUP(H137,'Pivot ECAST'!A:B,2,FALSE)","v":2},2,"12726012","1272602","1272602","Camellia Ave El DL Two-Way Im Spanish","4819","1272601","Dual Language Ctr - Elementary","PHBAO","PHBAO","f","f","t","f","f","NE","NE","no","6","Kelly Gonez",null,null,"ECAST",21,19,20,19,0,0,0,0,0,0,0,0,0,0,0,0,0,0,0,0,0,0,79,79,79]
[{"$f":"VLOOKUP(H138,'Pivot ECAST'!A:B,2,FALSE)","v":1},1,"12740011","1274001","1274001","Canfield El","2740","1274001","Elementary School","Desegregated/Receiver","Non-PHBAO","f","f","t","f","f","W","W","no","1","George McKenna",null,null,"ECAST",47,39,55,58,38,41,0,0,0,0,0,0,0,0,0,0,14,0,0,8,0,0,278,292,300]
[{"$f":"VLOOKUP(H139,'Pivot ECAST'!A:B,2,FALSE)","v":1},1,"12741011","1274101","1274101","Community El Mag CS","2741","1274101","Magnet School - ELEM","Magnet 1","Magnet 1","t","t","t","f","f","W","W","no","4","Nick Melvoin",null,null,"ECAST",66,69,68,66,75,75,0,0,0,0,0,0,0,0,0,0,0,0,0,0,0,0,419,419,419]
[{"$f":"VLOOKUP(H140,'Pivot ECAST'!A:B,2,FALSE)","v":1},1,"12753011","1275301","1275301","Canoga Park El","2753","1275301","Elementary School","PHBAO","PHBAO","f","f","t","f","f","NW","NW","no","3","Scott Schmerelson",null,null,"ECAST",104,77,76,62,73,68,0,0,0,0,0,0,0,0,0,0,48,0,0,12,0,23,460,508,543]
[{"$f":"VLOOKUP(H141,'Pivot ECAST'!A:B,2,FALSE)","v":2},1,"12767011","1276701","1276701","Cantara El","2767","1276701","Elementary School","PHBAO","PHBAO","f","f","t","f","f","NW","NW","no","3","Scott Schmerelson",null,null,"ECAST",63,47,58,36,27,35,0,0,0,0,0,0,0,0,0,0,35,0,0,10,0,21,266,301,332]
[{"$f":"VLOOKUP(H142,'Pivot ECAST'!A:B,2,FALSE)","v":2},2,"12767012","1276702","1276702","Cantara St ES Visual/Perf Arts Magnet","2442","1276701","Magnet Ctr -Elementary","Magnet 2","Magnet 2","f","f","t","f","f","NW","NW","no","3","Scott Schmerelson",null,null,"ECAST",0,0,0,8,25,16,0,0,0,0,0,0,0,0,0,0,0,0,0,0,0,0,49,49,49]
[{"$f":"VLOOKUP(H143,'Pivot ECAST'!A:B,2,FALSE)","v":2},1,"12781011","1278101","1278101","Canterbury El","2781","1278101","Elementary School","PHBAO","PHBAO","f","f","t","f","f","NE","NE","no","6","Kelly Gonez",null,null,"ECAST",74,45,51,59,63,60,0,0,0,0,0,0,0,0,0,0,16,0,0,6,0,16,352,368,390]
[{"$f":"VLOOKUP(H144,'Pivot ECAST'!A:B,2,FALSE)","v":2},2,"12781012","1278102","1278102","Canterbury Avenue Elementary Gifted Magnet","2782","1278101","Magnet Ctr -Elementary","Magnet 2","Magnet 2","f","f","t","f","f","NE","NE","no","6","Kelly Gonez",null,null,"ECAST",0,24,36,44,49,52,0,0,0,0,0,0,0,0,0,0,0,0,0,0,0,0,205,205,205]
[{"$f":"VLOOKUP(H145,'Pivot ECAST'!A:B,2,FALSE)","v":1},1,"12795011","1279501","1279501","Canyon El","2795","1279501","Elementary School","Desegregated/Receiver","Non-PHBAO","t","t","t","f","f","W","W","no","4","Nick Melvoin",null,null,"ECAST",50,44,51,55,53,52,0,0,0,0,0,0,0,0,0,0,0,0,0,0,0,0,305,305,305]
[{"$f":"VLOOKUP(H146,'Pivot ECAST'!A:B,2,FALSE)","v":1},1,"12802011","1280201","1280201","Capistrano El","2802","1280201","Elementary School","PHBAO","PHBAO","f","f","t","f","f","NW","NW","no","3","Scott Schmerelson",null,null,"ECAST",85,54,48,58,66,45,0,0,0,0,0,0,0,0,0,0,33,0,0,0,30,0,356,389,419]
[{"$f":"VLOOKUP(H147,'Pivot ECAST'!A:B,2,FALSE)","v":1},1,"12815011","1281501","1281501","Caroldale Lrng Comm","2815","1281501","Span School","PHBAO","PHBAO","f","f","f","f","t","S","S","yes","7","Tanya Ortiz Franklin","2x8",null,"ECAST",66,57,56,69,71,75,85,94,94,0,0,0,0,0,0,0,26,0,0,5,0,0,667,693,698]
[{"$f":"VLOOKUP(H148,'Pivot ECAST'!A:B,2,FALSE)","v":1},1,"12822011","1282201","1282201","Carpenter Community Center","2822","1282201","Elementary School","Desegregated/Receiver","Non-PHBAO","t","t","t","f","f","NE","NE","no","3","Scott Schmerelson",null,null,"ECAST",148,125,137,134,139,124,0,0,0,0,0,0,0,0,0,0,0,0,0,0,0,0,807,807,807]
[{"$f":"VLOOKUP(H149,'Pivot ECAST'!A:B,2,FALSE)","v":1},1,"12836011","1283601","1283601","Carson El","2836","1283601","Elementary School","PHBAO","PHBAO","f","f","t","f","f","S","S","no","7","Tanya Ortiz Franklin",null,null,"ECAST",110,89,97,78,90,101,0,0,0,0,0,0,0,0,0,0,20,0,0,2,0,23,565,585,610]
[{"$f":"VLOOKUP(H150,'Pivot ECAST'!A:B,2,FALSE)","v":1},1,"12849011","1284901","1284901","Carthay El ES Mag","2849","1284901","Magnet School - ELEM","Magnet 2","Magnet 2","f","f","t","f","f","W","W","no","1","George McKenna",null,null,"ECAST",24,63,40,60,36,48,0,0,0,0,0,0,0,0,0,0,0,0,0,0,0,21,271,271,292]
[{"$f":"VLOOKUP(H151,'Pivot ECAST'!A:B,2,FALSE)","v":2},1,"12863011","1286301","1286301","Castelar El","2863","1286301","Span School","PHBAO","PHBAO","f","f","f","f","t","C","C","yes","2","Monica Garcia",null,null,"ECAST",41,34,53,42,50,51,20,16,7,0,0,0,0,0,0,0,0,0,0,0,0,0,314,314,314]
[{"$f":"VLOOKUP(H152,'Pivot ECAST'!A:B,2,FALSE)","v":2},2,"12863012","1286302","1286302","Castelar El DL Two-Way Im Mandarin","2786","1286301","Dual Language Ctr - Elementary","PHBAO","PHBAO","f","f","f","f","f","C","C","yes","2","Monica Garcia",null,null,"ECAST",76,42,40,40,43,42,0,0,0,0,0,0,0,0,0,0,0,0,0,0,0,0,283,283,283]
[{"$f":"VLOOKUP(H153,'Pivot ECAST'!A:B,2,FALSE)","v":2},1,"12877011","1287701","1287701","Castle Hts El","2877","1287701","Elementary School","Desegregated/Receiver","Non-PHBAO","f","f","t","f","f","W","W","no","1","George McKenna",null,null,"ECAST",68,47,46,60,53,59,0,0,0,0,0,0,0,0,0,0,0,0,0,7,0,0,333,333,340]
[{"$f":"VLOOKUP(H154,'Pivot ECAST'!A:B,2,FALSE)","v":2},2,"12877012","1287702","1287702","Castle Heights El World Lang Im Spanish","2456","1287701","Dual Language Ctr - Elementary","Desegregated/Receiver","Non-PHBAO","f","f","t","f","f","W","W","no","1","George McKenna",null,null,"ECAST",23,21,22,21,20,18,0,0,0,0,0,0,0,0,0,0,0,0,0,0,0,0,125,125,125]
[{"$f":"VLOOKUP(H155,'Pivot ECAST'!A:B,2,FALSE)","v":1},1,"12881011","1288101","1288101","Castlebay Lane Charter","2881","1288101","Elementary School","Desegregated/Receiver","Non-PHBAO","t","t","t","f","f","NW","NW","no","3","Scott Schmerelson",null,null,"ECAST",119,89,85,98,90,109,0,0,0,0,0,0,0,0,0,0,0,0,0,0,0,0,590,590,590]
[{"$f":"VLOOKUP(H156,'Pivot ECAST'!A:B,2,FALSE)","v":2},1,"12890011","1289001","1289001","Catskill El","2890","1289001","Elementary School","PHBAO","PHBAO","f","f","t","f","f","S","S","no","7","Tanya Ortiz Franklin",null,null,"ECAST",104,70,47,53,42,72,0,0,0,0,0,0,0,0,0,0,0,0,0,11,0,16,388,388,415]
[{"$f":"VLOOKUP(H157,'Pivot ECAST'!A:B,2,FALSE)","v":2},2,"12890012","1289002","1289002","Catskill El DL Two-Way Im Spanish","2409","1289001","Dual Language Ctr - Elementary","PHBAO","PHBAO","f","f","t","f","f","S","S","no","7","Tanya Ortiz Franklin",null,null,"ECAST",21,21,16,16,23,0,0,0,0,0,0,0,0,0,0,0,0,0,0,0,0,0,97,97,97]
[{"$f":"VLOOKUP(H158,'Pivot ECAST'!A:B,2,FALSE)","v":2},1,"12939011","1293901","1293901","Carson-Gore Academy","2939","1293901","Elementary School","PHBAO","PHBAO","f","f","t","f","f","W","W","no","1","George McKenna",null,null,"ECAST",40,27,49,35,50,61,0,0,0,0,0,0,0,0,0,0,43,0,0,0,0,15,262,305,320]
[{"$f":"VLOOKUP(H159,'Pivot ECAST'!A:B,2,FALSE)","v":2},2,"12939012","1293902","1293902","Carson-Gore El DL Two-Way Im Spanish","4820","1293901","Dual Language Ctr - Elementary","PHBAO","PHBAO","f","f","t","f","f","W","W","no","1","George McKenna",null,null,"ECAST",7,7,14,20,0,0,0,0,0,0,0,0,0,0,0,0,0,0,0,0,0,0,48,48,48]
[{"$f":"VLOOKUP(H160,'Pivot ECAST'!A:B,2,FALSE)","v":1},1,"12942011","1294201","1294201","Estrella El","2942","1294201","Elementary School","PHBAO","PHBAO","f","f","t","f","f","C","C","no","7","Tanya Ortiz Franklin",null,null,"ECAST",99,82,75,85,83,71,0,0,0,0,0,0,0,0,0,0,9,0,0,0,0,0,495,504,504]
[{"$f":"VLOOKUP(H161,'Pivot ECAST'!A:B,2,FALSE)","v":1},1,"12943011","1294301","1294301","Jones El","2943","1294301","Elementary School","PHBAO","PHBAO","f","f","t","f","f","C","C","no","5","Jackie Goldberg",null,null,"ECAST",52,30,42,28,42,50,0,0,0,0,0,0,0,0,0,0,11,0,0,0,0,14,244,255,269]
[{"$f":"VLOOKUP(H162,'Pivot ECAST'!A:B,2,FALSE)","v":1},1,"12944011","1294401","1294401","Huerta El","2944","1294401","Elementary School","PHBAO","PHBAO","f","f","t","f","f","C","C","no","5","Jackie Goldberg",null,null,"ECAST",47,36,47,46,56,60,0,0,0,0,0,0,0,0,0,0,0,0,0,0,0,6,292,292,298]
[{"$f":"VLOOKUP(H163,'Pivot ECAST'!A:B,2,FALSE)","v":1},1,"12945011","1294501","1294501","Century Park El","2945","1294501","Elementary School","PHBAO","PHBAO","f","f","t","f","f","W","W","no","1","George McKenna",null,null,"ECAST",47,25,16,40,31,35,0,0,0,0,0,0,0,0,0,0,25,0,0,15,0,4,194,219,238]
[{"$f":"VLOOKUP(H164,'Pivot ECAST'!A:B,2,FALSE)","v":1},1,"12959011","1295901","1295901","Chandler El","2959","1295901","Elementary School","Desegregated/Receiver","Non-PHBAO","f","f","t","f","f","NE","NE","no","3","Scott Schmerelson",null,null,"ECAST",96,66,56,53,56,59,0,0,0,0,0,0,0,0,0,0,7,0,0,4,0,0,386,393,397]
[{"$f":"VLOOKUP(H165,'Pivot ECAST'!A:B,2,FALSE)","v":2},1,"12986011","1298601","1298601","Chapman El","2986","1298601","Elementary School","PHBAO","PHBAO","f","f","t","f","f","S","S","no","7","Tanya Ortiz Franklin",null,null,"ECAST",46,34,43,31,46,46,0,0,0,0,0,0,0,0,0,0,15,0,0,0,0,22,246,261,283]
[{"$f":"VLOOKUP(H166,'Pivot ECAST'!A:B,2,FALSE)","v":2},2,"12986012","1298602","1298602","Chapman El DL Two-Way Im Mandarin","2434","1298601","Dual Language Ctr - Elementary","PHBAO","PHBAO","f","f","t","f","f","S","S","no","7","Tanya Ortiz Franklin",null,null,"ECAST",23,23,10,18,13,0,0,0,0,0,0,0,0,0,0,0,0,0,0,0,0,0,87,87,87]
[{"$f":"VLOOKUP(H167,'Pivot ECAST'!A:B,2,FALSE)","v":1},1,"13002011","1300201","1300201","Charnock Road El","3002","1300201","Elementary School","PHBAO","PHBAO","f","f","t","f","f","W","W","no","1","George McKenna",null,null,"ECAST",36,16,26,36,34,31,0,0,0,0,0,0,0,0,0,0,40,0,0,7,0,28,179,219,254]
[{"$f":"VLOOKUP(H168,'Pivot ECAST'!A:B,2,FALSE)","v":1},1,"13014011","1301401","1301401","Chase El","3014","1301401","Elementary School","PHBAO","PHBAO","f","f","t","f","f","NW","NW","no","6","Kelly Gonez",null,null,"ECAST",83,70,67,72,66,48,0,0,0,0,0,0,0,0,0,0,29,0,0,14,0,16,406,435,465]
[{"$f":"VLOOKUP(H169,'Pivot ECAST'!A:B,2,FALSE)","v":1},1,"13027011","1302701","1302701","Chatsworth Park ES UP/CD Magnet","3027","1302701","Magnet School - ELEM","Magnet 2","Magnet 2","f","f","t","f","f","NW","NW","no","3","Scott Schmerelson",null,null,"ECAST",69,69,61,59,66,73,0,0,0,0,0,0,0,0,0,0,0,0,0,0,0,0,397,397,397]
[{"$f":"VLOOKUP(H170,'Pivot ECAST'!A:B,2,FALSE)","v":1},1,"13041011","1304101","1304101","Cheremoya El","3041","1304101","Elementary School","Desegregated/Receiver","Non-PHBAO","f","f","t","f","f","W","W","no","5","Jackie Goldberg",null,null,"ECAST",40,30,26,29,33,15,0,0,0,0,0,0,0,0,0,0,0,0,0,1,8,0,173,173,182]
[{"$f":"VLOOKUP(H171,'Pivot ECAST'!A:B,2,FALSE)","v":2},1,"13068011","1306801","1306801","Cienega El","3068","1306801","Elementary School","PHBAO","PHBAO","f","f","t","f","f","W","W","no","1","George McKenna",null,null,"ECAST",54,37,43,38,48,35,0,0,0,0,0,0,0,0,0,0,41,0,0,0,0,20,255,296,316]
[{"$f":"VLOOKUP(H172,'Pivot ECAST'!A:B,2,FALSE)","v":2},2,"13068012","1306802","1306802","Cienega El DL Two-Way Im Spanish","2290","1306801","Dual Language Ctr - Elementary","PHBAO","PHBAO","f","f","t","f","f","W","W","no","1","George McKenna",null,null,"ECAST",14,14,8,17,9,14,0,0,0,0,0,0,0,0,0,0,0,0,0,0,0,0,76,76,76]
[{"$f":"VLOOKUP(H173,'Pivot ECAST'!A:B,2,FALSE)","v":2},1,"13082011","1308201","1308201","Cimarron El","3082","1308201","Elementary School","PHBAO","PHBAO","f","f","t","f","f","W","W","no","1","George McKenna",null,null,"ECAST",33,25,21,18,23,21,0,0,0,0,0,0,0,0,0,0,17,0,0,13,0,7,141,158,178]
[{"$f":"VLOOKUP(H174,'Pivot ECAST'!A:B,2,FALSE)","v":2},2,"13082012","1308202","1308202","Cimarron Av ES STEAM Magnet","2331","1308201","Magnet Ctr -Elementary","Magnet 2","Magnet 2","f","f","t","f","f","W","W","no","1","George McKenna",null,null,"ECAST",0,0,9,18,24,26,0,0,0,0,0,0,0,0,0,0,0,0,0,0,0,0,77,77,77]
[{"$f":"VLOOKUP(H175,'Pivot ECAST'!A:B,2,FALSE)","v":2},1,"13096011","1309601","1309601","City Terrace El","3096","1309601","Elementary School","PHBAO","PHBAO","f","f","t","f","f","E","E","no","2","Monica Garcia",null,null,"ECAST",39,24,33,28,31,36,0,0,0,0,0,0,0,0,0,0,6,0,0,0,0,8,191,197,205]
[{"$f":"VLOOKUP(H176,'Pivot ECAST'!A:B,2,FALSE)","v":2},2,"13096012","1309602","1309602","City Terrace El DL Two-Way Im Mandarin","2787","1309601","Dual Language Ctr - Elementary","PHBAO","PHBAO","f","f","t","f","f","E","E","no","2","Monica Garcia",null,null,"ECAST",23,27,30,22,30,23,0,0,0,0,0,0,0,0,0,0,0,0,0,0,0,10,155,155,165]
[{"$f":"VLOOKUP(H177,'Pivot ECAST'!A:B,2,FALSE)","v":1},1,"13110011","1311001","1311001","Clifford El","3110","1311001","Magnet School - ELEM","Magnet 2","Magnet 2","f","f","t","f","f","C","C","no","5","Jackie Goldberg",null,null,"ECAST",23,18,14,17,19,21,0,0,0,0,0,0,0,0,0,0,0,0,0,0,0,0,112,112,112]
[{"$f":"VLOOKUP(H178,'Pivot ECAST'!A:B,2,FALSE)","v":1},1,"13123011","1312301","1312301","Clover El","3123","1312301","Elementary School","Desegregated/Receiver","Non-PHBAO","f","f","t","f","f","W","W","no","1","George McKenna",null,null,"ECAST",79,58,60,51,52,52,0,0,0,0,0,0,0,0,0,0,0,0,0,4,0,0,352,352,356]
[{"$f":"VLOOKUP(H179,'Pivot ECAST'!A:B,2,FALSE)","v":2},1,"13137011","1313701","1313701","Cohasset El","3137","1313701","Elementary School","PHBAO","PHBAO","f","f","t","f","f","NW","NW","no","3","Scott Schmerelson",null,null,"ECAST",56,40,37,32,56,38,0,0,0,0,0,0,0,0,0,0,34,0,0,14,0,12,259,293,319]
[{"$f":"VLOOKUP(H180,'Pivot ECAST'!A:B,2,FALSE)","v":2},2,"13137012","1313702","1313702","Cohasset El DL One-Way Im Spanish","2788","1313701","Dual Language Ctr - Elementary","PHBAO","PHBAO","f","f","t","f","f","NW","NW","no","3","Scott Schmerelson",null,null,"ECAST",20,20,20,18,25,17,0,0,0,0,0,0,0,0,0,0,0,0,0,0,0,0,120,120,120]
[{"$f":"VLOOKUP(H181,'Pivot ECAST'!A:B,2,FALSE)","v":2},1,"13151011","1315101","1315101","Coldwater Cyn El","3151","1315101","Elementary School","PHBAO","PHBAO","f","f","t","f","f","NE","NE","no","6","Kelly Gonez",null,null,"ECAST",77,47,56,71,76,92,0,0,0,0,0,0,0,0,0,0,37,0,0,11,0,22,419,456,489]
[{"$f":"VLOOKUP(H182,'Pivot ECAST'!A:B,2,FALSE)","v":2},2,"13151012","1315102","1315102","Coldwater Cyn DL Two-Way Im Spanish","4821","1315101","Dual Language Ctr - Elementary","PHBAO","PHBAO","f","f","t","f","f","NE","NE","no","6","Kelly Gonez",null,null,"ECAST",24,22,20,21,0,0,0,0,0,0,0,0,0,0,0,0,0,0,0,0,0,0,87,87,87]
[{"$f":"VLOOKUP(H183,'Pivot ECAST'!A:B,2,FALSE)","v":1},1,"13164011","1316401","1316401","Colfax Charter El","3164","1316401","Elementary School","Desegregated/Receiver","Non-PHBAO","t","t","t","f","f","NE","NE","no","3","Scott Schmerelson",null,null,"ECAST",122,88,111,119,107,94,0,0,0,0,0,0,0,0,0,0,0,0,0,0,0,0,641,641,641]
[{"$f":"VLOOKUP(H184,'Pivot ECAST'!A:B,2,FALSE)","v":1},1,"13178011","1317801","1317801","Coliseum El","3178","1317801","Elementary School","PHBAO","PHBAO","f","f","t","f","f","W","W","no","1","George McKenna",null,null,"ECAST",29,19,14,23,19,24,0,0,0,0,0,0,0,0,0,0,23,0,0,11,8,0,128,151,170]
[{"$f":"VLOOKUP(H185,'Pivot ECAST'!A:B,2,FALSE)","v":2},1,"13192011","1319201","1319201","Commonwealth El","3192","1319201","Elementary School","PHBAO","PHBAO","f","f","t","f","f","C","C","no","2","Monica Garcia",null,null,"ECAST",72,46,51,52,48,47,0,0,0,0,0,0,0,0,0,0,64,0,0,0,0,18,316,380,398]
[{"$f":"VLOOKUP(H186,'Pivot ECAST'!A:B,2,FALSE)","v":2},2,"13192012","1319202","1319202","Commonwealth Avenue Elem Gifted Arts/Tech","2277","1319201","Magnet Ctr -Elementary","Magnet 2","Magnet 2","f","f","t","f","f","C","C","no","2","Monica Garcia",null,null,"ECAST",0,0,16,24,20,24,0,0,0,0,0,0,0,0,0,0,0,0,0,0,0,0,84,84,84]
[{"$f":"VLOOKUP(H187,'Pivot ECAST'!A:B,2,FALSE)","v":1},1,"13205011","1320501","1320501","Compton El","3205","1320501","Elementary School","PHBAO","PHBAO","f","f","t","f","f","S","S","no","7","Tanya Ortiz Franklin",null,null,"ECAST",46,32,37,38,28,36,0,0,0,0,0,0,0,0,0,0,14,0,0,0,0,7,217,231,238]
[{"$f":"VLOOKUP(H188,'Pivot ECAST'!A:B,2,FALSE)","v":2},1,"13210011","1321001","1321001","Madison El","3210","1321001","Elementary School","PHBAO","PHBAO","f","f","t","f","f","E","E","no","5","Jackie Goldberg",null,null,"ECAST",54,39,48,55,38,50,0,0,0,0,0,0,0,0,0,0,13,0,0,0,0,20,284,297,317]
[{"$f":"VLOOKUP(H189,'Pivot ECAST'!A:B,2,FALSE)","v":2},2,"13210012","1321002","1321002","Madison El DL Two-Way Im Spanish","2789","1321001","Dual Language Ctr - Elementary","PHBAO","PHBAO","f","f","t","f","f","E","E","no","5","Jackie Goldberg",null,null,"ECAST",34,32,36,31,31,29,0,0,0,0,0,0,0,0,0,0,0,0,0,0,0,0,193,193,193]
[{"$f":"VLOOKUP(H190,'Pivot ECAST'!A:B,2,FALSE)","v":1},1,"13219011","1321901","1321901","Corona El","3219","1321901","Elementary School","PHBAO","PHBAO","f","f","t","f","f","E","E","no","5","Jackie Goldberg",null,null,"ECAST",0,104,108,114,109,116,0,0,0,0,0,0,0,0,0,0,19,0,0,10,13,0,551,570,593]
[{"$f":"VLOOKUP(H191,'Pivot ECAST'!A:B,2,FALSE)","v":1},1,"13220011","1322001","1322001","Escutia PC","3220","1322001","Primary Center","PHBAO","PHBAO","f","f","t","f","f","E","E","no","5","Jackie Goldberg",null,null,"ECAST",143,0,0,0,0,0,0,0,0,0,0,0,0,0,0,0,0,0,0,5,22,33,143,143,203]
[{"$f":"VLOOKUP(H192,'Pivot ECAST'!A:B,2,FALSE)","v":2},1,"13247011","1324701","1324701","Plasencia El","3247","1324701","Elementary School","PHBAO","PHBAO","f","f","t","f","f","C","C","no","2","Monica Garcia",null,null,"ECAST",51,28,29,19,18,18,0,0,0,0,0,0,0,0,0,0,25,0,0,10,0,16,163,188,214]
[{"$f":"VLOOKUP(H193,'Pivot ECAST'!A:B,2,FALSE)","v":2},2,"13247012","1324702","1324702","Plasencia ES STEAM Magnet","6080","1324701","Magnet Ctr -Elementary","Magnet 2","Magnet 2","f","f","t","f","f","C","C","no","2","Monica Garcia",null,null,"ECAST",37,39,44,43,41,49,0,0,0,0,0,0,0,0,0,0,0,0,0,0,0,0,253,253,253]
[{"$f":"VLOOKUP(H194,'Pivot ECAST'!A:B,2,FALSE)","v":3},1,"13260011","1326001","1326001","Cowan El","3260","1326001","Elementary School","PHBAO","PHBAO","f","f","t","f","f","W","W","no","4","Nick Melvoin",null,null,"ECAST",41,27,20,16,22,15,0,0,0,0,0,0,0,0,0,0,7,0,0,0,0,0,141,148,148]
[{"$f":"VLOOKUP(H195,'Pivot ECAST'!A:B,2,FALSE)","v":3},2,{"$f":"H195&B195","v":"13260012"},"1326002","1326002","Cowan Avenue Elem Gifted Int Humanities","7950","1326001","Magnet Ctr -Elementary","Magnet 2","Magnet 2","f","f","t","f","f","W","W","no","4","Nick Melvoin",null,null,"ECAST",0,23,22,21,21,24,22,0,0,0,0,0,0,0,0,0,0,0,0,0,0,0,133,133,133]
[{"$f":"VLOOKUP(H196,'Pivot ECAST'!A:B,2,FALSE)","v":3},{"$f":"IF(H196=H195,B195+1,1)","v":3},"13260013",{"$f":"E196","v":"1326003"},"1326003","Cowan El DL World Lang Im Spanish","2291","1326001","Dual Language Ctr - Elementary","PHBAO","PHBAO","f","f","t","f","f","W","W","no","4","Nick Melvoin",null,null,"ECAST",37,26,32,17,16,10,0,0,0,0,0,0,0,0,0,0,0,0,0,0,0,0,138,138,138]
[{"$f":"VLOOKUP(H197,'Pivot ECAST'!A:B,2,FALSE)","v":1},1,"13288011","1328801","1328801","Crescent Hts L/A/S/J","3288","1328801","Magnet School - ELEM","Magnet 2","Magnet 2","f","f","t","f","f","W","W","no","1","George McKenna",null,null,"ECAST",30,35,59,48,39,60,0,0,0,0,0,0,0,0,0,0,0,0,0,6,0,0,{"$f":"SUM(Y197:AN197)","v":271},{"$f":"AU197+AO197+AP197+AQ197","v":271},{"$f":"AV197+SUM(AR197:AT197)","v":277}]
[{"$f":"VLOOKUP(H198,'Pivot ECAST'!A:B,2,FALSE)","v":1},1,"13302011","1330201","1330201","Crestwood St ES STEAM Magnet","3302","1330201","Magnet School - ELEM","Magnet 2","Magnet 2","f","f","t","f","f","S","S","no","7","Tanya Ortiz Franklin",null,null,"ECAST",30,34,55,44,54,65,0,0,0,0,0,0,0,0,0,0,0,0,0,10,0,0,282,282,292]
[{"$f":"VLOOKUP(H199,'Pivot ECAST'!A:B,2,FALSE)","v":1},1,"13311011","1331101","1331101","Westside Glbl Awr Mg","3311","1331101","Span Magnet School","Magnet 2","Magnet 2","f","f","f","f","t","W","W","yes","4","Nick Melvoin",null,null,"ECAST",14,11,22,19,18,25,44,50,78,0,0,0,0,0,0,0,0,0,0,0,0,0,281,281,281]
[{"$f":"VLOOKUP(H200,'Pivot ECAST'!A:B,2,FALSE)","v":1},1,"13315011","1331501","1331501","Dena El","3315","1331501","Elementary School","PHBAO","PHBAO","f","f","t","f","f","E","E","no","2","Monica Garcia",null,null,"ECAST",32,28,37,77,53,65,56,0,0,0,0,0,0,0,0,0,21,0,0,8,0,11,348,369,388]
[{"$f":"VLOOKUP(H201,'Pivot ECAST'!A:B,2,FALSE)","v":1},1,"13329011","1332901","1332901","Dahlia Heights El","3329","1332901","Elementary School","Desegregated/Receiver","Non-PHBAO","f","f","t","f","f","C","C","no","5","Jackie Goldberg",null,null,"ECAST",73,53,48,48,47,58,42,0,0,0,0,0,0,0,0,0,0,0,0,0,0,0,369,369,369]
[{"$f":"VLOOKUP(H202,'Pivot ECAST'!A:B,2,FALSE)","v":1},1,"13335011","1333501","1333501","Danube El","3335","1333501","Elementary School","PHBAO","PHBAO","f","f","t","f","f","NW","NW","no","3","Scott Schmerelson",null,null,"ECAST",60,25,41,25,36,48,0,0,0,0,0,0,0,0,0,0,17,0,0,0,0,24,235,252,276]
[{"$f":"VLOOKUP(H203,'Pivot ECAST'!A:B,2,FALSE)","v":1},1,"13340011","1334001","1334001","Darby Avenue Elementary","3340","1334001","Elementary School","PHBAO","PHBAO","f","f","t","f","f","NW","NW","no","3","Scott Schmerelson",null,null,"ECAST",73,55,69,55,58,64,0,0,0,0,0,0,0,0,0,0,15,0,0,0,0,0,374,389,389]
[{"$f":"VLOOKUP(H204,'Pivot ECAST'!A:B,2,FALSE)","v":2},1,"13356011","1335601","1335601","Dayton Heights El","3356","1335601","Elementary School","PHBAO","PHBAO","f","f","t","f","f","C","C","no","2","Monica Garcia",null,null,"ECAST",27,16,13,11,19,12,0,0,0,0,0,0,0,0,0,0,19,0,0,6,0,0,98,117,123]
[{"$f":"VLOOKUP(H205,'Pivot ECAST'!A:B,2,FALSE)","v":2},2,"13356012","1335602","1335602","Dayton Heights ES Urban Env Science Mag","2332","1335601","Magnet Ctr -Elementary","Magnet 2","Magnet 2","f","f","t","f","f","C","C","no","2","Monica Garcia",null,null,"ECAST",22,17,19,19,25,26,0,0,0,0,0,0,0,0,0,0,0,0,0,0,0,0,128,128,128]
[{"$f":"VLOOKUP(H206,'Pivot ECAST'!A:B,2,FALSE)","v":1},1,"13377011","1337701","1337701","Dearborn El CA","3377","1337701","Elementary School","Desegregated/Receiver","Non-PHBAO","t","t","t","f","f","NW","NW","no","3","Scott Schmerelson",null,null,"ECAST",108,70,71,72,73,74,0,0,0,0,0,0,0,0,0,0,13,0,0,0,0,0,468,481,481]
[{"$f":"VLOOKUP(H207,'Pivot ECAST'!A:B,2,FALSE)","v":1},1,"13384011","1338401","1338401","Del Amo El","3384","1338401","Elementary School","PHBAO","PHBAO","f","f","t","f","f","S","S","no","7","Tanya Ortiz Franklin",null,null,"ECAST",53,39,43,37,47,43,0,0,0,0,0,0,0,0,0,0,14,0,0,0,0,14,262,276,290]
[{"$f":"VLOOKUP(H208,'Pivot ECAST'!A:B,2,FALSE)","v":1},1,"13397011","1339701","1339701","Delevan Drive El","3397","1339701","Elementary School","PHBAO","PHBAO","f","f","t","f","f","C","C","no","5","Jackie Goldberg",null,null,"ECAST",79,60,58,70,59,40,46,0,0,0,0,0,0,0,0,0,29,0,0,0,0,23,412,441,464]
[{"$f":"VLOOKUP(H209,'Pivot ECAST'!A:B,2,FALSE)","v":2},1,"13425011","1342501","1342501","Denker El","3425","1342501","Elementary School","PHBAO","PHBAO","f","f","t","f","f","S","S","no","7","Tanya Ortiz Franklin",null,null,"ECAST",86,72,68,88,77,93,0,0,0,0,0,0,0,0,0,0,13,0,0,4,0,27,484,497,528]
[{"$f":"VLOOKUP(H210,'Pivot ECAST'!A:B,2,FALSE)","v":2},2,"13425012","1342502","1342502","Denker El DL Two-Way Im Korean","2790","1342501","Dual Language Ctr - Elementary","PHBAO","PHBAO","f","f","t","f","f","S","S","no","7","Tanya Ortiz Franklin",null,null,"ECAST",20,18,15,22,18,14,0,0,0,0,0,0,0,0,0,0,0,0,0,0,0,0,107,107,107]
[{"$f":"VLOOKUP(H211,'Pivot ECAST'!A:B,2,FALSE)","v":1},1,"13426011","1342601","1342601","Garza PC","3426","1342601","Primary Center","PHBAO","PHBAO","f","f","t","f","f","E","E","no","2","Monica Garcia",null,null,"ECAST",43,25,22,0,0,0,0,0,0,0,0,0,0,0,0,0,0,0,0,8,0,12,90,90,110]
[{"$f":"VLOOKUP(H212,'Pivot ECAST'!A:B,2,FALSE)","v":1},1,"13438011","1343801","1343801","Dixie Cyn Comm Chtr","3438","1343801","Elementary School","Desegregated/Receiver","Non-PHBAO","t","t","t","f","f","NE","NE","no","3","Scott Schmerelson",null,null,"ECAST",140,103,101,103,88,90,0,0,0,0,0,0,0,0,0,0,13,0,0,7,0,0,625,638,645]
[{"$f":"VLOOKUP(H213,'Pivot ECAST'!A:B,2,FALSE)","v":1},1,"13452011","1345201","1345201","Dolores El","3452","1345201","Elementary School","PHBAO","PHBAO","f","f","t","f","f","S","S","no","7","Tanya Ortiz Franklin",null,null,"ECAST",82,61,73,54,86,83,0,0,0,0,0,0,0,0,0,0,0,0,0,8,0,18,439,439,465]
[{"$f":"VLOOKUP(H214,'Pivot ECAST'!A:B,2,FALSE)","v":2},1,"13466011","1346601","1346601","Dominguez El","3466","1346601","Elementary School","PHBAO","PHBAO","f","f","t","f","f","S","S","no","7","Tanya Ortiz Franklin",null,null,"ECAST",90,52,41,39,43,47,0,0,0,0,0,0,0,0,0,0,0,0,0,0,0,23,312,312,335]
[{"$f":"VLOOKUP(H215,'Pivot ECAST'!A:B,2,FALSE)","v":2},2,"13466012","1346602","1346602","Dominguez El DL Two-Way Im Spanish","2410","1346601","Dual Language Ctr - Elementary","PHBAO","PHBAO","f","f","t","f","f","S","S","no","7","Tanya Ortiz Franklin",null,null,"ECAST",22,20,19,24,24,11,0,0,0,0,0,0,0,0,0,0,0,0,0,0,0,0,120,120,120]
[{"$f":"VLOOKUP(H216,'Pivot ECAST'!A:B,2,FALSE)","v":1},1,"13479011","1347901","1347901","Dorris Place El","3479","1347901","Elementary School","PHBAO","PHBAO","f","f","t","f","f","C","C","no","5","Jackie Goldberg",null,null,"ECAST",46,34,29,22,26,34,29,0,0,0,0,0,0,0,0,0,5,0,0,0,2,8,220,225,235]
[{"$f":"VLOOKUP(H217,'Pivot ECAST'!A:B,2,FALSE)","v":1},1,"13493011","1349301","1349301","Dyer El","3493","1349301","Elementary School","PHBAO","PHBAO","f","f","t","f","f","NE","NE","no","6","Kelly Gonez",null,null,"ECAST",89,82,82,88,87,81,0,0,0,0,0,0,0,0,0,0,25,0,0,11,0,24,509,534,569]
[{"$f":"VLOOKUP(H218,'Pivot ECAST'!A:B,2,FALSE)","v":1},1,"13500011","1350001","1350001","Midcity Prescott Mag","3500","1350001","Magnet School - ELEM","Magnet 2","Magnet 2","f","f","t","f","f","W","W","no","1","George McKenna",null,null,"ECAST",0,20,34,45,47,54,0,0,0,0,0,0,0,0,0,0,0,0,0,0,0,0,200,200,200]
[{"$f":"VLOOKUP(H219,'Pivot ECAST'!A:B,2,FALSE)","v":3},1,"13507011","1350701","1350701","Eagle Rock El","3507","1350701","Elementary School","PHBAO","PHBAO","f","f","t","f","f","C","C","no","5","Jackie Goldberg",null,null,"ECAST",92,74,79,73,65,67,68,0,0,0,0,0,0,0,0,0,43,0,0,0,0,13,518,561,574]
[{"$f":"VLOOKUP(H220,'Pivot ECAST'!A:B,2,FALSE)","v":3},2,"13507012","1350702","1350702","Eagle Rock Hg El Mag","3508","1350701","Magnet Ctr -Elementary","Magnet 1","Magnet 1","f","f","t","f","f","C","C","no","5","Jackie Goldberg",null,null,"ECAST",0,0,0,3,5,14,6,0,0,0,0,0,0,0,0,0,0,0,0,0,0,0,28,28,28]
[{"$f":"VLOOKUP(H221,'Pivot ECAST'!A:B,2,FALSE)","v":3},3,"13507013","1350703","1350703","Eagle Rck G/HA El Mg","4165","1350701","Magnet Ctr -Elementary","Magnet 1","Magnet 1","f","f","t","f","f","C","C","no","5","Jackie Goldberg",null,null,"ECAST",0,0,24,24,29,29,30,0,0,0,0,0,0,0,0,0,0,0,0,0,0,0,136,136,136]
[{"$f":"VLOOKUP(H222,'Pivot ECAST'!A:B,2,FALSE)","v":2},1,"13521011","1352101","1352101","Eastman El","3521","1352101","Elementary School","PHBAO","PHBAO","f","f","t","f","f","E","E","no","2","Monica Garcia",null,null,"ECAST",55,41,47,56,53,45,0,0,0,0,0,0,0,0,0,0,21,0,0,0,0,24,297,318,342]
[{"$f":"VLOOKUP(H223,'Pivot ECAST'!A:B,2,FALSE)","v":2},2,"13521012","1352102","1352102","Eastman El DL One & Two-Way Im Spanish","2791","1352101","Dual Language Ctr - Elementary","PHBAO","PHBAO","f","f","t","f","f","E","E","no","2","Monica Garcia",null,null,"ECAST",51,44,36,45,48,44,0,0,0,0,0,0,0,0,0,0,0,0,0,0,0,0,268,268,268]
[{"$f":"VLOOKUP(H224,'Pivot ECAST'!A:B,2,FALSE)","v":1},1,"13541011","1354101","1354101","El Dorado El","3541","1354101","Elementary School","PHBAO","PHBAO","f","f","t","f","f","NE","NE","no","6","Kelly Gonez",null,null,"ECAST",62,35,32,44,39,48,0,0,0,0,0,0,0,0,0,0,46,0,0,10,0,18,260,306,334]
[{"$f":"VLOOKUP(H225,'Pivot ECAST'!A:B,2,FALSE)","v":1},1,"13545011","1354501","1354501","El Oro Way Chtr CES","3545","1354501","Elementary School","Desegregated/Receiver","Non-PHBAO","t","t","t","f","f","NW","NW","no","3","Scott Schmerelson",null,null,"ECAST",69,62,68,69,72,71,0,0,0,0,0,0,0,0,0,0,0,0,0,0,0,0,411,411,411]
[{"$f":"VLOOKUP(H226,'Pivot ECAST'!A:B,2,FALSE)","v":2},1,"13548011","1354801","1354801","Elizabeth LC","3548","1354801","Span School","PHBAO","PHBAO","f","f","f","f","t","E","E","yes","5","Jackie Goldberg","2x8",null,"ECAST",63,48,66,57,64,70,76,84,104,146,137,142,160,0,0,0,0,13,58,0,0,15,1217,1288,1303]
[{"$f":"VLOOKUP(H227,'Pivot ECAST'!A:B,2,FALSE)","v":2},2,"13548012","1354805","1354805","Elizabeth LC DL Two-Way Im Arabic","2792","1354801","Dual Language Ctr - Elementary","PHBAO","PHBAO","f","f","f","f","f","E","E","yes","5","Jackie Goldberg",null,null,"ECAST",10,5,3,8,9,17,0,0,0,0,0,0,0,0,0,0,0,0,0,0,0,0,52,52,52]
[{"$f":"VLOOKUP(H228,'Pivot ECAST'!A:B,2,FALSE)","v":1},1,"13562011","1356201","1356201","El Sereno El","3562","1356201","Elementary School","PHBAO","PHBAO","f","f","t","f","f","E","E","no","2","Monica Garcia",null,null,"ECAST",55,38,48,29,39,36,36,0,0,0,0,0,0,0,0,0,0,0,0,2,12,0,281,281,295]
[{"$f":"VLOOKUP(H229,'Pivot ECAST'!A:B,2,FALSE)","v":2},1,"13574011","1357401","1357401","Sendak El","3574","1357401","Elementary School","PHBAO","PHBAO","f","f","t","f","f","NE","NE","no","6","Kelly Gonez",null,null,"ECAST",50,33,31,37,27,37,0,0,0,0,0,0,0,0,0,0,16,0,0,0,0,13,215,231,244]
[{"$f":"VLOOKUP(H230,'Pivot ECAST'!A:B,2,FALSE)","v":2},2,"13574012","1357402","1357402","Sendak ES Arts/Comm/Technology Magnet","2341","1357401","Magnet Ctr -Elementary","Magnet 2","Magnet 2","f","f","t","f","f","NE","NE","no","6","Kelly Gonez",null,null,"ECAST",23,16,24,22,25,24,0,0,0,0,0,0,0,0,0,0,0,0,0,0,0,0,134,134,134]
[{"$f":"VLOOKUP(H231,'Pivot ECAST'!A:B,2,FALSE)","v":1},1,"13575011","1357501","1357501","Elysian Heights ES Arts Magnet","3575","1357501","Magnet School - ELEM","Magnet 1","Magnet 1","f","f","t","f","f","C","C","no","5","Jackie Goldberg",null,null,"ECAST",69,64,63,48,58,44,0,0,0,0,0,0,0,0,0,0,0,0,0,0,0,0,346,346,346]
[{"$f":"VLOOKUP(H232,'Pivot ECAST'!A:B,2,FALSE)","v":1},1,"13576011","1357601","1357601","Parks LC","3576","1357601","Elementary School","PHBAO","PHBAO","f","f","t","f","f","NW","NW","no","6","Kelly Gonez",null,null,"ECAST",104,91,85,83,78,72,0,0,0,0,0,0,0,0,0,0,34,0,0,0,29,0,513,547,576]
[{"$f":"VLOOKUP(H233,'Pivot ECAST'!A:B,2,FALSE)","v":1},1,"13577011","1357701","1357701","Bellingham El","3577","1357701","Elementary School","PHBAO","PHBAO","f","f","t","f","f","NE","NE","no","6","Kelly Gonez",null,null,"ECAST",62,50,45,64,41,53,0,0,0,0,0,0,0,0,0,0,25,0,0,9,0,15,315,340,364]
[{"$f":"VLOOKUP(H234,'Pivot ECAST'!A:B,2,FALSE)","v":1},1,"13589011","1358901","1358901","Emelita St El","3589","1358901","Elementary School","PHBAO","PHBAO","f","f","t","f","f","NW","NW","no","4","Nick Melvoin",null,null,"ECAST",43,35,32,39,33,40,0,0,0,0,0,0,0,0,0,0,21,0,0,0,0,0,222,243,243]
[{"$f":"VLOOKUP(H235,'Pivot ECAST'!A:B,2,FALSE)","v":1},1,"13610011","1361001","1361001","Enadia Way Tech Charter","3610","1361001","Elementary School","PHBAO","PHBAO","t","t","t","f","f","NW","NW","no","3","Scott Schmerelson",null,null,"ECAST",26,27,27,23,42,41,0,0,0,0,0,0,0,0,0,0,0,0,0,0,0,0,186,186,186]
[{"$f":"VLOOKUP(H236,'Pivot ECAST'!A:B,2,FALSE)","v":1},1,"13616011","1361601","1361601","Encino Charter El","3616","1361601","Elementary School","Desegregated/Receiver","Non-PHBAO","t","t","t","f","f","NW","NW","no","4","Nick Melvoin",null,null,"ECAST",111,97,97,86,63,75,0,0,0,0,0,0,0,0,0,0,0,0,0,0,0,0,529,529,529]
[{"$f":"VLOOKUP(H237,'Pivot ECAST'!A:B,2,FALSE)","v":1},1,"13630011","1363001","1363001","Erwin El","3630","1363001","Elementary School","Desegregated/Receiver","Non-PHBAO","f","f","t","f","f","NE","NE","no","6","Kelly Gonez",null,null,"ECAST",87,76,80,80,107,99,0,0,0,0,0,0,0,0,0,0,33,0,0,8,0,19,529,562,589]
[{"$f":"VLOOKUP(H238,'Pivot ECAST'!A:B,2,FALSE)","v":1},1,"13640011","1364001","1364001","Eshelman El","3640","1364001","Elementary School","PHBAO","PHBAO","f","f","t","f","f","S","S","no","7","Tanya Ortiz Franklin",null,null,"ECAST",90,65,55,59,62,56,0,0,0,0,0,0,0,0,0,0,15,0,0,0,0,20,387,402,422]
[{"$f":"VLOOKUP(H239,'Pivot ECAST'!A:B,2,FALSE)","v":3},1,"13671011","1367101","1367101","Euclid El","3671","1367101","Elementary School","PHBAO","PHBAO","f","f","t","f","f","E","E","no","2","Monica Garcia",null,null,"ECAST",87,41,40,28,30,30,0,0,0,0,0,0,0,0,0,0,23,0,0,0,0,18,256,279,297]
[{"$f":"VLOOKUP(H240,'Pivot ECAST'!A:B,2,FALSE)","v":3},2,"13671012","1367102","1367102","Euclid Av ES Gifted/STEAM Magnet","3672","1367101","Magnet Ctr -Elementary","Magnet 2","Magnet 2","f","f","t","f","f","E","E","no","2","Monica Garcia",null,null,"ECAST",0,17,25,28,29,34,0,0,0,0,0,0,0,0,0,0,0,0,0,0,0,0,133,133,133]
[{"$f":"VLOOKUP(H241,'Pivot ECAST'!A:B,2,FALSE)","v":3},3,"13671013","1367103","1367103","Euclid El DL Two-Way Im Spanish","2793","1367101","Dual Language Ctr - Elementary","PHBAO","PHBAO","f","f","t","f","f","E","E","no","2","Monica Garcia",null,null,"ECAST",35,33,40,40,31,34,0,0,0,0,0,0,0,0,0,0,0,0,0,0,0,0,213,213,213]
[{"$f":"VLOOKUP(H242,'Pivot ECAST'!A:B,2,FALSE)","v":1},1,"13699011","1369901","1369901","Evergreen El","3699","1369901","Elementary School","PHBAO","PHBAO","f","f","t","f","f","E","E","no","2","Monica Garcia",null,null,"ECAST",70,62,59,86,87,69,68,0,0,0,0,0,0,0,0,0,21,0,0,6,0,11,501,522,539]
[{"$f":"VLOOKUP(H243,'Pivot ECAST'!A:B,2,FALSE)","v":1},1,"13712011","1371201","1371201","Fair El","3712","1371201","Elementary School","PHBAO","PHBAO","f","f","t","f","f","NE","NE","no","6","Kelly Gonez",null,null,"ECAST",120,95,77,101,94,78,0,0,0,0,0,0,0,0,0,0,30,0,0,0,0,14,565,595,609]
[{"$f":"VLOOKUP(H244,'Pivot ECAST'!A:B,2,FALSE)","v":1},1,"13726011","1372601","1372601","Fairburn El","3726","1372601","Elementary School","Desegregated/Receiver","Non-PHBAO","f","f","t","f","f","W","W","no","4","Nick Melvoin",null,null,"ECAST",84,53,58,60,53,50,0,0,0,0,0,0,0,0,0,0,0,0,0,0,0,0,358,358,358]
[{"$f":"VLOOKUP(H245,'Pivot ECAST'!A:B,2,FALSE)","v":2},1,"13740011","1374001","1374001","Farmdale El","3740","1374001","Elementary School","PHBAO","PHBAO","f","f","t","f","f","E","E","no","2","Monica Garcia",null,null,"ECAST",37,25,28,14,16,20,0,0,0,0,0,0,0,0,0,0,15,0,0,0,0,12,140,155,167]
[{"$f":"VLOOKUP(H246,'Pivot ECAST'!A:B,2,FALSE)","v":2},2,"13740012","1374002","1374002","Farmdale El DL Two-Way Im Spanish","2794","1374001","Dual Language Ctr - Elementary","PHBAO","PHBAO","f","f","t","f","f","E","E","no","2","Monica Garcia",null,null,"ECAST",23,21,19,20,18,23,0,0,0,0,0,0,0,0,0,0,0,0,0,0,0,0,124,124,124]
[{"$f":"VLOOKUP(H247,'Pivot ECAST'!A:B,2,FALSE)","v":2},1,"13753011","1375301","1375301","Fernangeles El","3753","1375301","Elementary School","PHBAO","PHBAO","f","f","t","f","f","NE","NE","no","6","Kelly Gonez",null,null,"ECAST",67,44,51,36,45,51,0,0,0,0,0,0,0,0,0,0,33,0,0,14,20,12,294,327,373]
[{"$f":"VLOOKUP(H248,'Pivot ECAST'!A:B,2,FALSE)","v":2},2,"13753012","1375302","1375302","Fernangeles DL One & Two-Way Im Spanish","2796","1375301","Dual Language Ctr - Elementary","PHBAO","PHBAO","f","f","t","f","f","NE","NE","no","6","Kelly Gonez",null,null,"ECAST",33,31,28,21,21,18,0,0,0,0,0,0,0,0,0,0,0,0,0,0,0,0,152,152,152]
[{"$f":"VLOOKUP(H249,'Pivot ECAST'!A:B,2,FALSE)","v":1},1,"13767011","1376701","1376701","15th St El","3767","1376701","Elementary School","PHBAO","PHBAO","f","f","t","f","f","S","S","no","7","Tanya Ortiz Franklin",null,null,"ECAST",53,52,64,55,53,42,0,0,0,0,0,0,0,0,0,0,16,0,0,0,0,22,319,335,357]
[{"$f":"VLOOKUP(H250,'Pivot ECAST'!A:B,2,FALSE)","v":1},1,"13781011","1378101","1378101","54th St El","3781","1378101","Elementary School","PHBAO","PHBAO","f","f","t","f","f","W","W","no","1","George McKenna",null,null,"ECAST",41,35,31,45,38,33,18,0,0,0,0,0,0,0,0,0,17,0,0,0,0,10,241,258,268]
[{"$f":"VLOOKUP(H251,'Pivot ECAST'!A:B,2,FALSE)","v":1},1,"13795011","1379501","1379501","59th St El","3795","1379501","Elementary School","PHBAO","PHBAO","f","f","t","f","f","W","W","no","1","George McKenna",null,null,"ECAST",28,25,26,21,34,28,0,0,0,0,0,0,0,0,0,0,23,0,0,0,0,6,162,185,191]
[{"$f":"VLOOKUP(H252,'Pivot ECAST'!A:B,2,FALSE)","v":1},1,"13808011","1380801","1380801","52nd St El","3808","1380801","Elementary School","PHBAO","PHBAO","f","f","t","f","f","W","W","no","1","George McKenna",null,null,"ECAST",89,77,84,91,84,81,0,0,0,0,0,0,0,0,0,0,44,0,0,18,0,23,506,550,591]
[{"$f":"VLOOKUP(H253,'Pivot ECAST'!A:B,2,FALSE)","v":1},1,"13822011","1382201","1382201","Figueroa El","3822","1382201","Elementary School","PHBAO","PHBAO","f","f","t","f","f","S","S","no","1","George McKenna",null,null,"ECAST",46,42,40,46,68,71,0,0,0,0,0,0,0,0,0,0,20,0,0,6,0,0,313,333,339]
[{"$f":"VLOOKUP(H254,'Pivot ECAST'!A:B,2,FALSE)","v":2},1,"13829011","1382901","1382901","Broadous El","3829","1382901","Elementary School","PHBAO","PHBAO","f","f","t","f","f","NE","NE","no","6","Kelly Gonez",null,null,"ECAST",53,42,50,32,41,42,0,0,0,0,0,0,0,0,0,0,29,0,0,22,0,10,260,289,321]
[{"$f":"VLOOKUP(H255,'Pivot ECAST'!A:B,2,FALSE)","v":2},2,"13829012","1382902","1382902","Hillery T Broadous Elem Science/Tech/Math","3830","1382901","Magnet Ctr -Elementary","Magnet 2","Magnet 2","f","f","t","f","f","NE","NE","no","6","Kelly Gonez",null,null,"ECAST",0,0,0,11,17,22,0,0,0,0,0,0,0,0,0,0,0,0,0,0,0,0,50,50,50]
[{"$f":"VLOOKUP(H256,'Pivot ECAST'!A:B,2,FALSE)","v":1},1,"13836011","1383601","1383601","1st St El","3836","1383601","Elementary School","PHBAO","PHBAO","f","f","t","f","f","E","E","no","2","Monica Garcia",null,null,"ECAST",75,57,47,55,53,37,54,0,0,0,0,0,0,0,0,0,11,0,0,0,15,11,378,389,415]
[{"$f":"VLOOKUP(H257,'Pivot ECAST'!A:B,2,FALSE)","v":2},1,"13849011","1384901","1384901","Fishburn El","3849","1384901","Elementary School","PHBAO","PHBAO","f","f","t","f","f","E","E","no","5","Jackie Goldberg",null,null,"ECAST",36,29,20,15,30,34,0,0,0,0,0,0,0,0,0,0,23,0,0,15,0,15,164,187,217]
[{"$f":"VLOOKUP(H258,'Pivot ECAST'!A:B,2,FALSE)","v":2},2,"13849012","1384902","1384902","Fishburn El DL Two-Way Im Spanish","2411","1384901","Dual Language Ctr - Elementary","PHBAO","PHBAO","f","f","t","f","f","E","E","no","5","Jackie Goldberg",null,null,"ECAST",27,23,38,41,23,19,0,0,0,0,0,0,0,0,0,0,0,0,0,0,0,0,171,171,171]
[{"$f":"VLOOKUP(H259,'Pivot ECAST'!A:B,2,FALSE)","v":2},1,{"$f":"H259&B259","v":"13877011"},"1387701","1387701","Fletcher Dr El","3877","1387701","Elementary School","PHBAO","PHBAO","f","f","t","f","f","C","C","no","5","Jackie Goldberg",null,null,"ECAST",35,15,12,13,12,5,0,0,0,0,0,0,0,0,0,0,0,0,0,0,0,10,92,92,102]
[{"$f":"VLOOKUP(H260,'Pivot ECAST'!A:B,2,FALSE)","v":2},{"$f":"IF(H260=H259,B259+1,1)","v":2},"13877012",{"$f":"E260","v":"1387702"},"1387702","Fletcher Dr ES STEAM Magnet","2443","1387701","Magnet Ctr -Elementary","Magnet 2","Magnet 2","f","f","t","f","f","C","C","no","5","Jackie Goldberg",null,null,"ECAST",0,9,18,17,20,20,0,0,0,0,0,0,0,0,0,0,0,0,0,0,0,0,84,84,84]
[{"$f":"VLOOKUP(H261,'Pivot ECAST'!A:B,2,FALSE)","v":2},1,"13890011","1389001","1389001","Florence El","3890","1389001","Elementary School","PHBAO","PHBAO","f","f","t","f","f","E","E","no","7","Tanya Ortiz Franklin",null,null,"ECAST",36,30,15,23,13,23,28,0,0,0,0,0,0,0,0,0,49,0,0,14,0,16,{"$f":"SUM(Y261:AN261)","v":168},{"$f":"AU261+AO261+AP261+AQ261","v":217},{"$f":"AV261+SUM(AR261:AT261)","v":247}]
[{"$f":"VLOOKUP(H262,'Pivot ECAST'!A:B,2,FALSE)","v":2},2,"13890012","1389002","1389002","Florence El DL Two-Way Im Spanish","2797","1389001","Dual Language Ctr - Elementary","PHBAO","PHBAO","f","f","t","f","f","E","E","no","7","Tanya Ortiz Franklin",null,null,"ECAST",58,35,37,53,47,54,39,0,0,0,0,0,0,0,0,0,0,0,0,0,0,0,323,323,323]
[{"$f":"VLOOKUP(H263,'Pivot ECAST'!A:B,2,FALSE)","v":2},1,"13918011","1391801","1391801","Ford Blvd El","3918","1391801","Elementary School","PHBAO","PHBAO","f","f","t","f","f","E","E","no","2","Monica Garcia",null,null,"ECAST",72,53,62,60,71,43,0,0,0,0,0,0,0,0,0,0,68,0,0,10,0,12,361,429,451]
[{"$f":"VLOOKUP(H264,'Pivot ECAST'!A:B,2,FALSE)","v":2},2,"13918012","1391802","1391802","Ford Blvd El DL Two-Way Im Spanish","2798","1391801","Dual Language Ctr - Elementary","PHBAO","PHBAO","f","f","t","f","f","E","E","no","2","Monica Garcia",null,null,"ECAST",63,46,62,70,63,84,0,0,0,0,0,0,0,0,0,0,0,0,0,0,0,18,388,388,406]
[{"$f":"VLOOKUP(H265,'Pivot ECAST'!A:B,2,FALSE)","v":1},1,"13932011","1393201","1393201","49th St El","3932","1393201","Elementary School","PHBAO","PHBAO","f","f","t","f","f","C","C","no","7","Tanya Ortiz Franklin",null,null,"ECAST",86,75,68,87,99,92,0,0,0,0,0,0,0,0,0,0,11,0,0,12,0,17,507,518,547]
[{"$f":"VLOOKUP(H266,'Pivot ECAST'!A:B,2,FALSE)","v":2},1,"13959011","1395901","1395901","42nd St El","3959","1395901","Elementary School","PHBAO","PHBAO","f","f","t","f","f","W","W","no","1","George McKenna",null,null,"ECAST",18,11,13,16,15,33,0,0,0,0,0,0,0,0,0,0,16,0,0,0,0,6,106,122,128]
[{"$f":"VLOOKUP(H267,'Pivot ECAST'!A:B,2,FALSE)","v":2},2,"13959012","1395902","1395902","42nd St El DL World Lang Im Spanish","4813","1395901","Dual Language Ctr - Elementary","PHBAO","PHBAO","f","f","t","f","f","W","W","no","1","George McKenna",null,null,"ECAST",17,14,19,17,0,0,0,0,0,0,0,0,0,0,0,0,0,0,0,0,0,0,67,67,67]
[{"$f":"VLOOKUP(H268,'Pivot ECAST'!A:B,2,FALSE)","v":2},1,"13973011","1397301","1397301","4th St El","3973","1397301","Elementary School","PHBAO","PHBAO","f","f","t","f","f","E","E","no","2","Monica Garcia",null,null,"ECAST",0,0,42,51,62,54,0,0,0,0,0,0,0,0,0,0,28,0,0,0,0,0,209,237,237]
[{"$f":"VLOOKUP(H269,'Pivot ECAST'!A:B,2,FALSE)","v":2},2,"13973012","1397302","1397302","4th Street El DL Two-Way Im Spanish","3973","1397301","Dual Language Ctr - Elementary","PHBAO","PHBAO","f","f","t","f","f","E","E","no","2","Monica Garcia",null,null,"ECAST",0,0,18,18,0,0,0,0,0,0,0,0,0,0,0,0,0,0,0,0,0,0,36,36,36]
[{"$f":"VLOOKUP(H270,'Pivot ECAST'!A:B,2,FALSE)","v":2},1,"13974011","1397401","1397401","4th Street Primary Center","3974","1397401","Primary Center","PHBAO","PHBAO","f","f","t","f","f","E","E","no","2","Monica Garcia",null,null,"ECAST",61,48,0,0,0,0,0,0,0,0,0,0,0,0,0,0,13,0,0,0,0,20,109,122,142]
[{"$f":"VLOOKUP(H271,'Pivot ECAST'!A:B,2,FALSE)","v":2},2,"13974012","1397402","1397402","4th St PC DL Two-Way Im Spanish","2759","1397401","Dual Language Ctr - Elementary","PHBAO","PHBAO","f","f","t","f","f","E","E","no","2","Monica Garcia",null,null,"ECAST",17,17,0,0,0,0,0,0,0,0,0,0,0,0,0,0,0,0,0,0,0,0,34,34,34]
[{"$f":"VLOOKUP(H272,'Pivot ECAST'!A:B,2,FALSE)","v":1},1,"13986011","1398601","1398601","Franklin El","3986","1398601","Elementary School","Desegregated/Receiver","Non-PHBAO","f","f","t","f","f","C","C","no","2","Monica Garcia",null,null,"ECAST",87,62,64,69,42,64,0,0,0,0,0,0,0,0,0,0,0,0,0,0,0,0,388,388,388]
[{"$f":"VLOOKUP(H273,'Pivot ECAST'!A:B,2,FALSE)","v":1},1,"14014011","1401401","1401401","Fries El","4014","1401401","Elementary School","PHBAO","PHBAO","f","f","t","f","f","S","S","no","7","Tanya Ortiz Franklin",null,null,"ECAST",49,41,52,39,45,66,0,0,0,0,0,0,0,0,0,0,31,0,0,0,0,23,292,323,346]
[{"$f":"VLOOKUP(H274,'Pivot ECAST'!A:B,2,FALSE)","v":1},1,"14020011","1402001","1402001","Bakewell PC","4020","1402001","Primary Center","PHBAO","PHBAO","f","f","t","f","f","S","S","no","1","George McKenna",null,null,"ECAST",107,0,0,0,0,0,0,0,0,0,0,0,0,0,0,0,0,0,0,6,0,24,107,107,137]
[{"$f":"VLOOKUP(H275,'Pivot ECAST'!A:B,2,FALSE)","v":2},1,"14027011","1402701","1402701","Fullbright El","4027","1402701","Elementary School","PHBAO","PHBAO","f","f","t","f","f","NW","NW","no","4","Nick Melvoin",null,null,"ECAST",46,27,18,36,54,61,0,0,0,0,0,0,0,0,0,0,7,0,0,0,10,8,242,249,267]
[{"$f":"VLOOKUP(H276,'Pivot ECAST'!A:B,2,FALSE)","v":2},2,"14027012","1402702","1402702","Fullbright Ave El DL Two-Way Im Spanish","4822","1402701","Dual Language Ctr - Elementary","PHBAO","PHBAO","f","f","t","f","f","NW","NW","no","4","Nick Melvoin",null,null,"ECAST",22,25,21,19,0,0,0,0,0,0,0,0,0,0,0,0,0,0,0,0,0,0,87,87,87]
[{"$f":"VLOOKUP(H277,'Pivot ECAST'!A:B,2,FALSE)","v":2},1,"14041011","1404101","1404101","Gardena El","4041","1404101","Elementary School","PHBAO","PHBAO","f","f","t","f","f","S","S","no","7","Tanya Ortiz Franklin",null,null,"ECAST",52,26,44,52,48,48,0,0,0,0,0,0,0,0,0,0,0,0,0,0,0,18,270,270,288]
[{"$f":"VLOOKUP(H278,'Pivot ECAST'!A:B,2,FALSE)","v":2},2,"14041012","1404102","1404102","Gardena El DL Two-Way Im Spanish","2799","1404101","Dual Language Ctr - Elementary","PHBAO","PHBAO","f","f","t","f","f","S","S","no","7","Tanya Ortiz Franklin",null,null,"ECAST",25,21,20,20,19,14,0,0,0,0,0,0,0,0,0,0,0,0,0,0,0,0,119,119,119]
[{"$f":"VLOOKUP(H279,'Pivot ECAST'!A:B,2,FALSE)","v":1},1,"14055011","1405501","1405501","Garden Grove El","4055","1405501","Elementary School","PHBAO","PHBAO","f","f","t","f","f","NW","NW","no","4","Nick Melvoin",null,null,"ECAST",58,48,42,56,45,45,0,0,0,0,0,0,0,0,0,0,0,0,0,8,0,11,294,294,313]
[{"$f":"VLOOKUP(H280,'Pivot ECAST'!A:B,2,FALSE)","v":2},1,"14068011","1406801","1406801","Gardner El","4068","1406801","Elementary School","Desegregated/Receiver","Non-PHBAO","f","f","t","f","f","W","W","no","4","Nick Melvoin",null,null,"ECAST",71,49,28,26,25,18,0,0,0,0,0,0,0,0,0,0,0,0,0,0,30,0,217,217,247]
[{"$f":"VLOOKUP(H281,'Pivot ECAST'!A:B,2,FALSE)","v":2},2,"14068012","1406802","1406802","Gardner St ES Arts Integration Magnet","4067","1406801","Magnet Ctr -Elementary","Magnet 1","Magnet 1","f","f","t","f","f","W","W","no","4","Nick Melvoin",null,null,"ECAST",22,24,24,24,29,27,0,0,0,0,0,0,0,0,0,0,0,0,0,0,0,0,150,150,150]
[{"$f":"VLOOKUP(H282,'Pivot ECAST'!A:B,2,FALSE)","v":1},1,"14082011","1408201","1408201","Garvanza ES Tech/Leadership Magnet","4082","1408201","Magnet School - ELEM","Magnet 2","Magnet 2","f","f","t","f","f","C","C","no","2","Monica Garcia",null,null,"ECAST",43,44,39,38,40,46,0,0,0,0,0,0,0,0,0,0,0,0,0,2,0,17,250,250,269]
[{"$f":"VLOOKUP(H283,'Pivot ECAST'!A:B,2,FALSE)","v":3},1,"14096011","1409601","1409601","Gates El","4096","1409601","Elementary School","PHBAO","PHBAO","f","f","t","f","f","E","E","no","2","Monica Garcia",null,null,"ECAST",58,40,28,38,42,45,0,0,0,0,0,0,0,0,0,0,23,0,0,0,25,15,251,274,314]
[{"$f":"VLOOKUP(H284,'Pivot ECAST'!A:B,2,FALSE)","v":3},2,"14096012","1409602","1409602","Gates El DL Two-Way Im Spanish","2800","1409601","Dual Language Ctr - Elementary","PHBAO","PHBAO","f","f","t","f","f","E","E","no","2","Monica Garcia",null,null,"ECAST",23,25,37,39,30,21,0,0,0,0,0,0,0,0,0,0,0,0,0,0,0,0,175,175,175]
[{"$f":"VLOOKUP(H285,'Pivot ECAST'!A:B,2,FALSE)","v":3},3,"14096013","1409603","1409603","Gates St El DL Two-Way Im Mandarin","2760","1409601","Dual Language Ctr - Elementary","PHBAO","PHBAO","f","f","t","f","f","E","E","no","2","Monica Garcia",null,null,"ECAST",11,9,6,0,0,0,0,0,0,0,0,0,0,0,0,0,0,0,0,0,0,0,26,26,26]
[{"$f":"VLOOKUP(H286,'Pivot ECAST'!A:B,2,FALSE)","v":1},1,"14110011","1411001","1411001","Gault El","4110","1411001","Elementary School","PHBAO","PHBAO","f","f","t","f","f","NW","NW","no","3","Scott Schmerelson",null,null,"ECAST",58,44,42,41,33,36,0,0,0,0,0,0,0,0,0,0,15,0,0,0,14,0,254,269,283]
[{"$f":"VLOOKUP(H287,'Pivot ECAST'!A:B,2,FALSE)","v":1},1,"14117011","1411701","1411701","Germain Acad AA","4117","1411701","Elementary School","PHBAO","PHBAO","f","f","t","f","f","NW","NW","no","3","Scott Schmerelson",null,null,"ECAST",83,62,81,87,70,67,0,0,0,0,0,0,0,0,0,0,24,0,0,15,0,23,450,474,512]
[{"$f":"VLOOKUP(H288,'Pivot ECAST'!A:B,2,FALSE)","v":1},1,"14123011","1412301","1412301","Glassell Park ES STEAM Magnet","4123","1412301","Magnet School - ELEM","Magnet 2","Magnet 2","f","f","t","f","f","C","C","no","5","Jackie Goldberg",null,null,"ECAST",54,33,45,44,41,46,0,0,0,0,0,0,0,0,0,0,0,0,0,0,0,12,263,263,275]
[{"$f":"VLOOKUP(H289,'Pivot ECAST'!A:B,2,FALSE)","v":2},1,"14130011","1413001","1413001","Gledhill El","4130","1413001","Elementary School","PHBAO","PHBAO","f","f","t","f","f","NW","NW","no","6","Kelly Gonez",null,null,"ECAST",45,22,9,11,10,16,0,0,0,0,0,0,0,0,0,0,17,0,0,12,0,0,113,130,142]
[{"$f":"VLOOKUP(H290,'Pivot ECAST'!A:B,2,FALSE)","v":2},2,"14130012","1413002","1413002","Gledhill Street Elem Science/Tech/Math Magnet","4132","1413001","Magnet Ctr -Elementary","Magnet 2","Magnet 2","f","f","t","f","f","NW","NW","no","6","Kelly Gonez",null,null,"ECAST",0,22,28,37,47,53,0,0,0,0,0,0,0,0,0,0,0,0,0,0,0,0,187,187,187]
[{"$f":"VLOOKUP(H291,'Pivot ECAST'!A:B,2,FALSE)","v":1},1,"14137011","1413701","1413701","Glen Alta El","4137","1413701","Span School","PHBAO","PHBAO","f","f","t","f","t","E","E","yes","2","Monica Garcia",null,null,"ECAST",10,8,10,11,11,20,20,20,12,0,0,0,0,0,0,0,0,0,0,0,0,0,122,122,122]
[{"$f":"VLOOKUP(H292,'Pivot ECAST'!A:B,2,FALSE)","v":1},1,"14164011","1416401","1416401","Glenfeliz Blvd El","4164","1416401","Elementary School","PHBAO","PHBAO","f","f","t","f","f","C","C","no","5","Jackie Goldberg",null,null,"ECAST",42,26,18,20,21,26,15,0,0,0,0,0,0,0,0,0,6,0,0,6,0,0,168,174,180]
[{"$f":"VLOOKUP(H293,'Pivot ECAST'!A:B,2,FALSE)","v":1},1,"14192011","1419201","1419201","Glenwood El","4192","1419201","Elementary School","PHBAO","PHBAO","f","f","t","f","f","NE","NE","no","6","Kelly Gonez",null,null,"ECAST",45,31,28,24,33,28,0,0,0,0,0,0,0,0,0,0,4,0,0,7,0,11,189,193,211]
[{"$f":"VLOOKUP(H294,'Pivot ECAST'!A:B,2,FALSE)","v":2},1,"14219011","1421901","1421901","Graham El","4219","1421901","Elementary School","PHBAO","PHBAO","f","f","t","f","f","S","S","no","7","Tanya Ortiz Franklin",null,null,"ECAST",53,35,42,40,40,76,49,0,0,0,0,0,0,0,0,0,21,0,0,7,0,17,335,356,380]
[{"$f":"VLOOKUP(H295,'Pivot ECAST'!A:B,2,FALSE)","v":2},2,"14219012","1421902","1421902","Graham El DL Two-Way Im Spanish","2454","1421901","Dual Language Ctr - Elementary","PHBAO","PHBAO","f","f","t","f","f","S","S","no","7","Tanya Ortiz Franklin",null,null,"ECAST",32,30,35,29,34,0,0,0,0,0,0,0,0,0,0,0,0,0,0,0,0,0,160,160,160]
[{"$f":"VLOOKUP(H296,'Pivot ECAST'!A:B,2,FALSE)","v":1},1,"14233011","1423301","1423301","Granada Elementary","4233","1423301","Elementary School","PHBAO","PHBAO","f","f","t","f","f","NW","NW","no","3","Scott Schmerelson",null,null,"ECAST",84,61,52,49,38,58,0,0,0,0,0,0,0,0,0,0,16,0,0,15,29,0,342,358,402]
[{"$f":"VLOOKUP(H297,'Pivot ECAST'!A:B,2,FALSE)","v":2},1,"14247011","1424701","1424701","Grand View El","4247","1424701","Elementary School","PHBAO","PHBAO","f","f","t","f","f","W","W","no","4","Nick Melvoin",null,null,"ECAST",24,20,23,18,32,29,0,0,0,0,0,0,0,0,0,0,16,0,0,6,0,16,146,162,184]
[{"$f":"VLOOKUP(H298,'Pivot ECAST'!A:B,2,FALSE)","v":2},2,"14247012","1424702","1424702","Grand View El DL Two-Way Im Spanish","2801","1424701","Dual Language Ctr - Elementary","PHBAO","PHBAO","f","f","t","f","f","W","W","no","4","Nick Melvoin",null,null,"ECAST",89,67,54,58,55,53,0,0,0,0,0,0,0,0,0,0,0,0,0,0,0,38,376,376,414]
[{"$f":"VLOOKUP(H299,'Pivot ECAST'!A:B,2,FALSE)","v":2},1,"14260011","1426001","1426001","Grant El","4260","1426001","Elementary School","PHBAO","PHBAO","f","f","t","f","f","W","W","no","5","Jackie Goldberg",null,null,"ECAST",38,36,39,39,51,54,47,0,0,0,0,0,0,0,0,0,35,0,0,7,0,0,304,339,346]
[{"$f":"VLOOKUP(H300,'Pivot ECAST'!A:B,2,FALSE)","v":2},2,"14260012","1426002","1426002","Grant El DL Two-Way Im Armenian","4823","1426001","Dual Language Ctr - Elementary","Desegregated/Receiver","Non-PHBAO","f","f","t","f","f","W","W","no","5","Jackie Goldberg",null,null,"ECAST",6,1,5,6,7,0,0,0,0,0,0,0,0,0,0,0,0,0,0,0,0,0,25,25,25]
[{"$f":"VLOOKUP(H301,'Pivot ECAST'!A:B,2,FALSE)","v":1},1,"14274011","1427401","1427401","Grape El","4274","1427401","Elementary School","PHBAO","PHBAO","f","f","t","f","f","S","S","no","7","Tanya Ortiz Franklin",null,null,"ECAST",48,39,64,47,57,60,0,0,0,0,0,0,0,0,0,0,9,0,0,0,0,13,315,324,337]
[{"$f":"VLOOKUP(H302,'Pivot ECAST'!A:B,2,FALSE)","v":2},1,"14295011","1429501","1429501","Gridley El","4295","1429501","Elementary School","PHBAO","PHBAO","f","f","t","f","f","NE","NE","no","6","Kelly Gonez",null,null,"ECAST",76,52,41,52,53,41,0,0,0,0,0,0,0,0,0,0,28,0,0,27,0,24,315,343,394]
[{"$f":"VLOOKUP(H303,'Pivot ECAST'!A:B,2,FALSE)","v":2},2,"14295012","1429502","1429502","Gridley El DL Two-Way Im Spanish","2803","1429501","Dual Language Ctr - Elementary","PHBAO","PHBAO","f","f","t","f","f","NE","NE","no","6","Kelly Gonez",null,null,"ECAST",23,26,9,18,16,21,0,0,0,0,0,0,0,0,0,0,0,0,0,0,0,0,113,113,113]
[{"$f":"VLOOKUP(H304,'Pivot ECAST'!A:B,2,FALSE)","v":1},1,"14301011","1430101","1430101","Griffin El","4301","1430101","Elementary School","PHBAO","PHBAO","f","f","t","f","f","E","E","no","2","Monica Garcia",null,null,"ECAST",46,35,47,46,46,41,0,0,0,0,0,0,0,0,0,0,17,0,0,0,0,13,261,278,291]
[{"$f":"VLOOKUP(H305,'Pivot ECAST'!A:B,2,FALSE)","v":2},1,"14315011","1431501","1431501","Gulf El","4315","1431501","Elementary School","PHBAO","PHBAO","f","f","t","f","f","S","S","no","7","Tanya Ortiz Franklin",null,null,"ECAST",99,67,86,69,68,73,0,0,0,0,0,0,0,0,0,0,20,0,0,0,0,31,462,482,513]
[{"$f":"VLOOKUP(H306,'Pivot ECAST'!A:B,2,FALSE)","v":2},2,"14315012","1431502","1431502","Gulf ES STEAM Magnet","2325","1431501","Magnet Ctr -Elementary","Magnet 2","Magnet 2","f","f","t","f","f","S","S","no","7","Tanya Ortiz Franklin",null,null,"ECAST",19,19,21,22,25,27,0,0,0,0,0,0,0,0,0,0,0,0,0,0,0,0,133,133,133]
[{"$f":"VLOOKUP(H307,'Pivot ECAST'!A:B,2,FALSE)","v":1},1,"14322011","1432201","1432201","Arroyo Seco Musm Sci","4322","1432201","Span Magnet School","Magnet 2","Magnet 2","f","f","f","f","t","C","C","yes","2","Monica Garcia",null,null,"ECAST",48,48,48,48,54,54,60,60,60,0,0,0,0,0,0,0,0,0,0,0,0,0,480,480,480]
[{"$f":"VLOOKUP(H308,'Pivot ECAST'!A:B,2,FALSE)","v":2},1,"14329011","1432901","1432901","Haddon El","4329","1432901","Elementary School","PHBAO","PHBAO","f","f","t","f","f","NE","NE","no","6","Kelly Gonez",null,null,"ECAST",90,51,61,68,69,67,0,0,0,0,0,0,0,0,0,0,37,0,0,6,9,22,406,443,480]
[{"$f":"VLOOKUP(H309,'Pivot ECAST'!A:B,2,FALSE)","v":2},2,"14329012","1432902","1432902","Haddon Av ES STEAM Magnet","2334","1432901","Magnet Ctr -Elementary","Magnet 2","Magnet 2","f","f","t","f","f","NE","NE","no","6","Kelly Gonez",null,null,"ECAST",39,46,24,24,27,26,0,0,0,0,0,0,0,0,0,0,0,0,0,0,0,0,186,186,186]
[{"$f":"VLOOKUP(H310,'Pivot ECAST'!A:B,2,FALSE)","v":1},1,"14342011","1434201","1434201","Halldale El","4342","1434201","Elementary School","PHBAO","PHBAO","f","f","t","f","f","S","S","no","7","Tanya Ortiz Franklin",null,null,"ECAST",88,61,55,71,60,56,0,0,0,0,0,0,0,0,0,0,39,0,0,9,0,12,391,430,451]
[{"$f":"VLOOKUP(H311,'Pivot ECAST'!A:B,2,FALSE)","v":1},1,"14349011","1434901","1434901","Hamlin CA","4349","1434901","Elementary School","PHBAO","PHBAO","t","t","t","f","f","NW","NW","no","3","Scott Schmerelson",null,null,"ECAST",56,36,39,51,42,44,0,0,0,0,0,0,0,0,0,0,21,0,0,17,0,0,268,289,306]
[{"$f":"VLOOKUP(H312,'Pivot ECAST'!A:B,2,FALSE)","v":2},1,"14356011","1435601","1435601","Anton El","4356","1435601","Elementary School","PHBAO","PHBAO","f","f","t","f","f","E","E","no","2","Monica Garcia",null,null,"ECAST",42,42,32,34,73,56,72,0,0,0,0,0,0,0,0,0,12,0,0,3,0,0,351,363,366]
[{"$f":"VLOOKUP(H313,'Pivot ECAST'!A:B,2,FALSE)","v":2},2,"14356012","1435602","1435602","Anton El DL Two-Way Im Spanish","4814","1435601","Dual Language Ctr - Elementary","PHBAO","PHBAO","f","f","t","f","f","E","E","no","2","Monica Garcia",null,null,"ECAST",23,21,19,16,0,0,0,0,0,0,0,0,0,0,0,0,0,0,0,0,0,0,79,79,79]
[{"$f":"VLOOKUP(H314,'Pivot ECAST'!A:B,2,FALSE)","v":1},1,"14397011","1439701","1439701","Hancock Park El","4397","1439701","Elementary School","Desegregated/Receiver","Non-PHBAO","f","f","t","f","f","W","W","no","4","Nick Melvoin",null,null,"ECAST",108,89,73,80,64,54,0,0,0,0,0,0,0,0,0,0,23,0,0,0,0,0,468,491,491]
[{"$f":"VLOOKUP(H315,'Pivot ECAST'!A:B,2,FALSE)","v":1},1,"14425011","1442501","1442501","Harbor City El","4425","1442501","Elementary School","PHBAO","PHBAO","f","f","t","f","f","S","S","no","7","Tanya Ortiz Franklin",null,null,"ECAST",81,69,59,58,68,56,0,0,0,0,0,0,0,0,0,0,15,0,0,0,0,12,391,406,418]
[{"$f":"VLOOKUP(H316,'Pivot ECAST'!A:B,2,FALSE)","v":1},1,"14431011","1443101","1443101","Harding El","4431","1443101","Elementary School","PHBAO","PHBAO","f","f","t","f","f","NE","NE","no","6","Kelly Gonez",null,null,"ECAST",74,52,44,53,36,53,0,0,0,0,0,0,0,0,0,0,36,0,0,0,0,14,312,348,362]
[{"$f":"VLOOKUP(H317,'Pivot ECAST'!A:B,2,FALSE)","v":2},1,"14438011","1443801","1443801","Harrison El","4438","1443801","Elementary School","PHBAO","PHBAO","f","f","t","f","f","E","E","no","2","Monica Garcia",null,null,"ECAST",23,15,16,24,21,37,36,0,0,0,0,0,0,0,0,0,24,0,0,6,0,11,172,196,213]
[{"$f":"VLOOKUP(H318,'Pivot ECAST'!A:B,2,FALSE)","v":2},2,"14438012","1443802","1443802","Harrison El DL Two-Way Im Spanish","4825","1443801","Dual Language Ctr - Elementary","PHBAO","PHBAO","f","f","t","f","f","E","E","no","2","Monica Garcia",null,null,"ECAST",14,14,23,24,19,0,0,0,0,0,0,0,0,0,0,0,0,0,0,0,0,0,94,94,94]
[{"$f":"VLOOKUP(H319,'Pivot ECAST'!A:B,2,FALSE)","v":1},1,"14445011","1444501","1444501","Hart St El","4445","1444501","Elementary School","PHBAO","PHBAO","f","f","t","f","f","NW","NW","no","3","Scott Schmerelson",null,null,"ECAST",135,93,95,90,97,104,0,0,0,0,0,0,0,0,0,0,32,0,0,5,31,17,614,646,699]
[{"$f":"VLOOKUP(H320,'Pivot ECAST'!A:B,2,FALSE)","v":1},1,"14452011","1445201","1445201","Haskell STEAM Magnet","4452","1445201","Magnet School - ELEM","Magnet 2","Magnet 2","f","f","t","f","f","NW","NW","no","3","Scott Schmerelson",null,null,"ECAST",59,88,83,89,97,104,0,0,0,0,0,0,0,0,0,0,7,0,0,8,0,0,520,527,535]
[{"$f":"VLOOKUP(H321,'Pivot ECAST'!A:B,2,FALSE)","v":2},1,"14466011","1446601","1446601","Hawaiian El","4466","1446601","Elementary School","PHBAO","PHBAO","f","f","t","f","f","S","S","no","7","Tanya Ortiz Franklin",null,null,"ECAST",104,53,37,51,54,56,0,0,0,0,0,0,0,0,0,0,9,0,0,13,0,19,355,364,396]
[{"$f":"VLOOKUP(H322,'Pivot ECAST'!A:B,2,FALSE)","v":2},2,"14466012","1446602","1446602","Hawaiian ES STEAM Magnet","2326","1446601","Magnet Ctr -Elementary","Magnet 2","Magnet 2","f","f","t","f","f","S","S","no","7","Tanya Ortiz Franklin",null,null,"ECAST",0,20,23,20,25,26,0,0,0,0,0,0,0,0,0,0,0,0,0,0,0,0,114,114,114]
[{"$f":"VLOOKUP(H323,'Pivot ECAST'!A:B,2,FALSE)","v":1},1,{"$f":"H323&B323","v":"14473011"},"1447301","1447301","Haynes CES","4473","1447301","Elementary School","Desegregated/Receiver","Non-PHBAO","t","t","t","f","f","NW","NW","no","3","Scott Schmerelson",null,null,"ECAST",57,46,50,56,55,55,0,0,0,0,0,0,0,0,0,0,0,0,0,10,0,0,319,319,329]
[{"$f":"VLOOKUP(H324,'Pivot ECAST'!A:B,2,FALSE)","v":2},{"$f":"IF(H324=H323,B323+1,1)","v":1},"14493011",{"$f":"E324","v":"1449301"},"1449301","Hazeltine El","4493","1449301","Elementary School","PHBAO","PHBAO","f","f","t","f","f","NE","NE","no","3","Scott Schmerelson",null,null,"ECAST",78,49,66,53,35,84,0,0,0,0,0,0,0,0,0,0,40,0,0,0,25,29,365,405,459]
[{"$f":"VLOOKUP(H325,'Pivot ECAST'!A:B,2,FALSE)","v":2},2,"14493012","1449302","1449302","Hazeltine El DL Two-Way Im Spanish","2412","1449301","Dual Language Ctr - Elementary","PHBAO","PHBAO","f","f","t","f","f","NE","NE","no","3","Scott Schmerelson",null,null,"ECAST",44,23,43,35,40,0,0,0,0,0,0,0,0,0,0,0,0,0,0,0,0,0,{"$f":"SUM(Y325:AN325)","v":185},{"$f":"AU325+AO325+AP325+AQ325","v":185},{"$f":"AV325+SUM(AR325:AT325)","v":185}]
[{"$f":"VLOOKUP(H326,'Pivot ECAST'!A:B,2,FALSE)","v":1},1,"14507011","1450701","1450701","Heliotrope El","4507","1450701","Elementary School","PHBAO","PHBAO","f","f","t","f","f","E","E","no","5","Jackie Goldberg",null,null,"ECAST",80,69,71,69,61,64,0,0,0,0,0,0,0,0,0,0,48,0,0,0,0,19,414,462,481]
[{"$f":"VLOOKUP(H327,'Pivot ECAST'!A:B,2,FALSE)","v":1},1,"14515011","1451501","1451501","Herrick El","4515","1451501","Elementary School","PHBAO","PHBAO","f","f","t","f","f","NE","NE","no","6","Kelly Gonez",null,null,"ECAST",68,46,51,67,56,53,0,0,0,0,0,0,0,0,0,0,25,0,0,11,0,19,341,366,396]
[{"$f":"VLOOKUP(H328,'Pivot ECAST'!A:B,2,FALSE)","v":1},1,"14521011","1452101","1452101","Hesby Oaks Lead Chtr","4521","1452101","Span School","Desegregated/Receiver","Non-PHBAO","t","t","f","f","t","NW","NW","yes","4","Nick Melvoin",null,null,"ECAST",40,41,41,48,68,49,65,56,58,0,0,0,0,0,0,0,0,0,0,0,0,0,466,466,466]
[{"$f":"VLOOKUP(H329,'Pivot ECAST'!A:B,2,FALSE)","v":3},1,"14528011","1452801","1452801","Hillcrest Dr El","4528","1452801","Elementary School","PHBAO","PHBAO","f","f","t","f","f","W","W","no","1","George McKenna",null,null,"ECAST",56,35,36,42,38,29,0,0,0,0,0,0,0,0,0,0,34,0,0,14,0,17,236,270,301]
[{"$f":"VLOOKUP(H330,'Pivot ECAST'!A:B,2,FALSE)","v":3},2,"14528012","1452802","1452802","Hillcrest Drive Elementary Music Magnet","4529","1452801","Magnet Ctr -Elementary","Magnet 2","Magnet 2","f","f","t","f","f","W","W","no","1","George McKenna",null,null,"ECAST",20,17,17,21,24,23,0,0,0,0,0,0,0,0,0,0,0,0,0,0,0,0,122,122,122]
[{"$f":"VLOOKUP(H331,'Pivot ECAST'!A:B,2,FALSE)","v":3},3,"14528013","1452803","1452803","Hillcrest Dr El DL Two-Way Im Spanish","2804","1452801","Dual Language Ctr - Elementary","PHBAO","PHBAO","f","f","t","f","f","W","W","no","1","George McKenna",null,null,"ECAST",12,12,19,20,18,13,0,0,0,0,0,0,0,0,0,0,0,0,0,0,0,0,94,94,94]
[{"$f":"VLOOKUP(H332,'Pivot ECAST'!A:B,2,FALSE)","v":1},1,"14534011","1453401","1453401","Hillside El","4534","1453401","Elementary School","PHBAO","PHBAO","f","f","t","f","f","E","E","no","2","Monica Garcia",null,null,"ECAST",17,13,17,10,17,18,0,0,0,0,0,0,0,0,0,0,0,0,0,13,0,2,92,92,107]
[{"$f":"VLOOKUP(H333,'Pivot ECAST'!A:B,2,FALSE)","v":2},1,"14548011","1454801","1454801","Hobart Blvd El","4548","1454801","Elementary School","PHBAO","PHBAO","f","f","t","f","f","C","C","no","5","Jackie Goldberg",null,null,"ECAST",39,24,43,33,71,73,0,0,0,0,0,0,0,0,0,0,49,0,0,0,0,13,283,332,345]
[{"$f":"VLOOKUP(H334,'Pivot ECAST'!A:B,2,FALSE)","v":2},2,"14548012","1454802","1454802","Hobart Blvd El DL Two-Way Im Spanish","4827","1454801","Dual Language Ctr - Elementary","PHBAO","PHBAO","f","f","t","f","f","C","C","no","5","Jackie Goldberg",null,null,"ECAST",16,16,11,17,0,0,0,0,0,0,0,0,0,0,0,0,0,0,0,0,0,0,60,60,60]
[{"$f":"VLOOKUP(H335,'Pivot ECAST'!A:B,2,FALSE)","v":1},1,"14562011","1456201","1456201","Holmes El","4562","1456201","Elementary School","PHBAO","PHBAO","f","f","t","f","f","E","E","no","5","Jackie Goldberg",null,null,"ECAST",18,22,27,24,22,24,16,0,0,0,0,0,0,0,0,0,0,0,0,0,0,0,153,153,153]
[{"$f":"VLOOKUP(H336,'Pivot ECAST'!A:B,2,FALSE)","v":2},1,"14575011","1457501","1457501","Hooper El","4575","1457501","Elementary School","PHBAO","PHBAO","f","f","t","f","f","C","C","no","5","Jackie Goldberg",null,null,"ECAST",0,71,80,95,111,107,0,0,0,0,0,0,0,0,0,0,32,0,0,0,0,0,464,496,496]
[{"$f":"VLOOKUP(H337,'Pivot ECAST'!A:B,2,FALSE)","v":2},2,"14575012","1457502","1457502","Hooper El DL Two-Way Im Spanish","2298","1457501","Dual Language Ctr - Elementary","PHBAO","PHBAO","f","f","t","f","f","C","C","no","5","Jackie Goldberg",null,null,"ECAST",0,30,30,37,39,51,0,0,0,0,0,0,0,0,0,0,0,0,0,0,0,0,187,187,187]
[{"$f":"VLOOKUP(H338,'Pivot ECAST'!A:B,2,FALSE)","v":2},1,"14576011","1457601","1457601","Hooper PC","4576","1457601","Primary Center","PHBAO","PHBAO","f","f","t","f","f","C","C","no","5","Jackie Goldberg",null,null,"ECAST",133,0,0,0,0,0,0,0,0,0,0,0,0,0,0,0,0,0,0,12,8,17,133,133,170]
[{"$f":"VLOOKUP(H339,'Pivot ECAST'!A:B,2,FALSE)","v":2},2,"14576012","1457602","1457602","Hooper PC El DL Two-Way Im Spanish","4828","1457601","Dual Language Ctr - PC","PHBAO","PHBAO","f","f","t","f","f","C","C","no","5","Jackie Goldberg",null,null,"ECAST",24,0,0,0,0,0,0,0,0,0,0,0,0,0,0,0,0,0,0,0,0,0,24,24,24]
[{"$f":"VLOOKUP(H340,'Pivot ECAST'!A:B,2,FALSE)","v":1},1,"14589011","1458901","1458901","Hoover El","4589","1458901","Elementary School","PHBAO","PHBAO","f","f","t","f","f","C","C","no","5","Jackie Goldberg",null,null,"ECAST",85,65,73,97,90,80,0,0,0,0,0,0,0,0,0,0,28,0,0,0,0,20,490,518,538]
[{"$f":"VLOOKUP(H341,'Pivot ECAST'!A:B,2,FALSE)","v":2},1,"14603011","1460301","1460301","Hubbard El","4603","1460301","Elementary School","PHBAO","PHBAO","f","f","t","f","f","NE","NE","no","6","Kelly Gonez",null,null,"ECAST",104,61,66,65,52,61,0,0,0,0,0,0,0,0,0,0,30,0,0,0,0,23,409,439,462]
[{"$f":"VLOOKUP(H342,'Pivot ECAST'!A:B,2,FALSE)","v":2},2,"14603012","1460302","1460302","Hubbard St ES STEAM Magnet","2444","1460301","Magnet Ctr -Elementary","Magnet 2","Magnet 2","f","f","t","f","f","NE","NE","no","6","Kelly Gonez",null,null,"ECAST",23,23,19,23,26,27,0,0,0,0,0,0,0,0,0,0,0,0,0,0,0,0,141,141,141]
[{"$f":"VLOOKUP(H343,'Pivot ECAST'!A:B,2,FALSE)","v":3},1,"14616011","1461601","1461601","Humphreys El","4616","1461601","Elementary School","PHBAO","PHBAO","f","f","t","f","f","E","E","no","2","Monica Garcia",null,null,"ECAST",70,37,17,35,44,24,0,0,0,0,0,0,0,0,0,0,0,0,0,0,0,7,227,227,234]
[{"$f":"VLOOKUP(H344,'Pivot ECAST'!A:B,2,FALSE)","v":3},2,"14616012","1461602","1461602","Humphreys Avenue Elem Science/Tech/Math","4617","1461601","Magnet Ctr -Elementary","Magnet 2","Magnet 2","f","f","t","f","f","E","E","no","2","Monica Garcia",null,null,"ECAST",21,16,16,21,19,21,0,0,0,0,0,0,0,0,0,0,0,0,0,0,0,0,114,114,114]
[{"$f":"VLOOKUP(H345,'Pivot ECAST'!A:B,2,FALSE)","v":3},3,"14616013","1461603","1461603","Humphreys El DL Two-Way Im Spanish","4618","1461601","Dual Language Ctr - Elementary","PHBAO","PHBAO","f","f","t","f","f","E","E","no","2","Monica Garcia",null,null,"ECAST",22,23,18,17,19,25,0,0,0,0,0,0,0,0,0,0,0,0,0,0,0,0,124,124,124]
[{"$f":"VLOOKUP(H346,'Pivot ECAST'!A:B,2,FALSE)","v":2},1,"14630011","1463001","1463001","Huntington Dr El","4630","1463001","Elementary School","PHBAO","PHBAO","f","f","t","f","f","E","E","no","2","Monica Garcia",null,null,"ECAST",33,19,23,16,15,16,15,0,0,0,0,0,0,0,0,0,39,0,0,10,0,9,137,176,195]
[{"$f":"VLOOKUP(H347,'Pivot ECAST'!A:B,2,FALSE)","v":2},2,"14630012","1463002","1463002","Huntington Dr El DL Two-Way Im Spanish","2805","1463001","Dual Language Ctr - Elementary","PHBAO","PHBAO","f","f","t","f","f","E","E","no","2","Monica Garcia",null,null,"ECAST",11,7,16,15,17,15,17,0,0,0,0,0,0,0,0,0,0,0,0,0,0,0,98,98,98]
[{"$f":"VLOOKUP(H348,'Pivot ECAST'!A:B,2,FALSE)","v":2},1,"14640011","1464001","1464001","Walnut Park El","4640","1464001","Elementary School","PHBAO","PHBAO","f","f","t","f","f","E","E","no","5","Jackie Goldberg",null,null,"ECAST",84,53,54,68,63,53,0,0,0,0,0,0,0,0,0,0,0,0,0,11,28,17,375,375,431]
[{"$f":"VLOOKUP(H349,'Pivot ECAST'!A:B,2,FALSE)","v":2},2,"14640012","1464002","1464002","Walnut Park El DL Two-Way Im Spanish","2293","1464001","Dual Language Ctr - Elementary","PHBAO","PHBAO","f","f","t","f","f","E","E","no","5","Jackie Goldberg",null,null,"ECAST",20,18,19,24,19,17,0,0,0,0,0,0,0,0,0,0,0,0,0,0,0,0,117,117,117]
[{"$f":"VLOOKUP(H350,'Pivot ECAST'!A:B,2,FALSE)","v":2},1,"14641011","1464101","1464101","San Antonio El","4641","1464101","Elementary School","PHBAO","PHBAO","f","f","t","f","f","E","E","no","5","Jackie Goldberg",null,null,"ECAST",75,43,52,37,56,54,0,0,0,0,0,0,0,0,0,0,40,0,0,13,0,15,317,357,385]
[{"$f":"VLOOKUP(H351,'Pivot ECAST'!A:B,2,FALSE)","v":2},2,"14641012","1464102","1464102","San Antonio ES STEM Magnet","4644","1464101","Magnet Ctr -Elementary","Magnet 2","Magnet 2","f","f","t","f","f","E","E","no","5","Jackie Goldberg",null,null,"ECAST",0,18,24,21,25,27,0,0,0,0,0,0,0,0,0,0,0,0,0,0,0,0,115,115,115]
[{"$f":"VLOOKUP(H352,'Pivot ECAST'!A:B,2,FALSE)","v":2},1,"14642011","1464201","1464201","Pacific Blvd School","4642","1464201","Span School","PHBAO","PHBAO","f","f","f","f","t","E","E","yes","5","Jackie Goldberg",null,null,"ECAST",42,29,34,45,34,49,0,0,0,0,0,0,0,0,0,0,24,0,4,17,0,12,233,261,290]
[{"$f":"VLOOKUP(H353,'Pivot ECAST'!A:B,2,FALSE)","v":2},2,"14642012","1464202","1464202","Pacific Blvd El DL Two-Way Im Spanish","2762","1464201","Dual Language Ctr - Elementary","PHBAO","PHBAO","f","f","f","f","f","E","E","yes","5","Jackie Goldberg",null,null,"ECAST",17,17,23,0,0,0,0,0,0,0,0,0,0,0,0,0,0,0,0,0,0,0,57,57,57]
[{"$f":"VLOOKUP(H354,'Pivot ECAST'!A:B,2,FALSE)","v":1},1,"14658011","1465801","1465801","YES Academy","4658","1465801","Elementary School","PHBAO","PHBAO","f","f","t","f","f","W","W","no","1","George McKenna",null,null,"ECAST",71,59,62,59,73,68,0,0,0,0,0,0,0,0,0,0,43,0,0,0,0,11,392,435,446]
[{"$f":"VLOOKUP(H355,'Pivot ECAST'!A:B,2,FALSE)","v":1},1,"14671011","1467101","1467101","Ivanhoe El","4671","1467101","Elementary School","Desegregated/Receiver","Non-PHBAO","f","f","t","f","f","C","C","no","5","Jackie Goldberg",null,null,"ECAST",50,46,57,69,75,58,0,0,0,0,0,0,0,0,0,0,0,0,0,0,0,0,355,355,355]
[{"$f":"VLOOKUP(H356,'Pivot ECAST'!A:B,2,FALSE)","v":2},1,"14680011","1468001","1468001","Lizarraga El","4680","1468001","Elementary School","PHBAO","PHBAO","f","f","t","f","f","C","C","no","5","Jackie Goldberg",null,null,"ECAST",54,32,46,64,54,69,0,0,0,0,0,0,0,0,0,0,7,0,0,23,0,16,319,326,365]
[{"$f":"VLOOKUP(H357,'Pivot ECAST'!A:B,2,FALSE)","v":2},2,"14680012","1468002","1468002","Lizarraga El DL Two-Way Im Spanish","4680","1468001","Dual Language Ctr - Elementary","PHBAO","PHBAO","f","f","t","f","f","C","C","no","5","Jackie Goldberg",null,null,"ECAST",17,17,19,0,0,0,0,0,0,0,0,0,0,0,0,0,0,0,0,0,0,0,53,53,53]
[{"$f":"VLOOKUP(H358,'Pivot ECAST'!A:B,2,FALSE)","v":2},1,"14681011","1468101","1468101","Harmony El","4681","1468101","Elementary School","PHBAO","PHBAO","f","f","t","f","f","C","C","no","5","Jackie Goldberg",null,null,"ECAST",48,41,56,30,51,68,0,0,0,0,0,0,0,0,0,0,57,0,0,0,24,0,294,351,375]
[{"$f":"VLOOKUP(H359,'Pivot ECAST'!A:B,2,FALSE)","v":2},2,"14681012","1468102","1468102","Harmony El DL Two-Way Im Spanish","4824","1468101","Dual Language Ctr - Elementary","PHBAO","PHBAO","f","f","t","f","f","C","C","no","5","Jackie Goldberg",null,null,"ECAST",22,23,16,41,11,0,0,0,0,0,0,0,0,0,0,0,0,0,0,0,0,0,113,113,113]
[{"$f":"VLOOKUP(H360,'Pivot ECAST'!A:B,2,FALSE)","v":2},1,"14685011","1468501","1468501","Aurora El","4685","1468501","Elementary School","PHBAO","PHBAO","f","f","t","f","f","C","C","no","7","Tanya Ortiz Franklin",null,null,"ECAST",51,37,45,39,59,55,0,0,0,0,0,0,0,0,0,0,14,0,0,8,0,18,286,300,326]
[{"$f":"VLOOKUP(H361,'Pivot ECAST'!A:B,2,FALSE)","v":2},2,"14685012","1468502","1468502","Aurora El DL Two-Way Im Spanish","4816","1468501","Dual Language Ctr - Elementary","PHBAO","PHBAO","f","f","t","f","f","C","C","no","7","Tanya Ortiz Franklin",null,null,"ECAST",8,8,14,19,0,0,0,0,0,0,0,0,0,0,0,0,0,0,0,0,0,0,49,49,49]
[{"$f":"VLOOKUP(H362,'Pivot ECAST'!A:B,2,FALSE)","v":1},1,"14692011","1469201","1469201","Justice St Acad Chtr","4692","1469201","Elementary School","Desegregated/Receiver","Non-PHBAO","t","t","t","f","f","NW","NW","no","3","Scott Schmerelson",null,null,"ECAST",74,55,56,60,59,53,0,0,0,0,0,0,0,0,0,0,0,0,0,0,0,0,357,357,357]
[{"$f":"VLOOKUP(H363,'Pivot ECAST'!A:B,2,FALSE)","v":1},1,"14696011","1469601","1469601","Kennedy El","4696","1469601","Elementary School","PHBAO","PHBAO","f","f","t","f","f","E","E","no","2","Monica Garcia",null,null,"ECAST",26,19,25,19,19,19,26,0,0,0,0,0,0,0,0,0,19,0,0,8,0,5,153,172,185]
[{"$f":"VLOOKUP(H364,'Pivot ECAST'!A:B,2,FALSE)","v":1},1,"14699011","1469901","1469901","Kenter Canyon Elementary Charter","4699","1469901","Elementary School","Desegregated/Receiver","Non-PHBAO","t","t","t","f","f","W","W","no","4","Nick Melvoin",null,null,"ECAST",98,70,61,66,70,63,0,0,0,0,0,0,0,0,0,0,0,0,0,0,0,0,428,428,428]
[{"$f":"VLOOKUP(H365,'Pivot ECAST'!A:B,2,FALSE)","v":1},1,"14712011","1471201","1471201","Kentwood El","4712","1471201","Elementary School","Desegregated/Receiver","Non-PHBAO","f","f","t","f","f","W","W","no","4","Nick Melvoin",null,null,"ECAST",53,47,47,33,41,27,0,0,0,0,0,0,0,0,0,0,20,0,0,0,0,0,248,268,268]
[{"$f":"VLOOKUP(H366,'Pivot ECAST'!A:B,2,FALSE)","v":2},1,"14726011","1472601","1472601","Kester El","4726","1472601","Elementary School","Desegregated/Receiver","Non-PHBAO","f","f","t","f","f","NE","NE","no","3","Scott Schmerelson",null,null,"ECAST",137,104,79,91,99,80,0,0,0,0,0,0,0,0,0,0,0,0,0,2,0,0,590,590,592]
[{"$f":"VLOOKUP(H367,'Pivot ECAST'!A:B,2,FALSE)","v":2},2,"14726012","1472602","1472602","Kester Avenue Elementary Gifted Magnet","4727","1472601","Magnet Ctr -Elementary","Magnet 1","Magnet 1","f","f","t","f","f","NE","NE","no","3","Scott Schmerelson",null,null,"ECAST",0,24,48,48,58,60,0,0,0,0,0,0,0,0,0,0,0,0,0,0,0,0,238,238,238]
[{"$f":"VLOOKUP(H368,'Pivot ECAST'!A:B,2,FALSE)","v":3},1,"14760011","1476001","1476001","Kittridge El","4760","1476001","Elementary School","PHBAO","PHBAO","f","f","t","f","f","NE","NE","no","6","Kelly Gonez",null,null,"ECAST",88,55,71,75,64,106,0,0,0,0,0,0,0,0,0,0,22,0,0,0,21,21,459,481,523]
[{"$f":"VLOOKUP(H369,'Pivot ECAST'!A:B,2,FALSE)","v":3},2,"14760012","1476002","1476002","Kittridge El DL Two-Way Im Spanish","2415","1476001","Dual Language Ctr - Elementary","PHBAO","PHBAO","f","f","t","f","f","NE","NE","no","6","Kelly Gonez",null,null,"ECAST",19,19,15,20,20,0,0,0,0,0,0,0,0,0,0,0,0,0,0,0,0,0,93,93,93]
[{"$f":"VLOOKUP(H370,'Pivot ECAST'!A:B,2,FALSE)","v":3},3,"14760013","1476003","1476003","Kittridge El DL Two-Way Im Armenian","2416","1476001","Dual Language Ctr - Elementary","Desegregated/Receiver","Non-PHBAO","f","f","t","f","f","NE","NE","no","6","Kelly Gonez",null,null,"ECAST",20,18,19,22,20,0,0,0,0,0,0,0,0,0,0,0,0,0,0,0,0,0,99,99,99]
[{"$f":"VLOOKUP(H371,'Pivot ECAST'!A:B,2,FALSE)","v":1},1,"14762011","1476201","1476201","Knollwood Prep Acad","4762","1476201","Elementary School","Desegregated/Receiver","Non-PHBAO","t","t","t","f","f","NW","NW","no","3","Scott Schmerelson",null,null,"ECAST",44,45,54,51,68,43,0,0,0,0,0,0,0,0,0,0,20,0,0,8,27,0,305,325,360]
[{"$f":"VLOOKUP(H372,'Pivot ECAST'!A:B,2,FALSE)","v":1},1,"14764011","1476401","1476401","Lanai El","4764","1476401","Elementary School","Desegregated/Receiver","Non-PHBAO","f","f","t","f","f","NW","NW","no","4","Nick Melvoin",null,null,"ECAST",107,83,78,73,78,58,0,0,0,0,0,0,0,0,0,0,0,0,0,0,0,0,477,477,477]
[{"$f":"VLOOKUP(H373,'Pivot ECAST'!A:B,2,FALSE)","v":1},1,"14767011","1476701","1476701","Lane El","4767","1476701","Elementary School","PHBAO","PHBAO","f","f","t","f","f","E","E","no","2","Monica Garcia",null,null,"ECAST",44,35,38,53,30,43,41,0,0,0,0,0,0,0,0,0,10,0,0,0,0,11,284,294,305]
[{"$f":"VLOOKUP(H374,'Pivot ECAST'!A:B,2,FALSE)","v":1},1,"14775011","1477501","1477501","Langdon El","4775","1477501","Elementary School","PHBAO","PHBAO","f","f","t","f","f","NW","NW","no","6","Kelly Gonez",null,null,"ECAST",74,65,72,84,77,91,0,0,0,0,0,0,0,0,0,0,26,0,0,20,0,19,463,489,528]
[{"$f":"VLOOKUP(H375,'Pivot ECAST'!A:B,2,FALSE)","v":1},1,"14776011","1477601","1477601","Primary Academy","4776","1477601","Primary Center","PHBAO","PHBAO","f","f","t","f","f","NW","NW","no","6","Kelly Gonez",null,null,"ECAST",76,59,72,0,0,0,0,0,0,0,0,0,0,0,0,0,0,0,0,0,12,18,207,207,237]
[{"$f":"VLOOKUP(H376,'Pivot ECAST'!A:B,2,FALSE)","v":1},1,"14781011","1478101","1478101","Lankershim El","4781","1478101","Elementary School","PHBAO","PHBAO","f","f","t","f","f","NE","NE","no","6","Kelly Gonez",null,null,"ECAST",64,44,34,55,49,46,0,0,0,0,0,0,0,0,0,0,8,0,0,11,0,18,292,300,329]
[{"$f":"VLOOKUP(H377,'Pivot ECAST'!A:B,2,FALSE)","v":2},1,"14786011","1478601","1478601","La Salle El","4786","1478601","Elementary School","PHBAO","PHBAO","f","f","t","f","f","W","W","no","1","George McKenna",null,null,"ECAST",25,11,23,32,31,35,0,0,0,0,0,0,0,0,0,0,18,0,0,0,0,7,157,175,182]
[{"$f":"VLOOKUP(H378,'Pivot ECAST'!A:B,2,FALSE)","v":2},2,"14786012","1478602","1478602","La Salle El DL Two-Way Im Spanish","2417","1478601","Dual Language Ctr - Elementary","PHBAO","PHBAO","f","f","t","f","f","W","W","no","1","George McKenna",null,null,"ECAST",36,32,11,25,16,0,0,0,0,0,0,0,0,0,0,0,0,0,0,0,0,0,120,120,120]
[{"$f":"VLOOKUP(H379,'Pivot ECAST'!A:B,2,FALSE)","v":2},1,"14790011","1479001","1479001","Lassen El","4790","1479001","Elementary School","PHBAO","PHBAO","f","f","t","f","f","NW","NW","no","6","Kelly Gonez",null,null,"ECAST",55,39,35,47,35,61,0,0,0,0,0,0,0,0,0,0,39,0,0,3,30,0,272,311,344]
[{"$f":"VLOOKUP(H380,'Pivot ECAST'!A:B,2,FALSE)","v":2},2,"14790012","1479002","1479002","Lassen El DL Two-Way Im Spanish","4830","1479001","Dual Language Ctr - Elementary","PHBAO","PHBAO","f","f","t","f","f","NW","NW","no","6","Kelly Gonez",null,null,"ECAST",24,24,14,14,0,0,0,0,0,0,0,0,0,0,0,0,0,0,0,0,0,0,76,76,76]
[{"$f":"VLOOKUP(H381,'Pivot ECAST'!A:B,2,FALSE)","v":2},1,"14795011","1479501","1479501","Latona El","4795","1479501","Elementary School","PHBAO","PHBAO","f","f","t","f","f","E","E","no","2","Monica Garcia",null,null,"ECAST",23,8,12,7,7,17,18,0,0,0,0,0,0,0,0,0,0,0,0,0,22,0,92,92,114]
[{"$f":"VLOOKUP(H382,'Pivot ECAST'!A:B,2,FALSE)","v":2},2,"14795012","1479502","1479502","Latona El DL Two-Way Im Spanish","2418","1479501","Dual Language Ctr - Elementary","PHBAO","PHBAO","f","f","t","f","f","E","E","no","2","Monica Garcia",null,null,"ECAST",12,12,12,11,19,0,0,0,0,0,0,0,0,0,0,0,0,0,0,0,0,0,66,66,66]
[{"$f":"VLOOKUP(H383,'Pivot ECAST'!A:B,2,FALSE)","v":1},1,"14808011","1480801","1480801","Laurel Cinematic Arts Creative Tech Mag","4808","1480801","Span Magnet School","Magnet 1","Magnet 1","f","f","f","f","t","W","W","yes","4","Nick Melvoin",null,null,"ECAST",19,16,23,15,19,20,26,43,35,0,0,0,0,0,0,0,0,11,0,0,0,0,216,227,227]
[{"$f":"VLOOKUP(H384,'Pivot ECAST'!A:B,2,FALSE)","v":1},1,"14829011","1482901","1482901","Leapwood El","4829","1482901","Elementary School","PHBAO","PHBAO","f","f","t","f","f","S","S","no","7","Tanya Ortiz Franklin",null,null,"ECAST",31,28,26,15,19,22,0,0,0,0,0,0,0,0,0,0,29,0,0,7,0,3,141,170,180]
[{"$f":"VLOOKUP(H385,'Pivot ECAST'!A:B,2,FALSE)","v":2},1,"14836011","1483601","1483601","Leland El","4836","1483601","Elementary School","PHBAO","PHBAO","f","f","t","f","f","S","S","no","7","Tanya Ortiz Franklin",null,null,"ECAST",59,36,42,34,31,29,0,0,0,0,0,0,0,0,0,0,22,0,0,5,0,5,231,253,263]
[{"$f":"VLOOKUP(H386,'Pivot ECAST'!A:B,2,FALSE)","v":2},2,"14836012","1483602","1483602","Leland St ES Global Awareness Magnet","2446","1483601","Magnet Ctr -Elementary","Magnet 2","Magnet 2","f","f","t","f","f","S","S","no","7","Tanya Ortiz Franklin",null,null,"ECAST",0,21,20,22,24,25,0,0,0,0,0,0,0,0,0,0,0,0,0,0,0,0,112,112,112]
[{"$f":"VLOOKUP(H387,'Pivot ECAST'!A:B,2,FALSE)","v":1},1,{"$f":"H387&B387","v":"14849011"},"1484901","1484901","Lemay El","4849","1484901","Elementary School","PHBAO","PHBAO","f","f","t","f","f","NW","NW","no","3","Scott Schmerelson",null,null,"ECAST",67,46,35,52,45,42,0,0,0,0,0,0,0,0,0,0,7,0,0,8,0,0,287,294,302]
[{"$f":"VLOOKUP(H388,'Pivot ECAST'!A:B,2,FALSE)","v":1},{"$f":"IF(H388=H387,B387+1,1)","v":1},"14863011",{"$f":"E388","v":"1486301"},"1486301","Liberty El","4863","1486301","Elementary School","PHBAO","PHBAO","f","f","t","f","f","E","E","no","5","Jackie Goldberg",null,null,"ECAST",80,68,59,60,67,83,0,0,0,0,0,0,0,0,0,0,53,0,0,3,0,16,417,470,489]
[{"$f":"VLOOKUP(H389,'Pivot ECAST'!A:B,2,FALSE)","v":1},1,"14870011","1487001","1487001","Liggett El","4870","1487001","Elementary School","PHBAO","PHBAO","f","f","t","f","f","NW","NW","no","6","Kelly Gonez",null,null,"ECAST",78,69,74,83,74,76,0,0,0,0,0,0,0,0,0,0,30,0,0,10,0,24,{"$f":"SUM(Y389:AN389)","v":454},{"$f":"AU389+AO389+AP389+AQ389","v":484},{"$f":"AV389+SUM(AR389:AT389)","v":518}]
[{"$f":"VLOOKUP(H390,'Pivot ECAST'!A:B,2,FALSE)","v":1},1,"14877011","1487701","1487701","Lillian El","4877","1487701","Elementary School","PHBAO","PHBAO","f","f","t","f","f","E","E","no","5","Jackie Goldberg",null,null,"ECAST",53,36,48,40,41,58,39,0,0,0,0,0,0,0,0,0,12,0,0,0,0,15,315,327,342]
[{"$f":"VLOOKUP(H391,'Pivot ECAST'!A:B,2,FALSE)","v":2},1,"14881011","1488101","1488101","Limerick El","4881","1488101","Elementary School","PHBAO","PHBAO","f","f","t","f","f","NW","NW","no","3","Scott Schmerelson",null,null,"ECAST",93,81,103,75,93,104,0,0,0,0,0,0,0,0,0,0,0,0,0,9,42,0,549,549,600]
[{"$f":"VLOOKUP(H392,'Pivot ECAST'!A:B,2,FALSE)","v":2},2,"14881012","1488102","1488102","Limerick Ave El DL Two-Way Im Spanish","2430","1488101","Dual Language Ctr - Elementary","PHBAO","PHBAO","f","f","t","f","f","NW","NW","no","3","Scott Schmerelson",null,null,"ECAST",17,17,19,25,18,0,0,0,0,0,0,0,0,0,0,0,0,0,0,0,0,0,96,96,96]
[{"$f":"VLOOKUP(H393,'Pivot ECAST'!A:B,2,FALSE)","v":1},1,"14887011","1488701","1488701","Lockhurst Dr Chtr El","4887","1488701","Elementary School","Desegregated/Receiver","Non-PHBAO","t","t","t","f","f","NW","NW","no","3","Scott Schmerelson",null,null,"ECAST",78,60,71,64,66,65,0,0,0,0,0,0,0,0,0,0,16,0,0,15,0,0,404,420,435]
[{"$f":"VLOOKUP(H394,'Pivot ECAST'!A:B,2,FALSE)","v":1},1,"14890011","1489001","1489001","Lockwood El","4890","1489001","Elementary School","PHBAO","PHBAO","f","f","t","f","f","C","C","no","2","Monica Garcia",null,null,"ECAST",33,30,33,53,52,53,40,0,0,0,0,0,0,0,0,0,13,0,0,11,0,8,294,307,326]
[{"$f":"VLOOKUP(H395,'Pivot ECAST'!A:B,2,FALSE)","v":2},1,"14904011","1490401","1490401","Logan Academy of Global Ecology","4904","1490401","Span School","PHBAO","PHBAO","f","f","f","f","t","C","C","yes","2","Monica Garcia","2x8",null,"ECAST",30,21,22,21,19,15,33,39,35,0,0,0,0,0,0,0,7,7,0,0,0,7,235,249,256]
[{"$f":"VLOOKUP(H396,'Pivot ECAST'!A:B,2,FALSE)","v":2},2,"14904012","1490402","1490402","Logan Acad Globl Ecol Two-Way Im Spanish","2806","1490401","Dual Language Ctr - Elementary","PHBAO","PHBAO","f","f","f","f","f","C","C","yes","2","Monica Garcia",null,null,"ECAST",31,24,19,18,18,22,0,0,0,0,0,0,0,0,0,0,0,0,0,0,0,0,132,132,132]
[{"$f":"VLOOKUP(H397,'Pivot ECAST'!A:B,2,FALSE)","v":2},1,"14918011","1491801","1491801","Loma Vista El","4918","1491801","Elementary School","PHBAO","PHBAO","f","f","t","f","f","E","E","no","5","Jackie Goldberg",null,null,"ECAST",66,57,68,64,79,86,0,0,0,0,0,0,0,0,0,0,49,0,0,0,0,19,420,469,488]
[{"$f":"VLOOKUP(H398,'Pivot ECAST'!A:B,2,FALSE)","v":2},2,"14918012","1491802","1491802","Loma Vista El DL Two-Way Im Spanish","4831","1491801","Dual Language Ctr - Elementary","PHBAO","PHBAO","f","f","t","f","f","E","E","no","5","Jackie Goldberg",null,null,"ECAST",11,11,13,16,0,0,0,0,0,0,0,0,0,0,0,0,0,0,0,0,0,0,51,51,51]
[{"$f":"VLOOKUP(H399,'Pivot ECAST'!A:B,2,FALSE)","v":1},1,"14932011","1493201","1493201","Lomita Math/Sci Mag","4932","1493201","Magnet School - ELEM","Magnet 2","Magnet 2","f","f","t","f","f","S","S","no","7","Tanya Ortiz Franklin",null,null,"ECAST",96,142,137,149,156,150,0,0,0,0,0,0,0,0,0,0,0,0,0,0,0,0,830,830,830]
[{"$f":"VLOOKUP(H400,'Pivot ECAST'!A:B,2,FALSE)","v":2},1,"14945011","1494501","1494501","Lorena El","4945","1494501","Elementary School","PHBAO","PHBAO","f","f","t","f","f","E","E","no","2","Monica Garcia",null,null,"ECAST",31,16,18,36,66,53,0,0,0,0,0,0,0,0,0,0,27,0,0,0,0,15,220,247,262]
[{"$f":"VLOOKUP(H401,'Pivot ECAST'!A:B,2,FALSE)","v":2},2,"14945012","1494502","1494502","Lorena St. El DL Two-Way Im Spanish","4832","1494501","Dual Language Ctr - Elementary","PHBAO","PHBAO","f","f","t","f","f","E","E","no","2","Monica Garcia",null,null,"ECAST",43,38,32,34,0,0,0,0,0,0,0,0,0,0,0,0,0,0,0,0,0,0,147,147,147]
[{"$f":"VLOOKUP(H402,'Pivot ECAST'!A:B,2,FALSE)","v":2},1,"14959011","1495901","1495901","Loreto El","4959","1495901","Elementary School","PHBAO","PHBAO","f","f","t","f","f","E","E","no","2","Monica Garcia",null,null,"ECAST",45,28,14,15,17,18,0,0,0,0,0,0,0,0,0,0,18,0,0,0,0,17,137,155,172]
[{"$f":"VLOOKUP(H403,'Pivot ECAST'!A:B,2,FALSE)","v":2},2,"14959012","1495902","1495902","Loreto El DL Two-Way Im Spanish","2807","1495901","Dual Language Ctr - Elementary","PHBAO","PHBAO","f","f","t","f","f","E","E","no","2","Monica Garcia",null,null,"ECAST",8,8,19,20,21,15,0,0,0,0,0,0,0,0,0,0,0,0,0,0,0,0,91,91,91]
[{"$f":"VLOOKUP(H404,'Pivot ECAST'!A:B,2,FALSE)","v":2},1,"14973011","1497301","1497301","Lorne El","4973","1497301","Elementary School","PHBAO","PHBAO","f","f","t","f","f","NW","NW","no","3","Scott Schmerelson",null,null,"ECAST",19,15,21,10,3,2,0,0,0,0,0,0,0,0,0,0,20,0,0,0,0,0,70,90,90]
[{"$f":"VLOOKUP(H405,'Pivot ECAST'!A:B,2,FALSE)","v":2},2,"14973012","1497302","1497302","Lorne Street Elem Science/Tech/Math Magnet","4974","1497301","Magnet Ctr -Elementary","Magnet 2","Magnet 2","f","f","t","f","f","NW","NW","no","3","Scott Schmerelson",null,null,"ECAST",45,45,24,45,50,78,0,0,0,0,0,0,0,0,0,0,0,0,0,0,0,0,287,287,287]
[{"$f":"VLOOKUP(H406,'Pivot ECAST'!A:B,2,FALSE)","v":1},1,"14980011","1498001","1498001","Pio Pico MS","4980","1498001","Middle School","PHBAO","PHBAO","f","f","f","f","f","W","W","no","1","George McKenna",null,null,"ECAST",0,0,0,0,0,0,0,94,82,0,0,0,0,0,0,0,0,31,0,0,0,0,176,207,207]
[{"$f":"VLOOKUP(H407,'Pivot ECAST'!A:B,2,FALSE)","v":1},1,"14982011","1498201","1498201","Los Angeles El","4982","1498201","Elementary School","PHBAO","PHBAO","f","f","t","f","f","C","C","no","5","Jackie Goldberg",null,null,"ECAST",76,63,56,54,69,79,0,0,0,0,0,0,0,0,0,0,15,0,0,17,0,17,397,412,446]
[{"$f":"VLOOKUP(H408,'Pivot ECAST'!A:B,2,FALSE)","v":1},1,"14983011","1498301","1498301","Mariposa-Nabi PC","4983","1498301","Primary Center","PHBAO","PHBAO","f","f","t","f","f","C","C","no","5","Jackie Goldberg",null,null,"ECAST",41,30,33,0,0,0,0,0,0,0,0,0,0,0,0,0,9,0,0,20,0,9,104,113,142]
[{"$f":"VLOOKUP(H409,'Pivot ECAST'!A:B,2,FALSE)","v":1},1,"14986011","1498601","1498601","Los Feliz STEMM Magnet","4986","1498601","Magnet School - ELEM","Magnet 1","Magnet 1","f","f","t","f","f","C","C","no","2","Monica Garcia",null,null,"ECAST",47,57,66,83,79,74,0,0,0,0,0,0,0,0,0,0,0,0,0,0,0,0,406,406,406]
[{"$f":"VLOOKUP(H410,'Pivot ECAST'!A:B,2,FALSE)","v":1},1,"15014011","1501401","1501401","Loyola Village ES Fine/Performing Arts Magnet","5014","1501401","Magnet School - ELEM","Magnet 2","Magnet 2","f","f","t","f","f","W","W","no","4","Nick Melvoin",null,null,"ECAST",24,17,32,42,51,52,0,0,0,0,0,0,0,0,0,0,0,0,0,0,0,0,218,218,218]
[{"$f":"VLOOKUP(H411,'Pivot ECAST'!A:B,2,FALSE)","v":1},1,"15016011","1501601","1501601","Coughlin El","5016","1501601","Elementary School","PHBAO","PHBAO","f","f","t","f","f","NE","NE","no","6","Kelly Gonez",null,null,"ECAST",74,63,65,74,86,56,0,0,0,0,0,0,0,0,0,0,10,0,0,0,39,18,418,428,485]
[{"$f":"VLOOKUP(H412,'Pivot ECAST'!A:B,2,FALSE)","v":2},1,"15055011","1505501","1505501","Magnolia El","5055","1505501","Elementary School","PHBAO","PHBAO","f","f","t","f","f","C","C","no","5","Jackie Goldberg",null,null,"ECAST",74,57,50,63,68,56,0,0,0,0,0,0,0,0,0,0,31,0,0,0,27,0,368,399,426]
[{"$f":"VLOOKUP(H413,'Pivot ECAST'!A:B,2,FALSE)","v":2},2,"15055012","1505502","1505502","Magnolia El DL One & Two-Way Im Spanish","2808","1505501","Dual Language Ctr - Elementary","PHBAO","PHBAO","f","f","t","f","f","C","C","no","5","Jackie Goldberg",null,null,"ECAST",24,22,21,41,29,26,0,0,0,0,0,0,0,0,0,0,0,0,0,0,0,0,163,163,163]
[{"$f":"VLOOKUP(H414,'Pivot ECAST'!A:B,2,FALSE)","v":2},1,"15068011","1506801","1506801","Main St El","5068","1506801","Elementary School","PHBAO","PHBAO","f","f","t","f","f","C","C","no","7","Tanya Ortiz Franklin",null,null,"ECAST",78,52,45,45,61,75,0,0,0,0,0,0,0,0,0,0,43,0,0,0,0,9,356,399,408]
[{"$f":"VLOOKUP(H415,'Pivot ECAST'!A:B,2,FALSE)","v":2},2,"15068012","1506802","1506802","Main St El DL Two-Way Im Spanish","2809","1506801","Dual Language Ctr - Elementary","PHBAO","PHBAO","f","f","t","f","f","C","C","no","7","Tanya Ortiz Franklin",null,null,"ECAST",42,42,49,42,41,47,0,0,0,0,0,0,0,0,0,0,0,0,0,0,0,13,263,263,276]
[{"$f":"VLOOKUP(H416,'Pivot ECAST'!A:B,2,FALSE)","v":1},1,"15082011","1508201","1508201","Malabar El","5082","1508201","Elementary School","PHBAO","PHBAO","f","f","t","f","f","E","E","no","2","Monica Garcia",null,null,"ECAST",79,56,38,59,59,60,57,0,0,0,0,0,0,0,0,0,19,0,0,0,0,13,408,427,440]
[{"$f":"VLOOKUP(H417,'Pivot ECAST'!A:B,2,FALSE)","v":2},1,"15096011","1509601","1509601","Manchester El","5096","1509601","Elementary School","PHBAO","PHBAO","f","f","t","f","f","S","S","no","1","George McKenna",null,null,"ECAST",0,87,88,90,86,78,66,0,0,0,0,0,0,0,0,0,7,0,0,0,0,0,495,502,502]
[{"$f":"VLOOKUP(H418,'Pivot ECAST'!A:B,2,FALSE)","v":2},2,"15096012","1509602","1509602","Manchester Av ES Comm/Broadcasting Mag","2337","1509601","Magnet Ctr -Elementary","Magnet 2","Magnet 2","f","f","t","f","f","S","S","no","1","George McKenna",null,null,"ECAST",0,0,0,0,21,19,20,0,0,0,0,0,0,0,0,0,0,0,0,0,0,0,60,60,60]
[{"$f":"VLOOKUP(H419,'Pivot ECAST'!A:B,2,FALSE)","v":1},1,"15110011","1511001","1511001","Manhattan Place El","5110","1511001","Elementary School","PHBAO","PHBAO","f","f","t","f","f","W","W","no","1","George McKenna",null,null,"ECAST",24,21,41,22,26,30,0,0,0,0,0,0,0,0,0,0,26,0,0,33,0,12,164,190,235]
[{"$f":"VLOOKUP(H420,'Pivot ECAST'!A:B,2,FALSE)","v":2},1,"15111011","1511101","1511101","Alexander Sci Ctr Sc","5111","1511101","Elementary School","PHBAO","PHBAO","t","t","t","f","f","C","C","no","1","George McKenna",null,null,"ECAST",70,44,53,54,60,55,0,0,0,0,0,0,0,0,0,0,0,0,0,0,0,0,336,336,336]
[{"$f":"VLOOKUP(H421,'Pivot ECAST'!A:B,2,FALSE)","v":2},2,"15111012","1511102","1511102","Alexander Sci Ctr DL Two-Way Im Spanish","2810","1511101","Dual Language Ctr - Elementary","PHBAO","PHBAO","t","t","t","f","f","C","C","no","1","George McKenna",null,null,"ECAST",36,34,38,40,38,36,0,0,0,0,0,0,0,0,0,0,0,0,0,0,0,0,222,222,222]
[{"$f":"VLOOKUP(H422,'Pivot ECAST'!A:B,2,FALSE)","v":1},1,"15112011","1511201","1511201","Jones PC","5112","1511201","Primary Center","PHBAO","PHBAO","f","f","t","f","f","C","C","no","1","George McKenna",null,null,"ECAST",26,23,23,0,0,0,0,0,0,0,0,0,0,0,0,0,0,0,0,9,26,0,72,72,107]
[{"$f":"VLOOKUP(H423,'Pivot ECAST'!A:B,2,FALSE)","v":2},1,"15113011","1511301","1511301","Mack El","5113","1511301","Elementary School","PHBAO","PHBAO","f","f","t","f","f","C","C","no","1","George McKenna",null,null,"ECAST",34,19,28,33,32,24,0,0,0,0,0,0,0,0,0,0,5,0,0,0,0,0,170,175,175]
[{"$f":"VLOOKUP(H424,'Pivot ECAST'!A:B,2,FALSE)","v":2},2,"15113012","1511302","1511302","Mack El DL Two-Way Im Spanish","2811","1511301","Dual Language Ctr - Elementary","PHBAO","PHBAO","f","f","t","f","f","C","C","no","1","George McKenna",null,null,"ECAST",9,9,17,19,18,17,0,0,0,0,0,0,0,0,0,0,0,0,0,0,0,0,89,89,89]
[{"$f":"VLOOKUP(H425,'Pivot ECAST'!A:B,2,FALSE)","v":2},1,"15137011","1513701","1513701","Marianna El","5137","1513701","Elementary School","PHBAO","PHBAO","f","f","t","f","f","E","E","no","2","Monica Garcia",null,null,"ECAST",34,16,31,17,30,35,25,0,0,0,0,0,0,0,0,0,12,0,0,7,0,5,188,200,212]
[{"$f":"VLOOKUP(H426,'Pivot ECAST'!A:B,2,FALSE)","v":2},2,"15137012","1513702","1513702","Marianna Ave El DL Two-Way Im Spanish","4833","1513701","Dual Language Ctr - Elementary","PHBAO","PHBAO","f","f","t","f","f","E","E","no","2","Monica Garcia",null,null,"ECAST",20,20,20,19,0,0,0,0,0,0,0,0,0,0,0,0,0,0,0,0,0,0,79,79,79]
[{"$f":"VLOOKUP(H427,'Pivot ECAST'!A:B,2,FALSE)","v":1},1,"15153011","1515301","1515301","Orchard Academies 2B","5153","1515301","Middle School","PHBAO","PHBAO","f","f","f","f","f","E","E","no","5","Jackie Goldberg",null,null,"ECAST",0,0,0,0,0,0,88,144,137,0,0,0,0,0,0,0,0,14,0,0,0,0,369,383,383]
[{"$f":"VLOOKUP(H428,'Pivot ECAST'!A:B,2,FALSE)","v":1},1,"15154011","1515401","1515401","Orchard Academies 2C","5154","1515401","Middle School","PHBAO","PHBAO","f","f","f","f","f","E","E","no","5","Jackie Goldberg",null,null,"ECAST",0,0,0,0,0,0,87,147,142,0,0,0,0,0,0,0,0,15,0,0,0,0,376,391,391]
[{"$f":"VLOOKUP(H429,'Pivot ECAST'!A:B,2,FALSE)","v":1},1,"15164011","1516401","1516401","Marquez Charter","5164","1516401","Elementary School","Desegregated/Receiver","Non-PHBAO","t","t","t","f","f","W","W","no","4","Nick Melvoin",null,null,"ECAST",46,34,37,45,50,55,0,0,0,0,0,0,0,0,0,0,4,0,0,0,0,0,267,271,271]
[{"$f":"VLOOKUP(H430,'Pivot ECAST'!A:B,2,FALSE)","v":1},1,"15170011","1517001","1517001","Lexington Ave PC","5170","1517001","Primary Center","PHBAO","PHBAO","f","f","t","f","f","C","C","no","2","Monica Garcia",null,null,"ECAST",50,17,25,0,0,0,0,0,0,0,0,0,0,0,0,0,0,0,0,2,13,9,92,92,116]
[{"$f":"VLOOKUP(H431,'Pivot ECAST'!A:B,2,FALSE)","v":1},1,"15173011","1517301","1517301","Dr. Julian Nava Learning Academy","5173","1517301","Middle School","PHBAO","PHBAO","f","f","f","f","f","C","C","no","5","Jackie Goldberg",null,null,"ECAST",0,0,0,0,0,0,192,195,184,0,0,0,0,0,0,0,0,0,0,0,0,0,571,571,571]
[{"$f":"VLOOKUP(H432,'Pivot ECAST'!A:B,2,FALSE)","v":2},1,"15178011","1517801","1517801","Marvin El","5178","1517801","Elementary School","PHBAO","PHBAO","f","f","t","f","f","W","W","no","1","George McKenna",null,null,"ECAST",105,62,41,47,39,49,0,0,0,0,0,0,0,0,0,0,27,0,0,0,0,0,343,370,370]
[{"$f":"VLOOKUP(H433,'Pivot ECAST'!A:B,2,FALSE)","v":2},2,"15178012","1517802","1517802","Marvin Dual Lang Mag","5179","1517801","Magnet Ctr -Elementary","Magnet 2","Magnet 2","f","f","t","f","f","W","W","no","1","George McKenna",null,null,"ECAST",0,23,41,46,50,50,0,0,0,0,0,0,0,0,0,0,0,0,0,0,0,0,210,210,210]
[{"$f":"VLOOKUP(H434,'Pivot ECAST'!A:B,2,FALSE)","v":1},1,"15192011","1519201","1519201","Mar Vista El","5192","1519201","Elementary School","Desegregated/Receiver","Non-PHBAO","f","f","t","f","f","W","W","no","4","Nick Melvoin",null,null,"ECAST",115,75,74,78,72,73,0,0,0,0,0,0,0,0,0,0,20,0,0,0,0,0,487,507,507]
[{"$f":"VLOOKUP(H435,'Pivot ECAST'!A:B,2,FALSE)","v":1},1,"15193011","1519301","1519301","Walnut Park MS STEM","5193","1519301","Middle School","PHBAO","PHBAO","f","f","f","f","f","E","E","no","5","Jackie Goldberg",null,null,"ECAST",0,0,0,0,0,0,101,128,118,0,0,0,0,0,0,0,0,3,0,0,0,0,347,350,350]
[{"$f":"VLOOKUP(H436,'Pivot ECAST'!A:B,2,FALSE)","v":1},1,"15198011","1519801","1519801","Mayall El","5198","1519801","Magnet School - ELEM","Magnet 2","Magnet 2","f","f","t","f","f","NW","NW","no","3","Scott Schmerelson",null,null,"ECAST",62,71,76,69,81,81,0,0,0,0,0,0,0,0,0,0,11,0,0,2,0,0,440,451,453]
[{"$f":"VLOOKUP(H437,'Pivot ECAST'!A:B,2,FALSE)","v":2},1,"15205011","1520501","1520501","Mayberry El","5205","1520501","Elementary School","PHBAO","PHBAO","f","f","t","f","f","C","C","no","5","Jackie Goldberg",null,null,"ECAST",23,12,22,11,12,16,0,0,0,0,0,0,0,0,0,0,18,0,0,14,0,4,96,114,132]
[{"$f":"VLOOKUP(H438,'Pivot ECAST'!A:B,2,FALSE)","v":2},2,"15205012","1520502","1520502","Mayberry El DL Two-Way Im Spanish","2812","1520501","Dual Language Ctr - Elementary","PHBAO","PHBAO","f","f","t","f","f","C","C","no","5","Jackie Goldberg",null,null,"ECAST",7,7,9,10,10,11,0,0,0,0,0,0,0,0,0,0,0,0,0,0,0,0,54,54,54]
[{"$f":"VLOOKUP(H439,'Pivot ECAST'!A:B,2,FALSE)","v":1},1,"15219011","1521901","1521901","Melrose M/S/T Mag","5219","1521901","Magnet School - ELEM","Magnet 1","Magnet 1","f","f","t","f","f","W","W","no","4","Nick Melvoin",null,null,"ECAST",67,62,70,67,84,85,0,0,0,0,0,0,0,0,0,0,0,0,0,0,0,0,435,435,435]
[{"$f":"VLOOKUP(H440,'Pivot ECAST'!A:B,2,FALSE)","v":2},1,"15233011","1523301","1523301","Melvin El","5233","1523301","Elementary School","PHBAO","PHBAO","f","f","t","f","f","NW","NW","no","3","Scott Schmerelson",null,null,"ECAST",48,40,27,37,29,38,0,0,0,0,0,0,0,0,0,0,20,0,0,2,0,0,219,239,241]
[{"$f":"VLOOKUP(H441,'Pivot ECAST'!A:B,2,FALSE)","v":2},2,"15233012","1523302","1523302","Melvin Av ES Humanities/Leadership Mag","2339","1523301","Magnet Ctr -Elementary","Magnet 2","Magnet 2","f","f","t","f","f","NW","NW","no","3","Scott Schmerelson",null,null,"ECAST",15,18,22,19,22,26,0,0,0,0,0,0,0,0,0,0,0,0,0,0,0,0,122,122,122]
[{"$f":"VLOOKUP(H442,'Pivot ECAST'!A:B,2,FALSE)","v":1},1,"15240011","1524001","1524001","Katherine Johnson STEM Academy","5240","1524001","Middle School","PHBAO","PHBAO","f","f","f","f","f","W","W","no","4","Nick Melvoin","2x8",null,"ECAST",0,0,0,0,0,0,43,36,31,0,0,0,0,0,0,0,0,1,0,0,0,0,110,111,111]
[{"$f":"VLOOKUP(H443,'Pivot ECAST'!A:B,2,FALSE)","v":3},1,"15247011","1524701","1524701","Menlo El","5247","1524701","Span School","PHBAO","PHBAO","f","f","t","f","f","C","C","no","1","George McKenna",null,null,"ECAST",35,22,40,41,27,55,43,44,0,0,0,0,0,0,0,0,26,0,0,0,0,6,307,333,339]
[{"$f":"VLOOKUP(H444,'Pivot ECAST'!A:B,2,FALSE)","v":3},2,"15247012","1524702","1524702","Menlo Ave. El Two-Way Im Spanish","5247","1524701","Dual Language Ctr - Elementary","PHBAO","PHBAO","f","f","t","f","f","C","C","no","1","George McKenna",null,null,"ECAST",14,14,0,0,0,0,0,0,0,0,0,0,0,0,0,0,0,0,0,0,0,0,28,28,28]
[{"$f":"VLOOKUP(H445,'Pivot ECAST'!A:B,2,FALSE)","v":3},3,"15247013","1524703","1524703","Menlo ES STEAM Magnet","5283","1524701","Magnet Ctr -Elementary","Magnet 2","Magnet 2","f","f","t","f","f","C","C","no","1","George McKenna",null,null,"ECAST",14,18,20,24,26,27,27,0,0,0,0,0,0,0,0,0,0,0,0,0,0,0,156,156,156]
[{"$f":"VLOOKUP(H446,'Pivot ECAST'!A:B,2,FALSE)","v":2},1,"15288011","1528801","1528801","Micheltorena El","5288","1528801","Elementary School","PHBAO","PHBAO","f","f","t","f","f","C","C","no","5","Jackie Goldberg",null,null,"ECAST",20,11,8,7,12,15,0,0,0,0,0,0,0,0,0,0,13,0,0,10,0,0,73,86,96]
[{"$f":"VLOOKUP(H447,'Pivot ECAST'!A:B,2,FALSE)","v":2},2,"15288012","1528802","1528802","Micheltorena DL Two-Way Im Spanish","2813","1528801","Dual Language Ctr - Elementary","Desegregated/Receiver","Non-PHBAO","f","f","t","f","f","C","C","no","5","Jackie Goldberg",null,null,"ECAST",42,46,47,49,39,27,0,0,0,0,0,0,0,0,0,0,0,0,0,0,0,0,250,250,250]
[{"$f":"VLOOKUP(H448,'Pivot ECAST'!A:B,2,FALSE)","v":1},1,"15301011","1530101","1530101","Middleton El","5301","1530101","Elementary School","PHBAO","PHBAO","f","f","t","f","f","E","E","no","5","Jackie Goldberg",null,null,"ECAST",0,48,96,102,109,110,113,0,0,0,0,0,0,0,0,0,37,0,0,0,0,0,578,615,615]
[{"$f":"VLOOKUP(H449,'Pivot ECAST'!A:B,2,FALSE)","v":1},1,"15302011","1530201","1530201","Middleton PC","5302","1530201","Primary Center","PHBAO","PHBAO","f","f","t","f","f","E","E","no","5","Jackie Goldberg",null,null,"ECAST",116,53,0,0,0,0,0,0,0,0,0,0,0,0,0,0,0,0,0,0,12,36,169,169,217]
[{"$f":"VLOOKUP(H450,'Pivot ECAST'!A:B,2,FALSE)","v":3},1,"15315011","1531501","1531501","Miles El","5315","1531501","Elementary School","PHBAO","PHBAO","f","f","t","f","f","E","E","no","5","Jackie Goldberg",null,null,"ECAST",90,52,53,46,66,42,0,0,0,0,0,0,0,0,0,0,66,0,0,0,0,0,349,415,415]
[{"$f":"VLOOKUP(H451,'Pivot ECAST'!A:B,2,FALSE)","v":3},2,{"$f":"H451&B451","v":"15315012"},"1531502","1531502","Miles Avenue Elem Science/Tech/Math Magnet","5316","1531501","Magnet Ctr -Elementary","Magnet 2","Magnet 2","f","f","t","f","f","E","E","no","5","Jackie Goldberg",null,null,"ECAST",23,23,23,23,43,43,0,0,0,0,0,0,0,0,0,0,0,0,0,0,0,0,178,178,178]
[{"$f":"VLOOKUP(H452,'Pivot ECAST'!A:B,2,FALSE)","v":3},{"$f":"IF(H452=H451,B451+1,1)","v":3},"15315013",{"$f":"E452","v":"1531503"},"1531503","Miles El DL Two-Way Im Spanish","2814","1531501","Dual Language Ctr - Elementary","PHBAO","PHBAO","f","f","t","f","f","E","E","no","5","Jackie Goldberg",null,null,"ECAST",41,41,44,44,49,46,0,0,0,0,0,0,0,0,0,0,0,0,0,0,0,0,265,265,265]
[{"$f":"VLOOKUP(H453,'Pivot ECAST'!A:B,2,FALSE)","v":1},1,"15321011","1532101","1532101","Miller El","5321","1532101","Elementary School","PHBAO","PHBAO","f","f","t","f","f","S","S","no","1","George McKenna",null,null,"ECAST",106,87,77,72,73,70,82,0,0,0,0,0,0,0,0,0,10,0,0,6,0,21,{"$f":"SUM(Y453:AN453)","v":567},{"$f":"AU453+AO453+AP453+AQ453","v":577},{"$f":"AV453+SUM(AR453:AT453)","v":604}]
[{"$f":"VLOOKUP(H454,'Pivot ECAST'!A:B,2,FALSE)","v":2},1,"15329011","1532901","1532901","Miramonte El","5329","1532901","Elementary School","PHBAO","PHBAO","f","f","t","f","f","S","S","no","7","Tanya Ortiz Franklin",null,null,"ECAST",81,57,52,53,60,58,0,0,0,0,0,0,0,0,0,0,23,0,0,23,0,19,361,384,426]
[{"$f":"VLOOKUP(H455,'Pivot ECAST'!A:B,2,FALSE)","v":2},2,"15329012","1532902","1532902","Miramonte El DL Two-Way Im Spanish","2816","1532901","Dual Language Ctr - Elementary","PHBAO","PHBAO","f","f","t","f","f","S","S","no","7","Tanya Ortiz Franklin",null,null,"ECAST",47,51,41,36,42,31,0,0,0,0,0,0,0,0,0,0,0,0,0,0,0,0,248,248,248]
[{"$f":"VLOOKUP(H456,'Pivot ECAST'!A:B,2,FALSE)","v":2},1,"15342011","1534201","1534201","Monlux El","5342","1534201","Elementary School","Desegregated/Receiver","Non-PHBAO","f","f","t","f","f","NE","NE","no","6","Kelly Gonez",null,null,"ECAST",78,71,77,48,55,51,0,0,0,0,0,0,0,0,0,0,20,0,0,7,0,0,380,400,407]
[{"$f":"VLOOKUP(H457,'Pivot ECAST'!A:B,2,FALSE)","v":2},2,"15342012","1534202","1534202","John B Monlux Elem Science/Tech/Math Mag","5343","1534201","Magnet Ctr -Elementary","Magnet 1","Magnet 1","f","f","t","f","f","NE","NE","no","6","Kelly Gonez",null,null,"ECAST",24,23,24,45,57,59,0,0,0,0,0,0,0,0,0,0,0,0,0,0,0,0,232,232,232]
[{"$f":"VLOOKUP(H458,'Pivot ECAST'!A:B,2,FALSE)","v":2},1,"15384011","1538401","1538401","Monte Vista El","5384","1538401","Elementary School","PHBAO","PHBAO","f","f","t","f","f","C","C","no","2","Monica Garcia",null,null,"ECAST",0,0,26,25,10,30,0,0,0,0,0,0,0,0,0,0,14,0,0,0,0,0,91,105,105]
[{"$f":"VLOOKUP(H459,'Pivot ECAST'!A:B,2,FALSE)","v":2},2,"15384012","1538402","1538402","Monte Vista St ES Film/Comm Magnet","2448","1538401","Magnet Ctr -Elementary","Magnet 2","Magnet 2","f","f","t","f","f","C","C","no","2","Monica Garcia",null,null,"ECAST",15,16,23,24,27,27,0,0,0,0,0,0,0,0,0,0,0,0,0,0,0,0,132,132,132]
[{"$f":"VLOOKUP(H460,'Pivot ECAST'!A:B,2,FALSE)","v":2},1,"15385011","1538501","1538501","Riordan PC","5385","1538501","Primary Center","PHBAO","PHBAO","f","f","t","f","f","C","C","no","2","Monica Garcia",null,null,"ECAST",35,17,0,0,0,0,0,0,0,0,0,0,0,0,0,0,6,0,0,11,0,8,52,58,77]
[{"$f":"VLOOKUP(H461,'Pivot ECAST'!A:B,2,FALSE)","v":2},2,"15385012","1538502","1538502","Riordan PC DL Two-Way Im French","2437","1538501","Dual Language Ctr - PC","PHBAO","PHBAO","f","f","t","f","f","C","C","no","2","Monica Garcia",null,null,"ECAST",8,8,16,13,8,0,0,0,0,0,0,0,0,0,0,0,0,0,0,0,0,0,53,53,53]
[{"$f":"VLOOKUP(H462,'Pivot ECAST'!A:B,2,FALSE)","v":1},1,"15397011","1539701","1539701","Morningside El","5397","1539701","Elementary School","PHBAO","PHBAO","f","f","t","f","f","NE","NE","no","6","Kelly Gonez",null,null,"ECAST",82,65,71,59,64,54,0,0,0,0,0,0,0,0,0,0,28,0,0,0,0,11,395,423,434]
[{"$f":"VLOOKUP(H463,'Pivot ECAST'!A:B,2,FALSE)","v":2},1,"15404011","1540401","1540401","Mountain View El","5404","1540401","Elementary School","Desegregated/Receiver","Non-PHBAO","f","f","t","f","f","NE","NE","no","6","Kelly Gonez",null,null,"ECAST",44,35,42,29,36,34,0,0,0,0,0,0,0,0,0,0,0,0,0,0,0,0,220,220,220]
[{"$f":"VLOOKUP(H464,'Pivot ECAST'!A:B,2,FALSE)","v":2},2,"15404012","1540402","1540402","Mountain View El DL Two-Way Im Armenian","2817","1540401","Dual Language Ctr - Elementary","Desegregated/Receiver","Non-PHBAO","f","f","t","f","f","NE","NE","no","6","Kelly Gonez",null,null,"ECAST",67,50,44,35,38,35,0,0,0,0,0,0,0,0,0,0,0,0,0,0,0,0,269,269,269]
[{"$f":"VLOOKUP(H465,'Pivot ECAST'!A:B,2,FALSE)","v":1},1,"15411011","1541101","1541101","Mt Washington El","5411","1541101","Elementary School","Desegregated/Receiver","Non-PHBAO","f","f","t","f","f","C","C","no","5","Jackie Goldberg",null,null,"ECAST",93,69,52,57,71,48,26,0,0,0,0,0,0,0,0,0,0,0,0,0,0,0,416,416,416]
[{"$f":"VLOOKUP(H466,'Pivot ECAST'!A:B,2,FALSE)","v":3},1,"15425011","1542501","1542501","Multnomah El","5425","1542501","Elementary School","PHBAO","PHBAO","f","f","t","f","f","E","E","no","2","Monica Garcia",null,null,"ECAST",37,17,15,10,15,21,0,0,0,0,0,0,0,0,0,0,0,0,0,0,0,19,115,115,134]
[{"$f":"VLOOKUP(H467,'Pivot ECAST'!A:B,2,FALSE)","v":3},2,"15425012","1542502","1542502","Multnomah Street Elementary Gifted Magnet","5426","1542501","Magnet Ctr -Elementary","Magnet 2","Magnet 2","f","f","t","f","f","E","E","no","2","Monica Garcia",null,null,"ECAST",0,0,11,12,20,16,0,0,0,0,0,0,0,0,0,0,0,0,0,0,0,0,59,59,59]
[{"$f":"VLOOKUP(H468,'Pivot ECAST'!A:B,2,FALSE)","v":3},3,"15425013","1542503","1542503","Multnomah Env Sc Mag","5427","1542501","Magnet Ctr -Elementary","Magnet 2","Magnet 2","f","f","t","f","f","E","E","no","2","Monica Garcia",null,null,"ECAST",22,24,18,20,22,22,0,0,0,0,0,0,0,0,0,0,0,0,0,0,0,0,128,128,128]
[{"$f":"VLOOKUP(H469,'Pivot ECAST'!A:B,2,FALSE)","v":1},1,"15438011","1543801","1543801","Murchison El","5438","1543801","Elementary School","PHBAO","PHBAO","f","f","t","f","f","E","E","no","2","Monica Garcia",null,null,"ECAST",47,40,42,48,35,40,39,0,0,0,0,0,0,0,0,0,55,0,0,0,0,0,291,346,346]
[{"$f":"VLOOKUP(H470,'Pivot ECAST'!A:B,2,FALSE)","v":2},1,"15446011","1544601","1544601","Napa El","5446","1544601","Elementary School","PHBAO","PHBAO","f","f","t","f","f","NW","NW","no","3","Scott Schmerelson",null,null,"ECAST",28,29,26,39,51,61,0,0,0,0,0,0,0,0,0,0,46,0,0,14,0,20,234,280,314]
[{"$f":"VLOOKUP(H471,'Pivot ECAST'!A:B,2,FALSE)","v":2},2,"15446012","1544602","1544602","Napa St El DL Two-Way Im Spanish","2431","1544601","Dual Language Ctr - Elementary","PHBAO","PHBAO","f","f","t","f","f","NW","NW","no","3","Scott Schmerelson",null,null,"ECAST",45,22,21,19,20,0,0,0,0,0,0,0,0,0,0,0,0,0,0,0,0,0,127,127,127]
[{"$f":"VLOOKUP(H472,'Pivot ECAST'!A:B,2,FALSE)","v":1},1,"15452011","1545201","1545201","Nestle Ave Charter","5452","1545201","Elementary School","Desegregated/Receiver","Non-PHBAO","t","t","t","f","f","NW","NW","no","4","Nick Melvoin",null,null,"ECAST",69,56,46,56,59,51,0,0,0,0,0,0,0,0,0,0,13,0,0,0,25,0,337,350,375]
[{"$f":"VLOOKUP(H473,'Pivot ECAST'!A:B,2,FALSE)","v":2},1,"15459011","1545901","1545901","Nevada El","5459","1545901","Elementary School","PHBAO","PHBAO","f","f","t","f","f","NW","NW","no","3","Scott Schmerelson",null,null,"ECAST",41,29,24,32,16,18,0,0,0,0,0,0,0,0,0,0,12,0,0,21,0,17,160,172,210]
[{"$f":"VLOOKUP(H474,'Pivot ECAST'!A:B,2,FALSE)","v":2},2,"15459012","1545902","1545902","Nevada El DL Two-Way Im Spanish","2432","1545901","Dual Language Ctr - Elementary","PHBAO","PHBAO","f","f","t","f","f","NW","NW","no","3","Scott Schmerelson",null,null,"ECAST",32,25,31,15,10,17,0,0,0,0,0,0,0,0,0,0,0,0,0,0,0,15,130,130,145]
[{"$f":"VLOOKUP(H475,'Pivot ECAST'!A:B,2,FALSE)","v":1},1,"15466011","1546601","1546601","Nevin El","5466","1546601","Elementary School","PHBAO","PHBAO","f","f","t","f","f","C","C","no","5","Jackie Goldberg",null,null,"ECAST",90,69,58,65,72,70,0,0,0,0,0,0,0,0,0,0,17,0,0,14,0,18,424,441,473]
[{"$f":"VLOOKUP(H476,'Pivot ECAST'!A:B,2,FALSE)","v":1},1,"15479011","1547901","1547901","Newcastle El","5479","1547901","Elementary School","PHBAO","PHBAO","f","f","t","f","f","NW","NW","no","4","Nick Melvoin",null,null,"ECAST",51,38,48,36,24,47,0,0,0,0,0,0,0,0,0,0,16,0,0,7,0,15,244,260,282]
[{"$f":"VLOOKUP(H477,'Pivot ECAST'!A:B,2,FALSE)","v":1},1,"15505011","1550501","1550501","9th St El","5505","1550501","Elementary School","PHBAO","PHBAO","f","f","t","f","f","C","C","no","2","Monica Garcia",null,null,"ECAST",38,26,28,47,32,32,0,0,0,0,0,0,0,0,0,0,0,0,0,7,0,3,203,203,213]
[{"$f":"VLOOKUP(H478,'Pivot ECAST'!A:B,2,FALSE)","v":1},1,"15521011","1552101","1552101","95th St El","5521","1552101","Elementary School","PHBAO","PHBAO","f","f","t","f","f","W","W","no","1","George McKenna",null,null,"ECAST",114,97,122,125,111,118,0,0,0,0,0,0,0,0,0,0,29,0,0,0,0,11,687,716,727]
[{"$f":"VLOOKUP(H479,'Pivot ECAST'!A:B,2,FALSE)","v":1},1,"15534011","1553401","1553401","99th St El","5534","1553401","Elementary School","PHBAO","PHBAO","f","f","t","f","f","S","S","no","7","Tanya Ortiz Franklin",null,null,"ECAST",60,54,64,56,83,60,33,0,0,0,0,0,0,0,0,0,32,0,0,5,21,0,410,442,468]
[{"$f":"VLOOKUP(H480,'Pivot ECAST'!A:B,2,FALSE)","v":1},1,"15548011","1554801","1554801","92nd St El","5548","1554801","Elementary School","PHBAO","PHBAO","f","f","t","f","f","S","S","no","7","Tanya Ortiz Franklin",null,null,"ECAST",99,73,71,98,80,85,92,0,0,0,0,0,0,0,0,0,29,0,0,0,0,26,598,627,653]
[{"$f":"VLOOKUP(H481,'Pivot ECAST'!A:B,2,FALSE)","v":2},1,"15562011","1556201","1556201","Barrett El","5562","1556201","Elementary School","PHBAO","PHBAO","f","f","t","f","f","S","S","no","1","George McKenna",null,null,"ECAST",87,69,61,62,74,76,0,0,0,0,0,0,0,0,0,0,21,0,0,11,0,11,429,450,472]
[{"$f":"VLOOKUP(H482,'Pivot ECAST'!A:B,2,FALSE)","v":2},2,"15562012","1556202","1556202","Barrett El DL Two-Way Im Spanish","2287","1556201","Dual Language Ctr - Elementary","PHBAO","PHBAO","f","f","t","f","f","S","S","no","1","George McKenna",null,null,"ECAST",6,6,19,15,16,19,0,0,0,0,0,0,0,0,0,0,0,0,0,0,0,0,81,81,81]
[{"$f":"VLOOKUP(H483,'Pivot ECAST'!A:B,2,FALSE)","v":2},1,"15575011","1557501","1557501","96th St El","5575","1557501","Elementary School","PHBAO","PHBAO","f","f","t","f","f","S","S","no","7","Tanya Ortiz Franklin",null,null,"ECAST",69,57,50,53,60,73,70,0,0,0,0,0,0,0,0,0,15,0,0,13,0,15,432,447,475]
[{"$f":"VLOOKUP(H484,'Pivot ECAST'!A:B,2,FALSE)","v":2},2,"15575012","1557502","1557502","96th St El DL Two-Way Im Spanish","2408","1557501","Dual Language Ctr - Elementary","PHBAO","PHBAO","f","f","t","f","f","S","S","no","7","Tanya Ortiz Franklin",null,null,"ECAST",20,18,16,20,16,0,0,0,0,0,0,0,0,0,0,0,0,0,0,0,0,0,90,90,90]
[{"$f":"VLOOKUP(H485,'Pivot ECAST'!A:B,2,FALSE)","v":3},1,"15582011","1558201","1558201","93rd St El","5582","1558201","Elementary School","PHBAO","PHBAO","f","f","t","f","f","S","S","no","7","Tanya Ortiz Franklin",null,null,"ECAST",94,37,37,37,30,49,40,0,0,0,0,0,0,0,0,0,60,0,0,16,0,17,324,384,417]
[{"$f":"VLOOKUP(H486,'Pivot ECAST'!A:B,2,FALSE)","v":3},2,"15582012","1558202","1558202","93rd St El DL Two-Way Im Spanish","2818","1558201","Dual Language Ctr - Elementary","PHBAO","PHBAO","f","f","t","f","f","S","S","no","7","Tanya Ortiz Franklin",null,null,"ECAST",46,46,41,41,40,40,0,0,0,0,0,0,0,0,0,0,0,0,0,0,0,0,254,254,254]
[{"$f":"VLOOKUP(H487,'Pivot ECAST'!A:B,2,FALSE)","v":3},3,"15582013","1558203","1558203","93rd St ES STEAM Magnet","2327","1558201","Magnet Ctr -Elementary","Magnet 2","Magnet 2","f","f","t","f","f","S","S","no","7","Tanya Ortiz Franklin",null,null,"ECAST",0,42,39,42,50,71,0,0,0,0,0,0,0,0,0,0,0,0,0,0,0,0,244,244,244]
[{"$f":"VLOOKUP(H488,'Pivot ECAST'!A:B,2,FALSE)","v":1},1,"15603011","1560301","1560301","Noble El","5603","1560301","Elementary School","PHBAO","PHBAO","f","f","t","f","f","NE","NE","no","6","Kelly Gonez",null,null,"ECAST",136,91,108,115,88,112,0,0,0,0,0,0,0,0,0,0,42,0,0,0,0,21,650,692,713]
[{"$f":"VLOOKUP(H489,'Pivot ECAST'!A:B,2,FALSE)","v":1},1,"15604011","1560401","1560401","Panorama City El","5604","1560401","Elementary School","PHBAO","PHBAO","f","f","t","f","f","NW","NW","no","6","Kelly Gonez",null,null,"ECAST",82,67,77,66,70,55,0,0,0,0,0,0,0,0,0,0,28,0,0,10,34,0,417,445,489]
[{"$f":"VLOOKUP(H490,'Pivot ECAST'!A:B,2,FALSE)","v":2},1,"15630011","1563001","1563001","Normandie El","5630","1563001","Elementary School","PHBAO","PHBAO","f","f","t","f","f","C","C","no","1","George McKenna",null,null,"ECAST",95,64,56,52,68,61,0,0,0,0,0,0,0,0,0,0,41,0,0,4,0,16,396,437,457]
[{"$f":"VLOOKUP(H491,'Pivot ECAST'!A:B,2,FALSE)","v":2},2,"15630012","1563002","1563002","Normandie El DL Two-Way Im Spanish","2819","1563001","Dual Language Ctr - Elementary","PHBAO","PHBAO","f","f","t","f","f","C","C","no","1","George McKenna",null,null,"ECAST",13,10,21,32,32,29,0,0,0,0,0,0,0,0,0,0,0,0,0,0,0,0,137,137,137]
[{"$f":"VLOOKUP(H492,'Pivot ECAST'!A:B,2,FALSE)","v":2},1,"15644011","1564401","1564401","Normont El","5644","1564401","Elementary School","PHBAO","PHBAO","f","f","t","f","f","S","S","no","7","Tanya Ortiz Franklin",null,null,"ECAST",42,31,37,20,29,37,0,0,0,0,0,0,0,0,0,0,10,0,0,8,0,0,196,206,214]
[{"$f":"VLOOKUP(H493,'Pivot ECAST'!A:B,2,FALSE)","v":2},2,"15644012","1564402","1564402","Normont El DL Two-Way Im Spanish","2420","1564401","Dual Language Ctr - Elementary","PHBAO","PHBAO","f","f","t","f","f","S","S","no","7","Tanya Ortiz Franklin",null,null,"ECAST",14,14,18,12,15,0,0,0,0,0,0,0,0,0,0,0,0,0,0,0,0,0,73,73,73]
[{"$f":"VLOOKUP(H494,'Pivot ECAST'!A:B,2,FALSE)","v":1},1,"15699011","1569901","1569901","Norwood El","5699","1569901","Elementary School","PHBAO","PHBAO","f","f","t","f","f","C","C","no","5","Jackie Goldberg",null,null,"ECAST",60,37,57,45,34,49,0,0,0,0,0,0,0,0,0,0,37,0,0,0,0,10,282,319,329]
[{"$f":"VLOOKUP(H495,'Pivot ECAST'!A:B,2,FALSE)","v":1},1,"15726011","1572601","1572601","O Melveny El","5726","1572601","Elementary School","PHBAO","PHBAO","f","f","t","f","f","NE","NE","no","6","Kelly Gonez",null,null,"ECAST",58,41,38,62,59,83,0,0,0,0,0,0,0,0,0,0,17,0,0,4,14,14,341,358,390]
[{"$f":"VLOOKUP(H496,'Pivot ECAST'!A:B,2,FALSE)","v":2},1,"15740011","1574001","1574001","118th St El","5740","1574001","Elementary School","PHBAO","PHBAO","f","f","t","f","f","S","S","no","7","Tanya Ortiz Franklin",null,null,"ECAST",66,57,53,47,47,64,0,0,0,0,0,0,0,0,0,0,27,0,0,0,0,19,334,361,380]
[{"$f":"VLOOKUP(H497,'Pivot ECAST'!A:B,2,FALSE)","v":2},2,"15740012","1574002","1574002","118th St El DL Two-Way Im Spanish","2404","1574001","Dual Language Ctr - Elementary","PHBAO","PHBAO","f","f","t","f","f","S","S","no","7","Tanya Ortiz Franklin",null,null,"ECAST",18,18,15,18,19,0,0,0,0,0,0,0,0,0,0,0,0,0,0,0,0,0,88,88,88]
[{"$f":"VLOOKUP(H498,'Pivot ECAST'!A:B,2,FALSE)","v":1},1,"15753011","1575301","1575301","186th St El","5753","1575301","Elementary School","PHBAO","PHBAO","f","f","t","f","f","S","S","no","7","Tanya Ortiz Franklin",null,null,"ECAST",105,81,90,90,99,105,0,0,0,0,0,0,0,0,0,0,24,0,0,0,5,31,570,594,630]
[{"$f":"VLOOKUP(H499,'Pivot ECAST'!A:B,2,FALSE)","v":3},1,"15781011","1578101","1578101","Flournoy El","5781","1578101","Elementary School","PHBAO","PHBAO","f","f","t","f","f","S","S","no","7","Tanya Ortiz Franklin",null,null,"ECAST",45,30,29,48,33,36,0,0,0,0,0,0,0,0,0,0,17,0,0,0,0,9,221,238,247]
[{"$f":"VLOOKUP(H500,'Pivot ECAST'!A:B,2,FALSE)","v":3},2,"15781012","1578102","1578102","Flournoy ES STEAM Magnet","5783","1578101","Magnet Ctr -Elementary","Magnet 2","Magnet 2","f","f","t","f","f","S","S","no","7","Tanya Ortiz Franklin",null,null,"ECAST",20,20,20,16,16,17,0,0,0,0,0,0,0,0,0,0,0,0,0,0,0,0,109,109,109]
[{"$f":"VLOOKUP(H501,'Pivot ECAST'!A:B,2,FALSE)","v":3},3,"15781013","1578103","1578103","Flournoy El DL Two-Way Im Spanish","5781","1578101","Dual Language Ctr - Elementary","PHBAO","PHBAO","f","f","t","f","f","S","S","no","7","Tanya Ortiz Franklin",null,null,"ECAST",21,19,0,0,0,0,0,0,0,0,0,0,0,0,0,0,0,0,0,0,0,0,40,40,40]
[{"$f":"VLOOKUP(H502,'Pivot ECAST'!A:B,2,FALSE)","v":1},1,"15808011","1580801","1580801","156th St El","5808","1580801","Elementary School","PHBAO","PHBAO","f","f","t","f","f","S","S","no","7","Tanya Ortiz Franklin",null,null,"ECAST",68,43,48,48,37,38,47,0,0,0,0,0,0,0,0,0,13,0,0,0,0,0,329,342,342]
[{"$f":"VLOOKUP(H503,'Pivot ECAST'!A:B,2,FALSE)","v":2},1,"15822011","1582201","1582201","153rd St El","5822","1582201","Elementary School","PHBAO","PHBAO","f","f","t","f","f","S","S","no","7","Tanya Ortiz Franklin",null,null,"ECAST",45,36,36,36,42,26,0,0,0,0,0,0,0,0,0,0,51,0,0,19,0,13,221,272,304]
[{"$f":"VLOOKUP(H504,'Pivot ECAST'!A:B,2,FALSE)","v":2},2,"15822012","1582202","1582202","153rd St El DL Two-Way Im Spanish","2294","1582201","Dual Language Ctr - Elementary","PHBAO","PHBAO","f","f","t","f","f","S","S","no","7","Tanya Ortiz Franklin",null,null,"ECAST",19,19,18,19,17,15,0,0,0,0,0,0,0,0,0,0,0,0,0,0,0,0,107,107,107]
[{"$f":"VLOOKUP(H505,'Pivot ECAST'!A:B,2,FALSE)","v":1},1,"15836011","1583601","1583601","109th St El","5836","1583601","Elementary School","PHBAO","PHBAO","f","f","t","f","f","S","S","no","7","Tanya Ortiz Franklin",null,null,"ECAST",58,40,55,45,44,44,0,0,0,0,0,0,0,0,0,0,16,0,0,0,0,12,286,302,314]
[{"$f":"VLOOKUP(H506,'Pivot ECAST'!A:B,2,FALSE)","v":2},1,"15849011","1584901","1584901","Griffith Joyner El","5849","1584901","Elementary School","PHBAO","PHBAO","f","f","t","f","f","S","S","no","7","Tanya Ortiz Franklin",null,null,"ECAST",63,33,37,45,34,33,0,0,0,0,0,0,0,0,0,0,19,0,0,10,0,8,245,264,282]
[{"$f":"VLOOKUP(H507,'Pivot ECAST'!A:B,2,FALSE)","v":2},2,"15849012","1584902","1584902","Griffith Joyner ES Visual/Perf Arts Mag","2333","1584901","Magnet Ctr -Elementary","Magnet 2","Magnet 2","f","f","t","f","f","S","S","no","7","Tanya Ortiz Franklin",null,null,"ECAST",0,17,19,19,23,23,0,0,0,0,0,0,0,0,0,0,0,0,0,0,0,0,101,101,101]
[{"$f":"VLOOKUP(H508,'Pivot ECAST'!A:B,2,FALSE)","v":2},1,"15857011","1585701","1585701","107th St El","5857","1585701","Elementary School","PHBAO","PHBAO","f","f","t","f","f","S","S","no","7","Tanya Ortiz Franklin",null,null,"ECAST",116,81,86,94,100,94,0,0,0,0,0,0,0,0,0,0,26,0,0,5,8,21,571,597,631]
[{"$f":"VLOOKUP(H509,'Pivot ECAST'!A:B,2,FALSE)","v":2},2,"15857012","1585702","1585702","107th St ES STEAM Magnet","5858","1585701","Magnet Ctr -Elementary","Magnet 2","Magnet 2","f","f","t","f","f","S","S","no","7","Tanya Ortiz Franklin",null,null,"ECAST",24,23,22,22,25,42,0,0,0,0,0,0,0,0,0,0,0,0,0,0,0,0,158,158,158]
[{"$f":"VLOOKUP(H510,'Pivot ECAST'!A:B,2,FALSE)","v":2},1,"15863011","1586301","1586301","116th St El","5863","1586301","Elementary School","PHBAO","PHBAO","f","f","t","f","f","S","S","no","7","Tanya Ortiz Franklin",null,null,"ECAST",67,42,52,40,34,59,0,0,0,0,0,0,0,0,0,0,17,0,0,0,0,19,294,311,330]
[{"$f":"VLOOKUP(H511,'Pivot ECAST'!A:B,2,FALSE)","v":2},2,"15863012","1586302","1586302","116th St El DL Two-Way Im Spanish","2403","1586301","Dual Language Ctr - Elementary","PHBAO","PHBAO","f","f","t","f","f","S","S","no","7","Tanya Ortiz Franklin",null,null,"ECAST",4,4,4,16,18,0,0,0,0,0,0,0,0,0,0,0,0,0,0,0,0,0,46,46,46]
[{"$f":"VLOOKUP(H512,'Pivot ECAST'!A:B,2,FALSE)","v":2},1,"15877011","1587701","1587701","135th St El","5877","1587701","Elementary School","PHBAO","PHBAO","f","f","t","f","f","S","S","no","7","Tanya Ortiz Franklin",null,null,"ECAST",97,67,41,66,68,71,0,0,0,0,0,0,0,0,0,0,31,0,0,11,0,26,410,441,478]
[{"$f":"VLOOKUP(H513,'Pivot ECAST'!A:B,2,FALSE)","v":2},2,"15877012","1587702","1587702","135th St El DL Two-Way Im Spanish","2433","1587701","Dual Language Ctr - Elementary","PHBAO","PHBAO","f","f","t","f","f","S","S","no","7","Tanya Ortiz Franklin",null,null,"ECAST",14,14,21,20,21,0,0,0,0,0,0,0,0,0,0,0,0,0,0,0,0,0,90,90,90]
[{"$f":"VLOOKUP(H514,'Pivot ECAST'!A:B,2,FALSE)","v":1},1,"15884011","1588401","1588401","112th St El","5884","1588401","Elementary School","PHBAO","PHBAO","f","f","t","f","f","S","S","no","7","Tanya Ortiz Franklin",null,null,"ECAST",68,49,54,48,42,43,0,0,0,0,0,0,0,0,0,0,19,0,0,12,0,13,304,323,348]
[{"$f":"VLOOKUP(H515,'Pivot ECAST'!A:B,2,FALSE)","v":2},1,{"$f":"H515&B515","v":"15887011"},"1588701","1588701","122nd St El","5887","1588701","Elementary School","PHBAO","PHBAO","f","f","t","f","f","S","S","no","7","Tanya Ortiz Franklin",null,null,"ECAST",66,46,53,58,78,93,0,0,0,0,0,0,0,0,0,0,25,0,0,0,0,14,394,419,433]
[{"$f":"VLOOKUP(H516,'Pivot ECAST'!A:B,2,FALSE)","v":2},{"$f":"IF(H516=H515,B515+1,1)","v":2},"15887012",{"$f":"E516","v":"1588702"},"1588702","122nd St El DL Two-Way Im Spanish","2405","1588701","Dual Language Ctr - Elementary","PHBAO","PHBAO","f","f","t","f","f","S","S","no","7","Tanya Ortiz Franklin",null,null,"ECAST",17,17,21,20,21,0,0,0,0,0,0,0,0,0,0,0,0,0,0,0,0,0,96,96,96]
[{"$f":"VLOOKUP(H517,'Pivot ECAST'!A:B,2,FALSE)","v":1},1,"15889011","1588901","1588901","Open Charter Magnet","5889","1588901","Magnet School - ELEM","Magnet 1","Magnet 1","t","t","t","f","f","W","W","no","4","Nick Melvoin",null,null,"ECAST",43,73,76,72,68,66,0,0,0,0,0,0,0,0,0,0,0,0,0,0,0,0,{"$f":"SUM(Y517:AN517)","v":398},{"$f":"AU517+AO517+AP517+AQ517","v":398},{"$f":"AV517+SUM(AR517:AT517)","v":398}]
[{"$f":"VLOOKUP(H518,'Pivot ECAST'!A:B,2,FALSE)","v":1},1,"15894011","1589401","1589401","Osceola El","5894","1589401","Elementary School","PHBAO","PHBAO","f","f","t","f","f","NE","NE","no","6","Kelly Gonez",null,null,"ECAST",68,46,50,57,34,59,0,0,0,0,0,0,0,0,0,0,0,0,0,10,25,19,314,314,368]
[{"$f":"VLOOKUP(H519,'Pivot ECAST'!A:B,2,FALSE)","v":1},1,"15904011","1590401","1590401","Overland El","5904","1590401","Elementary School","Desegregated/Receiver","Non-PHBAO","f","f","t","f","f","W","W","no","1","George McKenna",null,null,"ECAST",100,66,58,71,58,56,0,0,0,0,0,0,0,0,0,0,0,0,0,0,0,0,409,409,409]
[{"$f":"VLOOKUP(H520,'Pivot ECAST'!A:B,2,FALSE)","v":1},1,"15918011","1591801","1591801","Oxnard El","5918","1591801","Elementary School","PHBAO","PHBAO","f","f","t","f","f","NE","NE","no","6","Kelly Gonez",null,null,"ECAST",54,32,39,45,33,54,0,0,0,0,0,0,0,0,0,0,11,0,0,0,0,9,257,268,277]
[{"$f":"VLOOKUP(H521,'Pivot ECAST'!A:B,2,FALSE)","v":1},1,"15959011","1595901","1595901","Palisades Charter El","5959","1595901","Elementary School","Desegregated/Receiver","Non-PHBAO","t","t","t","f","f","W","W","no","4","Nick Melvoin",null,null,"ECAST",80,60,66,62,61,73,0,0,0,0,0,0,0,0,0,0,0,0,0,0,0,0,402,402,402]
[{"$f":"VLOOKUP(H522,'Pivot ECAST'!A:B,2,FALSE)","v":1},1,"15986011","1598601","1598601","Palms El","5986","1598601","Elementary School","PHBAO","PHBAO","f","f","t","f","f","W","W","no","1","George McKenna",null,null,"ECAST",48,44,33,35,30,31,0,0,0,0,0,0,0,0,0,0,35,0,0,5,0,0,221,256,261]
[{"$f":"VLOOKUP(H523,'Pivot ECAST'!A:B,2,FALSE)","v":2},1,"16005011","1600501","1600501","Park Ave El","6005","1600501","Elementary School","PHBAO","PHBAO","f","f","t","f","f","E","E","no","5","Jackie Goldberg",null,null,"ECAST",35,28,29,33,34,44,64,0,0,0,0,0,0,0,0,0,0,0,0,4,0,11,267,267,282]
[{"$f":"VLOOKUP(H524,'Pivot ECAST'!A:B,2,FALSE)","v":2},2,"16005012","1600502","1600502","Park Ave El DL Two-Way Im Spanish","4834","1600501","Dual Language Ctr - Elementary","PHBAO","PHBAO","f","f","t","f","f","E","E","no","5","Jackie Goldberg",null,null,"ECAST",9,9,10,14,0,0,0,0,0,0,0,0,0,0,0,0,0,0,0,0,0,0,42,42,42]
[{"$f":"VLOOKUP(H525,'Pivot ECAST'!A:B,2,FALSE)","v":2},1,"16013011","1601301","1601301","Park Western El","6013","1601301","Elementary School","PHBAO","PHBAO","f","f","t","f","f","S","S","no","7","Tanya Ortiz Franklin",null,null,"ECAST",85,34,43,45,32,36,0,0,0,0,0,0,0,0,0,0,18,0,0,0,10,0,275,293,303]
[{"$f":"VLOOKUP(H526,'Pivot ECAST'!A:B,2,FALSE)","v":2},2,"16013012","1601302","1601302","Park Western Pl ES Gifted/STEAM Magnet","6014","1601301","Magnet Ctr -Elementary","Magnet 2","Magnet 2","f","f","t","f","f","S","S","no","7","Tanya Ortiz Franklin",null,null,"ECAST",0,48,48,47,54,73,0,0,0,0,0,0,0,0,0,0,0,0,0,0,0,0,270,270,270]
[{"$f":"VLOOKUP(H527,'Pivot ECAST'!A:B,2,FALSE)","v":2},1,"16021011","1602101","1602101","Parmelee El","6021","1602101","Elementary School","PHBAO","PHBAO","f","f","t","f","f","S","S","no","7","Tanya Ortiz Franklin",null,null,"ECAST",66,46,42,49,54,54,65,0,0,0,0,0,0,0,0,0,26,0,0,0,0,19,376,402,421]
[{"$f":"VLOOKUP(H528,'Pivot ECAST'!A:B,2,FALSE)","v":2},2,"16021012","1602102","1602102","Parmelee Ave El DL Two-Way Im Spanish","2820","1602101","Dual Language Ctr - Elementary","PHBAO","PHBAO","f","f","t","f","f","S","S","no","7","Tanya Ortiz Franklin",null,null,"ECAST",48,46,43,40,44,41,24,0,0,0,0,0,0,0,0,0,0,0,0,0,0,0,286,286,286]
[{"$f":"VLOOKUP(H529,'Pivot ECAST'!A:B,2,FALSE)","v":1},1,"16027011","1602701","1602701","Parthenia Academy of Arts and Technology","6027","1602701","Elementary School","PHBAO","PHBAO","f","f","t","f","f","NW","NW","no","3","Scott Schmerelson",null,null,"ECAST",96,67,71,100,81,85,0,0,0,0,0,0,0,0,0,0,20,0,0,4,0,24,500,520,548]
[{"$f":"VLOOKUP(H530,'Pivot ECAST'!A:B,2,FALSE)","v":3},1,"16052011","1605201","1605201","Paseo Del Rey DL & STEAM Academy","6052","1605201","Elementary School","PHBAO","PHBAO","f","f","t","f","f","W","W","no","4","Nick Melvoin",null,null,"ECAST",16,22,0,0,0,0,0,0,0,0,0,0,0,0,0,0,0,0,0,0,0,0,38,38,38]
[{"$f":"VLOOKUP(H531,'Pivot ECAST'!A:B,2,FALSE)","v":3},2,"16052012","1605202","1605202","Paseo Del Rey DL Two-Way Im Spanish","3552","1605201","Dual Language Ctr - Elementary","PHBAO","PHBAO","f","f","t","f","f","W","W","no","4","Nick Melvoin",null,null,"ECAST",16,0,0,0,0,0,0,0,0,0,0,0,0,0,0,0,0,0,0,0,0,0,16,16,16]
[{"$f":"VLOOKUP(H532,'Pivot ECAST'!A:B,2,FALSE)","v":3},3,"16052013","1605203","1605203","Paseo Del Rey ES Natural Science Magnet","3553","1605201","Magnet Ctr -Elementary","Magnet 2","Magnet 2","f","f","t","f","f","W","W","no","4","Nick Melvoin",null,null,"ECAST",0,0,18,37,41,39,0,0,0,0,0,0,0,0,0,0,0,0,0,0,0,0,135,135,135]
[{"$f":"VLOOKUP(H533,'Pivot ECAST'!A:B,2,FALSE)","v":1},1,"16068011","1606801","1606801","Pinewood El","6068","1606801","Elementary School","PHBAO","PHBAO","f","f","t","f","f","NE","NE","no","6","Kelly Gonez",null,null,"ECAST",35,24,22,24,20,22,0,0,0,0,0,0,0,0,0,0,14,0,0,0,0,0,147,161,161]
[{"$f":"VLOOKUP(H534,'Pivot ECAST'!A:B,2,FALSE)","v":1},1,"16087011","1608701","1608701","Girls Acad Leader, Dr. King Sch for STEM","6087","1608701","Span School","PHBAO","PHBAO","f","f","f","f","t","W","W","yes","1","George McKenna",null,null,"ECAST",0,0,0,0,0,0,139,146,139,105,90,83,71,0,0,0,0,0,0,0,0,0,773,773,773]
[{"$f":"VLOOKUP(H535,'Pivot ECAST'!A:B,2,FALSE)","v":1},1,"16096011","1609601","1609601","Plainview Academc CA","6096","1609601","Elementary School","PHBAO","PHBAO","t","t","t","f","f","NE","NE","no","6","Kelly Gonez",null,null,"ECAST",59,44,39,43,48,41,0,0,0,0,0,0,0,0,0,0,0,0,0,8,0,0,274,274,282]
[{"$f":"VLOOKUP(H536,'Pivot ECAST'!A:B,2,FALSE)","v":1},1,"16110011","1611001","1611001","Playa Del Rey El","6110","1611001","Elementary School","Desegregated/Receiver","Non-PHBAO","f","f","t","f","f","W","W","no","4","Nick Melvoin",null,null,"ECAST",55,43,38,37,39,31,0,0,0,0,0,0,0,0,0,0,0,0,0,6,0,0,243,243,249]
[{"$f":"VLOOKUP(H537,'Pivot ECAST'!A:B,2,FALSE)","v":1},1,"16123011","1612301","1612301","Plummer El","6123","1612301","Elementary School","PHBAO","PHBAO","f","f","t","f","f","NW","NW","no","6","Kelly Gonez",null,null,"ECAST",109,88,70,79,98,79,83,0,0,0,0,0,0,0,0,0,46,0,0,21,21,20,606,652,714]
[{"$f":"VLOOKUP(H538,'Pivot ECAST'!A:B,2,FALSE)","v":1},1,"16137011","1613701","1613701","Pt Fermin Mar Sci Mg","6137","1613701","Magnet School - ELEM","Magnet 2","Magnet 2","f","f","t","f","f","S","S","no","7","Tanya Ortiz Franklin",null,null,"ECAST",48,69,47,47,68,48,0,0,0,0,0,0,0,0,0,0,0,0,0,0,0,0,327,327,327]
[{"$f":"VLOOKUP(H539,'Pivot ECAST'!A:B,2,FALSE)","v":2},1,"16140011","1614001","1614001","Pomelo Community CS","6140","1614001","Elementary School","Desegregated/Receiver","Non-PHBAO","t","t","t","f","f","NW","NW","no","3","Scott Schmerelson",null,null,"ECAST",116,58,53,43,51,57,0,0,0,0,0,0,0,0,0,0,24,0,0,0,0,0,378,402,402]
[{"$f":"VLOOKUP(H540,'Pivot ECAST'!A:B,2,FALSE)","v":2},2,"16140012","1614002","1614002","Pomelo CCES Arts/Sciences Magnet","6140","1614001","Magnet Ctr -Elementary","Magnet 1","Magnet 1","t","t","t","f","f","NW","NW","no","3","Scott Schmerelson",null,null,"ECAST",0,24,24,24,28,30,0,0,0,0,0,0,0,0,0,0,0,0,0,0,0,0,130,130,130]
[{"$f":"VLOOKUP(H541,'Pivot ECAST'!A:B,2,FALSE)","v":2},1,"16148011","1614801","1614801","President El","6148","1614801","Elementary School","PHBAO","PHBAO","f","f","t","f","f","S","S","no","7","Tanya Ortiz Franklin",null,null,"ECAST",30,17,23,21,20,23,22,0,0,0,0,0,0,0,0,0,37,0,0,3,0,17,156,193,213]
[{"$f":"VLOOKUP(H542,'Pivot ECAST'!A:B,2,FALSE)","v":2},2,"16148012","1614802","1614802","President El DL Two-Way Im Spanish","2821","1614801","Dual Language Ctr - Elementary","PHBAO","PHBAO","f","f","t","f","f","S","S","no","7","Tanya Ortiz Franklin",null,null,"ECAST",23,29,42,31,30,20,15,0,0,0,0,0,0,0,0,0,0,0,0,0,0,0,190,190,190]
[{"$f":"VLOOKUP(H543,'Pivot ECAST'!A:B,2,FALSE)","v":2},1,"16158011","1615801","1615801","Purche El","6158","1615801","Elementary School","PHBAO","PHBAO","f","f","t","f","f","S","S","no","7","Tanya Ortiz Franklin",null,null,"ECAST",70,31,40,31,28,28,0,0,0,0,0,0,0,0,0,0,27,0,0,0,0,18,228,255,273]
[{"$f":"VLOOKUP(H544,'Pivot ECAST'!A:B,2,FALSE)","v":2},2,"16158012","1615802","1615802","Purche ES STEAM Magnet","6159","1615801","Magnet Ctr -Elementary","Magnet 2","Magnet 2","f","f","t","f","f","S","S","no","7","Tanya Ortiz Franklin",null,null,"ECAST",0,14,16,24,19,27,0,0,0,0,0,0,0,0,0,0,0,0,0,0,0,0,100,100,100]
[{"$f":"VLOOKUP(H545,'Pivot ECAST'!A:B,2,FALSE)","v":2},1,"16164011","1616401","1616401","Queen Anne El","6164","1616401","Elementary School","PHBAO","PHBAO","f","f","t","f","f","W","W","no","1","George McKenna",null,null,"ECAST",45,31,35,26,10,24,0,0,0,0,0,0,0,0,0,0,0,0,0,0,0,14,171,171,185]
[{"$f":"VLOOKUP(H546,'Pivot ECAST'!A:B,2,FALSE)","v":2},2,"16164012","1616402","1616402","Queen Anne El DL Two-Way Im Spanish","2823","1616401","Dual Language Ctr - Elementary","PHBAO","PHBAO","f","f","t","f","f","W","W","no","1","George McKenna",null,null,"ECAST",37,29,30,32,29,21,0,0,0,0,0,0,0,0,0,0,0,0,0,0,0,0,178,178,178]
[{"$f":"VLOOKUP(H547,'Pivot ECAST'!A:B,2,FALSE)","v":1},1,"16178011","1617801","1617801","Ramona El","6178","1617801","Elementary School","PHBAO","PHBAO","f","f","t","f","f","W","W","no","5","Jackie Goldberg",null,null,"ECAST",42,30,26,29,35,52,0,0,0,0,0,0,0,0,0,0,39,0,0,0,0,15,214,253,268]
[{"$f":"VLOOKUP(H548,'Pivot ECAST'!A:B,2,FALSE)","v":2},1,"16179011","1617901","1617901","Kingsley El","6179","1617901","Elementary School","PHBAO","PHBAO","f","f","t","f","f","W","W","no","5","Jackie Goldberg",null,null,"ECAST",34,30,19,22,26,33,0,0,0,0,0,0,0,0,0,0,9,0,0,0,0,0,164,173,173]
[{"$f":"VLOOKUP(H549,'Pivot ECAST'!A:B,2,FALSE)","v":2},2,"16179012","1617902","1617902","Kingsley El DL Two-Way Im Spanish","2824","1617901","Dual Language Ctr - Elementary","PHBAO","PHBAO","f","f","t","f","f","W","W","no","5","Jackie Goldberg",null,null,"ECAST",27,24,19,32,29,31,0,0,0,0,0,0,0,0,0,0,0,0,0,0,0,0,162,162,162]
[{"$f":"VLOOKUP(H550,'Pivot ECAST'!A:B,2,FALSE)","v":2},1,"16192011","1619201","1619201","Ranchito El","6192","1619201","Elementary School","PHBAO","PHBAO","f","f","t","f","f","NE","NE","no","6","Kelly Gonez",null,null,"ECAST",78,55,57,43,55,61,0,0,0,0,0,0,0,0,0,0,0,0,0,5,0,20,349,349,374]
[{"$f":"VLOOKUP(H551,'Pivot ECAST'!A:B,2,FALSE)","v":2},2,"16192012","1619202","1619202","Ranchito Ave El DL Two-Way Im Spanish","4835","1619201","Dual Language Ctr - Elementary","PHBAO","PHBAO","f","f","t","f","f","NE","NE","no","6","Kelly Gonez",null,null,"ECAST",16,16,18,17,0,0,0,0,0,0,0,0,0,0,0,0,0,0,0,0,0,0,67,67,67]
[{"$f":"VLOOKUP(H552,'Pivot ECAST'!A:B,2,FALSE)","v":1},1,"16219011","1621901","1621901","Raymond Ave El","6219","1621901","Elementary School","PHBAO","PHBAO","f","f","t","f","f","W","W","no","1","George McKenna",null,null,"ECAST",79,60,52,51,68,57,0,0,0,0,0,0,0,0,0,0,17,0,0,3,0,12,367,384,399]
[{"$f":"VLOOKUP(H553,'Pivot ECAST'!A:B,2,FALSE)","v":1},1,"16233011","1623301","1623301","Reseda El","6233","1623301","Elementary School","PHBAO","PHBAO","f","f","t","f","f","NW","NW","no","4","Nick Melvoin",null,null,"ECAST",88,62,62,57,49,69,0,0,0,0,0,0,0,0,0,0,10,0,0,15,0,9,387,397,421]
[{"$f":"VLOOKUP(H554,'Pivot ECAST'!A:B,2,FALSE)","v":2},1,"16260011","1626001","1626001","Richland El","6260","1626001","Span School","PHBAO","PHBAO","f","f","f","f","f","W","W","no","4","Nick Melvoin",null,null,"ECAST",0,0,0,0,0,0,36,22,0,0,0,0,0,0,0,0,6,0,0,12,0,0,58,64,76]
[{"$f":"VLOOKUP(H555,'Pivot ECAST'!A:B,2,FALSE)","v":2},2,"16260012","1626002","1626002","Richland El DL Two-Way Im French","2825","1626001","Dual Language Ctr - Elementary","PHBAO","PHBAO","f","f","f","f","f","W","W","no","4","Nick Melvoin",null,null,"ECAST",68,42,47,34,41,34,0,0,0,0,0,0,0,0,0,0,0,0,0,0,0,0,266,266,266]
[{"$f":"VLOOKUP(H556,'Pivot ECAST'!A:B,2,FALSE)","v":1},1,"16274011","1627401","1627401","Hamasaki Medical/Science Magnet School","6274","1627401","Magnet School - ELEM","Magnet 2","Magnet 2","f","f","t","f","f","E","E","no","2","Monica Garcia",null,null,"ECAST",62,61,65,66,49,60,0,0,0,0,0,0,0,0,0,0,26,0,0,8,14,0,363,389,411]
[{"$f":"VLOOKUP(H557,'Pivot ECAST'!A:B,2,FALSE)","v":1},1,"16288011","1628801","1628801","Rio Vista El","6288","1628801","Elementary School","Desegregated/Receiver","Non-PHBAO","f","f","t","f","f","NE","NE","no","6","Kelly Gonez",null,null,"ECAST",79,54,68,49,60,53,0,0,0,0,0,0,0,0,0,0,4,0,0,7,0,0,363,367,374]
[{"$f":"VLOOKUP(H558,'Pivot ECAST'!A:B,2,FALSE)","v":1},1,"16301011","1630101","1630101","Ritter El","6301","1630101","Elementary School","PHBAO","PHBAO","f","f","t","f","f","S","S","no","7","Tanya Ortiz Franklin",null,null,"ECAST",46,41,29,33,39,48,0,0,0,0,0,0,0,0,0,0,0,0,0,0,0,10,236,236,246]
[{"$f":"VLOOKUP(H559,'Pivot ECAST'!A:B,2,FALSE)","v":1},1,"16315011","1631501","1631501","Riverside Drive Charter","6315","1631501","Elementary School","Desegregated/Receiver","Non-PHBAO","t","t","t","f","f","NE","NE","no","3","Scott Schmerelson",null,null,"ECAST",56,47,64,57,56,57,0,0,0,0,0,0,0,0,0,0,15,0,0,0,0,0,337,352,352]
[{"$f":"VLOOKUP(H560,'Pivot ECAST'!A:B,2,FALSE)","v":1},1,"16329011","1632901","1632901","Rockdale VAPA Mag","6329","1632901","Magnet School - ELEM","Magnet 2","Magnet 2","f","f","t","f","f","C","C","no","5","Jackie Goldberg",null,null,"ECAST",43,31,31,44,46,50,42,0,0,0,0,0,0,0,0,0,0,0,0,0,0,7,287,287,294]
[{"$f":"VLOOKUP(H561,'Pivot ECAST'!A:B,2,FALSE)","v":1},1,"16342011","1634201","1634201","Coeur D Alene El","6342","1634201","Elementary School","Desegregated/Receiver","Non-PHBAO","f","f","t","f","f","W","W","no","4","Nick Melvoin",null,null,"ECAST",89,57,59,63,55,63,0,0,0,0,0,0,0,0,0,0,0,0,0,0,0,0,386,386,386]
[{"$f":"VLOOKUP(H562,'Pivot ECAST'!A:B,2,FALSE)","v":2},1,"16356011","1635601","1635601","Roscoe El","6356","1635601","Elementary School","PHBAO","PHBAO","f","f","t","f","f","NE","NE","no","6","Kelly Gonez",null,null,"ECAST",77,59,39,46,50,73,0,0,0,0,0,0,0,0,0,0,38,0,0,0,0,16,344,382,398]
[{"$f":"VLOOKUP(H563,'Pivot ECAST'!A:B,2,FALSE)","v":2},2,"16356012","1635602","1635602","Roscoe El DL Two-Way Ime Spanish","2421","1635601","Dual Language Ctr - Elementary","PHBAO","PHBAO","f","f","t","f","f","NE","NE","no","6","Kelly Gonez",null,null,"ECAST",22,20,31,36,24,0,0,0,0,0,0,0,0,0,0,0,0,0,0,0,0,0,133,133,133]
[{"$f":"VLOOKUP(H564,'Pivot ECAST'!A:B,2,FALSE)","v":1},1,"16363011","1636301","1636301","Roscomare El","6363","1636301","Elementary School","Desegregated/Receiver","Non-PHBAO","f","f","t","f","f","W","W","no","4","Nick Melvoin",null,null,"ECAST",59,54,63,53,49,58,0,0,0,0,0,0,0,0,0,0,0,0,0,0,0,0,336,336,336]
[{"$f":"VLOOKUP(H565,'Pivot ECAST'!A:B,2,FALSE)","v":1},1,"16370011","1637001","1637001","Rosemont El","6370","1637001","Elementary School","PHBAO","PHBAO","f","f","t","f","f","C","C","no","2","Monica Garcia",null,null,"ECAST",0,0,51,55,43,50,0,0,0,0,0,0,0,0,0,0,2,0,0,4,0,0,199,201,205]
[{"$f":"VLOOKUP(H566,'Pivot ECAST'!A:B,2,FALSE)","v":1},1,"16384011","1638401","1638401","Rosewood Av ES Urban/Plan Des Magnet","6384","1638401","Magnet School - ELEM","Magnet 1","Magnet 1","f","f","t","f","f","W","W","no","4","Nick Melvoin",null,null,"ECAST",37,48,44,41,50,43,0,0,0,0,0,0,0,0,0,0,0,0,0,0,0,0,263,263,263]
[{"$f":"VLOOKUP(H567,'Pivot ECAST'!A:B,2,FALSE)","v":2},1,"16425011","1642501","1642501","Rowan El","6425","1642501","Elementary School","PHBAO","PHBAO","f","f","t","f","f","E","E","no","2","Monica Garcia",null,null,"ECAST",72,57,55,106,131,128,0,0,0,0,0,0,0,0,0,0,54,0,0,6,0,19,549,603,628]
[{"$f":"VLOOKUP(H568,'Pivot ECAST'!A:B,2,FALSE)","v":2},2,"16425012","1642502","1642502","Rowan Ave El DL Two-Way Im Spanish","2763","1642501","Dual Language Ctr - Elementary","PHBAO","PHBAO","f","f","t","f","f","E","E","no","2","Monica Garcia",null,null,"ECAST",14,14,16,0,0,0,0,0,0,0,0,0,0,0,0,0,0,0,0,0,0,0,44,44,44]
[{"$f":"VLOOKUP(H569,'Pivot ECAST'!A:B,2,FALSE)","v":1},1,"16426011","1642601","1642601","Amanecer PC","6426","1642601","Primary Center","PHBAO","PHBAO","f","f","t","f","f","E","E","no","2","Monica Garcia",null,null,"ECAST",24,22,33,0,0,0,0,0,0,0,0,0,0,0,0,0,0,0,0,3,0,11,79,79,93]
[{"$f":"VLOOKUP(H570,'Pivot ECAST'!A:B,2,FALSE)","v":2},1,"16438011","1643801","1643801","Russell El","6438","1643801","Elementary School","PHBAO","PHBAO","f","f","t","f","f","S","S","no","7","Tanya Ortiz Franklin",null,null,"ECAST",117,76,44,53,53,48,38,0,0,0,0,0,0,0,0,0,37,0,0,13,26,12,429,466,517]
[{"$f":"VLOOKUP(H571,'Pivot ECAST'!A:B,2,FALSE)","v":2},2,"16438012","1643802","1643802","Russell Elementary Gifted Magnet","6439","1643801","Magnet Ctr -Elementary","Magnet 2","Magnet 2","f","f","t","f","f","S","S","no","7","Tanya Ortiz Franklin",null,null,"ECAST",0,22,40,39,40,40,37,0,0,0,0,0,0,0,0,0,0,0,0,0,0,0,218,218,218]
[{"$f":"VLOOKUP(H572,'Pivot ECAST'!A:B,2,FALSE)","v":2},1,"16452011","1645201","1645201","San Fernando El","6452","1645201","Elementary School","PHBAO","PHBAO","f","f","t","f","f","NE","NE","no","6","Kelly Gonez",null,null,"ECAST",34,32,50,34,29,40,0,0,0,0,0,0,0,0,0,0,11,0,0,11,0,19,219,230,260]
[{"$f":"VLOOKUP(H573,'Pivot ECAST'!A:B,2,FALSE)","v":2},2,"16452012","1645202","1645202","San Fernando El DL Two-Way Im Spanish","2826","1645201","Dual Language Ctr - Elementary","PHBAO","PHBAO","f","f","t","f","f","NE","NE","no","6","Kelly Gonez",null,null,"ECAST",39,39,39,31,31,36,0,0,0,0,0,0,0,0,0,0,0,0,0,0,0,0,215,215,215]
[{"$f":"VLOOKUP(H574,'Pivot ECAST'!A:B,2,FALSE)","v":2},1,"16466011","1646601","1646601","San Gabriel El","6466","1646601","Elementary School","PHBAO","PHBAO","f","f","t","f","f","E","E","no","5","Jackie Goldberg",null,null,"ECAST",56,44,53,41,71,77,0,0,0,0,0,0,0,0,0,0,24,0,0,0,0,21,342,366,387]
[{"$f":"VLOOKUP(H575,'Pivot ECAST'!A:B,2,FALSE)","v":2},2,"16466012","1646602","1646602","San Gabriel El DL Two-Way Im Spanish","4840","1646601","Dual Language Ctr - Elementary","PHBAO","PHBAO","f","f","t","f","f","E","E","no","5","Jackie Goldberg",null,null,"ECAST",20,20,20,19,17,0,0,0,0,0,0,0,0,0,0,0,0,0,0,0,0,0,96,96,96]
[{"$f":"VLOOKUP(H576,'Pivot ECAST'!A:B,2,FALSE)","v":2},1,"16479011","1647901","1647901","San Jose El","6479","1647901","Elementary School","PHBAO","PHBAO","f","f","t","f","f","NW","NW","no","6","Kelly Gonez",null,null,"ECAST",93,72,88,93,77,73,0,0,0,0,0,0,0,0,0,0,0,0,0,6,0,22,496,496,524]
[{"$f":"VLOOKUP(H577,'Pivot ECAST'!A:B,2,FALSE)","v":2},2,"16479012","1647902","1647902","San Jose Hg Mag","6480","1647901","Magnet Ctr -Elementary","Magnet 1","Magnet 1","f","f","t","f","f","NW","NW","no","6","Kelly Gonez",null,null,"ECAST",0,0,5,6,15,22,0,0,0,0,0,0,0,0,0,0,0,0,0,0,0,0,48,48,48]
[{"$f":"VLOOKUP(H578,'Pivot ECAST'!A:B,2,FALSE)","v":1},1,"16493011","1649301","1649301","San Pascual Avenue Elementary STEAM Magnet","6493","1649301","Magnet School - ELEM","Magnet 2","Magnet 2","f","f","t","f","f","C","C","no","2","Monica Garcia",null,null,"ECAST",48,47,35,39,38,40,0,0,0,0,0,0,0,0,0,0,0,0,0,0,0,17,247,247,264]
[{"$f":"VLOOKUP(H579,'Pivot ECAST'!A:B,2,FALSE)","v":1},1,{"$f":"H579&B579","v":"16501011"},"1650101","1650101","San Fernando MS IAM","6501","1650101","Middle School","PHBAO","PHBAO","f","f","f","f","f","NE","NE","no","6","Kelly Gonez",null,null,"ECAST",0,0,0,0,0,0,72,78,99,0,0,0,0,0,0,0,0,16,0,0,0,0,249,265,265]
[{"$f":"VLOOKUP(H580,'Pivot ECAST'!A:B,2,FALSE)","v":1},{"$f":"IF(H580=H579,B579+1,1)","v":1},"16507011",{"$f":"E580","v":"1650701"},"1650701","San Pedro El","6507","1650701","Elementary School","PHBAO","PHBAO","f","f","t","f","f","C","C","no","5","Jackie Goldberg",null,null,"ECAST",60,54,62,79,60,81,0,0,0,0,0,0,0,0,0,0,24,0,0,13,1,13,396,420,447]
[{"$f":"VLOOKUP(H581,'Pivot ECAST'!A:B,2,FALSE)","v":2},1,"16534011","1653401","1653401","King Jr El","6534","1653401","Elementary School","PHBAO","PHBAO","f","f","t","f","f","C","C","no","1","George McKenna",null,null,"ECAST",34,26,40,30,56,42,0,0,0,0,0,0,0,0,0,0,15,0,0,7,0,5,{"$f":"SUM(Y581:AN581)","v":228},{"$f":"AU581+AO581+AP581+AQ581","v":243},{"$f":"AV581+SUM(AR581:AT581)","v":255}]
[{"$f":"VLOOKUP(H582,'Pivot ECAST'!A:B,2,FALSE)","v":2},2,"16534012","1653402","1653402","King Jr El DL Two-Way Im Spanish","2757","1653401","Dual Language Ctr - Elementary","PHBAO","PHBAO","f","f","t","f","f","C","C","no","1","George McKenna",null,null,"ECAST",10,10,23,22,0,0,0,0,0,0,0,0,0,0,0,0,0,0,0,0,0,0,65,65,65]
[{"$f":"VLOOKUP(H583,'Pivot ECAST'!A:B,2,FALSE)","v":1},1,"16549011","1654901","1654901","Hollywood Elementary School","6549","1654901","Elementary School","PHBAO","PHBAO","f","f","t","f","f","W","W","no","5","Jackie Goldberg",null,null,"ECAST",40,29,22,19,15,24,0,0,0,0,0,0,0,0,0,0,20,0,0,6,0,5,149,169,180]
[{"$f":"VLOOKUP(H584,'Pivot ECAST'!A:B,2,FALSE)","v":2},1,"16565011","1656501","1656501","Saticoy El","6565","1656501","Elementary School","Desegregated/Receiver","Non-PHBAO","f","f","t","f","f","NE","NE","no","6","Kelly Gonez",null,null,"ECAST",44,37,35,36,36,39,0,0,0,0,0,0,0,0,0,0,32,0,0,6,9,0,227,259,274]
[{"$f":"VLOOKUP(H585,'Pivot ECAST'!A:B,2,FALSE)","v":2},2,"16565012","1656502","1656502","Saticoy El DL Two-Way Im Armenian","2296","1656501","Dual Language Ctr - Elementary","Desegregated/Receiver","Non-PHBAO","f","f","t","f","f","NE","NE","no","6","Kelly Gonez",null,null,"ECAST",39,37,38,42,34,18,0,0,0,0,0,0,0,0,0,0,0,0,0,0,0,0,208,208,208]
[{"$f":"VLOOKUP(H586,'Pivot ECAST'!A:B,2,FALSE)","v":2},1,"16575011","1657501","1657501","2nd St El","6575","1657501","Elementary School","PHBAO","PHBAO","f","f","t","f","f","E","E","no","2","Monica Garcia",null,null,"ECAST",21,12,22,17,28,12,26,0,0,0,0,0,0,0,0,0,11,0,0,0,0,3,138,149,152]
[{"$f":"VLOOKUP(H587,'Pivot ECAST'!A:B,2,FALSE)","v":2},2,"16575012","1657502","1657502","2nd St El DL Two-Way Im Spanish","2299","1657501","Dual Language Ctr - Elementary","PHBAO","PHBAO","f","f","t","f","f","E","E","no","2","Monica Garcia",null,null,"ECAST",15,15,7,8,11,11,0,0,0,0,0,0,0,0,0,0,0,0,0,0,0,0,67,67,67]
[{"$f":"VLOOKUP(H588,'Pivot ECAST'!A:B,2,FALSE)","v":1},1,"16606011","1660601","1660601","Serrania CES","6606","1660601","Elementary School","Desegregated/Receiver","Non-PHBAO","t","t","t","f","f","NW","NW","no","4","Nick Melvoin",null,null,"ECAST",86,69,84,87,84,60,0,0,0,0,0,0,0,0,0,0,20,0,0,3,0,0,470,490,493]
[{"$f":"VLOOKUP(H589,'Pivot ECAST'!A:B,2,FALSE)","v":1},1,"16616011","1661601","1661601","7th St ES Arts Integration Magnet","6616","1661601","Magnet School - ELEM","Magnet 2","Magnet 2","f","f","t","f","f","S","S","no","7","Tanya Ortiz Franklin",null,null,"ECAST",60,47,43,44,39,40,0,0,0,0,0,0,0,0,0,0,22,0,0,5,0,16,273,295,316]
[{"$f":"VLOOKUP(H590,'Pivot ECAST'!A:B,2,FALSE)","v":2},1,"16630011","1663001","1663001","75th St El","6630","1663001","Elementary School","PHBAO","PHBAO","f","f","t","f","f","S","S","no","7","Tanya Ortiz Franklin",null,null,"ECAST",69,61,60,80,72,65,61,0,0,0,0,0,0,0,0,0,52,0,0,0,0,14,468,520,534]
[{"$f":"VLOOKUP(H591,'Pivot ECAST'!A:B,2,FALSE)","v":2},2,"16630012","1663002","1663002","75Th St El DL Two-Way Im Spanish","2827","1663001","Dual Language Ctr - Elementary","PHBAO","PHBAO","f","f","t","f","f","S","S","no","7","Tanya Ortiz Franklin",null,null,"ECAST",23,27,34,38,39,44,51,0,0,0,0,0,0,0,0,0,0,0,0,0,0,0,256,256,256]
[{"$f":"VLOOKUP(H592,'Pivot ECAST'!A:B,2,FALSE)","v":2},1,"16644011","1664401","1664401","74th St El","6644","1664401","Elementary School","PHBAO","PHBAO","f","f","t","f","f","W","W","no","1","George McKenna",null,null,"ECAST",57,23,22,25,21,15,0,0,0,0,0,0,0,0,0,0,0,0,0,9,0,14,163,163,186]
[{"$f":"VLOOKUP(H593,'Pivot ECAST'!A:B,2,FALSE)","v":2},2,"16644012","1664402","1664402","74th Street Elementary Gifted Magnet","6645","1664401","Magnet Ctr -Elementary","Magnet 2","Magnet 2","f","f","t","f","f","W","W","no","1","George McKenna",null,null,"ECAST",0,15,15,25,34,41,0,0,0,0,0,0,0,0,0,0,0,0,0,0,0,0,130,130,130]
[{"$f":"VLOOKUP(H594,'Pivot ECAST'!A:B,2,FALSE)","v":1},1,"16658011","1665801","1665801","Mc Kinley El","6658","1665801","Elementary School","PHBAO","PHBAO","f","f","t","f","f","S","S","no","7","Tanya Ortiz Franklin",null,null,"ECAST",50,61,61,77,83,88,80,0,0,0,0,0,0,0,0,0,35,0,0,0,0,0,500,535,535]
[{"$f":"VLOOKUP(H595,'Pivot ECAST'!A:B,2,FALSE)","v":1},1,"16665011","1666501","1666501","Sharp El","6665","1666501","Elementary School","PHBAO","PHBAO","f","f","t","f","f","NE","NE","no","6","Kelly Gonez",null,null,"ECAST",83,63,60,65,75,64,0,0,0,0,0,0,0,0,0,0,19,0,0,11,0,17,410,429,457]
[{"$f":"VLOOKUP(H596,'Pivot ECAST'!A:B,2,FALSE)","v":1},1,"16671011","1667101","1667101","Shenandoah El","6671","1667101","Elementary School","PHBAO","PHBAO","f","f","t","f","f","W","W","no","1","George McKenna",null,null,"ECAST",69,41,39,51,37,52,0,0,0,0,0,0,0,0,0,0,0,0,0,0,0,17,289,289,306]
[{"$f":"VLOOKUP(H597,'Pivot ECAST'!A:B,2,FALSE)","v":2},1,"16685011","1668501","1668501","Sheridan St El","6685","1668501","Elementary School","PHBAO","PHBAO","f","f","t","f","f","E","E","no","2","Monica Garcia",null,null,"ECAST",72,59,43,49,53,57,68,0,0,0,0,0,0,0,0,0,40,0,0,16,8,23,401,441,488]
[{"$f":"VLOOKUP(H598,'Pivot ECAST'!A:B,2,FALSE)","v":2},2,"16685012","1668502","1668502","Sheridan El DL Two-Way Im Spanish","2423","1668501","Dual Language Ctr - Elementary","PHBAO","PHBAO","f","f","t","f","f","E","E","no","2","Monica Garcia",null,null,"ECAST",21,19,19,15,16,0,0,0,0,0,0,0,0,0,0,0,0,0,0,0,0,0,90,90,90]
[{"$f":"VLOOKUP(H599,'Pivot ECAST'!A:B,2,FALSE)","v":1},1,"16699011","1669901","1669901","Sherman Oaks El CS","6699","1669901","Elementary School","Desegregated/Receiver","Non-PHBAO","t","t","t","f","f","NE","NE","no","3","Scott Schmerelson",null,null,"ECAST",108,79,64,77,52,88,0,0,0,0,0,0,0,0,0,0,27,0,0,6,0,0,468,495,501]
[{"$f":"VLOOKUP(H600,'Pivot ECAST'!A:B,2,FALSE)","v":1},1,"16712011","1671201","1671201","Shirley El","6712","1671201","Elementary School","PHBAO","PHBAO","f","f","t","f","f","NW","NW","no","4","Nick Melvoin",null,null,"ECAST",76,48,46,54,49,49,0,0,0,0,0,0,0,0,0,0,24,0,0,13,0,19,322,346,378]
[{"$f":"VLOOKUP(H601,'Pivot ECAST'!A:B,2,FALSE)","v":1},1,"16740011","1674001","1674001","Short El","6740","1674001","Elementary School","Desegregated/Receiver","Non-PHBAO","f","f","t","f","f","W","W","no","4","Nick Melvoin",null,null,"ECAST",84,55,49,43,41,42,0,0,0,0,0,0,0,0,0,0,0,0,0,8,0,0,314,314,322]
[{"$f":"VLOOKUP(H602,'Pivot ECAST'!A:B,2,FALSE)","v":1},1,"16753011","1675301","1675301","Sierra Park El","6753","1675301","Elementary School","PHBAO","PHBAO","f","f","t","f","f","E","E","no","2","Monica Garcia",null,null,"ECAST",45,29,29,45,29,49,32,0,0,0,0,0,0,0,0,0,28,0,0,4,12,0,258,286,302]
[{"$f":"VLOOKUP(H603,'Pivot ECAST'!A:B,2,FALSE)","v":1},1,"16767011","1676701","1676701","Sierra Vista El","6767","1676701","Elementary School","PHBAO","PHBAO","f","f","t","f","f","E","E","no","2","Monica Garcia",null,null,"ECAST",30,22,29,23,18,19,23,0,0,0,0,0,0,0,0,0,0,0,0,0,0,8,164,164,172]
[{"$f":"VLOOKUP(H604,'Pivot ECAST'!A:B,2,FALSE)","v":2},1,"16781011","1678101","1678101","6th Ave El","6781","1678101","Elementary School","PHBAO","PHBAO","f","f","t","f","f","W","W","no","1","George McKenna",null,null,"ECAST",52,43,36,26,31,31,0,0,0,0,0,0,0,0,0,0,7,0,0,17,0,17,219,226,260]
[{"$f":"VLOOKUP(H605,'Pivot ECAST'!A:B,2,FALSE)","v":2},2,"16781012","1678102","1678102","6th Av El DL Two-Way Im Spanish","2455","1678101","Dual Language Ctr - Elementary","PHBAO","PHBAO","f","f","t","f","f","W","W","no","1","George McKenna",null,null,"ECAST",14,9,10,15,18,20,0,0,0,0,0,0,0,0,0,0,0,0,0,0,0,0,86,86,86]
[{"$f":"VLOOKUP(H606,'Pivot ECAST'!A:B,2,FALSE)","v":1},1,"16795011","1679501","1679501","Gil Garcetti Learning Academy","6795","1679501","Elementary School","PHBAO","PHBAO","f","f","t","f","f","S","S","no","1","George McKenna",null,null,"ECAST",79,58,51,82,50,56,66,0,0,0,0,0,0,0,0,0,44,0,0,15,0,20,442,486,521]
[{"$f":"VLOOKUP(H607,'Pivot ECAST'!A:B,2,FALSE)","v":2},1,"16808011","1680801","1680801","61st St El","6808","1680801","Elementary School","PHBAO","PHBAO","f","f","t","f","f","W","W","no","1","George McKenna",null,null,"ECAST",58,52,50,41,52,65,50,0,0,0,0,0,0,0,0,0,47,0,0,21,2,20,368,415,458]
[{"$f":"VLOOKUP(H608,'Pivot ECAST'!A:B,2,FALSE)","v":2},2,"16808012","1680802","1680802","61st St El DL Two-Way Im Spanish","2407","1680801","Dual Language Ctr - Elementary","PHBAO","PHBAO","f","f","t","f","f","W","W","no","1","George McKenna",null,null,"ECAST",23,24,18,17,19,0,0,0,0,0,0,0,0,0,0,0,0,0,0,0,0,0,101,101,101]
[{"$f":"VLOOKUP(H609,'Pivot ECAST'!A:B,2,FALSE)","v":1},1,"16822011","1682201","1682201","66th St El","6822","1682201","Elementary School","PHBAO","PHBAO","f","f","t","f","f","S","S","no","7","Tanya Ortiz Franklin",null,null,"ECAST",95,94,94,82,99,96,87,0,0,0,0,0,0,0,0,0,24,0,0,0,0,16,647,671,687]
[{"$f":"VLOOKUP(H610,'Pivot ECAST'!A:B,2,FALSE)","v":1},1,"16836011","1683601","1683601","Solano El","6836","1683601","Elementary School","PHBAO","PHBAO","f","f","t","f","f","E","E","no","2","Monica Garcia",null,null,"ECAST",37,24,24,17,18,19,24,0,0,0,0,0,0,0,0,0,0,0,0,0,0,0,163,163,163]
[{"$f":"VLOOKUP(H611,'Pivot ECAST'!A:B,2,FALSE)","v":1},1,"16849011","1684901","1684901","Soto El","6849","1684901","Elementary School","PHBAO","PHBAO","f","f","t","f","f","E","E","no","2","Monica Garcia",null,null,"ECAST",25,19,12,22,25,27,16,0,0,0,0,0,0,0,0,0,43,0,0,12,0,0,146,189,201]
[{"$f":"VLOOKUP(H612,'Pivot ECAST'!A:B,2,FALSE)","v":2},1,"16863011","1686301","1686301","South Park El","6863","1686301","Elementary School","PHBAO","PHBAO","f","f","t","f","f","S","S","no","7","Tanya Ortiz Franklin",null,null,"ECAST",136,101,106,93,93,113,108,0,0,0,0,0,0,0,0,0,26,0,0,4,0,24,750,776,804]
[{"$f":"VLOOKUP(H613,'Pivot ECAST'!A:B,2,FALSE)","v":2},2,"16863012","1686302","1686302","South Park El DL Two-Way Im Spanish","2424","1686301","Dual Language Ctr - Elementary","PHBAO","PHBAO","f","f","t","f","f","S","S","no","7","Tanya Ortiz Franklin",null,null,"ECAST",11,11,16,22,24,0,0,0,0,0,0,0,0,0,0,0,0,0,0,0,0,0,84,84,84]
[{"$f":"VLOOKUP(H614,'Pivot ECAST'!A:B,2,FALSE)","v":1},1,"16867011","1686701","1686701","Bridges School","6867","1686701","Span School","PHBAO","PHBAO","f","f","f","f","t","S","S","yes","7","Tanya Ortiz Franklin",null,null,"ECAST",132,126,115,116,114,133,111,140,126,0,0,0,0,0,0,0,0,3,0,0,0,0,1113,1116,1116]
[{"$f":"VLOOKUP(H615,'Pivot ECAST'!A:B,2,FALSE)","v":2},1,"16868011","1686801","1686801","Obama Global Prep Acad","6868","1686801","Span School","PHBAO","PHBAO","f","f","f","f","t","C","C","yes","1","George McKenna",null,null,"ECAST",0,0,0,0,0,0,68,54,97,46,52,35,0,0,0,0,0,35,6,0,0,0,352,393,393]
[{"$f":"VLOOKUP(H616,'Pivot ECAST'!A:B,2,FALSE)","v":2},2,"16868012","1686802","1686802","Obama GPA STEAM Magnet","5248","1686801","Magnet Ctr -Middle School","Magnet 2","Magnet 2","f","f","f","f","f","C","C","yes","1","George McKenna",null,null,"ECAST",0,0,0,0,0,0,24,26,30,0,0,0,0,0,0,0,0,0,0,0,0,0,80,80,80]
[{"$f":"VLOOKUP(H617,'Pivot ECAST'!A:B,2,FALSE)","v":3},1,"16869011","1686901","1686901","Knox El","6869","1686901","Elementary School","PHBAO","PHBAO","f","f","t","f","f","S","S","no","7","Tanya Ortiz Franklin",null,null,"ECAST",44,32,35,39,44,60,43,0,0,0,0,0,0,0,0,0,31,0,0,0,0,12,297,328,340]
[{"$f":"VLOOKUP(H618,'Pivot ECAST'!A:B,2,FALSE)","v":3},2,"16869012","1686902","1686902","Knox El DL Two-Way Im Spanish","2429","1686901","Dual Language Ctr - Elementary","PHBAO","PHBAO","f","f","t","f","f","S","S","no","7","Tanya Ortiz Franklin",null,null,"ECAST",18,18,25,19,24,0,0,0,0,0,0,0,0,0,0,0,0,0,0,0,0,0,104,104,104]
[{"$f":"VLOOKUP(H619,'Pivot ECAST'!A:B,2,FALSE)","v":3},3,"16869013","1686903","1686903","Knox ES Visual/Performing Arts Magnet","2445","1686901","Magnet Ctr -Elementary","Magnet 2","Magnet 2","f","f","t","f","f","S","S","no","7","Tanya Ortiz Franklin",null,null,"ECAST",19,24,22,24,25,23,0,0,0,0,0,0,0,0,0,0,0,0,0,0,0,0,137,137,137]
[{"$f":"VLOOKUP(H620,'Pivot ECAST'!A:B,2,FALSE)","v":1},1,"16870011","1687001","1687001","S Shores Per Arts Mg","6870","1687001","Magnet School - ELEM","Magnet 1","Magnet 1","f","f","t","f","f","S","S","no","7","Tanya Ortiz Franklin",null,null,"ECAST",68,72,60,69,86,88,0,0,0,0,0,0,0,0,0,0,0,0,0,0,0,0,443,443,443]
[{"$f":"VLOOKUP(H621,'Pivot ECAST'!A:B,2,FALSE)","v":1},1,"16872011","1687201","1687201","Wisdom El","6872","1687201","Elementary School","PHBAO","PHBAO","f","f","t","f","f","S","S","no","7","Tanya Ortiz Franklin",null,null,"ECAST",121,93,75,101,95,90,96,0,0,0,0,0,0,0,0,0,27,0,0,0,22,0,671,698,720]
[{"$f":"VLOOKUP(H622,'Pivot ECAST'!A:B,2,FALSE)","v":1},1,"16873011","1687301","1687301","Escalante El","6873","1687301","Elementary School","PHBAO","PHBAO","f","f","t","f","f","E","E","no","5","Jackie Goldberg",null,null,"ECAST",79,66,56,78,53,64,56,0,0,0,0,0,0,0,0,0,25,0,0,0,0,0,452,477,477]
[{"$f":"VLOOKUP(H623,'Pivot ECAST'!A:B,2,FALSE)","v":4},1,"16875011","1687501","1687501","San Miguel El","6875","1687501","Elementary School","PHBAO","PHBAO","f","f","t","f","f","E","E","no","5","Jackie Goldberg",null,null,"ECAST",68,53,50,49,37,58,0,0,0,0,0,0,0,0,0,0,34,0,0,12,29,23,315,349,413]
[{"$f":"VLOOKUP(H624,'Pivot ECAST'!A:B,2,FALSE)","v":4},2,"16875012","1687502","1687502","San Miguel ES Steam Magnet","6876","1687501","Magnet Ctr -Elementary","Magnet 2","Magnet 2","f","f","t","f","f","E","E","no","5","Jackie Goldberg",null,null,"ECAST",17,17,19,33,40,51,0,0,0,0,0,0,0,0,0,0,0,0,0,0,0,0,177,177,177]
[{"$f":"VLOOKUP(H625,'Pivot ECAST'!A:B,2,FALSE)","v":4},3,"16875013","1687503","1687503","San Miguel El DL Two-Way Im Spanish","2422","1687501","Dual Language Ctr - Elementary","PHBAO","PHBAO","f","f","t","f","f","E","E","no","5","Jackie Goldberg",null,null,"ECAST",27,19,23,32,29,0,0,0,0,0,0,0,0,0,0,0,0,0,0,0,0,0,130,130,130]
[{"$f":"VLOOKUP(H626,'Pivot ECAST'!A:B,2,FALSE)","v":4},4,"16875014","1687504","1687504","San Miguel El DL World Lang Im Mandarin","4837","1687501","Dual Language Ctr - Elementary","PHBAO","PHBAO","f","f","t","f","f","E","E","no","5","Jackie Goldberg",null,null,"ECAST",6,4,8,11,0,0,0,0,0,0,0,0,0,0,0,0,0,0,0,0,0,0,29,29,29]
[{"$f":"VLOOKUP(H627,'Pivot ECAST'!A:B,2,FALSE)","v":3},1,"16878011","1687801","1687801","Montara Ave El","6878","1687801","Elementary School","PHBAO","PHBAO","f","f","t","f","f","E","E","no","5","Jackie Goldberg",null,null,"ECAST",55,20,25,39,26,33,34,0,0,0,0,0,0,0,0,0,27,0,0,21,0,19,232,259,299]
[{"$f":"VLOOKUP(H628,'Pivot ECAST'!A:B,2,FALSE)","v":3},2,"16878012","1687802","1687802","Montara Avenue Elem Science/Tech/Math Mag","6882","1687801","Magnet Ctr -Elementary","Magnet 2","Magnet 2","f","f","t","f","f","E","E","no","5","Jackie Goldberg",null,null,"ECAST",18,22,22,23,22,31,0,0,0,0,0,0,0,0,0,0,0,0,0,0,0,0,138,138,138]
[{"$f":"VLOOKUP(H629,'Pivot ECAST'!A:B,2,FALSE)","v":3},3,"16878013","1687803","1687803","Montara Ave El DL Two-Way Im Spanish","2828","1687801","Dual Language Ctr - Elementary","PHBAO","PHBAO","f","f","t","f","f","E","E","no","5","Jackie Goldberg",null,null,"ECAST",23,24,34,24,25,30,33,0,0,0,0,0,0,0,0,0,0,0,0,0,0,0,193,193,193]
[{"$f":"VLOOKUP(H630,'Pivot ECAST'!A:B,2,FALSE)","v":3},1,"16880011","1688001","1688001","Independence El","6880","1688001","Elementary School","PHBAO","PHBAO","f","f","t","f","f","E","E","no","5","Jackie Goldberg",null,null,"ECAST",53,40,40,40,23,40,0,0,0,0,0,0,0,0,0,0,24,0,0,0,0,7,236,260,267]
[{"$f":"VLOOKUP(H631,'Pivot ECAST'!A:B,2,FALSE)","v":3},2,"16880012","1688002","1688002","Independence Elementary STEM Magnet","6881","1688001","Magnet Ctr -Elementary","Magnet 2","Magnet 2","f","f","t","f","f","E","E","no","5","Jackie Goldberg",null,null,"ECAST",20,12,20,24,26,23,0,0,0,0,0,0,0,0,0,0,0,0,0,0,0,0,125,125,125]
[{"$f":"VLOOKUP(H632,'Pivot ECAST'!A:B,2,FALSE)","v":3},3,"16880013","1688003","1688003","Independence El DL Two-Way Im Spanish","2414","1688001","Dual Language Ctr - Elementary","PHBAO","PHBAO","f","f","t","f","f","E","E","no","5","Jackie Goldberg",null,null,"ECAST",12,12,3,16,19,0,0,0,0,0,0,0,0,0,0,0,0,0,0,0,0,0,62,62,62]
[{"$f":"VLOOKUP(H633,'Pivot ECAST'!A:B,2,FALSE)","v":3},1,"16884011","1688401","1688401","Roybal-Allard El","6884","1688401","Elementary School","PHBAO","PHBAO","f","f","t","f","f","E","E","no","5","Jackie Goldberg",null,null,"ECAST",44,26,16,15,14,15,20,0,0,0,0,0,0,0,0,0,18,0,0,8,0,18,150,168,194]
[{"$f":"VLOOKUP(H634,'Pivot ECAST'!A:B,2,FALSE)","v":3},2,"16884012","1688402","1688402","Roybal-Allard El DL Two-Way Im Spanish","2829","1688401","Dual Language Ctr - Elementary","PHBAO","PHBAO","f","f","t","f","f","E","E","no","5","Jackie Goldberg",null,null,"ECAST",22,22,26,33,32,22,18,0,0,0,0,0,0,0,0,0,0,0,0,0,0,0,175,175,175]
[{"$f":"VLOOKUP(H635,'Pivot ECAST'!A:B,2,FALSE)","v":3},3,"16884013","1688403","1688403","Roybal-Allard ES DREAMS Magnet","6884","1688401","Magnet Ctr -Elementary","Magnet 2","Magnet 2","f","f","t","f","f","E","E","no","5","Jackie Goldberg",null,null,"ECAST",19,19,18,18,21,27,0,0,0,0,0,0,0,0,0,0,0,0,0,0,0,0,122,122,122]
[{"$f":"VLOOKUP(H636,'Pivot ECAST'!A:B,2,FALSE)","v":2},1,"16886011","1688601","1688601","BACA Arts Acad","6886","1688601","Elementary School","PHBAO","PHBAO","f","f","t","f","f","S","S","no","7","Tanya Ortiz Franklin",null,null,"ECAST",51,34,49,41,46,52,40,0,0,0,0,0,0,0,0,0,29,0,0,8,0,14,313,342,364]
[{"$f":"VLOOKUP(H637,'Pivot ECAST'!A:B,2,FALSE)","v":2},2,"16886012","1688602","1688602","Baca Arts Acad DL Two-Way Im Spanish","2830","1688601","Dual Language Ctr - Elementary","PHBAO","PHBAO","f","f","t","f","f","S","S","no","7","Tanya Ortiz Franklin",null,null,"ECAST",18,18,32,32,32,29,22,0,0,0,0,0,0,0,0,0,0,0,0,0,0,0,183,183,183]
[{"$f":"VLOOKUP(H638,'Pivot ECAST'!A:B,2,FALSE)","v":1},1,"16890011","1689001","1689001","Stagg El","6890","1689001","Elementary School","PHBAO","PHBAO","f","f","t","f","f","NW","NW","no","3","Scott Schmerelson",null,null,"ECAST",87,65,54,59,63,59,0,0,0,0,0,0,0,0,0,0,23,0,0,8,29,15,387,410,462]
[{"$f":"VLOOKUP(H639,'Pivot ECAST'!A:B,2,FALSE)","v":2},1,"16904011","1690401","1690401","Stanford El","6904","1690401","Elementary School","PHBAO","PHBAO","f","f","t","f","f","E","E","no","5","Jackie Goldberg",null,null,"ECAST",0,61,60,51,80,91,0,0,0,0,0,0,0,0,0,0,15,0,0,0,0,0,343,358,358]
[{"$f":"VLOOKUP(H640,'Pivot ECAST'!A:B,2,FALSE)","v":2},2,"16904012","1690402","1690402","Stanford Ave El DL Two-Way Im Spanish","2764","1690401","Dual Language Ctr - Elementary","PHBAO","PHBAO","f","f","t","f","f","E","E","no","5","Jackie Goldberg",null,null,"ECAST",0,18,18,14,0,0,0,0,0,0,0,0,0,0,0,0,0,0,0,0,0,0,50,50,50]
[{"$f":"VLOOKUP(H641,'Pivot ECAST'!A:B,2,FALSE)","v":2},1,"16905011","1690501","1690501","Stanford PC","6905","1690501","Primary Center","PHBAO","PHBAO","f","f","t","f","f","E","E","no","5","Jackie Goldberg",null,null,"ECAST",95,0,0,0,0,0,0,0,0,0,0,0,0,0,0,0,0,0,0,14,20,36,95,95,165]
[{"$f":"VLOOKUP(H642,'Pivot ECAST'!A:B,2,FALSE)","v":2},2,"16905012","1690502","1690502","Stanford PC El DL Two-Way Im Spanish","4838","1690501","Dual Language Ctr - PC","PHBAO","PHBAO","f","f","t","f","f","E","E","no","5","Jackie Goldberg",null,null,"ECAST",10,0,0,0,0,0,0,0,0,0,0,0,0,0,0,0,0,0,0,0,0,0,10,10,10]
[{"$f":"VLOOKUP(H643,'Pivot ECAST'!A:B,2,FALSE)","v":2},1,{"$f":"H643&B643","v":"16918011"},"1691801","1691801","State El","6918","1691801","Elementary School","PHBAO","PHBAO","f","f","t","f","f","E","E","no","5","Jackie Goldberg",null,null,"ECAST",51,36,31,33,36,51,0,0,0,0,0,0,0,0,0,0,33,0,0,0,0,13,238,271,284]
[{"$f":"VLOOKUP(H644,'Pivot ECAST'!A:B,2,FALSE)","v":2},{"$f":"IF(H644=H643,B643+1,1)","v":2},"16918012",{"$f":"E644","v":"1691802"},"1691802","State St El DL Two-Way Im Spanish","2425","1691801","Dual Language Ctr - Elementary","PHBAO","PHBAO","f","f","t","f","f","E","E","no","5","Jackie Goldberg",null,null,"ECAST",13,13,17,12,23,0,0,0,0,0,0,0,0,0,0,0,0,0,0,0,0,0,78,78,78]
[{"$f":"VLOOKUP(H645,'Pivot ECAST'!A:B,2,FALSE)","v":1},1,"16920011","1692001","1692001","Hope El","6920","1692001","Elementary School","PHBAO","PHBAO","f","f","t","f","f","E","E","no","5","Jackie Goldberg",null,null,"ECAST",53,41,64,44,58,66,0,0,0,0,0,0,0,0,0,0,32,0,0,0,0,15,{"$f":"SUM(Y645:AN645)","v":326},{"$f":"AU645+AO645+AP645+AQ645","v":358},{"$f":"AV645+SUM(AR645:AT645)","v":373}]
[{"$f":"VLOOKUP(H646,'Pivot ECAST'!A:B,2,FALSE)","v":2},1,"16932011","1693201","1693201","Sterry El","6932","1693201","Elementary School","PHBAO","PHBAO","f","f","t","f","f","W","W","no","4","Nick Melvoin",null,null,"ECAST",32,27,25,18,25,32,0,0,0,0,0,0,0,0,0,0,15,0,0,0,0,13,159,174,187]
[{"$f":"VLOOKUP(H647,'Pivot ECAST'!A:B,2,FALSE)","v":2},2,"16932012","1693202","1693202","Sterry El DL Two-Way Im Japanese","2624","1693201","Dual Language Ctr - Elementary","PHBAO","PHBAO","f","f","t","f","f","W","W","no","4","Nick Melvoin",null,null,"ECAST",20,0,0,0,0,0,0,0,0,0,0,0,0,0,0,0,0,0,0,0,0,0,20,20,20]
[{"$f":"VLOOKUP(H648,'Pivot ECAST'!A:B,2,FALSE)","v":1},1,"16945011","1694501","1694501","Stonehurst Av ES STEAM Magnet","6945","1694501","Magnet School - ELEM","Magnet 2","Magnet 2","f","f","t","f","f","NE","NE","no","6","Kelly Gonez",null,null,"ECAST",52,38,46,41,44,53,0,0,0,0,0,0,0,0,0,0,18,0,0,1,17,0,274,292,310]
[{"$f":"VLOOKUP(H649,'Pivot ECAST'!A:B,2,FALSE)","v":2},1,"16952011","1695201","1695201","Stoner El","6952","1695201","Elementary School","PHBAO","PHBAO","f","f","t","f","f","W","W","no","4","Nick Melvoin",null,null,"ECAST",38,22,21,23,16,22,0,0,0,0,0,0,0,0,0,0,17,0,0,0,13,0,142,159,172]
[{"$f":"VLOOKUP(H650,'Pivot ECAST'!A:B,2,FALSE)","v":2},2,"16952012","1695202","1695202","Stoner El DL One-Way Im Spanish","2831","1695201","Dual Language Ctr - Elementary","PHBAO","PHBAO","f","f","t","f","f","W","W","no","4","Nick Melvoin",null,null,"ECAST",19,19,18,31,18,19,0,0,0,0,0,0,0,0,0,0,0,0,0,0,0,0,124,124,124]
[{"$f":"VLOOKUP(H651,'Pivot ECAST'!A:B,2,FALSE)","v":1},1,"16959011","1695901","1695901","Strathern El","6959","1695901","Elementary School","PHBAO","PHBAO","f","f","t","f","f","NE","NE","no","6","Kelly Gonez",null,null,"ECAST",79,72,72,73,69,53,0,0,0,0,0,0,0,0,0,0,24,0,0,13,26,23,418,442,504]
[{"$f":"VLOOKUP(H652,'Pivot ECAST'!A:B,2,FALSE)","v":2},1,"16973011","1697301","1697301","Sunland El","6973","1697301","Elementary School","PHBAO","PHBAO","f","f","t","f","f","NE","NE","no","6","Kelly Gonez",null,null,"ECAST",64,43,29,35,20,23,0,0,0,0,0,0,0,0,0,0,17,0,0,6,13,0,214,231,250]
[{"$f":"VLOOKUP(H653,'Pivot ECAST'!A:B,2,FALSE)","v":2},2,"16973012","1697302","1697302","Sunland Elementary Gifted Magnet","6975","1697301","Magnet Ctr -Elementary","Magnet 1","Magnet 1","f","f","t","f","f","NE","NE","no","6","Kelly Gonez",null,null,"ECAST",0,0,10,19,18,28,0,0,0,0,0,0,0,0,0,0,0,0,0,0,0,0,75,75,75]
[{"$f":"VLOOKUP(H654,'Pivot ECAST'!A:B,2,FALSE)","v":3},1,"16986011","1698601","1698601","Sunny Brae El","6986","1698601","Elementary School","PHBAO","PHBAO","f","f","t","f","f","NW","NW","no","3","Scott Schmerelson",null,null,"ECAST",54,37,49,33,32,32,0,0,0,0,0,0,0,0,0,0,35,0,0,14,7,16,237,272,309]
[{"$f":"VLOOKUP(H655,'Pivot ECAST'!A:B,2,FALSE)","v":3},2,"16986012","1698602","1698602","Sunny Brae Av ES Global Awareness Magnet","2343","1698601","Magnet Ctr -Elementary","Magnet 2","Magnet 2","f","f","t","f","f","NW","NW","no","3","Scott Schmerelson",null,null,"ECAST",9,19,20,20,26,24,0,0,0,0,0,0,0,0,0,0,0,0,0,0,0,0,118,118,118]
[{"$f":"VLOOKUP(H656,'Pivot ECAST'!A:B,2,FALSE)","v":3},3,"16986013","1698603","1698603","Sunny Brae El DL Two-Way Im Spanish","4839","1698601","Dual Language Ctr - Elementary","PHBAO","PHBAO","f","f","t","f","f","NW","NW","no","3","Scott Schmerelson",null,null,"ECAST",10,10,18,21,0,0,0,0,0,0,0,0,0,0,0,0,0,0,0,0,0,0,59,59,59]
[{"$f":"VLOOKUP(H657,'Pivot ECAST'!A:B,2,FALSE)","v":2},1,"16988011","1698801","1698801","Sunrise El","6988","1698801","Elementary School","PHBAO","PHBAO","f","f","t","f","f","E","E","no","2","Monica Garcia",null,null,"ECAST",33,22,20,25,28,24,37,0,0,0,0,0,0,0,0,0,28,0,0,17,0,14,189,217,248]
[{"$f":"VLOOKUP(H658,'Pivot ECAST'!A:B,2,FALSE)","v":2},2,"16988012","1698802","1698802","Sunrise El DL Two-Way Im Spanish","2426","1698801","Dual Language Ctr - Elementary","PHBAO","PHBAO","f","f","t","f","f","E","E","no","2","Monica Garcia",null,null,"ECAST",24,22,15,14,19,15,0,0,0,0,0,0,0,0,0,0,0,0,0,0,0,0,109,109,109]
[{"$f":"VLOOKUP(H659,'Pivot ECAST'!A:B,2,FALSE)","v":1},1,"17007011","1700701","1700701","Superior El","7007","1700701","Elementary School","PHBAO","PHBAO","t","t","t","f","f","NW","NW","no","3","Scott Schmerelson",null,null,"ECAST",89,65,63,77,56,67,0,0,0,0,0,0,0,0,0,0,8,0,0,5,0,0,417,425,430]
[{"$f":"VLOOKUP(H660,'Pivot ECAST'!A:B,2,FALSE)","v":1},1,"17014011","1701401","1701401","Sylmar El","7014","1701401","Elementary School","PHBAO","PHBAO","f","f","t","f","f","NE","NE","no","6","Kelly Gonez",null,null,"ECAST",90,69,54,42,61,60,0,0,0,0,0,0,0,0,0,0,33,0,0,8,0,12,376,409,429]
[{"$f":"VLOOKUP(H661,'Pivot ECAST'!A:B,2,FALSE)","v":1},1,"17027011","1702701","1702701","Sylvan Park El","7027","1702701","Elementary School","PHBAO","PHBAO","f","f","t","f","f","NE","NE","no","3","Scott Schmerelson",null,null,"ECAST",103,82,88,91,98,97,0,0,0,0,0,0,0,0,0,0,31,0,0,18,0,27,559,590,635]
[{"$f":"VLOOKUP(H662,'Pivot ECAST'!A:B,2,FALSE)","v":2},1,"17035011","1703501","1703501","Taper El","7035","1703501","Elementary School","PHBAO","PHBAO","f","f","t","f","f","S","S","no","7","Tanya Ortiz Franklin",null,null,"ECAST",82,54,51,63,54,60,0,0,0,0,0,0,0,0,0,0,7,0,0,0,0,0,364,371,371]
[{"$f":"VLOOKUP(H663,'Pivot ECAST'!A:B,2,FALSE)","v":2},2,"17035012","1703502","1703502","Taper ES STEAM Magnet","7036","1703501","Magnet Ctr -Elementary","Magnet 2","Magnet 2","f","f","t","f","f","S","S","no","7","Tanya Ortiz Franklin",null,null,"ECAST",47,42,45,46,51,57,0,0,0,0,0,0,0,0,0,0,0,0,0,0,0,0,288,288,288]
[{"$f":"VLOOKUP(H664,'Pivot ECAST'!A:B,2,FALSE)","v":1},1,"17041011","1704101","1704101","Tarzana El","7041","1704101","Elementary School","PHBAO","PHBAO","f","f","t","f","f","NW","NW","no","4","Nick Melvoin",null,null,"ECAST",30,28,28,38,47,35,0,0,0,0,0,0,0,0,0,0,17,0,0,0,0,0,206,223,223]
[{"$f":"VLOOKUP(H665,'Pivot ECAST'!A:B,2,FALSE)","v":2},1,"17068011","1706801","1706801","Telfair El","7068","1706801","Elementary School","PHBAO","PHBAO","f","f","t","f","f","NE","NE","no","6","Kelly Gonez",null,null,"ECAST",83,44,22,24,39,82,0,0,0,0,0,0,0,0,0,0,26,0,0,23,0,18,294,320,361]
[{"$f":"VLOOKUP(H666,'Pivot ECAST'!A:B,2,FALSE)","v":2},2,"17068012","1706802","1706802","Telfair Ave El DL Two-Way Im Spanish","2284","1706801","Dual Language Ctr - Elementary","PHBAO","PHBAO","f","f","t","f","f","NE","NE","no","6","Kelly Gonez",null,null,"ECAST",40,40,64,55,48,0,0,0,0,0,0,0,0,0,0,0,0,0,0,0,0,0,247,247,247]
[{"$f":"VLOOKUP(H667,'Pivot ECAST'!A:B,2,FALSE)","v":1},1,"17082011","1708201","1708201","10th St El","7082","1708201","Elementary School","PHBAO","PHBAO","f","f","t","f","f","C","C","no","2","Monica Garcia",null,null,"ECAST",0,64,70,71,66,81,0,0,0,0,0,0,0,0,0,0,13,0,0,0,0,0,352,365,365]
[{"$f":"VLOOKUP(H668,'Pivot ECAST'!A:B,2,FALSE)","v":3},1,"17110011","1711001","1711001","3rd St El","7110","1711001","Elementary School","Desegregated/Receiver","Non-PHBAO","f","f","t","f","f","W","W","no","4","Nick Melvoin",null,null,"ECAST",120,98,81,60,40,34,0,0,0,0,0,0,0,0,0,0,5,0,0,11,0,22,433,438,471]
[{"$f":"VLOOKUP(H669,'Pivot ECAST'!A:B,2,FALSE)","v":3},2,"17110012","1711002","1711002","3rd St El DL Two-Way Im Korean","2832","1711001","Dual Language Ctr - Elementary","PHBAO","PHBAO","f","f","t","f","f","W","W","no","4","Nick Melvoin",null,null,"ECAST",23,23,21,20,16,13,0,0,0,0,0,0,0,0,0,0,0,0,0,0,0,0,116,116,116]
[{"$f":"VLOOKUP(H670,'Pivot ECAST'!A:B,2,FALSE)","v":3},3,"17110013","1711003","1711003","3rd Street ES Gifted Magnet","7110","1711001","Magnet Ctr -Elementary","Magnet 2","Magnet 2","f","f","t","f","f","W","W","no","4","Nick Melvoin",null,null,"ECAST",0,0,0,22,27,25,0,0,0,0,0,0,0,0,0,0,0,0,0,0,0,0,74,74,74]
[{"$f":"VLOOKUP(H671,'Pivot ECAST'!A:B,2,FALSE)","v":1},1,"17123011","1712301","1712301","Bradley Glbl Awr Mag","7123","1712301","Magnet School - ELEM","Magnet 2","Magnet 2","f","f","t","f","f","W","W","no","1","George McKenna",null,null,"ECAST",19,27,32,31,37,37,0,0,0,0,0,0,0,0,0,0,0,0,0,0,0,0,183,183,183]
[{"$f":"VLOOKUP(H672,'Pivot ECAST'!A:B,2,FALSE)","v":2},1,"17137011","1713701","1713701","32nd/USC Per Art Mag","7137","1713701","Magnet School - ELEM","Magnet 2","Magnet 2","f","f","t","f","f","C","C","yes","1","George McKenna",null,null,"ECAST",42,46,66,68,74,76,0,0,0,0,0,0,0,0,0,0,0,0,0,0,0,0,372,372,372]
[{"$f":"VLOOKUP(H673,'Pivot ECAST'!A:B,2,FALSE)","v":2},2,"17137012","1713702","1713702","LAUSD/USC Media Arts/Engineering Magnet","8745","1713701","Magnet Ctr-SPAN","Magnet 2","Magnet 2","f","f","f","f","t","C","C","yes","1","George McKenna","2x8",null,"ECAST",0,0,0,0,0,0,72,79,95,68,86,83,55,0,0,0,0,0,0,0,0,0,538,538,538]
[{"$f":"VLOOKUP(H674,'Pivot ECAST'!A:B,2,FALSE)","v":1},1,"17151011","1715101","1715101","Weemes El","7151","1715101","Elementary School","PHBAO","PHBAO","f","f","t","f","f","C","C","no","1","George McKenna",null,null,"ECAST",71,55,72,64,58,64,0,0,0,0,0,0,0,0,0,0,27,0,0,0,17,11,384,411,439]
[{"$f":"VLOOKUP(H675,'Pivot ECAST'!A:B,2,FALSE)","v":1},1,"17164011","1716401","1716401","Bright El","7164","1716401","Elementary School","PHBAO","PHBAO","f","f","t","f","f","W","W","no","1","George McKenna",null,null,"ECAST",68,66,69,70,65,59,0,0,0,0,0,0,0,0,0,0,0,0,0,0,0,13,397,397,410]
[{"$f":"VLOOKUP(H676,'Pivot ECAST'!A:B,2,FALSE)","v":1},1,"17178011","1717801","1717801","Toland Way El","7178","1717801","Elementary School","PHBAO","PHBAO","f","f","t","f","f","C","C","no","5","Jackie Goldberg",null,null,"ECAST",34,20,21,29,29,49,33,0,0,0,0,0,0,0,0,0,9,0,0,9,0,8,215,224,241]
[{"$f":"VLOOKUP(H677,'Pivot ECAST'!A:B,2,FALSE)","v":1},1,"17192011","1719201","1719201","Toluca Lake El","7192","1719201","Elementary School","PHBAO","PHBAO","f","f","t","f","f","NE","NE","no","6","Kelly Gonez",null,null,"ECAST",81,64,70,61,80,62,0,0,0,0,0,0,0,0,0,0,18,0,0,13,20,0,418,436,469]
[{"$f":"VLOOKUP(H678,'Pivot ECAST'!A:B,2,FALSE)","v":1},1,"17198011","1719801","1719801","Topanga El CS","7198","1719801","Elementary School","Desegregated/Receiver","Non-PHBAO","t","t","t","f","f","W","W","no","4","Nick Melvoin",null,null,"ECAST",59,31,22,35,15,26,0,0,0,0,0,0,0,0,0,0,0,0,0,0,0,0,188,188,188]
[{"$f":"VLOOKUP(H679,'Pivot ECAST'!A:B,2,FALSE)","v":1},1,"17201011","1720101","1720101","Topeka Charter for Advanced Studies","7201","1720101","Elementary School","PHBAO","PHBAO","t","t","t","f","f","NW","NW","no","3","Scott Schmerelson",null,null,"ECAST",113,84,63,85,73,72,0,0,0,0,0,0,0,0,0,0,20,0,0,15,0,0,490,510,525]
[{"$f":"VLOOKUP(H680,'Pivot ECAST'!A:B,2,FALSE)","v":1},1,"17205011","1720501","1720501","Towne El","7205","1720501","Elementary School","PHBAO","PHBAO","f","f","t","f","f","S","S","no","7","Tanya Ortiz Franklin",null,null,"ECAST",42,33,39,41,43,41,0,0,0,0,0,0,0,0,0,0,0,0,0,0,0,20,239,239,259]
[{"$f":"VLOOKUP(H681,'Pivot ECAST'!A:B,2,FALSE)","v":2},1,"17219011","1721901","1721901","Trinity El","7219","1721901","Elementary School","PHBAO","PHBAO","f","f","t","f","f","C","C","no","5","Jackie Goldberg",null,null,"ECAST",0,0,36,36,34,54,0,0,0,0,0,0,0,0,0,0,10,0,0,0,0,0,160,170,170]
[{"$f":"VLOOKUP(H682,'Pivot ECAST'!A:B,2,FALSE)","v":2},2,"17219012","1721902","1721902","Trinity St El DL Two-Way Im Spanish","2758","1721901","Dual Language Ctr - Elementary","PHBAO","PHBAO","f","f","t","f","f","C","C","no","5","Jackie Goldberg",null,null,"ECAST",0,0,16,16,18,0,0,0,0,0,0,0,0,0,0,0,0,0,0,0,0,0,50,50,50]
[{"$f":"VLOOKUP(H683,'Pivot ECAST'!A:B,2,FALSE)","v":2},1,"17220011","1722001","1722001","Maple PC","7220","1722001","Primary Center","PHBAO","PHBAO","f","f","t","f","f","C","C","no","5","Jackie Goldberg",null,null,"ECAST",39,27,0,0,0,0,0,0,0,0,0,0,0,0,0,0,9,0,0,24,42,0,66,75,141]
[{"$f":"VLOOKUP(H684,'Pivot ECAST'!A:B,2,FALSE)","v":2},2,"17220012","1722002","1722002","Maple PC DL Two-Way Im Spanish","2419","1722001","Dual Language Ctr - PC","PHBAO","PHBAO","f","f","t","f","f","C","C","no","5","Jackie Goldberg",null,null,"ECAST",16,16,0,0,0,0,0,0,0,0,0,0,0,0,0,0,0,0,0,0,0,0,32,32,32]
[{"$f":"VLOOKUP(H685,'Pivot ECAST'!A:B,2,FALSE)","v":1},1,"17247011","1724701","1724701","Tulsa El","7247","1724701","Elementary School","PHBAO","PHBAO","f","f","t","f","f","NW","NW","no","3","Scott Schmerelson",null,null,"ECAST",62,39,54,44,48,61,0,0,0,0,0,0,0,0,0,0,40,0,0,0,0,0,308,348,348]
[{"$f":"VLOOKUP(H686,'Pivot ECAST'!A:B,2,FALSE)","v":2},1,"17260011","1726001","1726001","Tweedy El","7260","1726001","Elementary School","PHBAO","PHBAO","f","f","t","f","f","E","E","no","5","Jackie Goldberg",null,null,"ECAST",64,38,46,29,55,62,0,0,0,0,0,0,0,0,0,0,32,0,0,9,0,15,294,326,350]
[{"$f":"VLOOKUP(H687,'Pivot ECAST'!A:B,2,FALSE)","v":2},2,"17260012","1726002","1726002","Tweedy EL DL Two-Way Im Spanish","2464","1726001","Dual Language Ctr - Elementary","PHBAO","PHBAO","f","f","t","f","f","E","E","no","5","Jackie Goldberg",null,null,"ECAST",8,8,20,33,0,0,0,0,0,0,0,0,0,0,0,0,0,0,0,0,0,0,69,69,69]
[{"$f":"VLOOKUP(H688,'Pivot ECAST'!A:B,2,FALSE)","v":2},1,"17274011","1727401","1727401","20th St El","7274","1727401","Elementary School","PHBAO","PHBAO","f","f","t","f","f","C","C","no","5","Jackie Goldberg",null,null,"ECAST",56,54,42,59,46,44,0,0,0,0,0,0,0,0,0,0,31,0,0,12,0,22,301,332,366]
[{"$f":"VLOOKUP(H689,'Pivot ECAST'!A:B,2,FALSE)","v":2},2,"17274012","1727402","1727402","20th St El DL Two-Way Im Spanish","2406","1727401","Dual Language Ctr - Elementary","PHBAO","PHBAO","f","f","t","f","f","C","C","no","5","Jackie Goldberg",null,null,"ECAST",41,22,21,15,20,18,0,0,0,0,0,0,0,0,0,0,0,0,0,0,0,0,137,137,137]
[{"$f":"VLOOKUP(H690,'Pivot ECAST'!A:B,2,FALSE)","v":2},1,"17288011","1728801","1728801","28th St El","7288","1728801","Elementary School","PHBAO","PHBAO","f","f","t","f","f","C","C","no","5","Jackie Goldberg",null,null,"ECAST",70,45,44,61,61,55,0,0,0,0,0,0,0,0,0,0,17,0,0,0,0,16,336,353,369]
[{"$f":"VLOOKUP(H691,'Pivot ECAST'!A:B,2,FALSE)","v":2},2,"17288012","1728802","1728802","28th St El DL One-Way Im Spanish","2833","1728801","Dual Language Ctr - Elementary","PHBAO","PHBAO","f","f","t","f","f","C","C","no","5","Jackie Goldberg",null,null,"ECAST",16,16,17,19,16,35,0,0,0,0,0,0,0,0,0,0,0,0,0,0,0,0,119,119,119]
[{"$f":"VLOOKUP(H692,'Pivot ECAST'!A:B,2,FALSE)","v":1},1,"17301011","1730101","1730101","24th St El","7301","1730101","Elementary School","PHBAO","PHBAO","f","f","t","f","f","C","C","no","1","George McKenna",null,null,"ECAST",117,87,80,77,86,0,0,0,0,0,0,0,0,0,0,0,44,0,0,17,0,7,447,491,515]
[{"$f":"VLOOKUP(H693,'Pivot ECAST'!A:B,2,FALSE)","v":2},1,"17329011","1732901","1732901","232nd Pl El","7329","1732901","Elementary School","PHBAO","PHBAO","f","f","t","f","f","S","S","no","7","Tanya Ortiz Franklin",null,null,"ECAST",78,56,48,43,33,30,0,0,0,0,0,0,0,0,0,0,18,0,0,4,0,22,288,306,332]
[{"$f":"VLOOKUP(H694,'Pivot ECAST'!A:B,2,FALSE)","v":2},2,"17329012","1732902","1732902","232nd Pl ES STEMM Magnet","2439","1732901","Magnet Ctr -Elementary","Magnet 2","Magnet 2","f","f","t","f","f","S","S","no","7","Tanya Ortiz Franklin",null,null,"ECAST",0,0,0,18,26,24,0,0,0,0,0,0,0,0,0,0,0,0,0,0,0,0,68,68,68]
[{"$f":"VLOOKUP(H695,'Pivot ECAST'!A:B,2,FALSE)","v":2},1,"17342011","1734201","1734201","Meyler El","7342","1734201","Elementary School","PHBAO","PHBAO","f","f","t","f","f","S","S","no","7","Tanya Ortiz Franklin",null,null,"ECAST",93,64,65,67,40,48,0,0,0,0,0,0,0,0,0,0,40,0,0,0,0,23,377,417,440]
[{"$f":"VLOOKUP(H696,'Pivot ECAST'!A:B,2,FALSE)","v":2},2,"17342012","1734202","1734202","Meyler El DL Two-Way Im Spanish","2834","1734201","Dual Language Ctr - Elementary","PHBAO","PHBAO","f","f","t","f","f","S","S","no","7","Tanya Ortiz Franklin",null,null,"ECAST",23,24,29,32,23,44,0,0,0,0,0,0,0,0,0,0,0,0,0,0,0,0,175,175,175]
[{"$f":"VLOOKUP(H697,'Pivot ECAST'!A:B,2,FALSE)","v":1},1,"17356011","1735601","1735601","Union El","7356","1735601","Elementary School","PHBAO","PHBAO","f","f","t","f","f","C","C","no","2","Monica Garcia",null,null,"ECAST",159,117,105,117,142,131,0,0,0,0,0,0,0,0,0,0,52,0,0,0,19,26,771,823,868]
[{"$f":"VLOOKUP(H698,'Pivot ECAST'!A:B,2,FALSE)","v":1},1,"17370011","1737001","1737001","Utah El","7370","1737001","Span School","PHBAO","PHBAO","f","f","f","f","t","E","E","yes","2","Monica Garcia",null,null,"ECAST",42,31,22,30,40,33,31,48,44,0,0,0,0,0,0,0,32,8,0,6,0,4,321,361,371]
[{"$f":"VLOOKUP(H699,'Pivot ECAST'!A:B,2,FALSE)","v":1},1,"17384011","1738401","1738401","Valerio El","7384","1738401","Elementary School","PHBAO","PHBAO","f","f","t","f","f","NE","NE","no","6","Kelly Gonez",null,null,"ECAST",148,115,96,99,107,92,0,0,0,0,0,0,0,0,0,0,18,0,0,24,23,16,657,675,738]
[{"$f":"VLOOKUP(H700,'Pivot ECAST'!A:B,2,FALSE)","v":1},1,"17390011","1739001","1739001","Lake Balboa College Prep Magnet K-12","7390","1739001","Span Magnet School","Magnet 1","Magnet 1","f","f","f","f","t","NW","NW","yes","3","Scott Schmerelson",null,null,"ECAST",24,23,45,42,52,55,54,54,61,32,46,49,45,0,0,0,0,0,0,0,0,0,582,582,582]
[{"$f":"VLOOKUP(H701,'Pivot ECAST'!A:B,2,FALSE)","v":1},1,"17397011","1739701","1739701","Valley View El","7397","1739701","Elementary School","Desegregated/Receiver","Non-PHBAO","f","f","t","f","f","W","W","no","3","Scott Schmerelson",null,null,"ECAST",34,25,25,24,24,17,0,0,0,0,0,0,0,0,0,0,0,0,0,0,0,0,149,149,149]
[{"$f":"VLOOKUP(H702,'Pivot ECAST'!A:B,2,FALSE)","v":2},1,"17398011","1739801","1739801","Alta California El","7398","1739801","Elementary School","PHBAO","PHBAO","f","f","t","f","f","NW","NW","no","6","Kelly Gonez",null,null,"ECAST",91,76,52,98,85,65,0,0,0,0,0,0,0,0,0,0,35,0,0,13,0,0,467,502,515]
[{"$f":"VLOOKUP(H703,'Pivot ECAST'!A:B,2,FALSE)","v":2},2,"17398012","1739802","1739802","Alta California ES Gifted/STEAM Magnet","2440","1739801","Magnet Ctr -Elementary","Magnet 2","Magnet 2","f","f","t","f","f","NW","NW","no","6","Kelly Gonez",null,null,"ECAST",0,0,24,24,50,50,0,0,0,0,0,0,0,0,0,0,0,0,0,0,0,0,148,148,148]
[{"$f":"VLOOKUP(H704,'Pivot ECAST'!A:B,2,FALSE)","v":1},1,"17399011","1739901","1739901","Korenstein El","7399","1739901","Elementary School","PHBAO","PHBAO","f","f","t","f","f","NE","NE","no","6","Kelly Gonez",null,null,"ECAST",67,49,43,46,39,52,0,0,0,0,0,0,0,0,0,0,0,0,0,5,19,0,296,296,320]
[{"$f":"VLOOKUP(H705,'Pivot ECAST'!A:B,2,FALSE)","v":2},1,"17400011","1740001","1740001","Vista Del Valle Acad","7400","1740001","Elementary School","PHBAO","PHBAO","f","f","t","f","f","NE","NE","no","6","Kelly Gonez",null,null,"ECAST",0,0,0,8,10,17,0,0,0,0,0,0,0,0,0,0,0,0,0,11,19,0,35,35,65]
[{"$f":"VLOOKUP(H706,'Pivot ECAST'!A:B,2,FALSE)","v":2},2,"17400012","1740002","1740002","Vista Del Valle Ac DL Two-Way Im Spanish","2835","1740001","Dual Language Ctr - Elementary","PHBAO","PHBAO","f","f","t","f","f","NE","NE","no","6","Kelly Gonez",null,null,"ECAST",84,64,69,53,40,42,0,0,0,0,0,0,0,0,0,0,0,0,0,0,0,0,352,352,352]
[{"$f":"VLOOKUP(H707,'Pivot ECAST'!A:B,2,FALSE)","v":1},1,{"$f":"H707&B707","v":"17401011"},"1740101","1740101","Cardenas El","7401","1740101","Elementary School","PHBAO","PHBAO","f","f","t","f","f","NE","NE","no","3","Scott Schmerelson",null,null,"ECAST",73,48,64,75,68,70,0,0,0,0,0,0,0,0,0,0,31,0,0,22,15,0,398,429,466]
[{"$f":"VLOOKUP(H708,'Pivot ECAST'!A:B,2,FALSE)","v":2},{"$f":"IF(H708=H707,B707+1,1)","v":1},"17402011",{"$f":"E708","v":"1740201"},"1740201","Mosk El","7402","1740201","Elementary School","PHBAO","PHBAO","f","f","t","f","f","NW","NW","no","4","Nick Melvoin",null,null,"ECAST",76,43,48,43,64,54,0,0,0,0,0,0,0,0,0,0,8,0,0,0,21,0,328,336,357]
[{"$f":"VLOOKUP(H709,'Pivot ECAST'!A:B,2,FALSE)","v":2},2,"17402012","1740202","1740202","Mosk ES STEAM Magnet","2340","1740201","Magnet Ctr -Elementary","Magnet 2","Magnet 2","f","f","t","f","f","NW","NW","no","4","Nick Melvoin",null,null,"ECAST",23,24,24,24,27,26,0,0,0,0,0,0,0,0,0,0,0,0,0,0,0,0,{"$f":"SUM(Y709:AN709)","v":148},{"$f":"AU709+AO709+AP709+AQ709","v":148},{"$f":"AV709+SUM(AR709:AT709)","v":148}]
[{"$f":"VLOOKUP(H710,'Pivot ECAST'!A:B,2,FALSE)","v":2},1,"17404011","1740401","1740401","Santana Arts Academy","7404","1740401","Elementary School","PHBAO","PHBAO","f","f","t","f","f","NW","NW","no","6","Kelly Gonez",null,null,"ECAST",35,20,25,34,16,22,0,0,0,0,0,0,0,0,0,0,7,0,0,0,0,4,152,159,163]
[{"$f":"VLOOKUP(H711,'Pivot ECAST'!A:B,2,FALSE)","v":2},2,"17404012","1740402","1740402","Santana Arts Acad DL Two-Way Im Spanish","2837","1740401","Dual Language Ctr - Elementary","PHBAO","PHBAO","f","f","t","f","f","NW","NW","no","6","Kelly Gonez",null,null,"ECAST",26,21,25,34,36,32,0,0,0,0,0,0,0,0,0,0,0,0,0,0,0,0,174,174,174]
[{"$f":"VLOOKUP(H712,'Pivot ECAST'!A:B,2,FALSE)","v":1},1,"17408011","1740801","1740801","Sylmar Ldshp Acad","7408","1740801","Span School","PHBAO","PHBAO","f","f","f","f","t","NE","NE","yes","6","Kelly Gonez",null,null,"ECAST",100,78,84,76,78,84,92,82,102,0,0,0,0,0,0,0,16,14,0,0,0,0,776,806,806]
[{"$f":"VLOOKUP(H713,'Pivot ECAST'!A:B,2,FALSE)","v":1},1,"17411011","1741101","1741101","Vanalden El","7411","1741101","Elementary School","PHBAO","PHBAO","f","f","t","f","f","NW","NW","no","4","Nick Melvoin",null,null,"ECAST",78,62,66,54,60,58,0,0,0,0,0,0,0,0,0,0,27,0,0,0,0,15,378,405,420]
[{"$f":"VLOOKUP(H714,'Pivot ECAST'!A:B,2,FALSE)","v":1},1,"17419011","1741901","1741901","Van Deene El","7419","1741901","Elementary School","PHBAO","PHBAO","f","f","t","f","f","S","S","no","7","Tanya Ortiz Franklin",null,null,"ECAST",52,38,30,45,49,41,30,0,0,0,0,0,0,0,0,0,0,0,0,8,0,12,285,285,305]
[{"$f":"VLOOKUP(H715,'Pivot ECAST'!A:B,2,FALSE)","v":1},1,"17422011","1742201","1742201","Van Gogh Charter","7422","1742201","Elementary School","Desegregated/Receiver","Non-PHBAO","t","t","t","f","f","NW","NW","no","3","Scott Schmerelson",null,null,"ECAST",89,68,64,69,52,56,0,0,0,0,0,0,0,0,0,0,5,0,0,0,0,0,398,403,403]
[{"$f":"VLOOKUP(H716,'Pivot ECAST'!A:B,2,FALSE)","v":1},1,"17425011","1742501","1742501","Van Ness El","7425","1742501","Elementary School","PHBAO","PHBAO","f","f","t","f","f","W","W","no","4","Nick Melvoin",null,null,"ECAST",39,31,17,14,19,25,0,0,0,0,0,0,0,0,0,0,26,0,0,10,9,0,145,171,190]
[{"$f":"VLOOKUP(H717,'Pivot ECAST'!A:B,2,FALSE)","v":1},1,"17432011","1743201","1743201","Columbus Ave El","7432","1743201","Elementary School","PHBAO","PHBAO","f","f","t","f","f","NE","NE","no","3","Scott Schmerelson",null,null,"ECAST",81,56,55,63,47,75,0,0,0,0,0,0,0,0,0,0,17,0,0,0,0,7,377,394,401]
[{"$f":"VLOOKUP(H718,'Pivot ECAST'!A:B,2,FALSE)","v":1},1,"17438011","1743801","1743801","Van Nuys El","7438","1743801","Elementary School","PHBAO","PHBAO","f","f","t","f","f","NE","NE","no","3","Scott Schmerelson",null,null,"ECAST",70,52,67,81,46,70,0,0,0,0,0,0,0,0,0,0,20,0,0,8,0,27,386,406,441]
[{"$f":"VLOOKUP(H719,'Pivot ECAST'!A:B,2,FALSE)","v":2},1,"17466011","1746601","1746601","Vena El","7466","1746601","Elementary School","PHBAO","PHBAO","f","f","t","f","f","NE","NE","no","6","Kelly Gonez",null,null,"ECAST",64,48,37,50,38,56,0,0,0,0,0,0,0,0,0,0,0,0,0,3,0,20,293,293,316]
[{"$f":"VLOOKUP(H720,'Pivot ECAST'!A:B,2,FALSE)","v":2},2,"17466012","1746602","1746602","Vena Avenue Elementary Gifted Magnet","7467","1746601","Magnet Ctr -Elementary","Magnet 2","Magnet 2","f","f","t","f","f","NE","NE","no","6","Kelly Gonez",null,null,"ECAST",0,14,22,30,30,40,0,0,0,0,0,0,0,0,0,0,0,0,0,0,0,0,136,136,136]
[{"$f":"VLOOKUP(H721,'Pivot ECAST'!A:B,2,FALSE)","v":1},1,"17479011","1747901","1747901","Vermont El","7479","1747901","Elementary School","PHBAO","PHBAO","f","f","t","f","f","C","C","no","1","George McKenna",null,null,"ECAST",53,37,51,77,57,66,0,0,0,0,0,0,0,0,0,0,25,0,0,13,0,8,341,366,387]
[{"$f":"VLOOKUP(H722,'Pivot ECAST'!A:B,2,FALSE)","v":1},1,"17493011","1749301","1749301","Vernon City El","7493","1749301","Elementary School","PHBAO","PHBAO","f","f","t","f","f","E","E","no","5","Jackie Goldberg",null,null,"ECAST",29,18,18,26,12,18,33,0,0,0,0,0,0,0,0,0,0,0,0,1,1,0,154,154,156]
[{"$f":"VLOOKUP(H723,'Pivot ECAST'!A:B,2,FALSE)","v":1},1,"17507011","1750701","1750701","Victoria El","7507","1750701","Elementary School","PHBAO","PHBAO","f","f","t","f","f","E","E","no","5","Jackie Goldberg",null,null,"ECAST",51,38,46,60,40,52,0,0,0,0,0,0,0,0,0,0,13,0,0,0,0,10,287,300,310]
[{"$f":"VLOOKUP(H724,'Pivot ECAST'!A:B,2,FALSE)","v":1},1,"17513011","1751301","1751301","Regional HS Int. Des./Tech./Entr. Magnet","7513","1751301","Magnet School - SHS","Magnet 2","Magnet 2","f","f","f","f","f","W","W","no","1","George McKenna",null,null,"ECAST",0,0,0,0,0,0,0,0,0,57,50,0,0,0,0,0,0,0,0,0,0,0,107,107,107]
[{"$f":"VLOOKUP(H725,'Pivot ECAST'!A:B,2,FALSE)","v":2},1,"17521011","1752101","1752101","Victory El","7521","1752101","Elementary School","PHBAO","PHBAO","f","f","t","f","f","NE","NE","no","6","Kelly Gonez",null,null,"ECAST",83,40,33,49,40,23,0,0,0,0,0,0,0,0,0,0,28,0,0,13,0,16,268,296,325]
[{"$f":"VLOOKUP(H726,'Pivot ECAST'!A:B,2,FALSE)","v":2},2,"17521012","1752102","1752102","Victory Bl ES STEAM Magnet","2450","1752101","Magnet Ctr -Elementary","Magnet 2","Magnet 2","f","f","t","f","f","NE","NE","no","6","Kelly Gonez",null,null,"ECAST",0,24,24,22,27,27,0,0,0,0,0,0,0,0,0,0,0,0,0,0,0,0,124,124,124]
[{"$f":"VLOOKUP(H727,'Pivot ECAST'!A:B,2,FALSE)","v":1},1,"17534011","1753401","1753401","Vine El","7534","1753401","Elementary School","PHBAO","PHBAO","f","f","t","f","f","W","W","no","4","Nick Melvoin",null,null,"ECAST",50,37,30,34,39,39,37,0,0,0,0,0,0,0,0,0,18,0,0,6,0,0,266,284,290]
[{"$f":"VLOOKUP(H728,'Pivot ECAST'!A:B,2,FALSE)","v":1},1,"17548011","1754801","1754801","Vinedale College Preparatory Academy","7548","1754801","Span School","PHBAO","PHBAO","f","f","f","f","t","NE","NE","yes","6","Kelly Gonez",null,null,"ECAST",35,20,10,18,21,21,25,27,25,0,0,0,0,0,0,0,11,0,0,8,0,0,202,213,221]
[{"$f":"VLOOKUP(H729,'Pivot ECAST'!A:B,2,FALSE)","v":1},1,"17562011","1756201","1756201","Vintage Math/Sci Mag","7562","1756201","Magnet School - ELEM","Magnet 2","Magnet 2","f","f","t","f","f","NW","NW","no","3","Scott Schmerelson",null,null,"ECAST",47,115,142,138,149,156,0,0,0,0,0,0,0,0,0,0,0,0,0,0,0,0,747,747,747]
[{"$f":"VLOOKUP(H730,'Pivot ECAST'!A:B,2,FALSE)","v":1},1,"17566011","1756601","1756601","University Pathways Public Svc Academy","7566","1756601","Senior High School","PHBAO","PHBAO","f","f","f","f","f","S","S","no","7","Tanya Ortiz Franklin","2x8",null,"ECAST",0,0,0,0,0,0,0,0,0,51,60,90,95,0,0,0,0,0,0,0,0,0,296,296,296]
[{"$f":"VLOOKUP(H731,'Pivot ECAST'!A:B,2,FALSE)","v":1},1,"17567011","1756701","1756701","University Pathways Medical Mag Academy","7567","1756701","Magnet School - SHS","Magnet 2","Magnet 2","f","f","f","f","f","S","S","no","7","Tanya Ortiz Franklin","4x4",null,"ECAST",0,0,0,0,0,0,0,0,0,81,81,47,39,0,0,0,0,0,0,0,0,0,248,248,248]
[{"$f":"VLOOKUP(H732,'Pivot ECAST'!A:B,2,FALSE)","v":1},1,"17569011","1756901","1756901","Boys Academic Leadership Academy","7569","1756901","Span School","PHBAO","PHBAO","f","f","f","f","t","W","W","yes","1","George McKenna","2x8",null,"ECAST",0,0,0,0,0,0,20,14,12,11,11,9,4,0,0,0,0,1,5,0,0,0,81,87,87]
[{"$f":"VLOOKUP(H733,'Pivot ECAST'!A:B,2,FALSE)","v":1},1,"17574011","1757401","1757401","Horace Mann UCLA Community School","7574","1757401","Span School","PHBAO","PHBAO","f","f","f","f","t","W","W","yes","1","George McKenna","2x8",null,"ECAST",0,0,0,0,0,0,102,104,88,51,58,68,29,0,0,0,0,66,0,0,0,0,500,566,566]
[{"$f":"VLOOKUP(H734,'Pivot ECAST'!A:B,2,FALSE)","v":2},1,"17575011","1757501","1757501","Virginia El","7575","1757501","Elementary School","PHBAO","PHBAO","f","f","t","f","f","W","W","no","1","George McKenna",null,null,"ECAST",22,13,13,10,32,31,0,0,0,0,0,0,0,0,0,0,0,0,0,6,0,8,121,121,135]
[{"$f":"VLOOKUP(H735,'Pivot ECAST'!A:B,2,FALSE)","v":2},2,"17575012","1757502","1757502","Virginia Rd El DL Two-Way Im Spanish","2766","1757501","Dual Language Ctr - Elementary","PHBAO","PHBAO","f","f","t","f","f","W","W","no","1","George McKenna",null,null,"ECAST",16,16,20,13,0,0,0,0,0,0,0,0,0,0,0,0,0,0,0,0,0,0,65,65,65]
[{"$f":"VLOOKUP(H736,'Pivot ECAST'!A:B,2,FALSE)","v":1},1,"17589011","1758901","1758901","Wadsworth El","7589","1758901","Elementary School","PHBAO","PHBAO","f","f","t","f","f","C","C","no","5","Jackie Goldberg",null,null,"ECAST",89,66,81,79,65,82,0,0,0,0,0,0,0,0,0,0,38,0,0,0,0,17,462,500,517]
[{"$f":"VLOOKUP(H737,'Pivot ECAST'!A:B,2,FALSE)","v":1},1,"17603011","1760301","1760301","Walgrove El","7603","1760301","Elementary School","Desegregated/Receiver","Non-PHBAO","f","f","t","f","f","W","W","no","4","Nick Melvoin",null,null,"ECAST",35,25,22,21,26,21,0,0,0,0,0,0,0,0,0,0,32,0,0,0,0,0,150,182,182]
[{"$f":"VLOOKUP(H738,'Pivot ECAST'!A:B,2,FALSE)","v":1},1,"17604011","1760401","1760401","The Science Academy STEM Magnet","7604","1760401","Span Magnet School","Magnet 1","Magnet 1","f","f","f","f","t","NE","NE","yes","6","Kelly Gonez",null,null,"ECAST",0,0,0,0,0,0,80,94,95,49,49,33,34,0,0,0,0,0,0,0,0,0,434,434,434]
[{"$f":"VLOOKUP(H739,'Pivot ECAST'!A:B,2,FALSE)","v":1},1,"17614011","1761401","1761401","Nava Coll Prep Acad","7614","1761401","Senior High School","PHBAO","PHBAO","f","f","f","f","f","C","C","no","5","Jackie Goldberg",null,null,"ECAST",0,0,0,0,0,0,0,0,0,173,120,99,141,0,0,0,0,0,0,0,0,0,533,533,533]
[{"$f":"VLOOKUP(H740,'Pivot ECAST'!A:B,2,FALSE)","v":1},1,"17615011","1761501","1761501","Boyle Heights HS STEM Magnet","7615","1761501","Magnet School - SHS","Magnet 2","Magnet 2","f","f","f","f","f","E","E","no","2","Monica Garcia","4x4",null,"ECAST",0,0,0,0,0,0,0,0,0,40,30,23,42,0,0,0,0,0,1,0,0,0,135,136,136]
[{"$f":"VLOOKUP(H741,'Pivot ECAST'!A:B,2,FALSE)","v":1},1,"17616011","1761601","1761601","Warner El","7616","1761601","Elementary School","Desegregated/Receiver","Non-PHBAO","f","f","t","f","f","W","W","no","4","Nick Melvoin",null,null,"ECAST",116,92,73,85,71,73,0,0,0,0,0,0,0,0,0,0,0,0,0,0,0,0,510,510,510]
[{"$f":"VLOOKUP(H742,'Pivot ECAST'!A:B,2,FALSE)","v":2},1,"17630011","1763001","1763001","Washington PC","7630","1763001","Primary Center","PHBAO","PHBAO","f","f","t","f","f","S","S","no","1","George McKenna",null,null,"ECAST",49,36,37,0,0,0,0,0,0,0,0,0,0,0,0,0,0,0,0,0,13,0,122,122,135]
[{"$f":"VLOOKUP(H743,'Pivot ECAST'!A:B,2,FALSE)","v":2},2,"17630012","1763002","1763002","Washington PC DL Two-Way Im Spanish","2427","1763001","Dual Language Ctr - PC","PHBAO","PHBAO","f","f","t","f","f","S","S","no","1","George McKenna",null,null,"ECAST",12,12,18,0,0,0,0,0,0,0,0,0,0,0,0,0,0,0,0,0,0,0,42,42,42]
[{"$f":"VLOOKUP(H744,'Pivot ECAST'!A:B,2,FALSE)","v":1},1,"17634011","1763401","1763401","Weigand El","7634","1763401","Elementary School","PHBAO","PHBAO","f","f","t","f","f","S","S","no","7","Tanya Ortiz Franklin",null,null,"ECAST",48,38,54,46,48,47,0,0,0,0,0,0,0,0,0,0,13,0,0,0,27,0,281,294,321]
[{"$f":"VLOOKUP(H745,'Pivot ECAST'!A:B,2,FALSE)","v":2},1,"17637011","1763701","1763701","Welby Way Charter ES & GHA Magnet","7637","1763701","Elementary School","Desegregated/Receiver","Non-PHBAO","t","t","t","f","f","NW","NW","no","3","Scott Schmerelson",null,null,"ECAST",74,62,52,56,52,53,0,0,0,0,0,0,0,0,0,0,0,0,0,0,0,0,349,349,349]
[{"$f":"VLOOKUP(H746,'Pivot ECAST'!A:B,2,FALSE)","v":2},2,"17637012","1763702","1763702","Welby Way Charter Elementary Gifted Magnet","7638","1763701","Magnet Ctr -Elementary","Magnet 1","Magnet 1","t","t","t","f","f","NW","NW","no","3","Scott Schmerelson",null,null,"ECAST",0,48,89,89,87,86,0,0,0,0,0,0,0,0,0,0,0,0,0,0,0,0,399,399,399]
[{"$f":"VLOOKUP(H747,'Pivot ECAST'!A:B,2,FALSE)","v":1},1,"17640011","1764001","1764001","Chavez El","7640","1764001","Elementary School","PHBAO","PHBAO","f","f","t","f","f","E","E","no","2","Monica Garcia",null,null,"ECAST",24,16,27,19,21,14,30,0,0,0,0,0,0,0,0,0,22,0,0,5,0,0,151,173,178]
[{"$f":"VLOOKUP(H748,'Pivot ECAST'!A:B,2,FALSE)","v":1},1,"17644011","1764401","1764401","West Athens El","7644","1764401","Elementary School","PHBAO","PHBAO","f","f","t","f","f","W","W","no","1","George McKenna",null,null,"ECAST",71,62,79,88,78,87,0,0,0,0,0,0,0,0,0,0,16,0,0,0,15,20,465,481,516]
[{"$f":"VLOOKUP(H749,'Pivot ECAST'!A:B,2,FALSE)","v":1},1,"17649011","1764901","1764901","West Hollywood El","7649","1764901","Elementary School","Desegregated/Receiver","Non-PHBAO","f","f","t","f","f","W","W","no","4","Nick Melvoin",null,null,"ECAST",65,48,46,37,34,41,0,0,0,0,0,0,0,0,0,0,0,0,0,0,0,0,271,271,271]
[{"$f":"VLOOKUP(H750,'Pivot ECAST'!A:B,2,FALSE)","v":1},1,"17654011","1765401","1765401","West Vernon El","7654","1765401","Elementary School","PHBAO","PHBAO","f","f","t","f","f","C","C","no","5","Jackie Goldberg",null,null,"ECAST",94,75,67,85,90,78,0,0,0,0,0,0,0,0,0,0,29,0,0,0,0,20,489,518,538]
[{"$f":"VLOOKUP(H751,'Pivot ECAST'!A:B,2,FALSE)","v":1},1,"17656011","1765601","1765601","Carson Acad Med Arts","7656","1765601","Senior High School","PHBAO","PHBAO","f","f","f","f","f","S","S","no","7","Tanya Ortiz Franklin",null,null,"ECAST",0,0,0,0,0,0,0,0,0,102,102,112,102,0,0,0,0,0,14,0,0,0,418,432,432]
[{"$f":"VLOOKUP(H752,'Pivot ECAST'!A:B,2,FALSE)","v":1},1,"17657011","1765701","1765701","Carson Acad Ed & Emp","7657","1765701","Senior High School","PHBAO","PHBAO","f","f","f","f","f","S","S","no","7","Tanya Ortiz Franklin",null,null,"ECAST",0,0,0,0,0,0,0,0,0,115,125,127,110,0,0,0,0,0,24,0,0,0,477,501,501]
[{"$f":"VLOOKUP(H753,'Pivot ECAST'!A:B,2,FALSE)","v":1},1,"17658011","1765801","1765801","Sylmar Academy Biotech Health/Eng Magnet","7658","1765801","Magnet School - SHS","Magnet 2","Magnet 2","f","f","f","f","f","NE","NE","no","6","Kelly Gonez","4x4",null,"ECAST",0,0,0,0,0,0,0,0,0,62,57,55,51,0,0,0,0,0,2,0,0,0,225,227,227]
[{"$f":"VLOOKUP(H754,'Pivot ECAST'!A:B,2,FALSE)","v":1},1,"17664011","1766401","1766401","Legacy SH VAPA","7664","1766401","Senior High School","PHBAO","PHBAO","f","f","f","f","f","E","E","no","5","Jackie Goldberg","4x4",null,"ECAST",0,0,0,0,0,0,0,0,0,104,95,101,128,0,0,0,0,0,2,0,0,0,428,430,430]
[{"$f":"VLOOKUP(H755,'Pivot ECAST'!A:B,2,FALSE)","v":2},1,"17667011","1766701","1766701","Dymally SH","7667","1766701","Senior High School","PHBAO","PHBAO","f","f","f","f","f","S","S","no","7","Tanya Ortiz Franklin","2x8",null,"ECAST",0,0,0,0,0,0,0,0,0,170,141,90,91,0,0,0,0,0,81,0,0,0,492,573,573]
[{"$f":"VLOOKUP(H756,'Pivot ECAST'!A:B,2,FALSE)","v":2},2,"17667012","1766702","1766702","Dymally HS Biomed Science/Research Mag","7536","1766701","Magnet Ctr -Senior High","Magnet 2","Magnet 2","f","f","f","f","f","S","S","no","7","Tanya Ortiz Franklin","2x8",null,"ECAST",0,0,0,0,0,0,0,0,0,12,24,24,25,0,0,0,0,0,1,0,0,0,85,86,86]
[{"$f":"VLOOKUP(H757,'Pivot ECAST'!A:B,2,FALSE)","v":1},1,"17669011","1766901","1766901","Marquez SH Soc Jus","7669","1766901","Senior High School","PHBAO","PHBAO","f","f","f","f","f","E","E","no","5","Jackie Goldberg",null,null,"ECAST",0,0,0,0,0,0,0,0,0,125,145,162,163,0,0,0,0,0,10,0,0,0,595,605,605]
[{"$f":"VLOOKUP(H758,'Pivot ECAST'!A:B,2,FALSE)","v":1},1,"17671011","1767101","1767101","Western Av Tech/Eng/Comm/Hum Magnet","7671","1767101","Span Magnet School","Magnet 2","Magnet 2","f","f","f","f","t","W","W","yes","1","George McKenna","2x8",null,"ECAST",78,68,51,64,66,62,53,48,41,0,0,0,0,0,0,0,17,2,0,6,0,17,531,550,573]
[{"$f":"VLOOKUP(H759,'Pivot ECAST'!A:B,2,FALSE)","v":1},1,"17699011","1769901","1769901","Westminster ES Math/Tech/Env Stud Magnet","7699","1769901","Magnet School - ELEM","Magnet 1","Magnet 1","f","f","t","f","f","W","W","no","4","Nick Melvoin",null,null,"ECAST",47,55,55,62,46,68,0,0,0,0,0,0,0,0,0,0,17,0,0,0,0,0,333,350,350]
[{"$f":"VLOOKUP(H760,'Pivot ECAST'!A:B,2,FALSE)","v":1},1,"17712011","1771201","1771201","Westport Hts El","7712","1771201","Elementary School","PHBAO","PHBAO","f","f","t","f","f","W","W","no","4","Nick Melvoin",null,null,"ECAST",27,16,21,23,30,33,0,0,0,0,0,0,0,0,0,0,7,0,0,3,0,0,150,157,160]
[{"$f":"VLOOKUP(H761,'Pivot ECAST'!A:B,2,FALSE)","v":1},1,"17715011","1771501","1771501","Chavez LA Artes Mag","7715","1771501","Magnet School - SHS","Magnet 2","Magnet 2","f","f","f","f","f","NE","NE","no","6","Kelly Gonez","2x8",null,"ECAST",0,0,0,0,0,0,0,0,0,88,88,81,97,0,0,0,0,0,0,0,0,0,354,354,354]
[{"$f":"VLOOKUP(H762,'Pivot ECAST'!A:B,2,FALSE)","v":1},1,"17716011","1771601","1771601","Chavez LA SJ Hum Ac","7716","1771601","Senior High School","PHBAO","PHBAO","f","f","f","f","f","NE","NE","no","6","Kelly Gonez",null,null,"ECAST",0,0,0,0,0,0,0,0,0,120,104,121,100,0,0,0,0,0,0,0,0,0,445,445,445]
[{"$f":"VLOOKUP(H763,'Pivot ECAST'!A:B,2,FALSE)","v":1},1,"17717011","1771701","1771701","Chavez LA ASE","7717","1771701","Senior High School","PHBAO","PHBAO","f","f","f","f","f","NE","NE","no","6","Kelly Gonez","4x4",null,"ECAST",0,0,0,0,0,0,0,0,0,109,103,97,123,0,0,0,0,0,1,0,0,0,432,433,433]
[{"$f":"VLOOKUP(H764,'Pivot ECAST'!A:B,2,FALSE)","v":1},1,"17718011","1771801","1771801","Rivera LC Com & Tech","7718","1771801","Senior High School","PHBAO","PHBAO","f","f","f","f","f","S","S","no","7","Tanya Ortiz Franklin","2x8",null,"ECAST",0,0,0,0,0,0,0,0,0,140,142,112,105,0,0,0,0,0,12,0,0,0,499,511,511]
[{"$f":"VLOOKUP(H765,'Pivot ECAST'!A:B,2,FALSE)","v":1},1,"17719011","1771901","1771901","Diego Rivera LC Green Design STEAM Acad","7719","1771901","Senior High School","PHBAO","PHBAO","f","f","f","f","f","S","S","no","7","Tanya Ortiz Franklin",null,null,"ECAST",0,0,0,0,0,0,0,0,0,140,118,135,117,0,0,0,0,0,18,0,0,0,510,528,528]
[{"$f":"VLOOKUP(H766,'Pivot ECAST'!A:B,2,FALSE)","v":1},1,"17721011","1772101","1772101","Rivera LC Perf Arts","7721","1772101","Senior High School","PHBAO","PHBAO","f","f","f","f","f","S","S","no","7","Tanya Ortiz Franklin",null,null,"ECAST",0,0,0,0,0,0,0,0,0,140,113,83,125,0,0,0,0,0,1,0,0,0,461,462,462]
[{"$f":"VLOOKUP(H767,'Pivot ECAST'!A:B,2,FALSE)","v":1},1,"17722011","1772201","1772201","Dr. Maya Angelou Community Senior High","7722","1772201","Senior High School","PHBAO","PHBAO","f","f","f","f","f","C","C","no","7","Tanya Ortiz Franklin",null,null,"ECAST",0,0,0,0,0,0,0,0,0,322,327,162,205,0,0,0,0,0,22,0,0,0,1016,1038,1038]
[{"$f":"VLOOKUP(H768,'Pivot ECAST'!A:B,2,FALSE)","v":1},1,"17725011","1772501","1772501","Marquez SH LIBRA","7725","1772501","Senior High School","PHBAO","PHBAO","f","f","f","f","f","E","E","no","5","Jackie Goldberg",null,null,"ECAST",0,0,0,0,0,0,0,0,0,150,153,149,132,0,0,0,0,0,10,0,0,0,584,594,594]
[{"$f":"VLOOKUP(H769,'Pivot ECAST'!A:B,2,FALSE)","v":1},1,"17734011","1773401","1773401","Bernstein SH STEM","7734","1773401","Senior High School","PHBAO","PHBAO","f","f","f","f","f","W","W","no","3","Scott Schmerelson",null,null,"ECAST",0,0,0,0,0,0,0,0,0,163,159,138,143,0,0,0,0,0,2,0,0,0,603,605,605]
[{"$f":"VLOOKUP(H770,'Pivot ECAST'!A:B,2,FALSE)","v":1},1,"17740011","1774001","1774001","Westwood Chtr El","7740","1774001","Elementary School","Desegregated/Receiver","Non-PHBAO","t","t","t","f","f","W","W","no","4","Nick Melvoin",null,null,"ECAST",135,79,80,106,90,90,0,0,0,0,0,0,0,0,0,0,0,0,0,0,0,0,580,580,580]
[{"$f":"VLOOKUP(H771,'Pivot ECAST'!A:B,2,FALSE)","v":2},1,{"$f":"H771&B771","v":"17749011"},"1774901","1774901","Roosevelt SH","7749","1774901","Senior High School","PHBAO","PHBAO","f","f","f","f","f","E","E","no","2","Monica Garcia","4x4",null,"ECAST",0,0,0,0,0,0,0,0,0,343,319,289,225,0,0,0,0,0,33,0,0,0,1176,1209,1209]
[{"$f":"VLOOKUP(H772,'Pivot ECAST'!A:B,2,FALSE)","v":2},{"$f":"IF(H772=H771,B771+1,1)","v":2},"17749012",{"$f":"E772","v":"1774902"},"1774902","Roosevelt HS Law/Public Services Magnet","7749","1774901","Magnet Ctr -Senior High","Magnet 2","Magnet 2","f","f","f","f","f","E","E","no","2","Monica Garcia","4x4",null,"ECAST",0,0,0,0,0,0,0,0,0,82,108,111,104,0,0,0,0,0,1,0,0,0,405,406,406]
[{"$f":"VLOOKUP(H773,'Pivot ECAST'!A:B,2,FALSE)","v":1},1,"17751011","1775101","1775101","Roosevelt Senior High Science/Tech/Math","7751","1775101","Magnet School - SHS","Magnet 2","Magnet 2","f","f","f","f","f","E","E","no","2","Monica Garcia","4x4",null,"ECAST",0,0,0,0,0,0,0,0,0,86,138,106,142,0,0,0,0,0,0,0,0,0,{"$f":"SUM(Y773:AN773)","v":472},{"$f":"AU773+AO773+AP773+AQ773","v":472},{"$f":"AV773+SUM(AR773:AT773)","v":472}]
[{"$f":"VLOOKUP(H774,'Pivot ECAST'!A:B,2,FALSE)","v":1},1,"17752011","1775201","1775201","Solis Learning Acad","7752","1775201","Senior High School","PHBAO","PHBAO","f","f","f","f","f","E","E","no","2","Monica Garcia",null,null,"ECAST",0,0,0,0,0,0,0,0,0,60,61,53,66,0,0,0,0,0,21,0,0,0,240,261,261]
[{"$f":"VLOOKUP(H775,'Pivot ECAST'!A:B,2,FALSE)","v":1},1,"17767011","1776701","1776701","White Point El","7767","1776701","Elementary School","Desegregated/Receiver","Non-PHBAO","f","f","t","f","f","S","S","no","7","Tanya Ortiz Franklin",null,null,"ECAST",64,35,30,44,35,44,0,0,0,0,0,0,0,0,0,0,19,0,0,0,0,0,252,271,271]
[{"$f":"VLOOKUP(H776,'Pivot ECAST'!A:B,2,FALSE)","v":1},1,"17771011","1777101","1777101","RFK Ambsdr Glbl Ldsh","7771","1777101","Span School","PHBAO","PHBAO","f","f","f","f","t","C","C","yes","5","Jackie Goldberg",null,null,"ECAST",0,0,0,0,0,0,52,54,54,106,109,79,77,0,0,0,0,7,9,0,0,0,531,547,547]
[{"$f":"VLOOKUP(H777,'Pivot ECAST'!A:B,2,FALSE)","v":1},1,"17772011","1777201","1777201","Torres Renaissance","7772","1777201","Senior High School","PHBAO","PHBAO","f","f","f","f","f","E","E","no","2","Monica Garcia",null,null,"ECAST",0,0,0,0,0,0,0,0,0,136,116,70,71,0,0,0,0,0,7,0,0,0,393,400,400]
[{"$f":"VLOOKUP(H778,'Pivot ECAST'!A:B,2,FALSE)","v":1},1,"17773011","1777301","1777301","Torres Eng & Tech","7773","1777301","Senior High School","PHBAO","PHBAO","f","f","f","f","f","E","E","no","2","Monica Garcia",null,null,"ECAST",0,0,0,0,0,0,0,0,0,100,95,98,100,0,0,0,0,0,6,0,0,0,393,399,399]
[{"$f":"VLOOKUP(H779,'Pivot ECAST'!A:B,2,FALSE)","v":1},1,"17774011","1777401","1777401","Wilbur El","7774","1777401","Elementary School","Desegregated/Receiver","Non-PHBAO","t","t","t","f","f","NW","NW","no","4","Nick Melvoin",null,null,"ECAST",108,89,70,74,69,69,0,0,0,0,0,0,0,0,0,0,9,0,0,14,0,0,479,488,502]
[{"$f":"VLOOKUP(H780,'Pivot ECAST'!A:B,2,FALSE)","v":1},1,"17775011","1777501","1777501","Torres Hum/Art/Tech","7775","1777501","Senior High School","PHBAO","PHBAO","f","f","f","f","f","E","E","no","2","Monica Garcia",null,null,"ECAST",0,0,0,0,0,0,0,0,0,100,93,102,107,0,0,0,0,0,4,0,0,0,402,406,406]
[{"$f":"VLOOKUP(H781,'Pivot ECAST'!A:B,2,FALSE)","v":1},1,"17777011","1777701","1777701","Torres HS Social Justice Ldshp Ac Magnet","7777","1777701","Magnet School - SHS","Magnet 2","Magnet 2","f","f","f","f","f","E","E","no","2","Monica Garcia",null,null,"ECAST",0,0,0,0,0,0,0,0,0,75,70,30,53,0,0,0,0,0,10,0,0,0,228,238,238]
[{"$f":"VLOOKUP(H782,'Pivot ECAST'!A:B,2,FALSE)","v":2},1,"17780011","1778001","1778001","RFK UCLA Comm Sch","7780","1778001","Span School","PHBAO","PHBAO","f","f","f","f","t","C","C","yes","5","Jackie Goldberg",null,null,"ECAST",7,9,9,14,10,15,67,65,63,96,108,107,101,0,0,0,0,1,9,0,0,0,671,681,681]
[{"$f":"VLOOKUP(H783,'Pivot ECAST'!A:B,2,FALSE)","v":2},2,"17780012","1778002","1778002","RFK UCLA Comm Sch DL One-Way Im Spanish","2838","1778001","Dual Language Ctr - Elementary","PHBAO","PHBAO","f","f","f","f","f","C","C","yes","5","Jackie Goldberg",null,null,"ECAST",53,39,38,41,39,53,0,0,0,0,0,0,0,0,0,0,0,0,0,0,0,0,263,263,263]
[{"$f":"VLOOKUP(H784,'Pivot ECAST'!A:B,2,FALSE)","v":1},1,"17781011","1778101","1778101","Wilmington Park El","7781","1778101","Elementary School","PHBAO","PHBAO","f","f","t","f","f","S","S","no","7","Tanya Ortiz Franklin",null,null,"ECAST",85,59,61,85,69,72,0,0,0,0,0,0,0,0,0,0,20,0,0,10,12,17,431,451,490]
[{"$f":"VLOOKUP(H785,'Pivot ECAST'!A:B,2,FALSE)","v":1},1,"17783011","1778301","1778301","RFK Comm Schs-New Open World Acad K-12","7783","1778301","Span School","PHBAO","PHBAO","f","f","f","f","t","C","C","yes","5","Jackie Goldberg",null,null,"ECAST",82,61,48,53,53,61,75,83,73,94,100,90,100,0,0,0,5,1,0,0,0,0,973,979,979]
[{"$f":"VLOOKUP(H786,'Pivot ECAST'!A:B,2,FALSE)","v":2},1,"17795011","1779501","1779501","Wilshire Crest El","7795","1779501","Elementary School","PHBAO","PHBAO","f","f","t","f","f","W","W","no","1","George McKenna",null,null,"ECAST",15,11,13,10,10,8,0,0,0,0,0,0,0,0,0,0,0,0,0,7,0,16,67,67,90]
[{"$f":"VLOOKUP(H787,'Pivot ECAST'!A:B,2,FALSE)","v":2},2,"17795012","1779502","1779502","Wilshire Crest El DL Two-Way Im Spanish","2428","1779501","Dual Language Ctr - Elementary","PHBAO","PHBAO","f","f","t","f","f","W","W","no","1","George McKenna",null,null,"ECAST",16,11,5,10,8,0,0,0,0,0,0,0,0,0,0,0,0,0,0,0,0,0,50,50,50]
[{"$f":"VLOOKUP(H788,'Pivot ECAST'!A:B,2,FALSE)","v":3},1,"17808011","1780801","1780801","Wilton Pl El","7808","1780801","Elementary School","PHBAO","PHBAO","f","f","t","f","f","W","W","no","1","George McKenna",null,null,"ECAST",41,15,13,6,17,12,0,0,0,0,0,0,0,0,0,0,23,0,0,7,0,6,104,127,140]
[{"$f":"VLOOKUP(H789,'Pivot ECAST'!A:B,2,FALSE)","v":3},2,"17808012","1780802","1780802","Wilton Pl El DL Two-Way Im Spanish","2839","1780801","Dual Language Ctr - Elementary","PHBAO","PHBAO","f","f","t","f","f","W","W","no","1","George McKenna",null,null,"ECAST",33,31,21,38,30,28,0,0,0,0,0,0,0,0,0,0,0,0,0,0,0,0,181,181,181]
[{"$f":"VLOOKUP(H790,'Pivot ECAST'!A:B,2,FALSE)","v":3},3,"17808013","1780803","1780803","Wilton Pl El DL Two-Way Im Korean","2840","1780801","Dual Language Ctr - Elementary","PHBAO","PHBAO","f","f","t","f","f","W","W","no","1","George McKenna",null,null,"ECAST",4,4,9,1,7,9,0,0,0,0,0,0,0,0,0,0,0,0,0,0,0,0,34,34,34]
[{"$f":"VLOOKUP(H791,'Pivot ECAST'!A:B,2,FALSE)","v":1},1,"17822011","1782201","1782201","Windsor M/S Aero Mag","7822","1782201","Magnet School - ELEM","Magnet 2","Magnet 2","f","f","t","f","f","W","W","no","1","George McKenna",null,null,"ECAST",30,54,61,73,77,76,0,0,0,0,0,0,0,0,0,0,0,0,0,0,0,0,371,371,371]
[{"$f":"VLOOKUP(H792,'Pivot ECAST'!A:B,2,FALSE)","v":1},1,"17836011","1783601","1783601","Winnetka El","7836","1783601","Elementary School","PHBAO","PHBAO","f","f","t","f","f","NW","NW","no","3","Scott Schmerelson",null,null,"ECAST",55,31,52,38,52,58,0,0,0,0,0,0,0,0,0,0,24,0,0,0,0,14,286,310,324]
[{"$f":"VLOOKUP(H793,'Pivot ECAST'!A:B,2,FALSE)","v":2},1,"17849011","1784901","1784901","Wonderland El","7849","1784901","Elementary School","Desegregated/Receiver","Non-PHBAO","f","f","t","f","f","W","W","no","4","Nick Melvoin",null,null,"ECAST",61,51,47,36,32,19,0,0,0,0,0,0,0,0,0,0,0,0,0,0,0,0,246,246,246]
[{"$f":"VLOOKUP(H794,'Pivot ECAST'!A:B,2,FALSE)","v":2},2,"17849012","1784902","1784902","Wonderland G/HA Mag","7850","1784901","Magnet Ctr -Elementary","Magnet 1","Magnet 1","f","f","t","f","f","W","W","no","4","Nick Melvoin",null,null,"ECAST",0,0,0,48,58,57,0,0,0,0,0,0,0,0,0,0,0,0,0,0,0,0,163,163,163]
[{"$f":"VLOOKUP(H795,'Pivot ECAST'!A:B,2,FALSE)","v":1},1,"17863011","1786301","1786301","Woodcrest El","7863","1786301","Elementary School","PHBAO","PHBAO","f","f","t","f","f","W","W","no","1","George McKenna",null,null,"ECAST",100,79,77,98,80,88,0,0,0,0,0,0,0,0,0,0,25,0,0,0,0,14,522,547,561]
[{"$f":"VLOOKUP(H796,'Pivot ECAST'!A:B,2,FALSE)","v":1},1,"17877011","1787701","1787701","Woodlake Elementary Community Charter","7877","1787701","Elementary School","Desegregated/Receiver","Non-PHBAO","t","t","t","f","f","NW","NW","no","3","Scott Schmerelson",null,null,"ECAST",103,72,81,82,90,84,0,0,0,0,0,0,0,0,0,0,2,0,0,0,0,0,512,514,514]
[{"$f":"VLOOKUP(H797,'Pivot ECAST'!A:B,2,FALSE)","v":1},1,"17890011","1789001","1789001","Woodland Hills CES","7890","1789001","Elementary School","Desegregated/Receiver","Non-PHBAO","t","t","t","f","f","NW","NW","no","4","Nick Melvoin",null,null,"ECAST",143,100,107,91,102,84,0,0,0,0,0,0,0,0,0,0,0,0,0,0,0,0,627,627,627]
[{"$f":"VLOOKUP(H798,'Pivot ECAST'!A:B,2,FALSE)","v":1},1,"17895011","1789501","1789501","Valley Oaks Center for Enr Studies Mag","7895","1789501","Span Magnet School","Magnet 2","Magnet 2","f","f","f","f","t","NE","NE","yes","6","Kelly Gonez",null,null,"ECAST",0,0,0,0,0,0,28,28,52,38,52,60,68,0,0,0,0,0,17,0,0,0,326,343,343]
[{"$f":"VLOOKUP(H799,'Pivot ECAST'!A:B,2,FALSE)","v":2},1,"17904011","1790401","1790401","Woodlawn El","7904","1790401","Elementary School","PHBAO","PHBAO","f","f","t","f","f","E","E","no","5","Jackie Goldberg",null,null,"ECAST",52,40,52,56,60,53,0,0,0,0,0,0,0,0,0,0,22,0,0,9,0,21,313,335,365]
[{"$f":"VLOOKUP(H800,'Pivot ECAST'!A:B,2,FALSE)","v":2},2,"17904012","1790402","1790402","Woodlawn Ave El DL Two-Way Im Spanish","2841","1790401","Dual Language Ctr - Elementary","PHBAO","PHBAO","f","f","t","f","f","E","E","no","5","Jackie Goldberg",null,null,"ECAST",43,37,35,35,28,30,0,0,0,0,0,0,0,0,0,0,0,0,0,0,0,0,208,208,208]
[{"$f":"VLOOKUP(H801,'Pivot ECAST'!A:B,2,FALSE)","v":1},1,"17959011","1795901","1795901","Yorkdale El","7959","1795901","Elementary School","PHBAO","PHBAO","f","f","t","f","f","C","C","no","2","Monica Garcia",null,null,"ECAST",36,24,36,29,32,29,0,0,0,0,0,0,0,0,0,0,0,0,0,4,0,9,186,186,199]
[{"$f":"VLOOKUP(H802,'Pivot ECAST'!A:B,2,FALSE)","v":2},1,"18009011","1800901","1800901","Adams MS","8009","1800901","Middle School","PHBAO","PHBAO","f","f","f","f","f","C","C","no","5","Jackie Goldberg","2x8",null,"ECAST",0,0,0,0,0,0,151,143,134,0,0,0,0,0,0,0,0,62,0,0,0,0,428,490,490]
[{"$f":"VLOOKUP(H803,'Pivot ECAST'!A:B,2,FALSE)","v":2},2,"18009012","1800902","1800902","John Adams MS Gifted Magnet","8008","1800901","Magnet Ctr -Middle School","Magnet 2","Magnet 2","f","f","f","f","f","C","C","no","5","Jackie Goldberg","2x8",null,"ECAST",0,0,0,0,0,0,61,73,68,0,0,0,0,0,0,0,0,0,0,0,0,0,202,202,202]
[{"$f":"VLOOKUP(H804,'Pivot ECAST'!A:B,2,FALSE)","v":2},1,"18028011","1802801","1802801","Audubon MS","8028","1802801","Middle School","PHBAO","PHBAO","f","f","f","f","f","W","W","no","1","George McKenna","2x8",null,"ECAST",0,0,0,0,0,0,131,105,82,0,0,0,0,0,0,0,0,58,0,0,0,0,318,376,376]
[{"$f":"VLOOKUP(H805,'Pivot ECAST'!A:B,2,FALSE)","v":2},2,"18028012","1802802","1802802","Audubon MS Gifted Magnet","8029","1802801","Magnet Ctr -Middle School","Magnet 2","Magnet 2","f","f","f","f","f","W","W","no","1","George McKenna","2x8",null,"ECAST",0,0,0,0,0,0,20,26,32,0,0,0,0,0,0,0,0,1,0,0,0,0,78,79,79]
[{"$f":"VLOOKUP(H806,'Pivot ECAST'!A:B,2,FALSE)","v":3},1,"18038011","1803801","1803801","Bancroft MS","8038","1803801","Middle School","PHBAO","PHBAO","f","f","f","f","f","W","W","no","4","Nick Melvoin",null,null,"ECAST",0,0,0,0,0,0,40,57,33,0,0,0,0,0,0,0,0,9,0,0,0,0,130,139,139]
[{"$f":"VLOOKUP(H807,'Pivot ECAST'!A:B,2,FALSE)","v":3},2,"18038012","1803802","1803802","Bancroft Per Art Mag","8039","1803801","Magnet Ctr -Middle School","Magnet 2","Magnet 2","f","f","f","f","f","W","W","no","4","Nick Melvoin",null,null,"ECAST",0,0,0,0,0,0,61,79,117,0,0,0,0,0,0,0,0,2,0,0,0,0,257,259,259]
[{"$f":"VLOOKUP(H808,'Pivot ECAST'!A:B,2,FALSE)","v":3},3,"18038013","1803803","1803803","Hubert Howe Bancroft MS Gifted STEAM Mag","5213","1803801","Magnet Ctr -Middle School","Magnet 2","Magnet 2","f","f","f","f","f","W","W","no","4","Nick Melvoin",null,null,"ECAST",0,0,0,0,0,0,21,33,47,0,0,0,0,0,0,0,0,1,0,0,0,0,101,102,102]
[{"$f":"VLOOKUP(H809,'Pivot ECAST'!A:B,2,FALSE)","v":1},1,"18045011","1804501","1804501","Castro MS","8045","1804501","Middle School","PHBAO","PHBAO","f","f","f","f","f","C","C","no","2","Monica Garcia",null,null,"ECAST",0,0,0,0,0,0,106,107,88,0,0,0,0,0,0,0,0,16,0,0,0,0,301,317,317]
[{"$f":"VLOOKUP(H810,'Pivot ECAST'!A:B,2,FALSE)","v":3},1,"18047011","1804701","1804701","Belvedere MS","8047","1804701","Middle School","PHBAO","PHBAO","f","f","f","f","f","E","E","no","2","Monica Garcia",null,null,"ECAST",0,0,0,0,0,0,26,130,166,0,0,0,0,0,0,0,0,63,0,0,0,0,322,385,385]
[{"$f":"VLOOKUP(H811,'Pivot ECAST'!A:B,2,FALSE)","v":3},2,"18047012","1804702","1804702","Belvedere Media Mag","8048","1804701","Magnet Ctr -Middle School","Magnet 2","Magnet 2","f","f","f","f","f","E","E","no","2","Monica Garcia",null,null,"ECAST",0,0,0,0,0,0,16,47,56,0,0,0,0,0,0,0,0,0,0,0,0,0,119,119,119]
[{"$f":"VLOOKUP(H812,'Pivot ECAST'!A:B,2,FALSE)","v":3},3,"18047013","1804703","1804703","Belvedere MS STEAM Magnet","8049","1804701","Magnet Ctr -Middle School","Magnet 2","Magnet 2","f","f","f","f","f","E","E","no","2","Monica Garcia",null,null,"ECAST",0,0,0,0,0,0,18,49,53,0,0,0,0,0,0,0,0,0,0,0,0,0,120,120,120]
[{"$f":"VLOOKUP(H813,'Pivot ECAST'!A:B,2,FALSE)","v":1},1,"18057011","1805701","1805701","Berendo MS","8057","1805701","Middle School","PHBAO","PHBAO","f","f","f","f","f","C","C","no","5","Jackie Goldberg","2x8",null,"ECAST",0,0,0,0,0,0,207,149,194,0,0,0,0,0,0,0,0,61,0,0,0,0,550,611,611]
[{"$f":"VLOOKUP(H814,'Pivot ECAST'!A:B,2,FALSE)","v":1},1,"18058011","1805801","1805801","Liechty MS","8058","1805801","Middle School","PHBAO","PHBAO","f","f","f","f","f","C","C","no","2","Monica Garcia",null,null,"ECAST",0,0,0,0,0,0,289,298,256,0,0,0,0,0,0,0,0,84,0,0,0,0,843,927,927]
[{"$f":"VLOOKUP(H815,'Pivot ECAST'!A:B,2,FALSE)","v":2},1,"18060011","1806001","1806001","Bethune MS","8060","1806001","Middle School","PHBAO","PHBAO","f","f","f","f","f","S","S","no","7","Tanya Ortiz Franklin",null,null,"ECAST",0,0,0,0,0,0,0,310,307,0,0,0,0,0,0,0,0,58,0,0,0,0,617,675,675]
[{"$f":"VLOOKUP(H816,'Pivot ECAST'!A:B,2,FALSE)","v":2},2,"18060012","1806002","1806002","Mary Mcleod Bethune MS Science/Tech/Math","8061","1806001","Magnet Ctr -Middle School","Magnet 2","Magnet 2","f","f","f","f","f","S","S","no","7","Tanya Ortiz Franklin",null,null,"ECAST",0,0,0,0,0,0,100,100,105,0,0,0,0,0,0,0,0,2,0,0,0,0,305,307,307]
[{"$f":"VLOOKUP(H817,'Pivot ECAST'!A:B,2,FALSE)","v":2},1,"18062011","1806201","1806201","Clinton MS","8062","1806201","Middle School","PHBAO","PHBAO","f","f","f","f","f","C","C","no","5","Jackie Goldberg","2x8",null,"ECAST",0,0,0,0,0,0,154,149,145,0,0,0,0,0,0,0,0,66,0,0,0,0,448,514,514]
[{"$f":"VLOOKUP(H818,'Pivot ECAST'!A:B,2,FALSE)","v":2},2,"18062012","1806202","1806202","Clinton MS Medical/Health Careers Magnet","7508","1806201","Magnet Ctr -Middle School","Magnet 2","Magnet 2","f","f","f","f","f","C","C","no","5","Jackie Goldberg","2x8",null,"ECAST",0,0,0,0,0,0,26,26,0,0,0,0,0,0,0,0,0,0,0,0,0,0,52,52,52]
[{"$f":"VLOOKUP(H819,'Pivot ECAST'!A:B,2,FALSE)","v":1},1,"18064011","1806401","1806401","Kim Academy","8064","1806401","Middle School","PHBAO","PHBAO","f","f","f","f","f","C","C","no","5","Jackie Goldberg",null,null,"ECAST",0,0,0,0,0,0,263,263,241,0,0,0,0,0,0,0,0,1,0,0,0,0,767,768,768]
[{"$f":"VLOOKUP(H820,'Pivot ECAST'!A:B,2,FALSE)","v":2},1,"18066011","1806601","1806601","Burbank MS Arts/Tech/Comm Magnet","8066","1806601","Magnet School - MS","Magnet 2","Magnet 2","f","f","f","f","f","C","C","no","2","Monica Garcia","2x8",null,"ECAST",0,0,0,0,0,0,250,270,284,0,0,0,0,0,0,0,0,60,0,0,0,0,804,864,864]
[{"$f":"VLOOKUP(H821,'Pivot ECAST'!A:B,2,FALSE)","v":2},2,"18066012","1806603","1806603","Burbank Police Ac Mg","8022","1806601","Magnet Ctr -Middle School","Magnet 2","Magnet 2","f","f","f","f","f","C","C","no","2","Monica Garcia","2x8",null,"ECAST",0,0,0,0,0,0,20,21,26,0,0,0,0,0,0,0,0,3,0,0,0,0,67,70,70]
[{"$f":"VLOOKUP(H822,'Pivot ECAST'!A:B,2,FALSE)","v":2},1,"18075011","1807501","1807501","Burroughs MS","8075","1807501","Middle School","PHBAO","PHBAO","f","f","f","f","f","W","W","no","1","George McKenna",null,null,"ECAST",0,0,0,0,0,0,235,242,240,0,0,0,0,0,0,0,0,33,0,0,0,0,717,750,750]
[{"$f":"VLOOKUP(H823,'Pivot ECAST'!A:B,2,FALSE)","v":2},2,"18075012","1807502","1807502","John Burroughs MS Gifted Magnet","8076","1807501","Magnet Ctr -Middle School","Magnet 2","Magnet 2","f","f","f","f","f","W","W","no","1","George McKenna",null,null,"ECAST",0,0,0,0,0,0,225,225,225,0,0,0,0,0,0,0,0,0,0,0,0,0,675,675,675]
[{"$f":"VLOOKUP(H824,'Pivot ECAST'!A:B,2,FALSE)","v":2},1,"18080011","1808001","1808001","Byrd MS","8080","1808001","Middle School","PHBAO","PHBAO","f","f","f","f","f","NE","NE","no","6","Kelly Gonez",null,null,"ECAST",0,0,0,0,0,0,222,242,277,0,0,0,0,0,0,0,0,36,0,0,0,0,741,777,777]
[{"$f":"VLOOKUP(H825,'Pivot ECAST'!A:B,2,FALSE)","v":2},2,"18080012","1808002","1808002","Richard E Byrd MS Science/Tech/Math Magnet","8081","1808001","Magnet Ctr -Middle School","Magnet 2","Magnet 2","f","f","f","f","f","NE","NE","no","6","Kelly Gonez",null,null,"ECAST",0,0,0,0,0,0,93,111,111,0,0,0,0,0,0,0,0,0,0,0,0,0,315,315,315]
[{"$f":"VLOOKUP(H826,'Pivot ECAST'!A:B,2,FALSE)","v":3},1,"18090011","1809001","1809001","Carnegie MS","8090","1809001","Middle School","PHBAO","PHBAO","f","f","f","f","f","S","S","no","7","Tanya Ortiz Franklin","2x8",null,"ECAST",0,0,0,0,0,0,127,132,171,0,0,0,0,0,0,0,0,43,0,0,0,0,430,473,473]
[{"$f":"VLOOKUP(H827,'Pivot ECAST'!A:B,2,FALSE)","v":3},2,"18090012","1809002","1809002","Carnegie MS Medical Magnet","8090","1809001","Magnet Ctr -Middle School","Magnet 2","Magnet 2","f","f","f","f","f","S","S","no","7","Tanya Ortiz Franklin","2x8",null,"ECAST",0,0,0,0,0,0,35,50,50,0,0,0,0,0,0,0,0,0,0,0,0,0,135,135,135]
[{"$f":"VLOOKUP(H828,'Pivot ECAST'!A:B,2,FALSE)","v":3},3,"18090013","1809003","1809003","Carnegie MS Arts/Media/Music/Ent. Magnet","7506","1809001","Magnet Ctr -Middle School","Magnet 2","Magnet 2","f","f","f","f","f","S","S","no","7","Tanya Ortiz Franklin","2x8",null,"ECAST",0,0,0,0,0,0,50,45,35,0,0,0,0,0,0,0,0,0,0,0,0,0,130,130,130]
[{"$f":"VLOOKUP(H829,'Pivot ECAST'!A:B,2,FALSE)","v":1},1,"18094011","1809401","1809401","Carver MS","8094","1809401","Middle School","PHBAO","PHBAO","f","f","f","f","f","C","C","no","5","Jackie Goldberg",null,null,"ECAST",0,0,0,0,0,0,211,208,177,0,0,0,0,0,0,0,0,68,0,0,0,0,596,664,664]
[{"$f":"VLOOKUP(H830,'Pivot ECAST'!A:B,2,FALSE)","v":3},1,"18102011","1810201","1810201","Columbus MS","8102","1810201","Middle School","PHBAO","PHBAO","f","f","f","f","f","NW","NW","no","3","Scott Schmerelson",null,null,"ECAST",0,0,0,0,0,0,83,89,111,0,0,0,0,0,0,0,0,48,0,0,0,0,283,331,331]
[{"$f":"VLOOKUP(H831,'Pivot ECAST'!A:B,2,FALSE)","v":3},2,"18102012","1810202","1810202","Columbus MS M/S/Med","8101","1810201","Magnet Ctr -Middle School","Magnet 2","Magnet 2","f","f","f","f","f","NW","NW","no","3","Scott Schmerelson",null,null,"ECAST",0,0,0,0,0,0,66,90,96,0,0,0,0,0,0,0,0,2,0,0,0,0,252,254,254]
[{"$f":"VLOOKUP(H832,'Pivot ECAST'!A:B,2,FALSE)","v":3},3,"18102013","1810203","1810203","Columbus MS Media Arts/Comm Magnet","8102","1810201","Magnet Ctr -Middle School","Magnet 2","Magnet 2","f","f","f","f","f","NW","NW","no","3","Scott Schmerelson",null,null,"ECAST",0,0,0,0,0,0,41,41,0,0,0,0,0,0,0,0,0,0,0,0,0,0,82,82,82]
[{"$f":"VLOOKUP(H833,'Pivot ECAST'!A:B,2,FALSE)","v":2},1,"18103011","1810301","1810301","Curtiss MS","8103","1810301","Middle School","PHBAO","PHBAO","f","f","f","f","f","S","S","no","7","Tanya Ortiz Franklin","2x8",null,"ECAST",0,0,0,0,0,0,51,43,45,0,0,0,0,0,0,0,0,28,0,0,0,0,139,167,167]
[{"$f":"VLOOKUP(H834,'Pivot ECAST'!A:B,2,FALSE)","v":2},2,"18103012","1810302","1810302","Curtiss MS STEAM Magnet","8105","1810301","Magnet Ctr -Middle School","Magnet 2","Magnet 2","f","f","f","f","f","S","S","no","7","Tanya Ortiz Franklin","2x8",null,"ECAST",0,0,0,0,0,0,57,47,97,0,0,0,0,0,0,0,0,6,0,0,0,0,201,207,207]
[{"$f":"VLOOKUP(H835,'Pivot ECAST'!A:B,2,FALSE)","v":2},1,{"$f":"H835&B835","v":"18104011"},"1810401","1810401","Dana MS","8104","1810401","Middle School","PHBAO","PHBAO","f","f","f","f","f","S","S","no","7","Tanya Ortiz Franklin",null,null,"ECAST",0,0,0,0,0,0,327,333,314,0,0,0,0,0,0,0,0,86,0,0,0,0,974,1060,1060]
[{"$f":"VLOOKUP(H836,'Pivot ECAST'!A:B,2,FALSE)","v":2},{"$f":"IF(H836=H835,B835+1,1)","v":2},"18104012",{"$f":"E836","v":"1810402"},"1810402","Dana STEAM Magnet","5214","1810401","Magnet Ctr -Middle School","Magnet 1","Magnet 1","f","f","f","f","f","S","S","no","7","Tanya Ortiz Franklin",null,null,"ECAST",0,0,0,0,0,0,133,138,146,0,0,0,0,0,0,0,0,0,0,0,0,0,417,417,417]
[{"$f":"VLOOKUP(H837,'Pivot ECAST'!A:B,2,FALSE)","v":3},1,"18107011","1810701","1810701","Gaspar De Portola Charter Middle","8107","1810701","Middle School","Desegregated/Receiver","Non-PHBAO","f","t","f","f","f","NW","NW","no","4","Nick Melvoin",null,null,"ECAST",0,0,0,0,0,0,342,353,365,0,0,0,0,0,0,0,0,60,0,0,0,0,{"$f":"SUM(Y837:AN837)","v":1060},{"$f":"AU837+AO837+AP837+AQ837","v":1120},{"$f":"AV837+SUM(AR837:AT837)","v":1120}]
[{"$f":"VLOOKUP(H838,'Pivot ECAST'!A:B,2,FALSE)","v":3},2,"18107012","1810702","1810702","Portola Highly Gifted Magnet","8108","1810701","Magnet Ctr -Middle School","Magnet 1","Magnet 1","f","t","f","f","f","NW","NW","no","4","Nick Melvoin",null,null,"ECAST",0,0,0,0,0,0,78,98,94,0,0,0,0,0,0,0,0,0,0,0,0,0,270,270,270]
[{"$f":"VLOOKUP(H839,'Pivot ECAST'!A:B,2,FALSE)","v":3},3,"18107013","1810703","1810703","Academy of Integrated Arts & Technology","5241","1810701","Middle School","Desegregated/Receiver","Non-PHBAO","f","t","f","t","f","NW","NW","no","4","Nick Melvoin",null,null,"ECAST",0,0,0,0,0,0,44,43,33,0,0,0,0,0,0,0,0,0,0,0,0,0,120,120,120]
[{"$f":"VLOOKUP(H840,'Pivot ECAST'!A:B,2,FALSE)","v":3},1,"18110011","1811001","1811001","Dodson MS","8110","1811001","Middle School","PHBAO","PHBAO","f","f","f","f","f","S","S","no","7","Tanya Ortiz Franklin",null,null,"ECAST",0,0,0,0,0,0,89,91,69,0,0,0,0,0,0,0,0,30,0,0,0,0,249,279,279]
[{"$f":"VLOOKUP(H841,'Pivot ECAST'!A:B,2,FALSE)","v":3},2,"18110012","1811002","1811002","Rudecinda Sepulveda Dodson MS Gifted Mag","8111","1811001","Magnet Ctr -Middle School","Magnet 2","Magnet 2","f","f","f","f","f","S","S","no","7","Tanya Ortiz Franklin",null,null,"ECAST",0,0,0,0,0,0,238,238,266,0,0,0,0,0,0,0,0,0,0,0,0,0,742,742,742]
[{"$f":"VLOOKUP(H842,'Pivot ECAST'!A:B,2,FALSE)","v":3},3,"18110013","1811003","1811003","Dodson MS Visual/Performing Arts Magnet","5242","1811001","Magnet Ctr -Middle School","Magnet 2","Magnet 2","f","f","f","f","f","S","S","no","7","Tanya Ortiz Franklin",null,null,"ECAST",0,0,0,0,0,0,87,136,114,0,0,0,0,0,0,0,0,2,0,0,0,0,337,339,339]
[{"$f":"VLOOKUP(H843,'Pivot ECAST'!A:B,2,FALSE)","v":2},1,"18112011","1811201","1811201","Drew MS","8112","1811201","Middle School","PHBAO","PHBAO","f","f","f","f","f","S","S","no","7","Tanya Ortiz Franklin","4x4",null,"ECAST",0,0,0,0,0,0,0,283,280,0,0,0,0,0,0,0,0,23,0,0,0,0,563,586,586]
[{"$f":"VLOOKUP(H844,'Pivot ECAST'!A:B,2,FALSE)","v":2},2,"18112012","1811202","1811202","Charles Drew MS Gifted Magnet","8109","1811201","Magnet Ctr -Middle School","Magnet 2","Magnet 2","f","f","f","f","f","S","S","no","7","Tanya Ortiz Franklin","4x4",null,"ECAST",0,0,0,0,0,0,0,44,44,0,0,0,0,0,0,0,0,0,0,0,0,0,88,88,88]
[{"$f":"VLOOKUP(H845,'Pivot ECAST'!A:B,2,FALSE)","v":1},1,"18113011","1811301","1811301","Edison MS","8113","1811301","Middle School","PHBAO","PHBAO","f","f","f","f","f","S","S","no","7","Tanya Ortiz Franklin",null,null,"ECAST",0,0,0,0,0,0,113,320,334,0,0,0,0,0,0,0,0,70,0,0,0,0,767,837,837]
[{"$f":"VLOOKUP(H846,'Pivot ECAST'!A:B,2,FALSE)","v":3},1,"18116011","1811601","1811601","Romer MS","8116","1811601","Middle School","PHBAO","PHBAO","f","f","f","f","f","NE","NE","no","6","Kelly Gonez",null,null,"ECAST",0,0,0,0,0,0,132,144,146,0,0,0,0,0,0,0,0,61,0,0,0,0,422,483,483]
[{"$f":"VLOOKUP(H847,'Pivot ECAST'!A:B,2,FALSE)","v":3},2,"18116012","1811602","1811602","Romer STEM Magnet","5228","1811601","Magnet Ctr -Middle School","Magnet 2","Magnet 2","f","f","f","f","f","NE","NE","no","6","Kelly Gonez",null,null,"ECAST",0,0,0,0,0,0,82,79,104,0,0,0,0,0,0,0,0,5,0,0,0,0,265,270,270]
[{"$f":"VLOOKUP(H848,'Pivot ECAST'!A:B,2,FALSE)","v":3},3,"18116013","1811603","1811603","Romer MS Gifted/Humanities Magnet","5249","1811601","Magnet Ctr -Middle School","Magnet 2","Magnet 2","f","f","f","f","f","NE","NE","no","6","Kelly Gonez",null,null,"ECAST",0,0,0,0,0,0,22,22,21,0,0,0,0,0,0,0,0,0,0,0,0,0,65,65,65]
[{"$f":"VLOOKUP(H849,'Pivot ECAST'!A:B,2,FALSE)","v":4},1,"18117011","1811701","1811701","Vista MS","8117","1811701","Middle School","PHBAO","PHBAO","f","f","f","f","f","NE","NE","no","6","Kelly Gonez",null,null,"ECAST",0,0,0,0,0,0,267,247,228,0,0,0,0,0,0,0,0,75,0,0,0,0,742,817,817]
[{"$f":"VLOOKUP(H850,'Pivot ECAST'!A:B,2,FALSE)","v":4},2,"18117012","1811703","1811703","Vista MS Sports Med/College Prep Magnet","5257","1811701","Magnet Ctr -Middle School","Magnet 2","Magnet 2","f","f","f","f","f","NE","NE","no","6","Kelly Gonez",null,null,"ECAST",0,0,0,0,0,0,56,71,108,0,0,0,0,0,0,0,0,5,0,0,0,0,235,240,240]
[{"$f":"VLOOKUP(H851,'Pivot ECAST'!A:B,2,FALSE)","v":4},3,"18117013","1811704","1811704","Vista MS Gifted STEAM Magnet","8117","1811701","Magnet Ctr -Middle School","Magnet 2","Magnet 2","f","f","f","f","f","NE","NE","no","6","Kelly Gonez",null,null,"ECAST",0,0,0,0,0,0,26,29,35,0,0,0,0,0,0,0,0,0,0,0,0,0,90,90,90]
[{"$f":"VLOOKUP(H852,'Pivot ECAST'!A:B,2,FALSE)","v":4},4,"18117014","1811705","1811705","Vista MS Law/Gov/Social Just/Lead Magnet","8117","1811701","Magnet Ctr -Middle School","Magnet 2","Magnet 2","f","f","f","f","f","NE","NE","no","6","Kelly Gonez",null,null,"ECAST",0,0,0,0,0,0,23,23,0,0,0,0,0,0,0,0,0,0,0,0,0,0,46,46,46]
[{"$f":"VLOOKUP(H853,'Pivot ECAST'!A:B,2,FALSE)","v":4},1,"18118011","1811801","1811801","El Sereno MS","8118","1811801","Middle School","PHBAO","PHBAO","f","f","f","f","f","E","E","no","2","Monica Garcia",null,null,"ECAST",0,0,0,0,0,0,104,223,204,0,0,0,0,0,0,0,0,49,0,0,0,0,531,580,580]
[{"$f":"VLOOKUP(H854,'Pivot ECAST'!A:B,2,FALSE)","v":4},2,"18118012","1811802","1811802","El Sereno MS Science/Tech/Math Magnet","8119","1811801","Magnet Ctr -Middle School","Magnet 2","Magnet 2","f","f","f","f","f","E","E","no","2","Monica Garcia",null,null,"ECAST",0,0,0,0,0,0,31,34,47,0,0,0,0,0,0,0,0,0,0,0,0,0,112,112,112]
[{"$f":"VLOOKUP(H855,'Pivot ECAST'!A:B,2,FALSE)","v":4},3,"18118013","1811803","1811803","El Sereno MS Gifted Magnet","8120","1811801","Magnet Ctr -Middle School","Magnet 2","Magnet 2","f","f","f","f","f","E","E","no","2","Monica Garcia",null,null,"ECAST",0,0,0,0,0,0,22,36,51,0,0,0,0,0,0,0,0,0,0,0,0,0,109,109,109]
[{"$f":"VLOOKUP(H856,'Pivot ECAST'!A:B,2,FALSE)","v":4},4,"18118014","1811804","1811804","El Sereno MS Env Sci/Humanitarian Magnet","5253","1811801","Magnet Ctr -Middle School","Magnet 2","Magnet 2","f","f","f","f","f","E","E","no","2","Monica Garcia",null,null,"ECAST",0,0,0,0,0,0,39,39,57,0,0,0,0,0,0,0,0,0,0,0,0,0,135,135,135]
[{"$f":"VLOOKUP(H857,'Pivot ECAST'!A:B,2,FALSE)","v":1},1,"18123011","1812301","1812301","Emerson Comm Charter","8123","1812301","Middle School","Desegregated/Receiver","Non-PHBAO","f","t","f","f","f","W","W","no","4","Nick Melvoin",null,null,"ECAST",0,0,0,0,0,0,173,145,132,0,0,0,0,0,0,0,0,35,0,0,0,0,450,485,485]
[{"$f":"VLOOKUP(H858,'Pivot ECAST'!A:B,2,FALSE)","v":2},1,"18127011","1812701","1812701","Fleming MS","8127","1812701","Middle School","PHBAO","PHBAO","f","f","f","f","f","S","S","no","7","Tanya Ortiz Franklin","2x8",null,"ECAST",0,0,0,0,0,0,213,231,194,0,0,0,0,0,0,0,0,68,0,0,0,0,638,706,706]
[{"$f":"VLOOKUP(H859,'Pivot ECAST'!A:B,2,FALSE)","v":2},2,"18127012","1812702","1812702","Alexander Fleming MS Science/Tech/Math Mag","8128","1812701","Magnet Ctr -Middle School","Magnet 2","Magnet 2","f","f","f","f","f","S","S","no","7","Tanya Ortiz Franklin","2x8",null,"ECAST",0,0,0,0,0,0,111,124,125,0,0,0,0,0,0,0,0,0,0,0,0,0,360,360,360]
[{"$f":"VLOOKUP(H860,'Pivot ECAST'!A:B,2,FALSE)","v":1},1,"18132011","1813201","1813201","Foshay LC","8132","1813201","Span School","PHBAO","PHBAO","f","f","f","f","t","C","C","yes","1","George McKenna","2x8",null,"ECAST",19,19,21,25,21,22,276,256,252,209,203,201,158,0,0,0,0,49,0,0,0,0,1682,1731,1731]
[{"$f":"VLOOKUP(H861,'Pivot ECAST'!A:B,2,FALSE)","v":3},1,"18137011","1813701","1813701","Frost MS","8137","1813701","Middle School","Desegregated/Receiver","Non-PHBAO","f","f","f","f","f","NW","NW","no","3","Scott Schmerelson",null,null,"ECAST",0,0,0,0,0,0,225,230,305,0,0,0,0,0,0,0,0,24,0,0,0,0,760,784,784]
[{"$f":"VLOOKUP(H862,'Pivot ECAST'!A:B,2,FALSE)","v":3},2,"18137012","1813702","1813702","Frost MS Steam Magnet","8138","1813701","Magnet Ctr -Middle School","Magnet 1","Magnet 1","f","f","f","f","f","NW","NW","no","3","Scott Schmerelson",null,null,"ECAST",0,0,0,0,0,0,131,131,131,0,0,0,0,0,0,0,0,3,0,0,0,0,393,396,396]
[{"$f":"VLOOKUP(H863,'Pivot ECAST'!A:B,2,FALSE)","v":3},3,"18137013","1813703","1813703","Frost MS Gifted/Music Conserv Magnet","8137","1813701","Magnet Ctr -Middle School","Magnet 1","Magnet 1","f","f","f","f","f","NW","NW","no","3","Scott Schmerelson",null,null,"ECAST",0,0,0,0,0,0,56,58,0,0,0,0,0,0,0,0,0,1,0,0,0,0,114,115,115]
[{"$f":"VLOOKUP(H864,'Pivot ECAST'!A:B,2,FALSE)","v":2},1,"18142011","1814201","1814201","Fulton College Prep","8142","1814201","Span School","PHBAO","PHBAO","f","f","f","f","t","NE","NE","yes","6","Kelly Gonez","4x4",null,"ECAST",0,0,0,0,0,0,203,198,184,159,144,74,94,0,0,0,0,3,14,0,0,0,1056,1073,1073]
[{"$f":"VLOOKUP(H865,'Pivot ECAST'!A:B,2,FALSE)","v":2},2,"18142012","1814204","1814204","Fulton Communication Arts/Music Magnet","8133","1814201","Magnet Ctr-SPAN","Magnet 2","Magnet 2","f","f","f","f","t","NE","NE","yes","6","Kelly Gonez","4x4",null,"ECAST",0,0,0,0,0,0,25,23,31,26,22,16,29,0,0,0,0,0,0,0,0,0,172,172,172]
[{"$f":"VLOOKUP(H866,'Pivot ECAST'!A:B,2,FALSE)","v":2},1,"18151011","1815101","1815101","Gage MS","8151","1815101","Middle School","PHBAO","PHBAO","f","f","f","f","f","E","E","no","5","Jackie Goldberg",null,null,"ECAST",0,0,0,0,0,0,208,323,307,0,0,0,0,0,0,0,0,76,0,0,0,0,838,914,914]
[{"$f":"VLOOKUP(H867,'Pivot ECAST'!A:B,2,FALSE)","v":2},2,"18151012","1815102","1815102","Henry T Gage MS Science/Tech/Math Magnet","8150","1815101","Magnet Ctr -Middle School","Magnet 2","Magnet 2","f","f","f","f","f","E","E","no","5","Jackie Goldberg",null,null,"ECAST",0,0,0,0,0,0,77,85,85,0,0,0,0,0,0,0,0,0,0,0,0,0,247,247,247]
[{"$f":"VLOOKUP(H868,'Pivot ECAST'!A:B,2,FALSE)","v":2},1,"18153011","1815301","1815301","Southeast MS","8153","1815301","Middle School","PHBAO","PHBAO","f","f","f","f","f","E","E","no","5","Jackie Goldberg","2x8",null,"ECAST",0,0,0,0,0,0,158,211,253,0,0,0,0,0,0,0,0,55,0,0,0,0,622,677,677]
[{"$f":"VLOOKUP(H869,'Pivot ECAST'!A:B,2,FALSE)","v":2},2,"18153012","1815302","1815302","Southeast MS DREAMS Magnet","5250","1815301","Magnet Ctr -Middle School","Magnet 2","Magnet 2","f","f","f","f","f","E","E","no","5","Jackie Goldberg","2x8",null,"ECAST",0,0,0,0,0,0,160,156,134,0,0,0,0,0,0,0,0,1,0,0,0,0,450,451,451]
[{"$f":"VLOOKUP(H870,'Pivot ECAST'!A:B,2,FALSE)","v":2},1,"18160011","1816001","1816001","Gompers MS","8160","1816001","Middle School","PHBAO","PHBAO","f","f","f","f","f","S","S","no","7","Tanya Ortiz Franklin","2x8",null,"ECAST",0,0,0,0,0,0,112,116,133,0,0,0,0,0,0,0,0,76,0,0,0,0,361,437,437]
[{"$f":"VLOOKUP(H871,'Pivot ECAST'!A:B,2,FALSE)","v":2},2,"18160012","1816002","1816002","Gompers MS STEAM Magnet","5254","1816001","Magnet Ctr -Middle School","Magnet 2","Magnet 2","f","f","f","f","f","S","S","no","7","Tanya Ortiz Franklin","2x8",null,"ECAST",0,0,0,0,0,0,13,13,18,0,0,0,0,0,0,0,0,0,0,0,0,0,44,44,44]
[{"$f":"VLOOKUP(H872,'Pivot ECAST'!A:B,2,FALSE)","v":1},1,"18168011","1816801","1816801","Griffith MS STEAM Magnet","8168","1816801","Magnet School - MS","Magnet 2","Magnet 2","f","f","f","f","f","E","E","no","2","Monica Garcia",null,null,"ECAST",0,0,0,0,0,0,300,439,411,0,0,0,0,0,0,0,0,87,0,0,0,0,1150,1237,1237]
[{"$f":"VLOOKUP(H873,'Pivot ECAST'!A:B,2,FALSE)","v":3},1,"18169011","1816901","1816901","George E Hale Charter Acad","8169","1816901","Middle School","Desegregated/Receiver","Non-PHBAO","t","t","f","f","f","NW","NW","no","3","Scott Schmerelson",null,null,"ECAST",0,0,0,0,0,0,344,350,351,0,0,0,0,0,0,0,0,70,0,0,0,0,1045,1115,1115]
[{"$f":"VLOOKUP(H874,'Pivot ECAST'!A:B,2,FALSE)","v":3},2,"18169012","1816902","1816902","George Ellery Hale Charter Aca Gifted St","5235","1816901","Magnet Ctr -Middle School","Magnet 1","Magnet 1","t","t","f","f","f","NW","NW","no","3","Scott Schmerelson",null,null,"ECAST",0,0,0,0,0,0,120,143,154,0,0,0,0,0,0,0,0,0,0,0,0,0,417,417,417]
[{"$f":"VLOOKUP(H875,'Pivot ECAST'!A:B,2,FALSE)","v":3},3,"18169013","1816903","1816903","Hale Charter Academy VAPA Magnet","8169","1816901","Magnet Ctr -Middle School","Magnet 1","Magnet 1","t","t","f","f","f","NW","NW","no","3","Scott Schmerelson",null,null,"ECAST",0,0,0,0,0,0,122,150,145,0,0,0,0,0,0,0,0,2,0,0,0,0,417,419,419]
[{"$f":"VLOOKUP(H876,'Pivot ECAST'!A:B,2,FALSE)","v":1},1,"18170011","1817001","1817001","Harte Prep MS","8170","1817001","Middle School","PHBAO","PHBAO","f","f","f","f","f","W","W","no","1","George McKenna",null,null,"ECAST",0,0,0,0,0,0,102,124,144,0,0,0,0,0,0,0,0,48,0,0,0,0,370,418,418]
[{"$f":"VLOOKUP(H877,'Pivot ECAST'!A:B,2,FALSE)","v":3},1,"18174011","1817401","1817401","Henry MS","8174","1817401","Middle School","PHBAO","PHBAO","f","f","f","f","f","NW","NW","no","3","Scott Schmerelson",null,null,"ECAST",0,0,0,0,0,0,124,120,126,0,0,0,0,0,0,0,0,30,0,0,0,0,370,400,400]
[{"$f":"VLOOKUP(H878,'Pivot ECAST'!A:B,2,FALSE)","v":3},2,"18174012","1817402","1817402","Henry MS Comp/M/S Mg","8175","1817401","Magnet Ctr -Middle School","Magnet 2","Magnet 2","f","f","f","f","f","NW","NW","no","3","Scott Schmerelson",null,null,"ECAST",0,0,0,0,0,0,103,105,106,0,0,0,0,0,0,0,0,5,0,0,0,0,314,319,319]
[{"$f":"VLOOKUP(H879,'Pivot ECAST'!A:B,2,FALSE)","v":3},3,"18174013","1817403","1817403","Henry Visual And Performing Arts Magnet","5223","1817401","Magnet Ctr -Middle School","Magnet 2","Magnet 2","f","f","f","f","f","NW","NW","no","3","Scott Schmerelson",null,null,"ECAST",0,0,0,0,0,0,90,95,115,0,0,0,0,0,0,0,0,5,0,0,0,0,300,305,305]
[{"$f":"VLOOKUP(H880,'Pivot ECAST'!A:B,2,FALSE)","v":3},1,"18179011","1817901","1817901","Hollenbeck MS","8179","1817901","Middle School","PHBAO","PHBAO","f","f","f","f","f","E","E","no","2","Monica Garcia",null,null,"ECAST",0,0,0,0,0,0,48,219,184,0,0,0,0,0,0,0,0,78,0,0,0,0,451,529,529]
[{"$f":"VLOOKUP(H881,'Pivot ECAST'!A:B,2,FALSE)","v":3},2,"18179012","1817902","1817902","Hollenbeck MS STEMM Magnet","8180","1817901","Magnet Ctr -Middle School","Magnet 2","Magnet 2","f","f","f","f","f","E","E","no","2","Monica Garcia",null,null,"ECAST",0,0,0,0,0,0,77,77,115,0,0,0,0,0,0,0,0,0,0,0,0,0,269,269,269]
[{"$f":"VLOOKUP(H882,'Pivot ECAST'!A:B,2,FALSE)","v":3},3,"18179013","1817903","1817903","Hollenbeck MS Law/Public Service Magnet","5243","1817901","Magnet Ctr -Middle School","Magnet 2","Magnet 2","f","f","f","f","f","E","E","no","2","Monica Garcia",null,null,"ECAST",0,0,0,0,0,0,50,50,56,0,0,0,0,0,0,0,0,0,0,0,0,0,156,156,156]
[{"$f":"VLOOKUP(H883,'Pivot ECAST'!A:B,2,FALSE)","v":2},1,"18182011","1818201","1818201","Holmes MS","8182","1818201","Middle School","PHBAO","PHBAO","f","f","f","f","f","NW","NW","no","3","Scott Schmerelson",null,null,"ECAST",0,0,0,0,0,0,146,167,181,0,0,0,0,0,0,0,0,40,0,0,0,0,494,534,534]
[{"$f":"VLOOKUP(H884,'Pivot ECAST'!A:B,2,FALSE)","v":2},2,"18182012","1818202","1818202","Holmes Int Human Mag","8183","1818201","Magnet Ctr -Middle School","Magnet 2","Magnet 2","f","f","f","f","f","NW","NW","no","3","Scott Schmerelson",null,null,"ECAST",0,0,0,0,0,0,97,133,130,0,0,0,0,0,0,0,0,6,0,0,0,0,360,366,366]
[{"$f":"VLOOKUP(H885,'Pivot ECAST'!A:B,2,FALSE)","v":1},1,"18189011","1818901","1818901","Irving MME Mag","8189","1818901","Magnet School - MS","Magnet 2","Magnet 2","f","f","f","f","f","C","C","no","5","Jackie Goldberg","2x8",null,"ECAST",0,0,0,0,0,0,144,233,245,0,0,0,0,0,0,0,0,30,0,0,0,0,622,652,652]
[{"$f":"VLOOKUP(H886,'Pivot ECAST'!A:B,2,FALSE)","v":2},1,"18200011","1820001","1820001","Los Angeles Acad MS","8200","1820001","Middle School","PHBAO","PHBAO","f","f","f","f","f","C","C","no","7","Tanya Ortiz Franklin","2x8",null,"ECAST",0,0,0,0,0,0,180,231,243,0,0,0,0,0,0,0,0,54,0,0,0,0,654,708,708]
[{"$f":"VLOOKUP(H887,'Pivot ECAST'!A:B,2,FALSE)","v":2},2,"18200012","1820002","1820002","Los Angeles Academy STEAM Magnet","5236","1820001","Magnet Ctr -Middle School","Magnet 2","Magnet 2","f","f","f","f","f","C","C","no","7","Tanya Ortiz Franklin","2x8",null,"ECAST",0,0,0,0,0,0,72,100,98,0,0,0,0,0,0,0,0,4,0,0,0,0,270,274,274]
[{"$f":"VLOOKUP(H888,'Pivot ECAST'!A:B,2,FALSE)","v":1},1,"18206011","1820601","1820601","RFK Sch Vis Arts/Hum","8206","1820601","Senior High School","PHBAO","PHBAO","f","f","f","f","f","C","C","no","5","Jackie Goldberg",null,null,"ECAST",0,0,0,0,0,0,0,0,0,139,115,107,90,0,0,0,0,0,7,0,0,0,451,458,458]
[{"$f":"VLOOKUP(H889,'Pivot ECAST'!A:B,2,FALSE)","v":1},1,"18207011","1820701","1820701","Contreras LC ALC","8207","1820701","Senior High School","PHBAO","PHBAO","f","f","f","f","f","C","C","no","2","Monica Garcia",null,null,"ECAST",0,0,0,0,0,0,0,0,0,137,119,124,101,0,0,0,0,0,12,0,0,0,481,493,493]
[{"$f":"VLOOKUP(H890,'Pivot ECAST'!A:B,2,FALSE)","v":3},1,"18208011","1820801","1820801","King Film/Media Mag","8208","1820801","Magnet School - MS","Magnet 2","Magnet 2","f","f","f","f","f","C","C","no","2","Monica Garcia","2x8",null,"ECAST",0,0,0,0,0,0,163,341,328,0,0,0,0,0,0,0,0,57,0,0,0,0,832,889,889]
[{"$f":"VLOOKUP(H891,'Pivot ECAST'!A:B,2,FALSE)","v":3},2,"18208012","1820802","1820802","Thomas Starr King MS Gifted/Arts/Technology","8209","1820801","Magnet Ctr -Middle School","Magnet 1","Magnet 1","f","f","f","f","f","C","C","no","2","Monica Garcia","2x8",null,"ECAST",0,0,0,0,0,0,109,150,158,0,0,0,0,0,0,0,0,0,0,0,0,0,417,417,417]
[{"$f":"VLOOKUP(H892,'Pivot ECAST'!A:B,2,FALSE)","v":3},3,"18208013","1820803","1820803","King MS ESTEAM Magnet","5171","1820801","Magnet Ctr -Middle School","Magnet 1","Magnet 1","f","f","f","f","f","C","C","no","2","Monica Garcia","2x8",null,"ECAST",0,0,0,0,0,0,122,154,141,0,0,0,0,0,0,0,0,2,0,0,0,0,417,419,419]
[{"$f":"VLOOKUP(H893,'Pivot ECAST'!A:B,2,FALSE)","v":3},1,"18217011","1821701","1821701","Lawrence MS","8217","1821701","Middle School","PHBAO","PHBAO","f","f","f","f","f","NW","NW","no","3","Scott Schmerelson",null,null,"ECAST",0,0,0,0,0,0,196,198,174,0,0,0,0,0,0,0,0,44,0,0,0,0,568,612,612]
[{"$f":"VLOOKUP(H894,'Pivot ECAST'!A:B,2,FALSE)","v":3},2,"18217012","1821702","1821702","Ernest Lawrence MS Gifted Magnet","8218","1821701","Magnet Ctr -Middle School","Magnet 2","Magnet 2","f","f","f","f","f","NW","NW","no","3","Scott Schmerelson",null,null,"ECAST",0,0,0,0,0,0,70,123,123,0,0,0,0,0,0,0,0,0,0,0,0,0,316,316,316]
[{"$f":"VLOOKUP(H895,'Pivot ECAST'!A:B,2,FALSE)","v":3},3,"18217013","1821703","1821703","Lawrence MS Pioneering Science Magnet","5244","1821701","Magnet Ctr -Middle School","Magnet 2","Magnet 2","f","f","f","f","f","NW","NW","no","3","Scott Schmerelson",null,null,"ECAST",0,0,0,0,0,0,51,50,51,0,0,0,0,0,0,0,0,0,0,0,0,0,152,152,152]
[{"$f":"VLOOKUP(H896,'Pivot ECAST'!A:B,2,FALSE)","v":3},1,"18226011","1822601","1822601","Le Conte MS","8226","1822601","Middle School","PHBAO","PHBAO","f","f","f","f","f","W","W","no","5","Jackie Goldberg","2x8",null,"ECAST",0,0,0,0,0,0,101,156,131,0,0,0,0,0,0,0,0,30,0,0,0,0,388,418,418]
[{"$f":"VLOOKUP(H897,'Pivot ECAST'!A:B,2,FALSE)","v":3},2,"18226012","1822602","1822602","Le Conte HEAT Magnet","8225","1822601","Magnet Ctr -Middle School","Magnet 2","Magnet 2","f","f","f","f","f","W","W","no","5","Jackie Goldberg","2x8",null,"ECAST",0,0,0,0,0,0,17,37,48,0,0,0,0,0,0,0,0,2,0,0,0,0,102,104,104]
[{"$f":"VLOOKUP(H898,'Pivot ECAST'!A:B,2,FALSE)","v":3},3,"18226013","1822603","1822603","Le Conte CES CA Mag","5210","1822601","Magnet Ctr -Middle School","Magnet 2","Magnet 2","f","f","f","f","f","W","W","no","5","Jackie Goldberg","2x8",null,"ECAST",0,0,0,0,0,0,20,27,49,0,0,0,0,0,0,0,0,2,0,0,0,0,96,98,98]
[{"$f":"VLOOKUP(H899,'Pivot ECAST'!A:B,2,FALSE)","v":1},1,{"$f":"H899&B899","v":"18228011"},"1822801","1822801","Maclay MS","8228","1822801","Middle School","PHBAO","PHBAO","f","f","f","f","f","NE","NE","no","6","Kelly Gonez","2x8",null,"ECAST",0,0,0,0,0,0,76,107,133,0,0,0,0,0,0,0,0,20,0,0,0,0,316,336,336]
[{"$f":"VLOOKUP(H900,'Pivot ECAST'!A:B,2,FALSE)","v":3},{"$f":"IF(H900=H899,B899+1,1)","v":1},"18230011",{"$f":"E900","v":"1823001"},"1823001","Madison MS","8230","1823001","Middle School","PHBAO","PHBAO","f","f","f","f","f","NE","NE","no","6","Kelly Gonez","2x8",null,"ECAST",0,0,0,0,0,0,225,230,219,0,0,0,0,0,0,0,0,103,0,0,0,0,674,777,777]
[{"$f":"VLOOKUP(H901,'Pivot ECAST'!A:B,2,FALSE)","v":3},2,"18230012","1823002","1823002","Madison M/S/Med Mag","8229","1823001","Magnet Ctr -Middle School","Magnet 1","Magnet 1","f","f","f","f","f","NE","NE","no","6","Kelly Gonez","2x8",null,"ECAST",0,0,0,0,0,0,80,91,99,0,0,0,0,0,0,0,0,0,0,0,0,0,{"$f":"SUM(Y901:AN901)","v":270},{"$f":"AU901+AO901+AP901+AQ901","v":270},{"$f":"AV901+SUM(AR901:AT901)","v":270}]
[{"$f":"VLOOKUP(H902,'Pivot ECAST'!A:B,2,FALSE)","v":3},3,"18230013","1823003","1823003","Madison Computer Sci/Eng Design Magnet","5224","1823001","Magnet Ctr -Middle School","Magnet 1","Magnet 1","f","f","f","f","f","NE","NE","no","6","Kelly Gonez","2x8",null,"ECAST",0,0,0,0,0,0,100,118,126,0,0,0,0,0,0,0,0,1,0,0,0,0,344,345,345]
[{"$f":"VLOOKUP(H903,'Pivot ECAST'!A:B,2,FALSE)","v":2},1,"18235011","1823501","1823501","Marina Del Rey MS","8235","1823501","Middle School","PHBAO","PHBAO","f","f","f","f","f","W","W","no","4","Nick Melvoin","2x8",null,"ECAST",0,0,0,0,0,0,46,51,40,0,0,0,0,0,0,0,0,23,0,0,0,0,137,160,160]
[{"$f":"VLOOKUP(H904,'Pivot ECAST'!A:B,2,FALSE)","v":2},2,"18235012","1823502","1823502","Marina Del Rey PA Mg","8234","1823501","Magnet Ctr -Middle School","Magnet 2","Magnet 2","f","f","f","f","f","W","W","no","4","Nick Melvoin","2x8",null,"ECAST",0,0,0,0,0,0,64,75,82,0,0,0,0,0,0,0,0,9,0,0,0,0,221,230,230]
[{"$f":"VLOOKUP(H905,'Pivot ECAST'!A:B,2,FALSE)","v":3},1,"18237011","1823701","1823701","Markham MS","8237","1823701","Middle School","PHBAO","PHBAO","f","f","f","f","f","S","S","no","7","Tanya Ortiz Franklin",null,null,"ECAST",0,0,0,0,0,0,99,115,135,0,0,0,0,0,0,0,0,68,0,0,0,0,349,417,417]
[{"$f":"VLOOKUP(H906,'Pivot ECAST'!A:B,2,FALSE)","v":3},2,"18237012","1823702","1823702","Markham Hlth CAR Mag","8232","1823701","Magnet Ctr -Middle School","Magnet 2","Magnet 2","f","f","f","f","f","S","S","no","7","Tanya Ortiz Franklin",null,null,"ECAST",0,0,0,0,0,0,26,41,41,0,0,0,0,0,0,0,0,0,0,0,0,0,108,108,108]
[{"$f":"VLOOKUP(H907,'Pivot ECAST'!A:B,2,FALSE)","v":3},3,"18237013","1823703","1823703","Markham MS Visual/Performing Arts Magnet","8237","1823701","Magnet Ctr -Middle School","Magnet 2","Magnet 2","f","f","f","f","f","S","S","no","7","Tanya Ortiz Franklin",null,null,"ECAST",0,0,0,0,0,0,22,32,0,0,0,0,0,0,0,0,0,0,0,0,0,0,54,54,54]
[{"$f":"VLOOKUP(H908,'Pivot ECAST'!A:B,2,FALSE)","v":3},1,"18238011","1823801","1823801","Robert A. Millikan Affiliated Chtr & PAM","8238","1823801","Middle School","Desegregated/Receiver","Non-PHBAO","t","t","f","f","f","NE","NE","no","3","Scott Schmerelson",null,null,"ECAST",0,0,0,0,0,0,232,231,269,0,0,0,0,0,0,0,0,26,0,0,0,0,732,758,758]
[{"$f":"VLOOKUP(H909,'Pivot ECAST'!A:B,2,FALSE)","v":3},2,"18238012","1823802","1823802","Millikan Charter MS Performing Arts Mag","8239","1823801","Magnet Ctr -Middle School","Magnet 1","Magnet 1","t","t","f","f","f","NE","NE","no","3","Scott Schmerelson",null,null,"ECAST",0,0,0,0,0,0,130,130,130,0,0,0,0,0,0,0,0,2,0,0,0,0,390,392,392]
[{"$f":"VLOOKUP(H910,'Pivot ECAST'!A:B,2,FALSE)","v":3},3,"18238013","1823804","1823804","Millikan Charter MS Socl/Gndr Equity Mg","5255","1823801","Magnet Ctr -Middle School","Magnet 1","Magnet 1","t","t","f","f","f","NE","NE","no","3","Scott Schmerelson",null,null,"ECAST",0,0,0,0,0,0,62,65,69,0,0,0,0,0,0,0,0,1,0,0,0,0,196,197,197]
[{"$f":"VLOOKUP(H911,'Pivot ECAST'!A:B,2,FALSE)","v":3},1,"18240011","1824001","1824001","Mount Gleason MS","8240","1824001","Middle School","PHBAO","PHBAO","f","f","f","f","f","NE","NE","no","6","Kelly Gonez",null,null,"ECAST",0,0,0,0,0,0,126,121,102,0,0,0,0,0,0,0,0,36,0,0,0,0,349,385,385]
[{"$f":"VLOOKUP(H912,'Pivot ECAST'!A:B,2,FALSE)","v":3},2,"18240012","1824002","1824002","Mount Gleason MS Gifted Magnet","8024","1824001","Magnet Ctr -Middle School","Magnet 1","Magnet 1","f","f","f","f","f","NE","NE","no","6","Kelly Gonez",null,null,"ECAST",0,0,0,0,0,0,42,54,61,0,0,0,0,0,0,0,0,2,0,0,0,0,157,159,159]
[{"$f":"VLOOKUP(H913,'Pivot ECAST'!A:B,2,FALSE)","v":3},3,"18240013","1824003","1824003","Mount Gleason MS STEAM Magnet","5237","1824001","Magnet Ctr -Middle School","Magnet 1","Magnet 1","f","f","f","f","f","NE","NE","no","6","Kelly Gonez",null,null,"ECAST",0,0,0,0,0,0,67,79,71,0,0,0,0,0,0,0,0,8,0,0,0,0,217,225,225]
[{"$f":"VLOOKUP(H914,'Pivot ECAST'!A:B,2,FALSE)","v":1},1,"18245011","1824501","1824501","Cochran MS","8245","1824501","Middle School","PHBAO","PHBAO","f","f","f","f","f","W","W","no","1","George McKenna",null,null,"ECAST",0,0,0,0,0,0,225,140,122,0,0,0,0,0,0,0,0,79,0,0,0,0,487,566,566]
[{"$f":"VLOOKUP(H915,'Pivot ECAST'!A:B,2,FALSE)","v":2},1,"18255011","1825501","1825501","Muir MS","8255","1825501","Middle School","PHBAO","PHBAO","f","f","f","f","f","W","W","no","1","George McKenna",null,null,"ECAST",0,0,0,0,0,0,159,157,163,0,0,0,0,0,0,0,0,47,0,0,0,0,479,526,526]
[{"$f":"VLOOKUP(H916,'Pivot ECAST'!A:B,2,FALSE)","v":2},2,"18255012","1825502","1825502","John Muir MS Science/Tech/Math Magnet","8256","1825501","Magnet Ctr -Middle School","Magnet 2","Magnet 2","f","f","f","f","f","W","W","no","1","George McKenna",null,null,"ECAST",0,0,0,0,0,0,31,43,52,0,0,0,0,0,0,0,0,0,0,0,0,0,126,126,126]
[{"$f":"VLOOKUP(H917,'Pivot ECAST'!A:B,2,FALSE)","v":3},1,"18259011","1825901","1825901","Mulholland MS","8259","1825901","Middle School","PHBAO","PHBAO","f","f","f","f","f","NW","NW","no","3","Scott Schmerelson",null,null,"ECAST",0,0,0,0,0,0,146,138,136,0,0,0,0,0,0,0,0,48,0,0,0,0,420,468,468]
[{"$f":"VLOOKUP(H918,'Pivot ECAST'!A:B,2,FALSE)","v":3},2,"18259012","1825902","1825902","Mulholland MS Police Academy","8023","1825901","Magnet Ctr -Middle School","Magnet 2","Magnet 2","f","f","f","f","f","NW","NW","no","3","Scott Schmerelson",null,null,"ECAST",0,0,0,0,0,0,71,102,103,0,0,0,0,0,0,0,0,3,0,0,0,0,276,279,279]
[{"$f":"VLOOKUP(H919,'Pivot ECAST'!A:B,2,FALSE)","v":3},3,"18259013","1825903","1825903","Mulholland Robotics Magnet","5225","1825901","Magnet Ctr -Middle School","Magnet 2","Magnet 2","f","f","f","f","f","NW","NW","no","3","Scott Schmerelson",null,null,"ECAST",0,0,0,0,0,0,99,103,109,0,0,0,0,0,0,0,0,5,0,0,0,0,311,316,316]
[{"$f":"VLOOKUP(H920,'Pivot ECAST'!A:B,2,FALSE)","v":4},1,"18264011","1826401","1826401","Nightingale MS","8264","1826401","Middle School","PHBAO","PHBAO","f","f","f","f","f","E","E","no","2","Monica Garcia",null,null,"ECAST",0,0,0,0,0,0,98,107,117,0,0,0,0,0,0,0,0,51,0,0,0,0,322,373,373]
[{"$f":"VLOOKUP(H921,'Pivot ECAST'!A:B,2,FALSE)","v":4},2,"18264012","1826402","1826402","Nightingale BET Magnet","5215","1826401","Magnet Ctr -Middle School","Magnet 2","Magnet 2","f","f","f","f","f","E","E","no","2","Monica Garcia",null,null,"ECAST",0,0,0,0,0,0,64,94,89,0,0,0,0,0,0,0,0,0,0,0,0,0,247,247,247]
[{"$f":"VLOOKUP(H922,'Pivot ECAST'!A:B,2,FALSE)","v":4},3,"18264013","1826403","1826403","Florence Nightingale MS Gifted STEM Magnet","5226","1826401","Magnet Ctr -Middle School","Magnet 2","Magnet 2","f","f","f","f","f","E","E","no","2","Monica Garcia",null,null,"ECAST",0,0,0,0,0,0,15,39,32,0,0,0,0,0,0,0,0,0,0,0,0,0,86,86,86]
[{"$f":"VLOOKUP(H923,'Pivot ECAST'!A:B,2,FALSE)","v":4},4,"18264014","1826404","1826404","Nightingale MS Med/Hea/Kinesiology Mag","5245","1826401","Magnet Ctr -Middle School","Magnet 2","Magnet 2","f","f","f","f","f","E","E","no","2","Monica Garcia",null,null,"ECAST",0,0,0,0,0,0,32,28,43,0,0,0,0,0,0,0,0,0,0,0,0,0,103,103,103]
[{"$f":"VLOOKUP(H924,'Pivot ECAST'!A:B,2,FALSE)","v":2},1,"18268011","1826801","1826801","Nimitz MS","8268","1826801","Middle School","PHBAO","PHBAO","f","f","f","f","f","E","E","no","5","Jackie Goldberg",null,null,"ECAST",0,0,0,0,0,0,181,213,248,0,0,0,0,0,0,0,0,91,0,0,0,0,642,733,733]
[{"$f":"VLOOKUP(H925,'Pivot ECAST'!A:B,2,FALSE)","v":2},2,"18268012","1826802","1826802","Chester W Nimitz MS Science/Technology/Math","8025","1826801","Magnet Ctr -Middle School","Magnet 2","Magnet 2","f","f","f","f","f","E","E","no","5","Jackie Goldberg",null,null,"ECAST",0,0,0,0,0,0,99,140,143,0,0,0,0,0,0,0,0,3,0,0,0,0,382,385,385]
[{"$f":"VLOOKUP(H926,'Pivot ECAST'!A:B,2,FALSE)","v":2},1,"18272011","1827201","1827201","Alfred B. Nobel Charter Middle","8272","1827201","Middle School","PHBAO","PHBAO","t","t","f","f","f","NW","NW","no","3","Scott Schmerelson",null,null,"ECAST",0,0,0,0,0,0,298,291,344,0,0,0,0,0,0,0,0,5,0,0,0,0,933,938,938]
[{"$f":"VLOOKUP(H927,'Pivot ECAST'!A:B,2,FALSE)","v":2},2,"18272012","1827202","1827202","Nobel Charter MS STEAM Magnet","8273","1827201","Magnet Ctr -Middle School","Magnet 1","Magnet 1","t","t","f","f","f","NW","NW","no","3","Scott Schmerelson",null,null,"ECAST",0,0,0,0,0,0,292,343,348,0,0,0,0,0,0,0,0,0,0,0,0,0,983,983,983]
[{"$f":"VLOOKUP(H928,'Pivot ECAST'!A:B,2,FALSE)","v":3},1,"18283011","1828301","1828301","Northridge MS","8283","1828301","Middle School","PHBAO","PHBAO","f","f","f","f","f","NW","NW","no","3","Scott Schmerelson","2x8",null,"ECAST",0,0,0,0,0,0,130,158,140,0,0,0,0,0,0,0,0,58,0,0,0,0,428,486,486]
[{"$f":"VLOOKUP(H929,'Pivot ECAST'!A:B,2,FALSE)","v":3},2,"18283012","1828303","1828303","Northridge MS Medical/Health Careers Mag","5246","1828301","Magnet Ctr -Middle School","Magnet 2","Magnet 2","f","f","f","f","f","NW","NW","no","3","Scott Schmerelson","2x8",null,"ECAST",0,0,0,0,0,0,55,59,72,0,0,0,0,0,0,0,0,7,0,0,0,0,186,193,193]
[{"$f":"VLOOKUP(H930,'Pivot ECAST'!A:B,2,FALSE)","v":3},3,"18283013","1828304","1828304","Northridge MS Liberal Arts Magnet","7512","1828301","Magnet Ctr -Middle School","Magnet 2","Magnet 2","f","f","f","f","f","NW","NW","no","3","Scott Schmerelson","2x8",null,"ECAST",0,0,0,0,0,0,40,0,0,0,0,0,0,0,0,0,0,0,0,0,0,0,40,40,40]
[{"$f":"VLOOKUP(H931,'Pivot ECAST'!A:B,2,FALSE)","v":2},1,"18306011","1830601","1830601","Olive Vista MS","8306","1830601","Middle School","PHBAO","PHBAO","f","f","f","f","f","NE","NE","no","6","Kelly Gonez",null,null,"ECAST",0,0,0,0,0,0,197,193,153,0,0,0,0,0,0,0,0,92,0,0,0,0,543,635,635]
[{"$f":"VLOOKUP(H932,'Pivot ECAST'!A:B,2,FALSE)","v":2},2,"18306012","1830602","1830602","Olive Vista MS STEAM Magnet","5227","1830601","Magnet Ctr -Middle School","Magnet 2","Magnet 2","f","f","f","f","f","NE","NE","no","6","Kelly Gonez",null,null,"ECAST",0,0,0,0,0,0,91,106,118,0,0,0,0,0,0,0,0,1,0,0,0,0,315,316,316]
[{"$f":"VLOOKUP(H933,'Pivot ECAST'!A:B,2,FALSE)","v":3},1,"18321011","1832101","1832101","Pacoima MS","8321","1832101","Middle School","PHBAO","PHBAO","f","f","f","f","f","NE","NE","no","6","Kelly Gonez",null,null,"ECAST",0,0,0,0,0,0,135,137,159,0,0,0,0,0,0,0,0,40,0,0,0,0,431,471,471]
[{"$f":"VLOOKUP(H934,'Pivot ECAST'!A:B,2,FALSE)","v":3},2,"18321012","1832102","1832102","Pacoima MS Film/Media/Perf Arts Magnet","8322","1832101","Magnet Ctr -Middle School","Magnet 2","Magnet 2","f","f","f","f","f","NE","NE","no","6","Kelly Gonez",null,null,"ECAST",0,0,0,0,0,0,61,61,80,0,0,0,0,0,0,0,0,3,0,0,0,0,202,205,205]
[{"$f":"VLOOKUP(H935,'Pivot ECAST'!A:B,2,FALSE)","v":3},3,"18321013","1832103","1832103","Pacoima MS Computer Science/Math Magnet","8323","1832101","Magnet Ctr -Middle School","Magnet 2","Magnet 2","f","f","f","f","f","NE","NE","no","6","Kelly Gonez",null,null,"ECAST",0,0,0,0,0,0,54,49,54,0,0,0,0,0,0,0,0,0,0,0,0,0,157,157,157]
[{"$f":"VLOOKUP(H936,'Pivot ECAST'!A:B,2,FALSE)","v":3},1,"18340011","1834001","1834001","Palms MS","8340","1834001","Middle School","PHBAO","PHBAO","f","f","f","f","f","W","W","no","1","George McKenna",null,null,"ECAST",0,0,0,0,0,0,163,141,93,0,0,0,0,0,0,0,0,31,0,0,0,0,397,428,428]
[{"$f":"VLOOKUP(H937,'Pivot ECAST'!A:B,2,FALSE)","v":3},2,"18340012","1834002","1834002","Palms MS Gifted Magnet","8341","1834001","Magnet Ctr -Middle School","Magnet 1","Magnet 1","f","f","f","f","f","W","W","no","1","George McKenna",null,null,"ECAST",0,0,0,0,0,0,130,175,162,0,0,0,0,0,0,0,0,0,0,0,0,0,467,467,467]
[{"$f":"VLOOKUP(H938,'Pivot ECAST'!A:B,2,FALSE)","v":3},3,"18340013","1834003","1834003","PalMS MS Modern Media/Comm. Magnet","8340","1834001","Magnet Ctr -Middle School","Magnet 2","Magnet 2","f","f","f","f","f","W","W","no","1","George McKenna",null,null,"ECAST",0,0,0,0,0,0,97,113,105,0,0,0,0,0,0,0,0,1,0,0,0,0,315,316,316]
[{"$f":"VLOOKUP(H939,'Pivot ECAST'!A:B,2,FALSE)","v":2},1,"18344011","1834401","1834401","Woodland Hills Acad","8344","1834401","Middle School","PHBAO","PHBAO","f","f","f","f","f","NW","NW","no","4","Nick Melvoin",null,null,"ECAST",0,0,0,0,0,0,111,123,125,0,0,0,0,0,0,0,0,33,0,0,0,0,359,392,392]
[{"$f":"VLOOKUP(H940,'Pivot ECAST'!A:B,2,FALSE)","v":2},2,"18344012","1834402","1834402","Woodland Hills Academy Humanities Magnet","8344","1834401","Magnet Ctr -Middle School","Magnet 1","Magnet 1","f","f","f","f","f","NW","NW","no","4","Nick Melvoin",null,null,"ECAST",0,0,0,0,0,0,33,45,44,0,0,0,0,0,0,0,0,0,0,0,0,0,122,122,122]
[{"$f":"VLOOKUP(H941,'Pivot ECAST'!A:B,2,FALSE)","v":3},1,"18352011","1835201","1835201","Peary MS","8352","1835201","Middle School","PHBAO","PHBAO","f","f","f","f","f","S","S","no","7","Tanya Ortiz Franklin","4x4",null,"ECAST",0,0,0,0,0,0,272,292,220,0,0,0,0,0,0,0,0,75,0,0,0,0,784,859,859]
[{"$f":"VLOOKUP(H942,'Pivot ECAST'!A:B,2,FALSE)","v":3},2,"18352012","1835202","1835202","Peary MS STEAM Magnet","8351","1835201","Magnet Ctr -Middle School","Magnet 2","Magnet 2","f","f","f","f","f","S","S","no","7","Tanya Ortiz Franklin","4x4",null,"ECAST",0,0,0,0,0,0,77,84,86,0,0,0,0,0,0,0,0,1,0,0,0,0,247,248,248]
[{"$f":"VLOOKUP(H943,'Pivot ECAST'!A:B,2,FALSE)","v":3},3,"18352013","1835203","1835203","Peary MS Gifted Magnet","5256","1835201","Magnet Ctr -Middle School","Magnet 2","Magnet 2","f","f","f","f","f","S","S","no","7","Tanya Ortiz Franklin","4x4",null,"ECAST",0,0,0,0,0,0,21,19,24,0,0,0,0,0,0,0,0,0,0,0,0,0,64,64,64]
[{"$f":"VLOOKUP(H944,'Pivot ECAST'!A:B,2,FALSE)","v":2},1,"18354011","1835401","1835401","Porter MS","8354","1835401","Middle School","PHBAO","PHBAO","f","f","f","f","f","NW","NW","no","3","Scott Schmerelson",null,null,"ECAST",0,0,0,0,0,0,156,172,193,0,0,0,0,0,0,0,0,35,0,0,0,0,521,556,556]
[{"$f":"VLOOKUP(H945,'Pivot ECAST'!A:B,2,FALSE)","v":2},2,"18354012","1835402","1835402","George K Porter MS Gifted Magnet","8360","1835401","Magnet Ctr -Middle School","Magnet 2","Magnet 2","f","f","f","f","f","NW","NW","no","3","Scott Schmerelson",null,null,"ECAST",0,0,0,0,0,0,128,161,161,0,0,0,0,0,0,0,0,0,0,0,0,0,450,450,450]
[{"$f":"VLOOKUP(H946,'Pivot ECAST'!A:B,2,FALSE)","v":1},1,"18355011","1835501","1835501","Reed MS","8355","1835501","Middle School","Desegregated/Receiver","Non-PHBAO","f","f","f","f","f","NE","NE","no","3","Scott Schmerelson",null,null,"ECAST",0,0,0,0,0,0,452,448,451,0,0,0,0,0,0,0,0,50,0,0,0,0,1351,1401,1401]
[{"$f":"VLOOKUP(H947,'Pivot ECAST'!A:B,2,FALSE)","v":2},1,"18356011","1835601","1835601","Revere MS","8356","1835601","Middle School","Desegregated/Receiver","Non-PHBAO","t","t","f","f","f","W","W","no","4","Nick Melvoin",null,null,"ECAST",0,0,0,0,0,0,412,437,464,0,0,0,0,0,0,0,0,28,0,0,0,0,1313,1341,1341]
[{"$f":"VLOOKUP(H948,'Pivot ECAST'!A:B,2,FALSE)","v":2},2,"18356012","1835602","1835602","Paul Revere Charter MS Science/Tech/Math","8357","1835601","Magnet Ctr -Middle School","Magnet 1","Magnet 1","t","t","f","f","f","W","W","no","4","Nick Melvoin",null,null,"ECAST",0,0,0,0,0,0,106,128,134,0,0,0,0,0,0,0,0,4,0,0,0,0,368,372,372]
[{"$f":"VLOOKUP(H949,'Pivot ECAST'!A:B,2,FALSE)","v":1},1,"18358011","1835801","1835801","San Fernando MS","8358","1835801","Middle School","PHBAO","PHBAO","f","f","f","f","f","NE","NE","no","6","Kelly Gonez","2x8",null,"ECAST",0,0,0,0,0,0,175,173,155,0,0,0,0,0,0,0,0,56,0,0,0,0,503,559,559]
[{"$f":"VLOOKUP(H950,'Pivot ECAST'!A:B,2,FALSE)","v":3},1,"18363011","1836301","1836301","Sepulveda MS","8363","1836301","Middle School","PHBAO","PHBAO","f","f","f","f","f","NW","NW","no","6","Kelly Gonez","2x8",null,"ECAST",0,0,0,0,0,0,182,224,203,0,0,0,0,0,0,0,0,91,0,0,0,0,609,700,700]
[{"$f":"VLOOKUP(H951,'Pivot ECAST'!A:B,2,FALSE)","v":3},2,"18363012","1836302","1836302","Francisco Sepulveda MS Gifted Magnet","8364","1836301","Magnet Ctr -Middle School","Magnet 2","Magnet 2","f","f","f","f","f","NW","NW","no","6","Kelly Gonez","2x8",null,"ECAST",0,0,0,0,0,0,91,89,107,0,0,0,0,0,0,0,0,0,0,0,0,0,287,287,287]
[{"$f":"VLOOKUP(H952,'Pivot ECAST'!A:B,2,FALSE)","v":3},3,"18363013","1836303","1836303","Sepulveda MS Kine/Sports Medicine Magnet","8363","1836301","Magnet Ctr -Middle School","Magnet 2","Magnet 2","f","f","f","f","f","NW","NW","no","6","Kelly Gonez","2x8",null,"ECAST",0,0,0,0,0,0,40,40,52,0,0,0,0,0,0,0,0,1,0,0,0,0,132,133,133]
[{"$f":"VLOOKUP(H953,'Pivot ECAST'!A:B,2,FALSE)","v":2},1,"18377011","1837701","1837701","South Gate MS","8377","1837701","Middle School","PHBAO","PHBAO","f","f","f","f","f","E","E","no","5","Jackie Goldberg",null,null,"ECAST",0,0,0,0,0,0,300,316,353,0,0,0,0,0,0,0,0,34,0,0,0,0,969,1003,1003]
[{"$f":"VLOOKUP(H954,'Pivot ECAST'!A:B,2,FALSE)","v":2},2,"18377012","1837702","1837702","South Gate MS Science/Tech/Math Magnet","8382","1837701","Magnet Ctr -Middle School","Magnet 2","Magnet 2","f","f","f","f","f","E","E","no","5","Jackie Goldberg",null,null,"ECAST",0,0,0,0,0,0,86,114,115,0,0,0,0,0,0,0,0,0,0,0,0,0,315,315,315]
[{"$f":"VLOOKUP(H955,'Pivot ECAST'!A:B,2,FALSE)","v":3},1,"18387011","1838701","1838701","Robert L Stevenson College & Career Prep","8387","1838701","Middle School","PHBAO","PHBAO","f","f","f","f","f","E","E","no","2","Monica Garcia",null,null,"ECAST",0,0,0,0,0,0,198,230,152,0,0,0,0,0,0,0,0,108,0,0,0,0,580,688,688]
[{"$f":"VLOOKUP(H956,'Pivot ECAST'!A:B,2,FALSE)","v":3},2,"18387012","1838702","1838702","Stevenson Col & Car Prep Gifted Magnet","8388","1838701","Magnet Ctr -Middle School","Magnet 2","Magnet 2","f","f","f","f","f","E","E","no","2","Monica Garcia",null,null,"ECAST",0,0,0,0,0,0,27,33,46,0,0,0,0,0,0,0,0,0,0,0,0,0,106,106,106]
[{"$f":"VLOOKUP(H957,'Pivot ECAST'!A:B,2,FALSE)","v":3},3,"18387013","1838703","1838703","Stevenson Col & Car Prep Ca Magnet","5238","1838701","Magnet Ctr -Middle School","Magnet 2","Magnet 2","f","f","f","f","f","E","E","no","2","Monica Garcia",null,null,"ECAST",0,0,0,0,0,0,37,43,44,0,0,0,0,0,0,0,0,1,0,0,0,0,124,125,125]
[{"$f":"VLOOKUP(H958,'Pivot ECAST'!A:B,2,FALSE)","v":1},1,"18390011","1839001","1839001","Walnut Park MS SJ/SL","8390","1839001","Middle School","PHBAO","PHBAO","f","f","f","f","f","E","E","no","5","Jackie Goldberg",null,null,"ECAST",0,0,0,0,0,0,97,128,146,0,0,0,0,0,0,0,0,5,0,0,0,0,371,376,376]
[{"$f":"VLOOKUP(H959,'Pivot ECAST'!A:B,2,FALSE)","v":3},1,"18396011","1839601","1839601","Sun Valley ET Mag","8396","1839601","Magnet School - MS","Magnet 2","Magnet 2","f","f","f","f","f","NE","NE","yes","6","Kelly Gonez","4x4",null,"ECAST",0,0,0,0,0,0,104,113,143,0,0,0,0,0,0,0,0,38,0,0,0,0,360,398,398]
[{"$f":"VLOOKUP(H960,'Pivot ECAST'!A:B,2,FALSE)","v":3},2,"18396012","1839602","1839602","Sun Valley ES Mag","7645","1839601","Magnet Ctr -Middle School","Magnet 2","Magnet 2","f","f","f","f","f","NE","NE","yes","6","Kelly Gonez","4x4",null,"ECAST",0,0,0,0,0,0,86,95,98,0,0,0,0,0,0,0,0,36,0,0,0,0,279,315,315]
[{"$f":"VLOOKUP(H961,'Pivot ECAST'!A:B,2,FALSE)","v":3},3,"18396013","1839603","1839603","Sun Valley BSEL Mag","7646","1839601","Magnet Ctr-SPAN","Magnet 2","Magnet 2","f","f","f","f","t","NE","NE","yes","6","Kelly Gonez","4x4",null,"ECAST",0,0,0,0,0,0,67,57,57,64,123,86,109,0,0,0,0,5,0,0,0,0,563,568,568]
[{"$f":"VLOOKUP(H962,'Pivot ECAST'!A:B,2,FALSE)","v":2},1,"18406011","1840601","1840601","Sutter MS","8406","1840601","Middle School","PHBAO","PHBAO","f","f","f","f","f","NW","NW","no","4","Nick Melvoin","2x8",null,"ECAST",0,0,0,0,0,0,186,167,146,0,0,0,0,0,0,0,0,91,0,0,0,0,499,590,590]
[{"$f":"VLOOKUP(H963,'Pivot ECAST'!A:B,2,FALSE)","v":2},2,{"$f":"H963&B963","v":"18406012"},"1840602","1840602","Sutter MS STEAM Magnet","5251","1840601","Magnet Ctr -Middle School","Magnet 2","Magnet 2","f","f","f","f","f","NW","NW","no","4","Nick Melvoin","2x8",null,"ECAST",0,0,0,0,0,0,62,80,83,0,0,0,0,0,0,0,0,2,0,0,0,0,225,227,227]
[{"$f":"VLOOKUP(H964,'Pivot ECAST'!A:B,2,FALSE)","v":2},{"$f":"IF(H964=H963,B963+1,1)","v":1},"18425011",{"$f":"E964","v":"1842501"},"1842501","Mark Twain MS","8425","1842501","Middle School","PHBAO","PHBAO","f","f","f","f","f","W","W","no","4","Nick Melvoin",null,null,"ECAST",0,0,0,0,0,0,240,219,207,0,0,0,0,0,0,0,0,34,0,0,0,0,666,700,700]
[{"$f":"VLOOKUP(H965,'Pivot ECAST'!A:B,2,FALSE)","v":2},2,"18425012","1842502","1842502","Mark Twain WL Mag","5172","1842501","Magnet Ctr -Middle School","Magnet 2","Magnet 2","f","f","f","f","f","W","W","no","4","Nick Melvoin",null,null,"ECAST",0,0,0,0,0,0,45,55,57,0,0,0,0,0,0,0,0,3,0,0,0,0,{"$f":"SUM(Y965:AN965)","v":157},{"$f":"AU965+AO965+AP965+AQ965","v":160},{"$f":"AV965+SUM(AR965:AT965)","v":160}]
[{"$f":"VLOOKUP(H966,'Pivot ECAST'!A:B,2,FALSE)","v":2},1,"18434011","1843401","1843401","Van Nuys MS","8434","1843401","Middle School","PHBAO","PHBAO","f","f","f","f","f","NE","NE","no","3","Scott Schmerelson",null,null,"ECAST",0,0,0,0,0,0,193,187,166,0,0,0,0,0,0,0,0,69,0,0,0,0,546,615,615]
[{"$f":"VLOOKUP(H967,'Pivot ECAST'!A:B,2,FALSE)","v":2},2,"18434012","1843402","1843402","Van Nuys MS STEAM Magnet","8435","1843401","Magnet Ctr -Middle School","Magnet 2","Magnet 2","f","f","f","f","f","NE","NE","no","3","Scott Schmerelson",null,null,"ECAST",0,0,0,0,0,0,82,76,89,0,0,0,0,0,0,0,0,1,0,0,0,0,247,248,248]
[{"$f":"VLOOKUP(H968,'Pivot ECAST'!A:B,2,FALSE)","v":2},1,"18462011","1846201","1846201","Virgil MS","8462","1846201","Middle School","PHBAO","PHBAO","f","f","f","f","f","C","C","no","2","Monica Garcia",null,null,"ECAST",0,0,0,0,0,0,205,190,161,0,0,0,0,0,0,0,0,60,0,0,0,0,556,616,616]
[{"$f":"VLOOKUP(H969,'Pivot ECAST'!A:B,2,FALSE)","v":2},2,"18462012","1846202","1846202","Virgil Med & Health Sci Magnet","5216","1846201","Magnet Ctr -Middle School","Magnet 2","Magnet 2","f","f","f","f","f","C","C","no","2","Monica Garcia",null,null,"ECAST",0,0,0,0,0,0,101,127,132,0,0,0,0,0,0,0,0,1,0,0,0,0,360,361,361]
[{"$f":"VLOOKUP(H970,'Pivot ECAST'!A:B,2,FALSE)","v":2},1,"18481011","1848101","1848101","Webster MS","8481","1848101","Middle School","PHBAO","PHBAO","f","f","f","f","f","W","W","no","4","Nick Melvoin","2x8",null,"ECAST",0,0,0,0,0,0,61,63,57,0,0,0,0,0,0,0,0,30,0,0,0,0,181,211,211]
[{"$f":"VLOOKUP(H971,'Pivot ECAST'!A:B,2,FALSE)","v":2},2,"18481012","1848102","1848102","Webster MS STEAM Magnet","5239","1848101","Magnet Ctr -Middle School","Magnet 2","Magnet 2","f","f","f","f","f","W","W","no","4","Nick Melvoin","2x8",null,"ECAST",0,0,0,0,0,0,70,59,68,0,0,0,0,0,0,0,0,12,0,0,0,0,197,209,209]
[{"$f":"VLOOKUP(H972,'Pivot ECAST'!A:B,2,FALSE)","v":2},1,"18487011","1848701","1848701","White MS","8487","1848701","Middle School","PHBAO","PHBAO","f","f","f","f","f","S","S","no","7","Tanya Ortiz Franklin","2x8",null,"ECAST",0,0,0,0,0,0,252,280,331,0,0,0,0,0,0,0,0,88,0,0,0,0,863,951,951]
[{"$f":"VLOOKUP(H973,'Pivot ECAST'!A:B,2,FALSE)","v":2},2,"18487012","1848702","1848702","White STEAM Magnet","5229","1848701","Magnet Ctr -Middle School","Magnet 2","Magnet 2","f","f","f","f","f","S","S","no","7","Tanya Ortiz Franklin","2x8",null,"ECAST",0,0,0,0,0,0,125,150,152,0,0,0,0,0,0,0,0,3,0,0,0,0,427,430,430]
[{"$f":"VLOOKUP(H974,'Pivot ECAST'!A:B,2,FALSE)","v":1},1,"18490011","1849001","1849001","Wilmington MS STEAM Magnet","8490","1849001","Magnet School - MS","Magnet 2","Magnet 2","f","f","f","f","f","S","S","no","7","Tanya Ortiz Franklin",null,null,"ECAST",0,0,0,0,0,0,417,399,460,0,0,0,0,0,0,0,0,101,0,0,0,0,1276,1377,1377]
[{"$f":"VLOOKUP(H975,'Pivot ECAST'!A:B,2,FALSE)","v":2},1,"18493011","1849301","1849301","Wright Eng & Design Magnet","8493","1849301","Magnet School - MS","Magnet 2","Magnet 2","f","f","f","f","f","W","W","no","4","Nick Melvoin","2x8",null,"ECAST",0,0,0,0,0,0,91,112,118,0,0,0,0,0,0,0,0,30,0,0,0,0,321,351,351]
[{"$f":"VLOOKUP(H976,'Pivot ECAST'!A:B,2,FALSE)","v":2},2,"18493012","1849303","1849303","Wright MS Gifted Magnet","5258","1849301","Magnet Ctr -Middle School","Magnet 2","Magnet 2","f","f","f","f","f","W","W","no","4","Nick Melvoin","2x8",null,"ECAST",0,0,0,0,0,0,21,25,31,0,0,0,0,0,0,0,0,0,0,0,0,0,77,77,77]
[{"$f":"VLOOKUP(H977,'Pivot ECAST'!A:B,2,FALSE)","v":1},1,"18501011","1850101","1850101","RFK LA SH Arts","8501","1850101","Senior High School","PHBAO","PHBAO","f","f","f","f","f","C","C","no","5","Jackie Goldberg",null,null,"ECAST",0,0,0,0,0,0,0,0,0,138,121,96,84,0,0,0,0,0,2,0,0,0,439,441,441]
[{"$f":"VLOOKUP(H978,'Pivot ECAST'!A:B,2,FALSE)","v":1},1,"18513011","1851301","1851301","Northridge Acad SH","8513","1851301","Senior High School","PHBAO","PHBAO","f","f","f","f","f","NW","NW","no","3","Scott Schmerelson",null,null,"ECAST",0,0,0,0,0,0,0,0,0,253,251,225,195,0,0,0,0,0,5,0,0,0,924,929,929]
[{"$f":"VLOOKUP(H979,'Pivot ECAST'!A:B,2,FALSE)","v":1},1,"18516011","1851601","1851601","Cortines Sch Of VPA","8516","1851601","Senior High School","PHBAO","PHBAO","f","f","f","f","f","C","C","no","2","Monica Garcia","2x8",null,"ECAST",0,0,0,0,0,0,0,0,0,293,280,254,295,0,0,0,0,0,20,0,0,0,1122,1142,1142]
[{"$f":"VLOOKUP(H980,'Pivot ECAST'!A:B,2,FALSE)","v":1},1,"18517011","1851701","1851701","Contreras Bus Tour","8517","1851701","Senior High School","PHBAO","PHBAO","f","f","f","f","f","C","C","no","2","Monica Garcia",null,null,"ECAST",0,0,0,0,0,0,0,0,0,113,98,80,99,0,0,0,0,0,25,0,0,0,390,415,415]
[{"$f":"VLOOKUP(H981,'Pivot ECAST'!A:B,2,FALSE)","v":1},1,"18518011","1851801","1851801","Dr. R.A. Vladovic Harbor Tchr Prep Acad","8518","1851801","Senior High School","PHBAO","PHBAO","f","f","f","f","f","S","S","no","7","Tanya Ortiz Franklin",null,null,"ECAST",0,0,0,0,0,0,0,0,0,110,107,96,113,0,0,0,0,0,0,0,0,0,426,426,426]
[{"$f":"VLOOKUP(H982,'Pivot ECAST'!A:B,2,FALSE)","v":1},1,"18527011","1852701","1852701","Contreras LC Soc Jus","8527","1852701","Senior High School","PHBAO","PHBAO","f","f","f","f","f","C","C","no","2","Monica Garcia",null,null,"ECAST",0,0,0,0,0,0,0,0,0,117,107,71,130,0,0,0,0,0,2,0,0,0,425,427,427]
[{"$f":"VLOOKUP(H983,'Pivot ECAST'!A:B,2,FALSE)","v":5},1,"18529011","1852901","1852901","Banning SH","8529","1852901","Senior High School","PHBAO","PHBAO","f","f","f","f","f","S","S","no","7","Tanya Ortiz Franklin",null,null,"ECAST",0,0,0,0,0,0,0,0,0,529,509,344,285,0,0,0,0,0,153,0,0,0,1667,1820,1820]
[{"$f":"VLOOKUP(H984,'Pivot ECAST'!A:B,2,FALSE)","v":5},2,"18529012","1852902","1852902","Banning HS College Preparatory Magnet","8530","1852901","Magnet Ctr -Senior High","Magnet 2","Magnet 2","f","f","f","f","f","S","S","no","7","Tanya Ortiz Franklin",null,null,"ECAST",0,0,0,0,0,0,0,0,0,73,73,96,94,0,0,0,0,0,2,0,0,0,336,338,338]
[{"$f":"VLOOKUP(H985,'Pivot ECAST'!A:B,2,FALSE)","v":5},3,"18529013","1852907","1852907","Phineas Banning Senior High Firefighter","7602","1852901","Magnet Ctr -Senior High","Magnet 2","Magnet 2","f","f","f","f","f","S","S","no","7","Tanya Ortiz Franklin",null,null,"ECAST",0,0,0,0,0,0,0,0,0,35,35,43,50,0,0,0,0,0,4,0,0,0,163,167,167]
[{"$f":"VLOOKUP(H986,'Pivot ECAST'!A:B,2,FALSE)","v":5},4,"18529014","1852908","1852908","Phineas Banning Senior High STEAM Magnet","7577","1852901","Magnet Ctr -Senior High","Magnet 2","Magnet 2","f","f","f","f","f","S","S","no","7","Tanya Ortiz Franklin",null,null,"ECAST",0,0,0,0,0,0,0,0,0,44,40,36,37,0,0,0,0,0,4,0,0,0,157,161,161]
[{"$f":"VLOOKUP(H987,'Pivot ECAST'!A:B,2,FALSE)","v":5},5,"18529015","1852909","1852909","Banning HS Police Academy Magnet","8529","1852901","Magnet Ctr -Senior High","Magnet 2","Magnet 2","f","f","f","f","f","S","S","no","7","Tanya Ortiz Franklin",null,null,"ECAST",0,0,0,0,0,0,0,0,0,17,17,17,0,0,0,0,0,0,2,0,0,0,51,53,53]
[{"$f":"VLOOKUP(H988,'Pivot ECAST'!A:B,2,FALSE)","v":2},1,"18536011","1853601","1853601","Bell SH","8536","1853601","Senior High School","PHBAO","PHBAO","f","f","f","f","f","E","E","no","5","Jackie Goldberg",null,null,"ECAST",0,0,0,0,0,0,0,0,0,539,518,374,378,0,0,0,0,0,34,0,0,0,1809,1843,1843]
[{"$f":"VLOOKUP(H989,'Pivot ECAST'!A:B,2,FALSE)","v":2},2,"18536012","1853614","1853614","Bell SH Gifted Science/Tech/Eng/Math Mag","7622","1853601","Magnet Ctr -Senior High","Magnet 2","Magnet 2","f","f","f","f","f","E","E","no","5","Jackie Goldberg",null,null,"ECAST",0,0,0,0,0,0,0,0,0,112,125,150,153,0,0,0,0,0,0,0,0,0,540,540,540]
[{"$f":"VLOOKUP(H990,'Pivot ECAST'!A:B,2,FALSE)","v":1},1,"18543011","1854301","1854301","Belmont SH","8543","1854301","Senior High School","PHBAO","PHBAO","f","f","f","f","f","C","C","no","2","Monica Garcia","4x4",null,"ECAST",0,0,0,0,0,0,0,0,0,161,156,102,148,0,0,0,0,0,27,0,0,0,567,594,594]
[{"$f":"VLOOKUP(H991,'Pivot ECAST'!A:B,2,FALSE)","v":2},1,"18544011","1854401","1854401","Roybal LC","8544","1854401","Senior High School","PHBAO","PHBAO","f","f","f","f","f","C","C","no","2","Monica Garcia","4x4",null,"ECAST",0,0,0,0,0,0,0,0,0,248,225,210,149,0,0,0,0,0,98,0,0,0,832,930,930]
[{"$f":"VLOOKUP(H992,'Pivot ECAST'!A:B,2,FALSE)","v":2},2,"18544012","1854406","1854406","Roybal LC Innov Cine Arts/Music Prod Mag","7546","1854401","Magnet Ctr -Senior High","Magnet 2","Magnet 2","f","f","f","f","f","C","C","no","2","Monica Garcia","4x4",null,"ECAST",0,0,0,0,0,0,0,0,0,45,39,19,30,0,0,0,0,0,0,0,0,0,133,133,133]
[{"$f":"VLOOKUP(H993,'Pivot ECAST'!A:B,2,FALSE)","v":1},1,"18558011","1855801","1855801","Pearl Journ/Comm Mag","8558","1855801","Magnet School - SHS","Magnet 1","Magnet 1","f","f","f","f","f","NW","NW","no","3","Scott Schmerelson","4x4",null,"ECAST",0,0,0,0,0,0,0,0,0,55,57,57,59,0,0,0,0,0,0,0,0,0,228,228,228]
[{"$f":"VLOOKUP(H994,'Pivot ECAST'!A:B,2,FALSE)","v":3},1,"18571011","1857101","1857101","Canoga Park SH","8571","1857101","Senior High School","PHBAO","PHBAO","f","f","f","f","f","NW","NW","no","3","Scott Schmerelson","4x4",null,"ECAST",0,0,0,0,0,0,0,0,0,336,270,179,185,0,0,0,0,0,76,0,0,0,970,1046,1046]
[{"$f":"VLOOKUP(H995,'Pivot ECAST'!A:B,2,FALSE)","v":3},2,"18571012","1857102","1857102","Canoga Park HS Eng & Env/Vet Sci Magnet","8572","1857101","Magnet Ctr -Senior High","Magnet 2","Magnet 2","f","f","f","f","f","NW","NW","no","3","Scott Schmerelson","4x4",null,"ECAST",0,0,0,0,0,0,0,0,0,61,69,55,40,0,0,0,0,0,1,0,0,0,225,226,226]
[{"$f":"VLOOKUP(H996,'Pivot ECAST'!A:B,2,FALSE)","v":3},3,"18571013","1857106","1857106","Canoga Park HS Comm Arts/Media Magnet","8146","1857101","Magnet Ctr -Senior High","Magnet 2","Magnet 2","f","f","f","f","f","NW","NW","no","3","Scott Schmerelson","4x4",null,"ECAST",0,0,0,0,0,0,0,0,0,55,55,40,49,0,0,0,0,0,5,0,0,0,199,204,204]
[{"$f":"VLOOKUP(H997,'Pivot ECAST'!A:B,2,FALSE)","v":2},1,"18575011","1857501","1857501","Carson SH","8575","1857501","Senior High School","PHBAO","PHBAO","f","f","f","f","f","S","S","no","7","Tanya Ortiz Franklin",null,null,"ECAST",0,0,0,0,0,0,0,0,0,272,293,300,320,0,0,0,0,0,62,0,0,0,1185,1247,1247]
[{"$f":"VLOOKUP(H998,'Pivot ECAST'!A:B,2,FALSE)","v":2},2,"18575012","1857510","1857510","Carson HS Musical Ent/Digital Art Magnet","8575","1857501","Magnet Ctr -Senior High","Magnet 2","Magnet 2","f","f","f","f","f","S","S","no","7","Tanya Ortiz Franklin",null,null,"ECAST",0,0,0,0,0,0,0,0,0,52,60,0,0,0,0,0,0,0,2,0,0,0,112,114,114]
[{"$f":"VLOOKUP(H999,'Pivot ECAST'!A:B,2,FALSE)","v":1},1,"18577011","1857701","1857701","Sotomayor Art/Sciences Magnet","8577","1857701","Span Magnet School","Magnet 2","Magnet 2","f","f","f","f","t","C","C","yes","5","Jackie Goldberg","2x8",null,"ECAST",0,0,0,0,0,0,54,51,89,81,72,83,111,0,0,0,0,0,0,0,0,0,541,541,541]
[{"$f":"VLOOKUP(H1000,'Pivot ECAST'!A:B,2,FALSE)","v":2},1,"18583011","1858301","1858301","Chatsworth Chtr HS","8583","1858301","Senior High School","PHBAO","PHBAO","f","t","f","f","f","NW","NW","no","3","Scott Schmerelson",null,null,"ECAST",0,0,0,0,0,0,0,0,0,400,383,331,393,0,0,0,0,0,51,0,0,0,1507,1558,1558]
[{"$f":"VLOOKUP(H1001,'Pivot ECAST'!A:B,2,FALSE)","v":2},2,"18583012","1858309","1858309","Chatsworth Charter HS GSTEAM Magnet","8583","1858301","Magnet Ctr -Senior High","Magnet 2","Magnet 2","f","t","f","f","f","NW","NW","no","3","Scott Schmerelson",null,null,"ECAST",0,0,0,0,0,0,0,0,0,73,75,63,0,0,0,0,0,0,0,0,0,0,211,211,211]
[{"$f":"VLOOKUP(H1002,'Pivot ECAST'!A:B,2,FALSE)","v":3},1,"18590011","1859001","1859001","Cleveland Chtr HS","8590","1859001","Senior High School","PHBAO","PHBAO","f","t","f","f","f","NW","NW","no","3","Scott Schmerelson",null,null,"ECAST",0,0,0,0,0,0,0,0,0,514,440,334,380,0,0,0,0,0,100,0,0,0,1668,1768,1768]
[{"$f":"VLOOKUP(H1003,'Pivot ECAST'!A:B,2,FALSE)","v":3},2,"18590012","1859002","1859002","Cleveland Human Mag","8593","1859001","Magnet Ctr -Senior High","Magnet 1","Magnet 1","f","t","f","f","f","NW","NW","no","3","Scott Schmerelson",null,null,"ECAST",0,0,0,0,0,0,0,0,0,189,188,207,178,0,0,0,0,0,1,0,0,0,762,763,763]
[{"$f":"VLOOKUP(H1004,'Pivot ECAST'!A:B,2,FALSE)","v":3},3,"18590013","1859007","1859007","Cleveland Charter HS GMS Magnet","7541","1859001","Magnet Ctr -Senior High","Magnet 1","Magnet 1","f","t","f","f","f","NW","NW","no","3","Scott Schmerelson",null,null,"ECAST",0,0,0,0,0,0,0,0,0,95,78,79,78,0,0,0,0,0,0,0,0,0,330,330,330]
[{"$f":"VLOOKUP(H1005,'Pivot ECAST'!A:B,2,FALSE)","v":1},1,"18596011","1859601","1859601","Crenshaw STEMM Mag","8596","1859601","Magnet School - SHS","Magnet 2","Magnet 2","f","f","f","f","f","W","W","no","1","George McKenna",null,null,"ECAST",0,0,0,0,0,0,0,0,0,98,118,120,130,0,0,0,0,0,37,0,0,0,466,503,503]
[{"$f":"VLOOKUP(H1006,'Pivot ECAST'!A:B,2,FALSE)","v":4},1,"18600011","1860001","1860001","Dorsey SH","8600","1860001","Senior High School","PHBAO","PHBAO","f","f","f","f","f","W","W","no","1","George McKenna",null,null,"ECAST",0,0,0,0,0,0,0,0,0,151,132,134,104,0,0,0,0,0,65,0,0,0,521,586,586]
[{"$f":"VLOOKUP(H1007,'Pivot ECAST'!A:B,2,FALSE)","v":4},2,"18600012","1860002","1860002","Susan Miller Dorsey SH Science/Tech/Math","8601","1860001","Magnet Ctr -Senior High","Magnet 2","Magnet 2","f","f","f","f","f","W","W","no","1","George McKenna",null,null,"ECAST",0,0,0,0,0,0,0,0,0,12,15,28,29,0,0,0,0,0,0,0,0,0,84,84,84]
[{"$f":"VLOOKUP(H1008,'Pivot ECAST'!A:B,2,FALSE)","v":4},3,"18600013","1860003","1860003","Dorsey HS Sports Medicine/Law Magnet","8603","1860001","Magnet Ctr -Senior High","Magnet 2","Magnet 2","f","f","f","f","f","W","W","no","1","George McKenna",null,null,"ECAST",0,0,0,0,0,0,0,0,0,16,29,24,28,0,0,0,0,0,1,0,0,0,97,98,98]
[{"$f":"VLOOKUP(H1009,'Pivot ECAST'!A:B,2,FALSE)","v":4},4,"18600014","1860009","1860009","Dorsey HS Firefighter/EMS Magnet","8600","1860001","Magnet Ctr -Senior High","Magnet 2","Magnet 2","f","f","f","f","f","W","W","no","1","George McKenna",null,null,"ECAST",0,0,0,0,0,0,0,0,0,9,11,8,8,0,0,0,0,0,2,0,0,0,36,38,38]
[{"$f":"VLOOKUP(H1010,'Pivot ECAST'!A:B,2,FALSE)","v":1},1,"18606011","1860601","1860601","Torres ELA PA Mag","8606","1860601","Magnet School - SHS","Magnet 2","Magnet 2","f","f","f","f","f","E","E","no","2","Monica Garcia","2x8",null,"ECAST",0,0,0,0,0,0,0,0,0,82,82,77,114,0,0,0,0,0,25,0,0,0,355,380,380]
[{"$f":"VLOOKUP(H1011,'Pivot ECAST'!A:B,2,FALSE)","v":2},1,"18607011","1860701","1860701","East Valley SH","8607","1860701","Senior High School","PHBAO","PHBAO","f","f","f","f","f","NE","NE","no","6","Kelly Gonez","4x4",null,"ECAST",0,0,0,0,0,0,0,0,0,106,95,106,100,0,0,0,0,0,42,0,0,0,407,449,449]
[{"$f":"VLOOKUP(H1012,'Pivot ECAST'!A:B,2,FALSE)","v":2},2,"18607012","1860706","1860706","East Valley HS Incl. Creat. Media Magnet","7509","1860701","Magnet Ctr -Senior High","Magnet 2","Magnet 2","f","f","f","f","f","NE","NE","no","6","Kelly Gonez","4x4",null,"ECAST",0,0,0,0,0,0,0,0,0,26,28,0,0,0,0,0,0,0,0,0,0,0,54,54,54]
[{"$f":"VLOOKUP(H1013,'Pivot ECAST'!A:B,2,FALSE)","v":1},1,"18609011","1860901","1860901","Arleta SH","8609","1860901","Senior High School","PHBAO","PHBAO","f","f","f","f","f","NE","NE","no","6","Kelly Gonez","4x4",null,"ECAST",0,0,0,0,0,0,0,0,0,245,239,248,263,0,0,0,0,0,59,0,0,0,995,1054,1054]
[{"$f":"VLOOKUP(H1014,'Pivot ECAST'!A:B,2,FALSE)","v":4},1,"18610011","1861001","1861001","Panorama SH","8610","1861001","Senior High School","PHBAO","PHBAO","f","f","f","f","f","NE","NE","no","6","Kelly Gonez","4x4",null,"ECAST",0,0,0,0,0,0,0,0,0,219,196,264,253,0,0,0,0,0,69,0,0,0,932,1001,1001]
[{"$f":"VLOOKUP(H1015,'Pivot ECAST'!A:B,2,FALSE)","v":4},2,"18610012","1861007","1861007","Panorama HS Sports Med/Info Tech Magnet","7545","1861001","Magnet Ctr -Senior High","Magnet 2","Magnet 2","f","f","f","f","f","NE","NE","no","6","Kelly Gonez","4x4",null,"ECAST",0,0,0,0,0,0,0,0,0,63,59,50,53,0,0,0,0,0,2,0,0,0,225,227,227]
[{"$f":"VLOOKUP(H1016,'Pivot ECAST'!A:B,2,FALSE)","v":4},3,"18610013","1861008","1861008","Panorama HS Gifted STEAM Magnet","8610","1861001","Magnet Ctr -Senior High","Magnet 2","Magnet 2","f","f","f","f","f","NE","NE","no","6","Kelly Gonez","4x4",null,"ECAST",0,0,0,0,0,0,0,0,0,25,27,34,26,0,0,0,0,0,0,0,0,0,112,112,112]
[{"$f":"VLOOKUP(H1017,'Pivot ECAST'!A:B,2,FALSE)","v":4},4,"18610014","1861009","1861009","Panorama HS Social Justice/Lead Magnet","8610","1861001","Magnet Ctr -Senior High","Magnet 2","Magnet 2","f","f","f","f","f","NE","NE","no","6","Kelly Gonez","4x4",null,"ECAST",0,0,0,0,0,0,0,0,0,27,27,0,0,0,0,0,0,0,1,0,0,0,54,55,55]
[{"$f":"VLOOKUP(H1018,'Pivot ECAST'!A:B,2,FALSE)","v":1},1,"18611011","1861101","1861101","Mendez SH","8611","1861101","Senior High School","PHBAO","PHBAO","f","f","f","f","f","E","E","no","2","Monica Garcia",null,null,"ECAST",0,0,0,0,0,0,0,0,0,208,178,183,208,0,0,0,0,0,33,0,0,0,777,810,810]
[{"$f":"VLOOKUP(H1019,'Pivot ECAST'!A:B,2,FALSE)","v":2},1,"18614011","1861401","1861401","Eagle Rock HS","8614","1861401","Span School","PHBAO","PHBAO","f","f","f","f","t","C","C","yes","5","Jackie Goldberg","2x8",null,"ECAST",0,0,0,0,0,0,0,182,187,236,255,250,272,0,0,0,0,4,56,0,0,0,1382,1442,1442]
[{"$f":"VLOOKUP(H1020,'Pivot ECAST'!A:B,2,FALSE)","v":2},2,"18614012","1861402","1861402","Eagle Rock High School Gifted Magnet","8615","1861401","Magnet Ctr-SPAN","Magnet 1","Magnet 1","f","f","f","f","t","C","C","yes","5","Jackie Goldberg","2x8",null,"ECAST",0,0,0,0,0,0,0,87,109,106,120,120,120,0,0,0,0,0,0,0,0,0,662,662,662]
[{"$f":"VLOOKUP(H1021,'Pivot ECAST'!A:B,2,FALSE)","v":4},1,"18618011","1861801","1861801","Wilson SH","8618","1861801","Senior High School","PHBAO","PHBAO","f","f","f","f","f","E","E","no","2","Monica Garcia","2x8",null,"ECAST",0,0,0,0,0,0,0,0,0,224,196,201,211,0,0,0,0,0,93,0,0,0,832,925,925]
[{"$f":"VLOOKUP(H1022,'Pivot ECAST'!A:B,2,FALSE)","v":4},2,"18618012","1861802","1861802","Wilson Police Acd Mg","8613","1861801","Magnet Ctr -Senior High","Magnet 2","Magnet 2","f","f","f","f","f","E","E","no","2","Monica Garcia","2x8",null,"ECAST",0,0,0,0,0,0,0,0,0,21,22,28,31,0,0,0,0,0,5,0,0,0,102,107,107]
[{"$f":"VLOOKUP(H1023,'Pivot ECAST'!A:B,2,FALSE)","v":4},3,"18618013","1861803","1861803","Wilson Adm/Law Mag","8619","1861801","Magnet Ctr -Senior High","Magnet 2","Magnet 2","f","f","f","f","f","E","E","no","2","Monica Garcia","2x8",null,"ECAST",0,0,0,0,0,0,0,0,0,30,55,51,66,0,0,0,0,0,6,0,0,0,202,208,208]
[{"$f":"VLOOKUP(H1024,'Pivot ECAST'!A:B,2,FALSE)","v":4},4,"18618014","1861810","1861810","Woodrow Wilson Senior High Firefighter Mag","7601","1861801","Magnet Ctr -Senior High","Magnet 2","Magnet 2","f","f","f","f","f","E","E","no","2","Monica Garcia","2x8",null,"ECAST",0,0,0,0,0,0,0,0,0,28,23,21,32,0,0,0,0,0,2,0,0,0,104,106,106]
[{"$f":"VLOOKUP(H1025,'Pivot ECAST'!A:B,2,FALSE)","v":3},1,"18621011","1862101","1862101","Fairfax SH","8621","1862101","Senior High School","PHBAO","PHBAO","f","f","f","f","f","W","W","no","4","Nick Melvoin",null,null,"ECAST",0,0,0,0,0,0,0,0,0,251,259,282,251,0,0,0,0,0,56,0,0,0,1043,1099,1099]
[{"$f":"VLOOKUP(H1026,'Pivot ECAST'!A:B,2,FALSE)","v":3},2,"18621012","1862102","1862102","Fairfax Vis Arts Mag","8622","1862101","Magnet Ctr -Senior High","Magnet 2","Magnet 2","f","f","f","f","f","W","W","no","4","Nick Melvoin",null,null,"ECAST",0,0,0,0,0,0,0,0,0,95,95,110,105,0,0,0,0,0,4,0,0,0,405,409,409]
[{"$f":"VLOOKUP(H1027,'Pivot ECAST'!A:B,2,FALSE)","v":3},3,{"$f":"H1027&B1027","v":"18621013"},"1862108","1862108","Fairfax HS Police Academy Magnet","7537","1862101","Magnet Ctr -Senior High","Magnet 2","Magnet 2","f","f","f","f","f","W","W","no","4","Nick Melvoin",null,null,"ECAST",0,0,0,0,0,0,0,0,0,47,61,66,51,0,0,0,0,0,9,0,0,0,225,234,234]
[{"$f":"VLOOKUP(H1028,'Pivot ECAST'!A:B,2,FALSE)","v":2},{"$f":"IF(H1028=H1027,B1027+1,1)","v":1},"18636011",{"$f":"E1028","v":"1863601"},"1863601","Polytechnic SH","8636","1863601","Senior High School","PHBAO","PHBAO","f","f","f","f","f","NE","NE","no","6","Kelly Gonez","4x4",null,"ECAST",0,0,0,0,0,0,0,0,0,603,547,422,397,0,0,0,0,0,62,0,0,0,1969,2031,2031]
[{"$f":"VLOOKUP(H1029,'Pivot ECAST'!A:B,2,FALSE)","v":2},2,"18636012","1863602","1863602","John H Francis Polytechnic SH Sci/Tech/Math","8809","1863601","Magnet Ctr -Senior High","Magnet 2","Magnet 2","f","f","f","f","f","NE","NE","no","6","Kelly Gonez","4x4",null,"ECAST",0,0,0,0,0,0,0,0,0,64,76,87,88,0,0,0,0,0,0,0,0,0,{"$f":"SUM(Y1029:AN1029)","v":315},{"$f":"AU1029+AO1029+AP1029+AQ1029","v":315},{"$f":"AV1029+SUM(AR1029:AT1029)","v":315}]
[{"$f":"VLOOKUP(H1030,'Pivot ECAST'!A:B,2,FALSE)","v":3},1,"18643011","1864301","1864301","Franklin SH","8643","1864301","Senior High School","PHBAO","PHBAO","f","f","f","f","f","C","C","yes","2","Monica Garcia",null,null,"ECAST",0,0,0,0,0,0,0,0,0,225,212,159,147,0,0,0,0,0,10,0,0,0,743,753,753]
[{"$f":"VLOOKUP(H1031,'Pivot ECAST'!A:B,2,FALSE)","v":3},2,"18643012","1864302","1864302","Benjamin Franklin SH Science/Tech/Math Mag","8644","1864301","Magnet Ctr -Senior High","Magnet 2","Magnet 2","f","f","f","f","f","C","C","yes","2","Monica Garcia",null,null,"ECAST",0,0,0,0,0,0,0,0,0,66,105,92,97,0,0,0,0,0,1,0,0,0,360,361,361]
[{"$f":"VLOOKUP(H1032,'Pivot ECAST'!A:B,2,FALSE)","v":3},3,"18643013","1864311","1864311","Franklin HS Dual Language Academy Magnet","2345","1864301","Magnet Ctr-SPAN","Magnet 2","Magnet 2","f","f","f","f","t","C","C","yes","2","Monica Garcia",null,null,"ECAST",0,0,0,0,0,0,38,47,34,50,50,45,25,0,0,0,0,1,1,0,0,0,289,291,291]
[{"$f":"VLOOKUP(H1033,'Pivot ECAST'!A:B,2,FALSE)","v":2},1,"18650011","1865001","1865001","Fremont SH","8650","1865001","Senior High School","PHBAO","PHBAO","f","f","f","f","f","S","S","no","7","Tanya Ortiz Franklin","4x4",null,"ECAST",0,0,0,0,0,0,0,0,0,376,360,328,397,0,0,0,0,0,140,0,0,0,1461,1601,1601]
[{"$f":"VLOOKUP(H1034,'Pivot ECAST'!A:B,2,FALSE)","v":2},2,"18650012","1865002","1865002","Fremont HS STEAM Magnet","8651","1865001","Magnet Ctr -Senior High","Magnet 2","Magnet 2","f","f","f","f","f","S","S","no","7","Tanya Ortiz Franklin","4x4",null,"ECAST",0,0,0,0,0,0,0,0,0,83,83,76,94,0,0,0,0,0,1,0,0,0,336,337,337]
[{"$f":"VLOOKUP(H1035,'Pivot ECAST'!A:B,2,FALSE)","v":3},1,"18664011","1866401","1866401","Gardena SH","8664","1866401","Senior High School","PHBAO","PHBAO","f","f","f","f","f","S","S","no","7","Tanya Ortiz Franklin","4x4",null,"ECAST",0,0,0,0,0,0,0,0,0,304,261,213,211,0,0,0,0,0,88,0,0,0,989,1077,1077]
[{"$f":"VLOOKUP(H1036,'Pivot ECAST'!A:B,2,FALSE)","v":3},2,"18664012","1866402","1866402","Gardena HS Gobal Business Magnet","8662","1866401","Magnet Ctr -Senior High","Magnet 2","Magnet 2","f","f","f","f","f","S","S","no","7","Tanya Ortiz Franklin","4x4",null,"ECAST",0,0,0,0,0,0,0,0,0,45,81,78,66,0,0,0,0,0,3,0,0,0,270,273,273]
[{"$f":"VLOOKUP(H1037,'Pivot ECAST'!A:B,2,FALSE)","v":3},3,"18664013","1866407","1866407","Gardena HS Law/Public Service Magnet","7538","1866401","Magnet Ctr -Senior High","Magnet 2","Magnet 2","f","f","f","f","f","S","S","no","7","Tanya Ortiz Franklin","4x4",null,"ECAST",0,0,0,0,0,0,0,0,0,42,47,49,42,0,0,0,0,0,5,0,0,0,180,185,185]
[{"$f":"VLOOKUP(H1038,'Pivot ECAST'!A:B,2,FALSE)","v":2},1,"18679011","1867901","1867901","Garfield SH","8679","1867901","Senior High School","PHBAO","PHBAO","f","f","f","f","f","E","E","no","2","Monica Garcia","2x8",null,"ECAST",0,0,0,0,0,0,0,0,0,492,407,492,484,0,0,0,0,0,155,0,0,0,1875,2030,2030]
[{"$f":"VLOOKUP(H1039,'Pivot ECAST'!A:B,2,FALSE)","v":2},2,"18679012","1867902","1867902","Garfield Comp Sci Mg","8680","1867901","Magnet Ctr -Senior High","Magnet 2","Magnet 2","f","f","f","f","f","E","E","no","2","Monica Garcia","2x8",null,"ECAST",0,0,0,0,0,0,0,0,0,31,75,61,58,0,0,0,0,0,6,0,0,0,225,231,231]
[{"$f":"VLOOKUP(H1040,'Pivot ECAST'!A:B,2,FALSE)","v":3},1,"18683011","1868301","1868301","Grant SH","8683","1868301","Senior High School","Desegregated/Receiver","Non-PHBAO","f","f","f","f","f","NE","NE","no","6","Kelly Gonez","4x4",null,"ECAST",0,0,0,0,0,0,0,0,0,386,336,270,278,0,0,0,0,0,46,0,0,0,1270,1316,1316]
[{"$f":"VLOOKUP(H1041,'Pivot ECAST'!A:B,2,FALSE)","v":3},2,"18683012","1868302","1868302","Grant HS College Prep/Digital Arts Mag","8684","1868301","Magnet Ctr -Senior High","Magnet 1","Magnet 1","f","f","f","f","f","NE","NE","no","6","Kelly Gonez","4x4",null,"ECAST",0,0,0,0,0,0,0,0,0,69,98,93,84,0,0,0,0,0,0,0,0,0,344,344,344]
[{"$f":"VLOOKUP(H1042,'Pivot ECAST'!A:B,2,FALSE)","v":3},3,"18683013","1868308","1868308","Grant HS Hum For Interdiscip Studies Mag","7539","1868301","Magnet Ctr -Senior High","Magnet 1","Magnet 1","f","f","f","f","f","NE","NE","no","6","Kelly Gonez","4x4",null,"ECAST",0,0,0,0,0,0,0,0,0,65,50,57,49,0,0,0,0,0,0,0,0,0,221,221,221]
[{"$f":"VLOOKUP(H1043,'Pivot ECAST'!A:B,2,FALSE)","v":3},1,"18686011","1868601","1868601","Hamilton SH-Complex","8686","1868601","Senior High School","PHBAO","PHBAO","f","f","f","f","f","W","W","no","1","George McKenna",null,null,"ECAST",0,0,0,0,0,0,0,0,0,266,267,275,290,0,0,0,0,0,108,0,0,0,1098,1206,1206]
[{"$f":"VLOOKUP(H1044,'Pivot ECAST'!A:B,2,FALSE)","v":3},2,"18686012","1868602","1868602","Hamilton Music & Perf Arts Mag","8594","1868601","Magnet Ctr -Senior High","Magnet 2","Magnet 2","f","f","f","f","f","W","W","no","1","George McKenna",null,null,"ECAST",0,0,0,0,0,0,0,0,0,161,161,194,203,0,0,0,0,0,23,0,0,0,719,742,742]
[{"$f":"VLOOKUP(H1045,'Pivot ECAST'!A:B,2,FALSE)","v":3},3,"18686013","1868603","1868603","Hamilton Human Mag","8687","1868601","Magnet Ctr -Senior High","Magnet 1","Magnet 1","f","f","f","f","f","W","W","no","1","George McKenna",null,null,"ECAST",0,0,0,0,0,0,0,0,0,74,85,82,78,0,0,0,0,0,2,0,0,0,319,321,321]
[{"$f":"VLOOKUP(H1046,'Pivot ECAST'!A:B,2,FALSE)","v":3},1,"18693011","1869301","1869301","Hollywood SH","8693","1869301","Senior High School","PHBAO","PHBAO","f","f","f","f","f","W","W","no","4","Nick Melvoin","2x8",null,"ECAST",0,0,0,0,0,0,0,0,0,165,132,101,136,0,0,0,0,0,13,0,0,0,534,547,547]
[{"$f":"VLOOKUP(H1047,'Pivot ECAST'!A:B,2,FALSE)","v":3},2,"18693012","1869302","1869302","Hollywood Per Art Mg","8694","1869301","Magnet Ctr -Senior High","Magnet 2","Magnet 2","f","f","f","f","f","W","W","no","4","Nick Melvoin","2x8",null,"ECAST",0,0,0,0,0,0,0,0,0,61,91,79,72,0,0,0,0,0,6,0,0,0,303,309,309]
[{"$f":"VLOOKUP(H1048,'Pivot ECAST'!A:B,2,FALSE)","v":3},3,"18693013","1869307","1869307","Hollywood HS New Media Magnet","7599","1869301","Magnet Ctr -Senior High","Magnet 2","Magnet 2","f","f","f","f","f","W","W","no","4","Nick Melvoin","2x8",null,"ECAST",0,0,0,0,0,0,0,0,0,86,104,60,74,0,0,0,0,0,0,0,0,0,324,324,324]
[{"$f":"VLOOKUP(H1049,'Pivot ECAST'!A:B,2,FALSE)","v":2},1,"18696011","1869601","1869601","Bernstein SH","8696","1869601","Senior High School","PHBAO","PHBAO","f","f","f","f","f","W","W","no","5","Jackie Goldberg","2x8",null,"ECAST",0,0,0,0,0,0,0,0,0,133,142,101,84,0,0,0,0,0,21,0,0,0,460,481,481]
[{"$f":"VLOOKUP(H1050,'Pivot ECAST'!A:B,2,FALSE)","v":2},2,"18696012","1869602","1869602","Bernstein HS Cine Arts/Creative Tech Mag","7535","1869601","Magnet Ctr -Senior High","Magnet 2","Magnet 2","f","f","f","f","f","W","W","no","5","Jackie Goldberg","2x8",null,"ECAST",0,0,0,0,0,0,0,0,0,45,50,45,40,0,0,0,0,0,2,0,0,0,180,182,182]
[{"$f":"VLOOKUP(H1051,'Pivot ECAST'!A:B,2,FALSE)","v":2},1,"18700011","1870001","1870001","Huntington Park SH","8700","1870001","Senior High School","PHBAO","PHBAO","f","f","f","f","f","E","E","no","5","Jackie Goldberg","2x8",null,"ECAST",0,0,0,0,0,0,0,0,0,348,337,211,229,0,0,0,0,0,31,0,0,0,1125,1156,1156]
[{"$f":"VLOOKUP(H1052,'Pivot ECAST'!A:B,2,FALSE)","v":2},2,"18700012","1870018","1870018","Huntington Park HS STEAM Magnet","7542","1870001","Magnet Ctr -Senior High","Magnet 2","Magnet 2","f","f","f","f","f","E","E","no","5","Jackie Goldberg","2x8",null,"ECAST",0,0,0,0,0,0,0,0,0,44,88,75,85,0,0,0,0,0,0,0,0,0,292,292,292]
[{"$f":"VLOOKUP(H1053,'Pivot ECAST'!A:B,2,FALSE)","v":1},1,"18701011","1870101","1870101","International St LC","8701","1870101","Span School","PHBAO","PHBAO","f","f","f","f","t","E","E","yes","5","Jackie Goldberg",null,null,"ECAST",0,0,0,0,0,0,136,139,142,175,166,80,87,0,0,0,0,2,0,0,0,0,925,927,927]
[{"$f":"VLOOKUP(H1054,'Pivot ECAST'!A:B,2,FALSE)","v":1},1,"18710011","1871001","1871001","Early College Acad","8710","1871001","Senior High School","PHBAO","PHBAO","f","f","f","f","f","C","C","no","2","Monica Garcia","2x8",null,"ECAST",0,0,0,0,0,0,0,0,0,34,28,51,50,0,0,0,0,0,0,0,0,0,163,163,163]
[{"$f":"VLOOKUP(H1055,'Pivot ECAST'!A:B,2,FALSE)","v":2},1,"18713011","1871301","1871301","Hawkins SH C/DAGS","8713","1871301","Senior High School","PHBAO","PHBAO","f","f","f","f","f","W","W","no","1","George McKenna",null,null,"ECAST",0,0,0,0,0,0,0,0,0,220,248,179,190,0,0,0,0,0,18,0,0,0,837,855,855]
[{"$f":"VLOOKUP(H1056,'Pivot ECAST'!A:B,2,FALSE)","v":2},2,"18713012","1871302","1871302","Hawkins HS Critical Design/Gaming Magnet","7510","1871301","Magnet Ctr -Senior High","Magnet 2","Magnet 2","f","f","f","f","f","W","W","no","1","George McKenna",null,null,"ECAST",0,0,0,0,0,0,0,0,0,72,50,56,98,0,0,0,0,0,0,0,0,0,276,276,276]
[{"$f":"VLOOKUP(H1057,'Pivot ECAST'!A:B,2,FALSE)","v":1},1,"18714011","1871401","1871401","Jefferson SH","8714","1871401","Senior High School","PHBAO","PHBAO","f","f","f","f","f","C","C","no","5","Jackie Goldberg","2x8",null,"ECAST",0,0,0,0,0,0,0,0,0,231,196,132,139,0,0,0,0,0,18,0,0,0,698,716,716]
[{"$f":"VLOOKUP(H1058,'Pivot ECAST'!A:B,2,FALSE)","v":1},1,"18716011","1871601","1871601","Santee Educ Complex","8716","1871601","Senior High School","PHBAO","PHBAO","f","f","f","f","f","C","C","no","5","Jackie Goldberg",null,null,"ECAST",0,0,0,0,0,0,0,0,0,506,432,364,361,0,0,0,0,0,62,0,0,0,1663,1725,1725]
[{"$f":"VLOOKUP(H1059,'Pivot ECAST'!A:B,2,FALSE)","v":1},1,"18721011","1872101","1872101","Jordan SH","8721","1872101","Senior High School","PHBAO","PHBAO","f","f","f","f","f","S","S","no","7","Tanya Ortiz Franklin",null,null,"ECAST",0,0,0,0,0,0,0,0,0,212,154,172,157,0,0,0,0,0,91,0,0,0,695,786,786]
[{"$f":"VLOOKUP(H1060,'Pivot ECAST'!A:B,2,FALSE)","v":4},1,"18725011","1872501","1872501","Kennedy SH","8725","1872501","Senior High School","PHBAO","PHBAO","f","f","f","f","f","NW","NW","no","3","Scott Schmerelson",null,null,"ECAST",0,0,0,0,0,0,0,0,0,288,281,303,285,0,0,0,0,0,97,0,0,0,1157,1254,1254]
[{"$f":"VLOOKUP(H1061,'Pivot ECAST'!A:B,2,FALSE)","v":4},2,"18725012","1872502","1872502","Kennedy A/DD/FM Magnet","8724","1872501","Magnet Ctr -Senior High","Magnet 2","Magnet 2","f","f","f","f","f","NW","NW","no","3","Scott Schmerelson",null,null,"ECAST",0,0,0,0,0,0,0,0,0,70,109,102,101,0,0,0,0,0,9,0,0,0,382,391,391]
[{"$f":"VLOOKUP(H1062,'Pivot ECAST'!A:B,2,FALSE)","v":4},3,"18725013","1872508","1872508","John F Kennedy Senior High Gifted Medical Mag","7951","1872501","Magnet Ctr -Senior High","Magnet 2","Magnet 2","f","f","f","f","f","NW","NW","no","3","Scott Schmerelson",null,null,"ECAST",0,0,0,0,0,0,0,0,0,75,103,124,125,0,0,0,0,0,0,0,0,0,427,427,427]
[{"$f":"VLOOKUP(H1063,'Pivot ECAST'!A:B,2,FALSE)","v":4},4,"18725014","1872509","1872509","Kennedy HS Global Lead/Env Action Magnet","8725","1872501","Magnet Ctr -Senior High","Magnet 2","Magnet 2","f","f","f","f","f","NW","NW","no","3","Scott Schmerelson",null,null,"ECAST",0,0,0,0,0,0,0,0,0,58,58,25,0,0,0,0,0,0,1,0,0,0,141,142,142]
[{"$f":"VLOOKUP(H1064,'Pivot ECAST'!A:B,2,FALSE)","v":1},1,"18727011","1872701","1872701","King-Drew Med Mag","8727","1872701","Magnet School - SHS","Magnet 2","Magnet 2","f","f","f","f","f","S","S","no","7","Tanya Ortiz Franklin",null,null,"ECAST",0,0,0,0,0,0,0,0,0,224,382,374,370,0,0,0,0,0,0,0,0,0,1350,1350,1350]
[{"$f":"VLOOKUP(H1065,'Pivot ECAST'!A:B,2,FALSE)","v":3},1,"18729011","1872901","1872901","Lincoln SH","8729","1872901","Senior High School","PHBAO","PHBAO","f","f","f","f","f","E","E","no","2","Monica Garcia","2x8",null,"ECAST",0,0,0,0,0,0,0,0,0,178,169,149,151,0,0,0,0,0,72,0,0,0,647,719,719]
[{"$f":"VLOOKUP(H1066,'Pivot ECAST'!A:B,2,FALSE)","v":3},2,"18729012","1872902","1872902","Abraham Lincoln SH Science/Tech/Math Mag","8732","1872901","Magnet Ctr -Senior High","Magnet 2","Magnet 2","f","f","f","f","f","E","E","no","2","Monica Garcia","2x8",null,"ECAST",0,0,0,0,0,0,0,0,0,75,65,62,52,0,0,0,0,0,0,0,0,0,254,254,254]
[{"$f":"VLOOKUP(H1067,'Pivot ECAST'!A:B,2,FALSE)","v":3},3,"18729013","1872908","1872908","Lincoln ESP Magnet","7578","1872901","Magnet Ctr -Senior High","Magnet 2","Magnet 2","f","f","f","f","f","E","E","no","2","Monica Garcia","2x8",null,"ECAST",0,0,0,0,0,0,0,0,0,27,31,51,55,0,0,0,0,0,0,0,0,0,164,164,164]
[{"$f":"VLOOKUP(H1068,'Pivot ECAST'!A:B,2,FALSE)","v":2},1,"18736011","1873601","1873601","Los Angeles SH","8736","1873601","Senior High School","PHBAO","PHBAO","f","f","f","f","f","W","W","no","1","George McKenna","2x8",null,"ECAST",0,0,0,0,0,0,0,0,0,225,219,150,155,0,0,0,0,0,26,0,0,0,749,775,775]
[{"$f":"VLOOKUP(H1069,'Pivot ECAST'!A:B,2,FALSE)","v":2},2,"18736012","1873602","1873602","Los Angeles HS STEAM Magnet","8739","1873601","Magnet Ctr -Senior High","Magnet 2","Magnet 2","f","f","f","f","f","W","W","no","1","George McKenna","2x8",null,"ECAST",0,0,0,0,0,0,0,0,0,54,64,61,68,0,0,0,0,0,3,0,0,0,247,250,250]
[{"$f":"VLOOKUP(H1070,'Pivot ECAST'!A:B,2,FALSE)","v":2},1,"18738011","1873801","1873801","Downtwn Business Mag","8738","1873801","Magnet School - SHS","Magnet 2","Magnet 2","f","f","f","f","f","C","C","no","2","Monica Garcia",null,null,"ECAST",0,0,0,0,0,0,0,0,0,114,140,150,158,0,0,0,0,0,0,0,0,0,562,562,562]
[{"$f":"VLOOKUP(H1071,'Pivot ECAST'!A:B,2,FALSE)","v":2},2,"18738012","1873803","1873803","Downtown Computer Sci/Digital Media Arts","8746","1873801","Magnet Ctr -Senior High","Magnet 2","Magnet 2","f","f","f","f","f","C","C","no","2","Monica Garcia",null,null,"ECAST",0,0,0,0,0,0,0,0,0,82,86,75,72,0,0,0,0,0,2,0,0,0,315,317,317]
[{"$f":"VLOOKUP(H1072,'Pivot ECAST'!A:B,2,FALSE)","v":1},1,"18741011","1874101","1874101","LACES Mag","8741","1874101","Span Magnet School","Magnet 1","Magnet 1","f","f","f","f","t","W","W","yes","1","George McKenna",null,null,"ECAST",0,0,0,0,0,0,204,148,219,227,217,221,224,0,0,0,0,1,1,0,0,0,1460,1462,1462]
[{"$f":"VLOOKUP(H1073,'Pivot ECAST'!A:B,2,FALSE)","v":2},1,"18743011","1874301","1874301","Manual Arts SH","8743","1874301","Senior High School","PHBAO","PHBAO","f","f","f","f","f","C","C","no","1","George McKenna","2x8",null,"ECAST",0,0,0,0,0,0,0,0,0,185,186,134,191,0,0,0,0,0,25,0,0,0,696,721,721]
[{"$f":"VLOOKUP(H1074,'Pivot ECAST'!A:B,2,FALSE)","v":2},2,"18743012","1874302","1874302","Manual Arts Col Prep","8744","1874301","Magnet Ctr -Senior High","Magnet 2","Magnet 2","f","f","f","f","f","C","C","no","1","George McKenna","2x8",null,"ECAST",0,0,0,0,0,0,0,0,0,61,67,81,83,0,0,0,0,0,0,0,0,0,292,292,292]
[{"$f":"VLOOKUP(H1075,'Pivot ECAST'!A:B,2,FALSE)","v":3},1,"18748011","1874801","1874801","West Adams Prep SH","8748","1874801","Senior High School","PHBAO","PHBAO","f","f","f","f","f","C","C","no","5","Jackie Goldberg","2x8",null,"ECAST",0,0,0,0,0,0,0,0,0,296,239,159,172,0,0,0,0,0,67,0,0,0,866,933,933]
[{"$f":"VLOOKUP(H1076,'Pivot ECAST'!A:B,2,FALSE)","v":3},2,"18748012","1874802","1874802","West Adams HS Firefighter Academy Magnet","7549","1874801","Magnet Ctr -Senior High","Magnet 2","Magnet 2","f","f","f","f","f","C","C","no","5","Jackie Goldberg","2x8",null,"ECAST",0,0,0,0,0,0,0,0,0,16,16,7,21,0,0,0,0,0,1,0,0,0,60,61,61]
[{"$f":"VLOOKUP(H1077,'Pivot ECAST'!A:B,2,FALSE)","v":3},3,"18748013","1874803","1874803","West Adams HS Police Academy Magnet","7558","1874801","Magnet Ctr -Senior High","Magnet 2","Magnet 2","f","f","f","f","f","C","C","no","5","Jackie Goldberg","2x8",null,"ECAST",0,0,0,0,0,0,0,0,0,30,30,21,36,0,0,0,0,0,0,0,0,0,117,117,117]
[{"$f":"VLOOKUP(H1078,'Pivot ECAST'!A:B,2,FALSE)","v":2},1,"18750011","1875001","1875001","Marshall SH","8750","1875001","Senior High School","PHBAO","PHBAO","f","f","f","f","f","C","C","no","2","Monica Garcia",null,null,"ECAST",0,0,0,0,0,0,0,0,0,382,398,377,364,0,0,0,0,0,74,0,0,0,1521,1595,1595]
[{"$f":"VLOOKUP(H1079,'Pivot ECAST'!A:B,2,FALSE)","v":2},2,"18750012","1875002","1875002","John Marshall Senior High Gifted Magnet","8751","1875001","Magnet Ctr -Senior High","Magnet 1","Magnet 1","f","f","f","f","f","C","C","no","2","Monica Garcia",null,null,"ECAST",0,0,0,0,0,0,0,0,0,82,89,97,100,0,0,0,0,0,0,0,0,0,368,368,368]
[{"$f":"VLOOKUP(H1080,'Pivot ECAST'!A:B,2,FALSE)","v":1},1,"18754011","1875401","1875401","Bravo Medical Mag","8754","1875401","Magnet School - SHS","Magnet 2","Magnet 2","f","f","f","f","f","E","E","no","2","Monica Garcia",null,null,"ECAST",0,0,0,0,0,0,0,0,0,277,516,433,371,0,0,0,0,0,0,0,0,0,1597,1597,1597]
[{"$f":"VLOOKUP(H1081,'Pivot ECAST'!A:B,2,FALSE)","v":1},1,"18760011","1876001","1876001","Middle College HS","8760","1876001","Senior High School","PHBAO","PHBAO","f","f","f","f","f","W","W","no","1","George McKenna","2x8",null,"ECAST",0,0,0,0,0,0,0,0,0,87,81,94,89,0,0,0,0,0,0,0,0,0,351,351,351]
[{"$f":"VLOOKUP(H1082,'Pivot ECAST'!A:B,2,FALSE)","v":4},1,"18768011","1876801","1876801","Monroe SH","8768","1876801","Senior High School","PHBAO","PHBAO","f","f","f","f","f","NW","NW","no","6","Kelly Gonez",null,null,"ECAST",0,0,0,0,0,0,0,0,0,352,335,288,359,0,0,0,0,0,144,0,0,0,1334,1478,1478]
[{"$f":"VLOOKUP(H1083,'Pivot ECAST'!A:B,2,FALSE)","v":4},2,"18768012","1876802","1876802","Monroe Police Acd Mg","8767","1876801","Magnet Ctr -Senior High","Magnet 2","Magnet 2","f","f","f","f","f","NW","NW","no","6","Kelly Gonez",null,null,"ECAST",0,0,0,0,0,0,0,0,0,27,35,36,37,0,0,0,0,0,2,0,0,0,135,137,137]
[{"$f":"VLOOKUP(H1084,'Pivot ECAST'!A:B,2,FALSE)","v":4},3,"18768013","1876803","1876803","Monroe Law/Gov Mag","8769","1876801","Magnet Ctr -Senior High","Magnet 2","Magnet 2","f","f","f","f","f","NW","NW","no","6","Kelly Gonez",null,null,"ECAST",0,0,0,0,0,0,0,0,0,60,55,65,55,0,0,0,0,0,0,0,0,0,235,235,235]
[{"$f":"VLOOKUP(H1085,'Pivot ECAST'!A:B,2,FALSE)","v":4},4,"18768014","1876812","1876812","Monroe HS Firefighter Academy Magnet","7540","1876801","Magnet Ctr -Senior High","Magnet 2","Magnet 2","f","f","f","f","f","NW","NW","no","6","Kelly Gonez",null,null,"ECAST",0,0,0,0,0,0,0,0,0,19,30,18,26,0,0,0,0,0,4,0,0,0,93,97,97]
[{"$f":"VLOOKUP(H1086,'Pivot ECAST'!A:B,2,FALSE)","v":1},1,"18774011","1877401","1877401","Contreras LC Glbl St","8774","1877401","Senior High School","PHBAO","PHBAO","f","f","f","f","f","C","C","no","2","Monica Garcia","2x8",null,"ECAST",0,0,0,0,0,0,0,0,0,94,102,45,85,0,0,0,0,0,1,0,0,0,326,327,327]
[{"$f":"VLOOKUP(H1087,'Pivot ECAST'!A:B,2,FALSE)","v":3},1,"18779011","1877901","1877901","Narbonne SH","8779","1877901","Senior High School","PHBAO","PHBAO","f","f","f","f","f","S","S","no","7","Tanya Ortiz Franklin","4x4",null,"ECAST",0,0,0,0,0,0,0,0,0,264,280,258,245,0,0,0,0,0,95,0,0,0,1047,1142,1142]
[{"$f":"VLOOKUP(H1088,'Pivot ECAST'!A:B,2,FALSE)","v":3},2,"18779012","1877902","1877902","Narbonne HS STEAM Magnet","8778","1877901","Magnet Ctr -Senior High","Magnet 2","Magnet 2","f","f","f","f","f","S","S","no","7","Tanya Ortiz Franklin","4x4",null,"ECAST",0,0,0,0,0,0,0,0,0,97,96,115,97,0,0,0,0,0,1,0,0,0,405,406,406]
[{"$f":"VLOOKUP(H1089,'Pivot ECAST'!A:B,2,FALSE)","v":3},3,"18779013","1877911","1877911","Narbonne HS Bus/Entrep/Tech Magnet","7543","1877901","Magnet Ctr -Senior High","Magnet 2","Magnet 2","f","f","f","f","f","S","S","no","7","Tanya Ortiz Franklin","4x4",null,"ECAST",0,0,0,0,0,0,0,0,0,71,73,48,60,0,0,0,0,0,4,0,0,0,252,256,256]
[{"$f":"VLOOKUP(H1090,'Pivot ECAST'!A:B,2,FALSE)","v":4},1,{"$f":"H1090&B1090","v":"18786011"},"1878601","1878601","No Hollywood SH","8786","1878601","Senior High School","PHBAO","PHBAO","f","f","f","f","f","NE","NE","no","3","Scott Schmerelson",null,null,"ECAST",0,0,0,0,0,0,0,0,0,401,367,405,449,0,0,0,0,0,72,0,0,0,1622,1694,1694]
[{"$f":"VLOOKUP(H1091,'Pivot ECAST'!A:B,2,FALSE)","v":4},2,"18786012",{"$f":"E1091","v":"1878602"},"1878602","No Hollywood Hg Mag","8785","1878601","Magnet Ctr -Senior High","Magnet 1","Magnet 1","f","f","f","f","f","NE","NE","no","3","Scott Schmerelson",null,null,"ECAST",0,0,0,0,0,0,0,0,0,50,63,85,97,0,0,0,0,0,0,0,0,0,295,295,295]
[{"$f":"VLOOKUP(H1092,'Pivot ECAST'!A:B,2,FALSE)","v":4},{"$f":"IF(H1092=H1091,B1091+1,1)","v":3},"18786013","1878603","1878603","NHHS/LA Zoo Biol Mag","8787","1878601","Magnet Ctr -Senior High","Magnet 1","Magnet 1","f","f","f","f","f","NE","NE","no","3","Scott Schmerelson",null,null,"ECAST",0,0,0,0,0,0,0,0,0,46,86,59,79,0,0,0,0,0,2,0,0,0,{"$f":"SUM(Y1092:AN1092)","v":270},{"$f":"AU1092+AO1092+AP1092+AQ1092","v":272},{"$f":"AV1092+SUM(AR1092:AT1092)","v":272}]
[{"$f":"VLOOKUP(H1093,'Pivot ECAST'!A:B,2,FALSE)","v":4},4,"18786014","1878612","1878612","North Hollywood HS STEM Magnet","7544","1878601","Magnet Ctr -Senior High","Magnet 1","Magnet 1","f","f","f","f","f","NE","NE","no","3","Scott Schmerelson",null,null,"ECAST",0,0,0,0,0,0,0,0,0,8,62,92,83,0,0,0,0,0,0,0,0,0,245,245,245]
[{"$f":"VLOOKUP(H1094,'Pivot ECAST'!A:B,2,FALSE)","v":4},1,"18814011","1881401","1881401","Reseda Charter High School","8814","1881401","Span School","PHBAO","PHBAO","f","t","f","f","t","NW","NW","yes","4","Nick Melvoin","4x4",null,"ECAST",0,0,0,0,0,0,56,54,50,180,161,148,133,0,0,0,0,2,92,0,0,0,782,876,876]
[{"$f":"VLOOKUP(H1095,'Pivot ECAST'!A:B,2,FALSE)","v":4},2,"18814012","1881402","1881402","Reseda Charter HS Police Academy Magnet","8813","1881401","Magnet Ctr -Senior High","Magnet 2","Magnet 2","f","t","f","f","f","NW","NW","yes","4","Nick Melvoin","4x4",null,"ECAST",0,0,0,0,0,0,0,0,0,53,51,50,55,0,0,0,0,0,6,0,0,0,209,215,215]
[{"$f":"VLOOKUP(H1096,'Pivot ECAST'!A:B,2,FALSE)","v":4},3,"18814013","1881403","1881403","Reseda Charter HS Science Magnet","8815","1881401","Magnet Ctr -Senior High","Magnet 2","Magnet 2","f","t","f","f","f","NW","NW","yes","4","Nick Melvoin","4x4",null,"ECAST",0,0,0,0,0,0,0,0,0,79,85,53,75,0,0,0,0,0,0,0,0,0,292,292,292]
[{"$f":"VLOOKUP(H1097,'Pivot ECAST'!A:B,2,FALSE)","v":4},4,"18814014","1881409","1881409","Reseda Charter HS Arts/Media/Ent Magnet","7600","1881401","Magnet Ctr -Senior High","Magnet 2","Magnet 2","f","t","f","f","f","NW","NW","yes","4","Nick Melvoin","4x4",null,"ECAST",0,0,0,0,0,0,0,0,0,32,29,25,30,0,0,0,0,0,6,0,0,0,116,122,122]
[{"$f":"VLOOKUP(H1098,'Pivot ECAST'!A:B,2,FALSE)","v":1},1,"18838011","1883801","1883801","Narbonne SH Harts LA","8838","1883801","Senior High School","PHBAO","PHBAO","f","f","f","f","f","S","S","no","7","Tanya Ortiz Franklin",null,null,"ECAST",0,0,0,0,0,0,0,0,0,121,119,90,91,0,0,0,0,0,8,0,0,0,421,429,429]
[{"$f":"VLOOKUP(H1099,'Pivot ECAST'!A:B,2,FALSE)","v":1},1,"18842011","1884201","1884201","SOCES Mag","8842","1884201","Span Magnet School","Magnet 1","Magnet 1","f","f","f","f","t","NW","NW","yes","4","Nick Melvoin",null,null,"ECAST",0,0,0,0,174,174,179,216,216,238,239,258,236,0,0,0,0,0,0,0,0,0,1930,1930,1930]
[{"$f":"VLOOKUP(H1100,'Pivot ECAST'!A:B,2,FALSE)","v":2},1,"18843011","1884301","1884301","San Fernando SH","8843","1884301","Senior High School","PHBAO","PHBAO","f","f","f","f","f","NE","NE","no","6","Kelly Gonez",null,null,"ECAST",0,0,0,0,0,0,0,0,0,399,376,330,276,0,0,0,0,0,146,0,0,0,1381,1527,1527]
[{"$f":"VLOOKUP(H1101,'Pivot ECAST'!A:B,2,FALSE)","v":2},2,"18843012","1884302","1884302","San Fernando Senior High Science/Tech/Math","8844","1884301","Magnet Ctr -Senior High","Magnet 2","Magnet 2","f","f","f","f","f","NE","NE","no","6","Kelly Gonez",null,null,"ECAST",0,0,0,0,0,0,0,0,0,66,105,109,102,0,0,0,0,0,1,0,0,0,382,383,383]
[{"$f":"VLOOKUP(H1102,'Pivot ECAST'!A:B,2,FALSE)","v":5},1,"18850011","1885001","1885001","San Pedro SH","8850","1885001","Senior High School","PHBAO","PHBAO","f","f","f","f","f","S","S","no","7","Tanya Ortiz Franklin",null,null,"ECAST",0,0,0,0,0,0,0,0,0,405,393,418,373,0,0,0,0,0,114,0,0,0,1589,1703,1703]
[{"$f":"VLOOKUP(H1103,'Pivot ECAST'!A:B,2,FALSE)","v":5},2,"18850012","1885002","1885002","San Pedro Pol Acd Mg","8847","1885001","Magnet Ctr -Senior High","Magnet 2","Magnet 2","f","f","f","f","f","S","S","no","7","Tanya Ortiz Franklin",null,null,"ECAST",0,0,0,0,0,0,0,0,0,19,28,21,22,0,0,0,0,0,6,0,0,0,90,96,96]
[{"$f":"VLOOKUP(H1104,'Pivot ECAST'!A:B,2,FALSE)","v":5},3,"18850013","1885003","1885003","San Pedro Senior High Marine Science/Tech","8851","1885001","Magnet Ctr -Senior High","Magnet 1","Magnet 1","f","f","f","f","f","S","S","no","7","Tanya Ortiz Franklin",null,null,"ECAST",0,0,0,0,0,0,0,0,0,61,82,88,88,0,0,0,0,0,1,0,0,0,319,320,320]
[{"$f":"VLOOKUP(H1105,'Pivot ECAST'!A:B,2,FALSE)","v":5},4,"18850014","1885010","1885010","San Pedro Senior High Gifted STEAM Magnet","7586","1885001","Magnet Ctr -Senior High","Magnet 2","Magnet 2","f","f","f","f","f","S","S","no","7","Tanya Ortiz Franklin",null,null,"ECAST",0,0,0,0,0,0,0,0,0,46,82,82,82,0,0,0,0,0,0,0,0,0,292,292,292]
[{"$f":"VLOOKUP(H1106,'Pivot ECAST'!A:B,2,FALSE)","v":5},5,"18850015","1885011","1885011","San Pedro HS Visual/Perf Arts Magnet","7547","1885001","Magnet Ctr -Senior High","Magnet 2","Magnet 2","f","f","f","f","f","S","S","no","7","Tanya Ortiz Franklin",null,null,"ECAST",0,0,0,0,0,0,0,0,0,48,69,65,65,0,0,0,0,0,1,0,0,0,247,248,248]
[{"$f":"VLOOKUP(H1107,'Pivot ECAST'!A:B,2,FALSE)","v":1},1,"18853011","1885301","1885301","Orthopaedic Hosp Mag","8853","1885301","Magnet School - SHS","Magnet 2","Magnet 2","f","f","f","f","f","C","C","no","5","Jackie Goldberg",null,null,"ECAST",0,0,0,0,0,0,0,0,0,97,200,230,170,0,0,0,0,0,0,0,0,0,697,697,697]
[{"$f":"VLOOKUP(H1108,'Pivot ECAST'!A:B,2,FALSE)","v":1},1,"18866011","1886601","1886601","Marquez SH HPIAM","8866","1886601","Senior High School","PHBAO","PHBAO","f","f","f","f","f","E","E","no","5","Jackie Goldberg","2x8",null,"ECAST",0,0,0,0,0,0,0,0,0,152,179,177,169,0,0,0,0,0,4,0,0,0,677,681,681]
[{"$f":"VLOOKUP(H1109,'Pivot ECAST'!A:B,2,FALSE)","v":1},1,"18867011","1886701","1886701","Rivera LC Pub Srv","8867","1886701","Senior High School","PHBAO","PHBAO","f","f","f","f","f","S","S","no","7","Tanya Ortiz Franklin",null,null,"ECAST",0,0,0,0,0,0,0,0,0,140,133,105,127,0,0,0,0,0,1,0,0,0,505,506,506]
[{"$f":"VLOOKUP(H1110,'Pivot ECAST'!A:B,2,FALSE)","v":2},1,"18868011","1886801","1886801","Rancho Domingz Prep","8868","1886801","Span School","PHBAO","PHBAO","f","f","f","f","t","S","S","yes","7","Tanya Ortiz Franklin",null,null,"ECAST",0,0,0,0,0,0,85,82,59,124,94,80,44,0,0,0,0,3,28,0,0,0,568,599,599]
[{"$f":"VLOOKUP(H1111,'Pivot ECAST'!A:B,2,FALSE)","v":2},2,"18868012","1886802","1886802","Rancho Dominguez PS Law/Gov/Pub Serv Mag","2346","1886801","Magnet Ctr -Senior High","Magnet 2","Magnet 2","f","f","f","f","f","S","S","yes","7","Tanya Ortiz Franklin",null,null,"ECAST",0,0,0,0,0,0,0,0,0,34,44,44,41,0,0,0,0,0,0,0,0,0,163,163,163]
[{"$f":"VLOOKUP(H1112,'Pivot ECAST'!A:B,2,FALSE)","v":2},1,"18871011","1887101","1887101","South Gate SH","8871","1887101","Senior High School","PHBAO","PHBAO","f","f","f","f","f","E","E","no","5","Jackie Goldberg","2x8",null,"ECAST",0,0,0,0,0,0,0,0,0,368,348,430,440,0,0,0,0,0,62,0,0,0,1586,1648,1648]
[{"$f":"VLOOKUP(H1113,'Pivot ECAST'!A:B,2,FALSE)","v":2},2,"18871012","1887110","1887110","South Gate HS Pub Service/Biomed Magnet","8871","1887101","Magnet Ctr -Senior High","Magnet 2","Magnet 2","f","f","f","f","f","E","E","no","5","Jackie Goldberg","2x8",null,"ECAST",0,0,0,0,0,0,0,0,0,70,60,30,0,0,0,0,0,0,0,0,0,0,160,160,160]
[{"$f":"VLOOKUP(H1114,'Pivot ECAST'!A:B,2,FALSE)","v":2},1,"18878011","1887801","1887801","Sylmar Charter High School","8878","1887801","Senior High School","PHBAO","PHBAO","f","t","f","f","f","NE","NE","no","6","Kelly Gonez",null,null,"ECAST",0,0,0,0,0,0,0,0,0,361,361,195,151,0,0,0,0,0,118,0,0,0,1068,1186,1186]
[{"$f":"VLOOKUP(H1115,'Pivot ECAST'!A:B,2,FALSE)","v":2},2,"18878012","1887802","1887802","Sylmar Charter HS Sci/Tech/Math Magnet","8879","1887801","Magnet Ctr -Senior High","Magnet 2","Magnet 2","f","t","f","f","f","NE","NE","no","6","Kelly Gonez",null,null,"ECAST",0,0,0,0,0,0,0,0,0,71,127,98,86,0,0,0,0,0,1,0,0,0,382,383,383]
[{"$f":"VLOOKUP(H1116,'Pivot ECAST'!A:B,2,FALSE)","v":2},1,"18880011","1888001","1888001","William Howard Taft Charter HS","8880","1888001","Senior High School","Desegregated/Receiver","Non-PHBAO","f","t","f","f","f","NW","NW","no","4","Nick Melvoin",null,null,"ECAST",0,0,0,0,0,0,0,0,0,504,464,387,348,0,0,0,0,0,65,0,0,0,1703,1768,1768]
[{"$f":"VLOOKUP(H1117,'Pivot ECAST'!A:B,2,FALSE)","v":2},2,"18880012","1888007","1888007","William Howard Taft Charter SH Gifted St","7952","1888001","Magnet Ctr -Senior High","Magnet 1","Magnet 1","f","t","f","f","f","NW","NW","no","4","Nick Melvoin",null,null,"ECAST",0,0,0,0,0,0,0,0,0,132,136,112,111,0,0,0,0,0,0,0,0,0,491,491,491]
[{"$f":"VLOOKUP(H1118,'Pivot ECAST'!A:B,2,FALSE)","v":2},1,"18881011","1888101","1888101","South East SH","8881","1888101","Senior High School","PHBAO","PHBAO","f","f","f","f","f","E","E","no","5","Jackie Goldberg","2x8",null,"ECAST",0,0,0,0,0,0,0,0,0,371,362,323,285,0,0,0,0,0,88,0,0,0,1341,1429,1429]
[{"$f":"VLOOKUP(H1119,'Pivot ECAST'!A:B,2,FALSE)","v":2},2,"18881012","1888108","1888108","South East HS Steam Magnet","8019","1888101","Magnet Ctr -Senior High","Magnet 2","Magnet 2","f","f","f","f","f","E","E","no","5","Jackie Goldberg","2x8",null,"ECAST",0,0,0,0,0,0,0,0,0,113,135,117,107,0,0,0,0,0,1,0,0,0,472,473,473]
[{"$f":"VLOOKUP(H1120,'Pivot ECAST'!A:B,2,FALSE)","v":1},1,"18882011","1888201","1888201","Maywood Academy SH","8882","1888201","Senior High School","PHBAO","PHBAO","f","f","f","f","f","E","E","no","5","Jackie Goldberg","2x8",null,"ECAST",0,0,0,0,0,0,0,0,0,278,289,201,200,0,0,0,0,0,20,0,0,0,968,988,988]
[{"$f":"VLOOKUP(H1121,'Pivot ECAST'!A:B,2,FALSE)","v":2},1,"18886011","1888601","1888601","University High School Charter","8886","1888601","Senior High School","PHBAO","PHBAO","f","t","f","f","f","W","W","no","4","Nick Melvoin",null,null,"ECAST",0,0,0,0,0,0,0,0,0,252,264,204,192,0,0,0,0,0,82,0,0,0,912,994,994]
[{"$f":"VLOOKUP(H1122,'Pivot ECAST'!A:B,2,FALSE)","v":2},2,"18886012","1888607","1888607","University Charter HS Mth/Art/Sci/Tch Mg","7754","1888601","Magnet Ctr -Senior High","Magnet 2","Magnet 2","f","t","f","f","f","W","W","no","4","Nick Melvoin",null,null,"ECAST",0,0,0,0,0,0,0,0,0,96,112,112,130,0,0,0,0,0,9,0,0,0,450,459,459]
[{"$f":"VLOOKUP(H1123,'Pivot ECAST'!A:B,2,FALSE)","v":4},1,"18893011","1889301","1889301","Van Nuys SH","8893","1889301","Senior High School","PHBAO","PHBAO","f","f","f","f","f","NE","NE","no","3","Scott Schmerelson",null,null,"ECAST",0,0,0,0,0,0,0,0,0,322,299,225,228,0,0,0,0,0,59,0,0,0,1074,1133,1133]
[{"$f":"VLOOKUP(H1124,'Pivot ECAST'!A:B,2,FALSE)","v":4},2,"18893012","1889302","1889302","Van Nuys Medical Mag","8891","1889301","Magnet Ctr -Senior High","Magnet 2","Magnet 2","f","f","f","f","f","NE","NE","no","3","Scott Schmerelson",null,null,"ECAST",0,0,0,0,0,0,0,0,0,45,68,88,69,0,0,0,0,0,0,0,0,0,270,270,270]
[{"$f":"VLOOKUP(H1125,'Pivot ECAST'!A:B,2,FALSE)","v":4},3,"18893013","1889303","1889303","Van Nuys Senior High Science/Tech/Math Mag","8892","1889301","Magnet Ctr -Senior High","Magnet 2","Magnet 2","f","f","f","f","f","NE","NE","no","3","Scott Schmerelson",null,null,"ECAST",0,0,0,0,0,0,0,0,0,97,165,149,151,0,0,0,0,0,2,0,0,0,562,564,564]
[{"$f":"VLOOKUP(H1126,'Pivot ECAST'!A:B,2,FALSE)","v":4},4,"18893014","1889304","1889304","Van Nuys Per Arts Mg","8894","1889301","Magnet Ctr -Senior High","Magnet 2","Magnet 2","f","f","f","f","f","NE","NE","no","3","Scott Schmerelson",null,null,"ECAST",0,0,0,0,0,0,0,0,0,80,105,91,106,0,0,0,0,0,6,0,0,0,382,388,388]
[{"$f":"VLOOKUP(H1127,'Pivot ECAST'!A:B,2,FALSE)","v":1},1,"18898011","1889801","1889801","Valley Acad Arts/Sci","8898","1889801","Senior High School","PHBAO","PHBAO","f","f","f","f","f","NW","NW","no","3","Scott Schmerelson","2x8",null,"ECAST",0,0,0,0,0,0,0,0,0,196,188,207,236,0,0,0,0,0,24,0,0,0,827,851,851]
[{"$f":"VLOOKUP(H1128,'Pivot ECAST'!A:B,2,FALSE)","v":1},1,"18901011","1890101","1890101","Chavez Learning Acad-Technology Prep","8901","1890101","Senior High School","PHBAO","PHBAO","f","f","f","f","f","NE","NE","no","6","Kelly Gonez","4x4",null,"ECAST",0,0,0,0,0,0,0,0,0,95,62,74,93,0,0,0,0,0,3,0,0,0,324,327,327]
[{"$f":"VLOOKUP(H1129,'Pivot ECAST'!A:B,2,FALSE)","v":3},1,"18907011","1890701","1890701","Venice SH","8907","1890701","Senior High School","PHBAO","PHBAO","f","f","f","f","f","W","W","no","4","Nick Melvoin",null,null,"ECAST",0,0,0,0,0,0,0,0,0,290,302,247,199,0,0,0,0,0,62,0,0,0,1038,1100,1100]
[{"$f":"VLOOKUP(H1130,'Pivot ECAST'!A:B,2,FALSE)","v":3},2,"18907012","1890702","1890702","Venice SH World Languages/Global Studies","8911","1890701","Magnet Ctr -Senior High","Magnet 2","Magnet 2","f","f","f","f","f","W","W","no","4","Nick Melvoin",null,null,"ECAST",0,0,0,0,0,0,0,0,0,98,129,113,87,0,0,0,0,0,2,0,0,0,427,429,429]
[{"$f":"VLOOKUP(H1131,'Pivot ECAST'!A:B,2,FALSE)","v":3},3,"18907013","1890707","1890707","Venice SH STEMM Mag","7647","1890701","Magnet Ctr -Senior High","Magnet 2","Magnet 2","f","f","f","f","f","W","W","no","4","Nick Melvoin",null,null,"ECAST",0,0,0,0,0,0,0,0,0,82,143,122,125,0,0,0,0,0,3,0,0,0,472,475,475]
[{"$f":"VLOOKUP(H1132,'Pivot ECAST'!A:B,2,FALSE)","v":3},1,"18914011","1891401","1891401","Verdugo Hills SH","8914","1891401","Senior High School","PHBAO","PHBAO","f","f","f","f","f","NE","NE","no","6","Kelly Gonez","4x4",null,"ECAST",0,0,0,0,0,0,0,0,0,146,131,115,123,0,0,0,0,0,32,0,0,0,515,547,547]
[{"$f":"VLOOKUP(H1133,'Pivot ECAST'!A:B,2,FALSE)","v":3},2,"18914012","1891402","1891402","Verdguo Hills HS STEMM Magnet","8913","1891401","Magnet Ctr -Senior High","Magnet 1","Magnet 1","f","f","f","f","f","NE","NE","no","6","Kelly Gonez","4x4",null,"ECAST",0,0,0,0,0,0,0,0,0,85,112,110,110,0,0,0,0,0,0,0,0,0,417,417,417]
[{"$f":"VLOOKUP(H1134,'Pivot ECAST'!A:B,2,FALSE)","v":3},3,"18914013","1891408","1891408","Verdugo Hills SH Visual and Performing Acad","7648","1891401","Magnet Ctr -Senior High","Magnet 1","Magnet 1","f","f","f","f","f","NE","NE","no","6","Kelly Gonez","4x4",null,"ECAST",0,0,0,0,0,0,0,0,0,58,47,59,66,0,0,0,0,0,6,0,0,0,230,236,236]
[{"$f":"VLOOKUP(H1135,'Pivot ECAST'!A:B,2,FALSE)","v":1},1,"18917011","1891701","1891701","Maywood Center for Enriched Studies Mag","8917","1891701","Span Magnet School","Magnet 2","Magnet 2","f","f","f","f","t","E","E","yes","5","Jackie Goldberg",null,null,"ECAST",0,0,0,0,0,0,105,141,114,136,240,210,201,0,0,0,0,0,0,0,0,0,1147,1147,1147]
[{"$f":"VLOOKUP(H1136,'Pivot ECAST'!A:B,2,FALSE)","v":1},1,"18921011","1892101","1892101","Legacy SH STEAM","8921","1892101","Senior High School","PHBAO","PHBAO","f","f","f","f","f","E","E","no","5","Jackie Goldberg","2x8",null,"ECAST",0,0,0,0,0,0,0,0,0,100,117,159,157,0,0,0,0,0,1,0,0,0,533,534,534]
[{"$f":"VLOOKUP(H1137,'Pivot ECAST'!A:B,2,FALSE)","v":2},1,"18928011","1892801","1892801","Washington Prep SH","8928","1892801","Senior High School","PHBAO","PHBAO","f","f","f","f","f","W","W","no","1","George McKenna","2x8",null,"ECAST",0,0,0,0,0,0,0,0,0,151,146,101,126,0,0,0,0,0,37,0,0,0,524,561,561]
[{"$f":"VLOOKUP(H1138,'Pivot ECAST'!A:B,2,FALSE)","v":2},2,"18928012","1892803","1892803","Washington Preparatory HS STEAM Magnet","8927","1892801","Magnet Ctr -Senior High","Magnet 2","Magnet 2","f","f","f","f","f","W","W","no","1","George McKenna","2x8",null,"ECAST",0,0,0,0,0,0,0,0,0,58,61,58,42,0,0,0,0,0,5,0,0,0,219,224,224]
[{"$f":"VLOOKUP(H1139,'Pivot ECAST'!A:B,2,FALSE)","v":3},1,"18943011","1894301","1894301","WESM Hlth/Sports Med","8943","1894301","Magnet School - SHS","Magnet 2","Magnet 2","f","f","f","f","f","W","W","no","4","Nick Melvoin",null,null,"ECAST",0,0,0,0,0,0,0,0,0,86,78,99,76,0,0,0,0,0,19,0,0,0,339,358,358]
[{"$f":"VLOOKUP(H1140,'Pivot ECAST'!A:B,2,FALSE)","v":3},2,"18943012","1894309","1894309","Westchester Gifted/STEAM Magnet","7695","1894301","Magnet Ctr -Senior High","Magnet 2","Magnet 2","f","f","f","f","f","W","W","no","4","Nick Melvoin",null,null,"ECAST",0,0,0,0,0,0,0,0,0,37,28,26,26,0,0,0,0,0,0,0,0,0,117,117,117]
[{"$f":"VLOOKUP(H1141,'Pivot ECAST'!A:B,2,FALSE)","v":3},3,"18943013","1894310","1894310","WESM Env Natrl Sci","7696","1894301","Magnet Ctr -Senior High","Magnet 2","Magnet 2","f","f","f","f","f","W","W","no","4","Nick Melvoin",null,null,"ECAST",0,0,0,0,0,0,0,0,0,55,52,50,48,0,0,0,0,0,7,0,0,0,205,212,212]
[null,null,null,null,null,null,null,null,null,null,null,null,null,null,null,null,null,null,null,null,null,null,null,"Total",{"$f":"SUM(Y3:Y1141)","v":36296},{"$f":"SUM(Z3:Z1141)","v":28650},{"$f":"SUM(AA3:AA1141)","v":29654},{"$f":"SUM(AB3:AB1141)","v":30696},{"$f":"SUM(AC3:AC1141)","v":30924},{"$f":"SUM(AD3:AD1141)","v":31507},{"$f":"SUM(AE3:AE1141)","v":27659},{"$f":"SUM(AF3:AF1141)","v":27801},{"$f":"SUM(AG3:AG1141)","v":28081},{"$f":"SUM(AH3:AH1141)","v":29820},{"$f":"SUM(AI3:AI1141)","v":30273},{"$f":"SUM(AJ3:AJ1141)","v":27087},{"$f":"SUM(AK3:AK1141)","v":27118},{"$f":"SUM(AL3:AL1141)","v":0},{"$f":"SUM(AM3:AM1141)","v":0},{"$f":"SUM(AN3:AN1141)","v":0},{"$f":"SUM(AO3:AO1141)","v":8570},{"$f":"SUM(AP3:AP1141)","v":4580},{"$f":"SUM(AQ3:AQ1141)","v":4448},{"$f":"SUM(AR3:AR1141)","v":2436},{"$f":"SUM(AS3:AS1141)","v":1650},{"$f":"SUM(AT3:AT1141)","v":4600},{"$f":"SUM(AU3:AU1141)","v":385566},{"$f":"SUM(AV3:AV1141)","v":403164},{"$f":"SUM(AW3:AW1141)","v":411850}]
[null,null,null,null,null,null,null,null,null,null,null,null,null,null,null,null,null,null,null,null,null,null,null,"7/29/22 ECAST",36296,28650,29654,30696,30924,31507,27659,27801,28081,29820,30273,27087,27118,0,0,0,8570,4580,4448,2436,1650,4600,385566,403164,411850]
[null,null,null,null,null,null,null,null,null,null,null,null,null,null,null,null,null,null,null,null,null,null,null,"Diff",{"$f":"Y1142-Y1143","v":0},{"$f":"Z1142-Z1143","v":0},0,0,0,0,0,0,0,0,0,0,0,0,0,0,0,0,0,0,0,0,0,0,0]

{"sheet":"School List","index":10,"n_rows":1141,"n_cols":9,"rows_kept":1141,"cut":false,"hidden":true,"merged":[]}
["Norm Day","Not updated",null,null,null,"ECAST","Removed non-norm schools","7/29/22 updated"]
["Cost Center","School Name","Combined",null,null,"Cost Center","School Name","Combined","Char Count"]
["1194901","Marlton",{"$f":"A3&\"-\"&B3","v":"1194901-Marlton"},null,null,"1201401",{"$f":"VLOOKUP(F3, 'ECAST Lookup'!A:C,3,FALSE)","v":"Albion El"},{"$f":"F3&\"-\"&G3","v":"1201401-Albion El"},{"$f":"LEN(H3)","v":17}]
["1201401","Albion El",{"$f":"A4&\"-\"&B4","v":"1201401-Albion El"},null,null,"1202701",{"$f":"VLOOKUP(F4, 'ECAST Lookup'!A:C,3,FALSE)","v":"Aldama El"},{"$f":"F4&\"-\"&G4","v":"1202701-Aldama El"},{"$f":"LEN(H4)","v":17}]
["1202701","Aldama El","1202701-Aldama El",null,null,"1202702",{"$f":"VLOOKUP(F5, 'ECAST Lookup'!A:C,3,FALSE)","v":"Aldama El DTS"},"1202702-Aldama El DTS",21]
["1202702","Aldama El DL Two-Way Im Spanish","1202702-Aldama El DL Two-Way Im Spanish",null,null,"1204101",{"$f":"VLOOKUP(F6, 'ECAST Lookup'!A:C,3,FALSE)","v":"Alexandria El"},"1204101-Alexandria El",21]
["1204101","Alexandria El","1204101-Alexandria El",null,null,"1204102",{"$f":"VLOOKUP(F7, 'ECAST Lookup'!A:C,3,FALSE)","v":"Alexandria El DTS"},"1204102-Alexandria El DTS",25]
["1204102","Alexandria Ave. El DL Two-Way Im Spanish","1204102-Alexandria Ave. El DL Two-Way Im Spanish",null,null,"1204201",{"$f":"VLOOKUP(F8, 'ECAST Lookup'!A:C,3,FALSE)","v":"Harvard El"},"1204201-Harvard El",18]
["1204201","Harvard El","1204201-Harvard El",null,null,"1204202",{"$f":"VLOOKUP(F9, 'ECAST Lookup'!A:C,3,FALSE)","v":"Harvard El DTS"},"1204202-Harvard El DTS",22]
["1204202","Harvard El DL Two-Way Im Spanish","1204202-Harvard El DL Two-Way Im Spanish",null,null,"1206801",{"$f":"VLOOKUP(F10, 'ECAST Lookup'!A:C,3,FALSE)","v":"Allesandro El"},"1206801-Allesandro El",21]
["1206801","Allesandro El","1206801-Allesandro El",null,null,"1206802",{"$f":"VLOOKUP(F11, 'ECAST Lookup'!A:C,3,FALSE)","v":"Allesndro Coop Lr Mg"},"1206802-Allesndro Coop Lr Mg",28]
["1206802","Allesndro Coop Lr Mg","1206802-Allesndro Coop Lr Mg",null,null,"1208201",{"$f":"VLOOKUP(F12, 'ECAST Lookup'!A:C,3,FALSE)","v":"Alta Loma El"},"1208201-Alta Loma El",20]
["1208201","Alta Loma El","1208201-Alta Loma El",null,null,"1208202",{"$f":"VLOOKUP(F13, 'ECAST Lookup'!A:C,3,FALSE)","v":"Alta Loma El DTS"},"1208202-Alta Loma El DTS",24]
["1208202","Alta Loma El DL Two-Way Im Spanish","1208202-Alta Loma El DL Two-Way Im Spanish",null,null,"1208901",{"$f":"VLOOKUP(F14, 'ECAST Lookup'!A:C,3,FALSE)","v":"Ambler El"},"1208901-Ambler El",17]
["1208901","Ambler El","1208901-Ambler El",null,null,"1208902",{"$f":"VLOOKUP(F15, 'ECAST Lookup'!A:C,3,FALSE)","v":"Ambler Av Gifted Mag"},"1208902-Ambler Av Gifted Mag",28]
["1208902","Ambler Avenue Elementary Gifted Magnet","1208902-Ambler Avenue Elementary Gifted Magnet",null,null,"1208903",{"$f":"VLOOKUP(F16, 'ECAST Lookup'!A:C,3,FALSE)","v":"Ambler El DTS"},"1208903-Ambler El DTS",21]
["1208903","Ambler El DL Two-Way Im Spanish","1208903-Ambler El DL Two-Way Im Spanish",null,null,"1209601",{"$f":"VLOOKUP(F17, 'ECAST Lookup'!A:C,3,FALSE)","v":"Amestoy El"},"1209601-Amestoy El",18]
["1209601","Amestoy El","1209601-Amestoy El",null,null,"1209602",{"$f":"VLOOKUP(F18, 'ECAST Lookup'!A:C,3,FALSE)","v":"Amestoy ES Ml/MC Mag"},"1209602-Amestoy ES Ml/MC Mag",28]
["1209602","Amestoy ES Multilingual/Multicultural Mg","1209602-Amestoy ES Multilingual/Multicultural Mg",null,null,"1209603",{"$f":"VLOOKUP(F19, 'ECAST Lookup'!A:C,3,FALSE)","v":"Amestoy El DTJ"},"1209603-Amestoy El DTJ",22]
["1211001","Anatola El","1211001-Anatola El",null,null,"1211001",{"$f":"VLOOKUP(F20, 'ECAST Lookup'!A:C,3,FALSE)","v":"Anatola El"},"1211001-Anatola El",18]
["1211701","Andasol El","1211701-Andasol El",null,null,"1211701",{"$f":"VLOOKUP(F21, 'ECAST Lookup'!A:C,3,FALSE)","v":"Andasol El"},"1211701-Andasol El",18]
["1212301","Angeles Mesa El","1212301-Angeles Mesa El",null,null,"1212301",{"$f":"VLOOKUP(F22, 'ECAST Lookup'!A:C,3,FALSE)","v":"Angeles Mesa El"},"1212301-Angeles Mesa El",23]
["1212302","Angeles Mesa ES DREAMS Magnet","1212302-Angeles Mesa ES DREAMS Magnet",null,null,"1212302",{"$f":"VLOOKUP(F23, 'ECAST Lookup'!A:C,3,FALSE)","v":"Angls Msa DREAMS Mg"},"1212302-Angls Msa DREAMS Mg",27]
["1213701","Ann El","1213701-Ann El",null,null,"1213701",{"$f":"VLOOKUP(F24, 'ECAST Lookup'!A:C,3,FALSE)","v":"Ann El"},"1213701-Ann El",14]
["1214601","Annalee El","1214601-Annalee El",null,null,"1214601",{"$f":"VLOOKUP(F25, 'ECAST Lookup'!A:C,3,FALSE)","v":"Annalee El"},"1214601-Annalee El",18]
["1214602","Annalee Av ES STEAM Mag","1214602-Annalee Av ES STEAM Mag",null,null,"1214602",{"$f":"VLOOKUP(F26, 'ECAST Lookup'!A:C,3,FALSE)","v":"Annalee Av STEAM Mag"},"1214602-Annalee Av STEAM Mag",28]
["1215101","Annandale El","1215101-Annandale El",null,null,"1215101",{"$f":"VLOOKUP(F27, 'ECAST Lookup'!A:C,3,FALSE)","v":"Annandale El"},"1215101-Annandale El",20]
["1216401","Apperson El","1216401-Apperson El",null,null,"1216401",{"$f":"VLOOKUP(F28, 'ECAST Lookup'!A:C,3,FALSE)","v":"Apperson El"},"1216401-Apperson El",19]
["1217801","Aragon El","1217801-Aragon El",null,null,"1217801",{"$f":"VLOOKUP(F29, 'ECAST Lookup'!A:C,3,FALSE)","v":"Aragon El"},"1217801-Aragon El",17]
["1219201","Arlington Hts El","1219201-Arlington Hts El",null,null,"1219201",{"$f":"VLOOKUP(F30, 'ECAST Lookup'!A:C,3,FALSE)","v":"Arlington Hts El"},"1219201-Arlington Hts El",24]
["1219202","Arlington Hts El DL Two-Way Im Spanish","1219202-Arlington Hts El DL Two-Way Im Spanish",null,null,"1219202",{"$f":"VLOOKUP(F31, 'ECAST Lookup'!A:C,3,FALSE)","v":"Arlington Hts DTS"},"1219202-Arlington Hts DTS",25]
["1220501","Arminta El","1220501-Arminta El",null,null,"1220501",{"$f":"VLOOKUP(F32, 'ECAST Lookup'!A:C,3,FALSE)","v":"Arminta El"},"1220501-Arminta El",18]
["1221901","Ascot El","1221901-Ascot El",null,null,"1221901",{"$f":"VLOOKUP(F33, 'ECAST Lookup'!A:C,3,FALSE)","v":"Ascot El"},{"$f":"F33&\"-\"&G33","v":"1221901-Ascot El"},{"$f":"LEN(H33)","v":16}]
["1223301","Atwater El","1223301-Atwater El",null,null,"1223301",{"$f":"VLOOKUP(F34, 'ECAST Lookup'!A:C,3,FALSE)","v":"Atwater El"},"1223301-Atwater El",18]
["1223302","Atwater El DL Two-Way Im Spanish","1223302-Atwater El DL Two-Way Im Spanish",null,null,"1223302",{"$f":"VLOOKUP(F35, 'ECAST Lookup'!A:C,3,FALSE)","v":"Atwater El DTS"},"1223302-Atwater El DTS",22]
["1224701","Avalon Gardens El","1224701-Avalon Gardens El",null,null,"1224701",{"$f":"VLOOKUP(F36, 'ECAST Lookup'!A:C,3,FALSE)","v":"Avalon Gardens El"},"1224701-Avalon Gardens El",25]
["1225001","Acad For Enrch Sci","1225001-Acad For Enrch Sci",null,null,"1225001",{"$f":"VLOOKUP(F37, 'ECAST Lookup'!A:C,3,FALSE)","v":"Acad For Enrch Sci"},"1225001-Acad For Enrch Sci",26]
["1226901","Balboa G/HA Mag","1226901-Balboa G/HA Mag",null,null,"1226901",{"$f":"VLOOKUP(F38, 'ECAST Lookup'!A:C,3,FALSE)","v":"Balboa G/HA Mag"},"1226901-Balboa G/HA Mag",23]
["1227401","Baldwin Hills El","1227401-Baldwin Hills El",null,null,"1227401",{"$f":"VLOOKUP(F39, 'ECAST Lookup'!A:C,3,FALSE)","v":"Baldwin Hills El"},"1227401-Baldwin Hills El",24]
["1227402","Baldwin Hills Elementary Gifted Magnet","1227402-Baldwin Hills Elementary Gifted Magnet",null,null,"1227402",{"$f":"VLOOKUP(F40, 'ECAST Lookup'!A:C,3,FALSE)","v":"Bldwn Hls Gifted Mag"},"1227402-Bldwn Hls Gifted Mag",28]
["1228801","Bandini El","1228801-Bandini El",null,null,"1228801",{"$f":"VLOOKUP(F41, 'ECAST Lookup'!A:C,3,FALSE)","v":"Bandini El"},"1228801-Bandini El",18]
["1228802","Bandini St El DL Two-Way Im Spanish","1228802-Bandini St El DL Two-Way Im Spanish",null,null,"1228802",{"$f":"VLOOKUP(F42, 'ECAST Lookup'!A:C,3,FALSE)","v":"Bandini St El DTS"},"1228802-Bandini St El DTS",25]
["1230101","De La Torre Jr El","1230101-De La Torre Jr El",null,null,"1230101",{"$f":"VLOOKUP(F43, 'ECAST Lookup'!A:C,3,FALSE)","v":"De La Torre Jr El"},"1230101-De La Torre Jr El",25]
["1230102","De La Torre ES STEAM Magnet","1230102-De La Torre ES STEAM Magnet",null,null,"1230102",{"$f":"VLOOKUP(F44, 'ECAST Lookup'!A:C,3,FALSE)","v":"De La Torre STEAM Mg"},"1230102-De La Torre STEAM Mg",28]
["1230201","Obama El","1230201-Obama El",null,null,"1230201",{"$f":"VLOOKUP(F45, 'ECAST Lookup'!A:C,3,FALSE)","v":"Obama El"},"1230201-Obama El",16]
["1230301","Porter Ranch School","1230301-Porter Ranch School",null,null,"1230301",{"$f":"VLOOKUP(F46, 'ECAST Lookup'!A:C,3,FALSE)","v":"Porter Ranch School"},"1230301-Porter Ranch School",27]
["1230302","Porter Ranch School DL Two-Way Im Korean","1230302-Porter Ranch School DL Two-Way Im Korean",null,null,"1230302",{"$f":"VLOOKUP(F47, 'ECAST Lookup'!A:C,3,FALSE)","v":"Porter Ranch Sch DTK"},"1230302-Porter Ranch Sch DTK",28]
["1230601","Playa Vista Elementary Sch","1230601-Playa Vista Elementary Sch",null,null,"1230601",{"$f":"VLOOKUP(F48, 'ECAST Lookup'!A:C,3,FALSE)","v":"Playa Vista El Sch"},"1230601-Playa Vista El Sch",26]
["1230701","Lee Med Hlth Mag","1230701-Lee Med Hlth Mag",null,null,"1230701",{"$f":"VLOOKUP(F49, 'ECAST Lookup'!A:C,3,FALSE)","v":"Lee Med Hlth Mag"},"1230701-Lee Med Hlth Mag",24]
["1230801","Ride El Smart Acad","1230801-Ride El Smart Acad",null,null,"1230801",{"$f":"VLOOKUP(F50, 'ECAST Lookup'!A:C,3,FALSE)","v":"Ride El Smart Acad"},"1230801-Ride El Smart Acad",26]
["1230901","Willow El","1230901-Willow El",null,null,"1230901",{"$f":"VLOOKUP(F51, 'ECAST Lookup'!A:C,3,FALSE)","v":"Willow El"},"1230901-Willow El",17]
["1230902","Willow El DL Two-Way Im Spanish","1230902-Willow El DL Two-Way Im Spanish",null,null,"1230902",{"$f":"VLOOKUP(F52, 'ECAST Lookup'!A:C,3,FALSE)","v":"Willow El DTS"},"1230902-Willow El DTS",21]
["1231101","Poindexter Lamotte El","1231101-Poindexter Lamotte El",null,null,"1231101",{"$f":"VLOOKUP(F53, 'ECAST Lookup'!A:C,3,FALSE)","v":"Poindexter Lamotte El"},"1231101-Poindexter Lamotte El",29]
["1231201","Lawson Acad A/M/S","1231201-Lawson Acad A/M/S",null,null,"1231201",{"$f":"VLOOKUP(F54, 'ECAST Lookup'!A:C,3,FALSE)","v":"Lawson Acad A/M/S"},"1231201-Lawson Acad A/M/S",25]
["1231301","Moore M/S/T Acad","1231301-Moore M/S/T Acad",null,null,"1231301",{"$f":"VLOOKUP(F55, 'ECAST Lookup'!A:C,3,FALSE)","v":"Moore M/S/T Acad"},"1231301-Moore M/S/T Acad",24]
["1231501","Barton Hill El","1231501-Barton Hill El",null,null,"1231501",{"$f":"VLOOKUP(F56, 'ECAST Lookup'!A:C,3,FALSE)","v":"Barton Hill El"},"1231501-Barton Hill El",22]
["1231502","Barton Hill ES Maritime STEAM Magnet","1231502-Barton Hill ES Maritime STEAM Magnet",null,null,"1231502",{"$f":"VLOOKUP(F57, 'ECAST Lookup'!A:C,3,FALSE)","v":"Barton Hill M STEAM Mg"},"1231502-Barton Hill M STEAM Mg",30]
["1232301","Bassett El","1232301-Bassett El",null,null,"1232301",{"$f":"VLOOKUP(F58, 'ECAST Lookup'!A:C,3,FALSE)","v":"Bassett El"},"1232301-Bassett El",18]
["1232901","Beachy El","1232901-Beachy El",null,null,"1232302",{"$f":"VLOOKUP(F59, 'ECAST Lookup'!A:C,3,FALSE)","v":"Bassett ES MAT Mag"},"1232302-Bassett ES MAT Mag",26]
["1233501","Beckford Chtr Enr St","1233501-Beckford Chtr Enr St",null,null,"1232303",{"$f":"VLOOKUP(F60, 'ECAST Lookup'!A:C,3,FALSE)","v":"Bassett El DTS"},"1232303-Bassett El DTS",22]
["1234201","Beethoven El","1234201-Beethoven El",null,null,"1232901",{"$f":"VLOOKUP(F61, 'ECAST Lookup'!A:C,3,FALSE)","v":"Beachy El"},"1232901-Beachy El",17]
["1236901","RFK Ambsdr Glbl Edu","1236901-RFK Ambsdr Glbl Edu",null,null,"1233501",{"$f":"VLOOKUP(F62, 'ECAST Lookup'!A:C,3,FALSE)","v":"Beckford Chtr Enr St"},"1233501-Beckford Chtr Enr St",28]
["1236902","Rfk Ambsdr Glbl DL One-Way Im Spanish","1236902-Rfk Ambsdr Glbl DL One-Way Im Spanish",null,null,"1234201",{"$f":"VLOOKUP(F63, 'ECAST Lookup'!A:C,3,FALSE)","v":"Beethoven El"},"1234201-Beethoven El",20]
["1236903","Rfk Ambsdr Glbl Ed DL Two-Way Im Korean","1236903-Rfk Ambsdr Glbl Ed DL Two-Way Im Korean",null,null,"1236901",{"$f":"VLOOKUP(F64, 'ECAST Lookup'!A:C,3,FALSE)","v":"RFK Ambsdr Glbl Edu"},"1236901-RFK Ambsdr Glbl Edu",27]
["1237201","Ochoa LC","1237201-Ochoa LC",null,null,"1236902",{"$f":"VLOOKUP(F65, 'ECAST Lookup'!A:C,3,FALSE)","v":"RFK Ambsdr Gbl DOS"},"1236902-RFK Ambsdr Gbl DOS",26]
["1237202","Ochoa Lc DL Two-Way Im Spanish","1237202-Ochoa Lc DL Two-Way Im Spanish",null,null,"1236903",{"$f":"VLOOKUP(F66, 'ECAST Lookup'!A:C,3,FALSE)","v":"RFK Ambsdr Gbl DTK"},"1236903-RFK Ambsdr Gbl DTK",26]
["1237501","Hughes El","1237501-Hughes El",null,null,"1237201",{"$f":"VLOOKUP(F67, 'ECAST Lookup'!A:C,3,FALSE)","v":"Ochoa LC"},{"$f":"F67&\"-\"&G67","v":"1237201-Ochoa LC"},{"$f":"LEN(H67)","v":16}]
["1237502","Teresa P Hughes Elem Science/Tech/Math Magnet",{"$f":"A68&\"-\"&B68","v":"1237502-Teresa P Hughes Elem Science/Tech/Math Magnet"},null,null,"1237202",{"$f":"VLOOKUP(F68, 'ECAST Lookup'!A:C,3,FALSE)","v":"Ochoa LC DTS"},"1237202-Ochoa LC DTS",20]
["1237801","Nueva Vista El","1237801-Nueva Vista El",null,null,"1237501",{"$f":"VLOOKUP(F69, 'ECAST Lookup'!A:C,3,FALSE)","v":"Hughes El"},"1237501-Hughes El",17]
["1237802","Nueva Vista Elem Visual And Performing Arts","1237802-Nueva Vista Elem Visual And Performing Arts",null,null,"1237502",{"$f":"VLOOKUP(F70, 'ECAST Lookup'!A:C,3,FALSE)","v":"Hughes El STEM Mag"},"1237502-Hughes El STEM Mag",26]
["1238101","Maywood El","1238101-Maywood El",null,null,"1237801",{"$f":"VLOOKUP(F71, 'ECAST Lookup'!A:C,3,FALSE)","v":"Nueva Vista El"},"1237801-Nueva Vista El",22]
["1238102","Maywood ES Computer Science Magnet","1238102-Maywood ES Computer Science Magnet",null,null,"1237802",{"$f":"VLOOKUP(F72, 'ECAST Lookup'!A:C,3,FALSE)","v":"Nueva Vista VAPA Mag"},"1237802-Nueva Vista VAPA Mag",28]
["1238301","Esperanza El","1238301-Esperanza El",null,null,"1238101",{"$f":"VLOOKUP(F73, 'ECAST Lookup'!A:C,3,FALSE)","v":"Maywood El"},"1238101-Maywood El",18]
["1238401","Politi El","1238401-Politi El",null,null,"1238102",{"$f":"VLOOKUP(F74, 'ECAST Lookup'!A:C,3,FALSE)","v":"Maywood CS Mag"},"1238102-Maywood CS Mag",22]
["1238501","Gratts LA for YS","1238501-Gratts LA for YS",null,null,"1238301",{"$f":"VLOOKUP(F75, 'ECAST Lookup'!A:C,3,FALSE)","v":"Esperanza El"},"1238301-Esperanza El",20]
["1238502","Gratts LA For YS DL One-Way Im Spanish","1238502-Gratts LA For YS DL One-Way Im Spanish",null,null,"1238401",{"$f":"VLOOKUP(F76, 'ECAST Lookup'!A:C,3,FALSE)","v":"Politi El"},"1238401-Politi El",17]
["1238601","Del Olmo El","1238601-Del Olmo El",null,null,"1238501",{"$f":"VLOOKUP(F77, 'ECAST Lookup'!A:C,3,FALSE)","v":"Gratts LA for YS"},"1238501-Gratts LA for YS",24]
["1239101","Huntington Park El","1239101-Huntington Park El",null,null,"1238502",{"$f":"VLOOKUP(F78, 'ECAST Lookup'!A:C,3,FALSE)","v":"Gratts LA for YS DOS"},"1238502-Gratts LA for YS DOS",28]
["1239102","Huntington Pk El DL Two-Way Im Spanish","1239102-Huntington Pk El DL Two-Way Im Spanish",null,null,"1238601",{"$f":"VLOOKUP(F79, 'ECAST Lookup'!A:C,3,FALSE)","v":"Del Olmo El"},"1238601-Del Olmo El",19]
["1239201","Olympic PC","1239201-Olympic PC",null,null,"1239101",{"$f":"VLOOKUP(F80, 'ECAST Lookup'!A:C,3,FALSE)","v":"Huntington Park El"},"1239101-Huntington Park El",26]
["1239301","Lake St Primary","1239301-Lake St Primary",null,null,"1239102",{"$f":"VLOOKUP(F81, 'ECAST Lookup'!A:C,3,FALSE)","v":"Huntington Pk DTS"},"1239102-Huntington Pk DTS",25]
["1239701","Belvedere El","1239701-Belvedere El",null,null,"1239201",{"$f":"VLOOKUP(F82, 'ECAST Lookup'!A:C,3,FALSE)","v":"Olympic PC"},"1239201-Olympic PC",18]
["1243801","Bertrand El","1243801-Bertrand El",null,null,"1239301",{"$f":"VLOOKUP(F83, 'ECAST Lookup'!A:C,3,FALSE)","v":"Lake St Primary"},"1239301-Lake St Primary",23]
["1247001","Blythe El","1247001-Blythe El",null,null,"1239701",{"$f":"VLOOKUP(F84, 'ECAST Lookup'!A:C,3,FALSE)","v":"Belvedere El"},"1239701-Belvedere El",20]
["1247301","Bonita El","1247301-Bonita El",null,null,"1243801",{"$f":"VLOOKUP(F85, 'ECAST Lookup'!A:C,3,FALSE)","v":"Bertrand El"},"1243801-Bertrand El",19]
["1247901","Braddock Drive El","1247901-Braddock Drive El",null,null,"1247001",{"$f":"VLOOKUP(F86, 'ECAST Lookup'!A:C,3,FALSE)","v":"Blythe El"},"1247001-Blythe El",17]
["1247902","Braddock Drive Elementary Gifted Magnet","1247902-Braddock Drive Elementary Gifted Magnet",null,null,"1247301",{"$f":"VLOOKUP(F87, 'ECAST Lookup'!A:C,3,FALSE)","v":"Bonita El"},"1247301-Bonita El",17]
["1247903","Braddock Dr El DL World Lang Im Mandarin","1247903-Braddock Dr El DL World Lang Im Mandarin",null,null,"1247901",{"$f":"VLOOKUP(F88, 'ECAST Lookup'!A:C,3,FALSE)","v":"Braddock Drive El"},"1247901-Braddock Drive El",25]
["1248601","Brainard El","1248601-Brainard El",null,null,"1247902",{"$f":"VLOOKUP(F89, 'ECAST Lookup'!A:C,3,FALSE)","v":"Braddock Gifted Mag"},"1247902-Braddock Gifted Mag",27]
["1249301","Breed El","1249301-Breed El",null,null,"1247903",{"$f":"VLOOKUP(F90, 'ECAST Lookup'!A:C,3,FALSE)","v":"Braddock Dr El DTM"},"1247903-Braddock Dr El DTM",26]
["1250701","Brentwood Sci Mag","1250701-Brentwood Sci Mag",null,null,"1248601",{"$f":"VLOOKUP(F91, 'ECAST Lookup'!A:C,3,FALSE)","v":"Brainard El"},"1248601-Brainard El",19]
["1252101","Bridge El","1252101-Bridge El",null,null,"1249301",{"$f":"VLOOKUP(F92, 'ECAST Lookup'!A:C,3,FALSE)","v":"Breed El"},"1249301-Breed El",16]
["1252701","Broad Ave El","1252701-Broad Ave El",null,null,"1250701",{"$f":"VLOOKUP(F93, 'ECAST Lookup'!A:C,3,FALSE)","v":"Brentwood Sci Mag"},"1250701-Brentwood Sci Mag",25]
["1252702","Broad Ave El DL Two-Way Im Spanish","1252702-Broad Ave El DL Two-Way Im Spanish",null,null,"1252101",{"$f":"VLOOKUP(F94, 'ECAST Lookup'!A:C,3,FALSE)","v":"Bridge El"},"1252101-Bridge El",17]
["1253001","Broadacres El","1253001-Broadacres El",null,null,"1252701",{"$f":"VLOOKUP(F95, 'ECAST Lookup'!A:C,3,FALSE)","v":"Broad Ave El"},"1252701-Broad Ave El",20]
["1253401","Broadway El","1253401-Broadway El",null,null,"1252702",{"$f":"VLOOKUP(F96, 'ECAST Lookup'!A:C,3,FALSE)","v":"Broad Ave El DTS"},"1252702-Broad Ave El DTS",24]
["1253402","Broadway El DL World Lang Im Spanish","1253402-Broadway El DL World Lang Im Spanish",null,null,"1253001",{"$f":"VLOOKUP(F97, 'ECAST Lookup'!A:C,3,FALSE)","v":"Broadacres El"},"1253001-Broadacres El",21]
["1253403","Broadway El DL World Lang Im Mandarin","1253403-Broadway El DL World Lang Im Mandarin",null,null,"1253002",{"$f":"VLOOKUP(F98, 'ECAST Lookup'!A:C,3,FALSE)","v":"Broadacres VAPA Mag"},"1253002-Broadacres VAPA Mag",27]
["1254201","White El","1254201-White El",null,null,"1253401",{"$f":"VLOOKUP(F99, 'ECAST Lookup'!A:C,3,FALSE)","v":"Broadway El"},"1253401-Broadway El",19]
["1254202","White ES Visual Arts Magnet","1254202-White ES Visual Arts Magnet",null,null,"1253402",{"$f":"VLOOKUP(F100, 'ECAST Lookup'!A:C,3,FALSE)","v":"Broadway El DTS"},"1253402-Broadway El DTS",23]
["1254301","Lafayette Park PC","1254301-Lafayette Park PC",null,null,"1253403",{"$f":"VLOOKUP(F101, 'ECAST Lookup'!A:C,3,FALSE)","v":"Broadway El DTM"},"1253403-Broadway El DTM",23]
["1254401","Macarthur Park VPA","1254401-Macarthur Park VPA",null,null,"1254201",{"$f":"VLOOKUP(F102, 'ECAST Lookup'!A:C,3,FALSE)","v":"White El"},"1254201-White El",16]
["1254402","Macarthur Park VPA DL Two-Way Im Spanish","1254402-Macarthur Park VPA DL Two-Way Im Spanish",null,null,"1254202",{"$f":"VLOOKUP(F103, 'ECAST Lookup'!A:C,3,FALSE)","v":"White Es Vis Art Mag"},"1254202-White Es Vis Art Mag",28]
["1254801","Brockton El","1254801-Brockton El",null,null,"1254301",{"$f":"VLOOKUP(F104, 'ECAST Lookup'!A:C,3,FALSE)","v":"Lafayette Park PC"},"1254301-Lafayette Park PC",25]
["1256201","Brooklyn Ave El","1256201-Brooklyn Ave El",null,null,"1254401",{"$f":"VLOOKUP(F105, 'ECAST Lookup'!A:C,3,FALSE)","v":"Macarthur Park VPA"},"1254401-Macarthur Park VPA",26]
["1258901","Bryson El","1258901-Bryson El",null,null,"1254402",{"$f":"VLOOKUP(F106, 'ECAST Lookup'!A:C,3,FALSE)","v":"Macarthur Pk VPA DTS"},"1254402-Macarthur Pk VPA DTS",28]
["1258902","Bryson Avenue Elem Science/Tech/Math Mag","1258902-Bryson Avenue Elem Science/Tech/Math Mag",null,null,"1254801",{"$f":"VLOOKUP(F107, 'ECAST Lookup'!A:C,3,FALSE)","v":"Brockton El"},"1254801-Brockton El",19]
["1260301","Buchanan El","1260301-Buchanan El",null,null,"1256201",{"$f":"VLOOKUP(F108, 'ECAST Lookup'!A:C,3,FALSE)","v":"Brooklyn Ave El"},"1256201-Brooklyn Ave El",23]
["1260302","Buchanan Street Elem Science/Tech/Math Magnet","1260302-Buchanan Street Elem Science/Tech/Math Magnet",null,null,"1258901",{"$f":"VLOOKUP(F109, 'ECAST Lookup'!A:C,3,FALSE)","v":"Bryson El"},"1258901-Bryson El",17]
["1261601","Budlong El","1261601-Budlong El",null,null,"1258902",{"$f":"VLOOKUP(F110, 'ECAST Lookup'!A:C,3,FALSE)","v":"Bryson Av El STEM Mag"},"1258902-Bryson Av El STEM Mag",29]
["1261901","Wilshire Park El","1261901-Wilshire Park El",null,null,"1260301",{"$f":"VLOOKUP(F111, 'ECAST Lookup'!A:C,3,FALSE)","v":"Buchanan El"},"1260301-Buchanan El",19]
["1263001","Burbank El","1263001-Burbank El",null,null,"1260302",{"$f":"VLOOKUP(F112, 'ECAST Lookup'!A:C,3,FALSE)","v":"Buchanan El STEM Mag"},"1260302-Buchanan El STEM Mag",28]
["1263002","Burbank El Gifted Global Learning Mag","1263002-Burbank El Gifted Global Learning Mag",null,null,"1260303",{"$f":"VLOOKUP(F113, 'ECAST Lookup'!A:C,3,FALSE)","v":"Buchanan El DTS"},"1260303-Buchanan El DTS",23]
["1264401","Saturn El","1264401-Saturn El",null,null,"1261601",{"$f":"VLOOKUP(F114, 'ECAST Lookup'!A:C,3,FALSE)","v":"Budlong El"},"1261601-Budlong El",18]
["1264402","Saturn St ES Arts/Media Magnet","1264402-Saturn St ES Arts/Media Magnet",null,null,"1261901",{"$f":"VLOOKUP(F115, 'ECAST Lookup'!A:C,3,FALSE)","v":"Wilshire Park El"},"1261901-Wilshire Park El",24]
["1265801","Burton El","1265801-Burton El",null,null,"1261902",{"$f":"VLOOKUP(F116, 'ECAST Lookup'!A:C,3,FALSE)","v":"Wilshire Park EL DWK"},"1261902-Wilshire Park EL DWK",28]
["1267101","Bushnell Way El","1267101-Bushnell Way El",null,null,"1263001",{"$f":"VLOOKUP(F117, 'ECAST Lookup'!A:C,3,FALSE)","v":"Burbank El"},"1263001-Burbank El",18]
["1267102","Bushnell Way El DL Two-Way Im Spanish","1267102-Bushnell Way El DL Two-Way Im Spanish",null,null,"1263002",{"$f":"VLOOKUP(F118, 'ECAST Lookup'!A:C,3,FALSE)","v":"Burbank Gifted/GL Mg"},"1263002-Burbank Gifted/GL Mg",28]
["1268501","Cabrillo El","1268501-Cabrillo El",null,null,"1264401",{"$f":"VLOOKUP(F119, 'ECAST Lookup'!A:C,3,FALSE)","v":"Saturn El"},"1264401-Saturn El",17]
["1268502","Cabrillo Av ES STEAM Magnet","1268502-Cabrillo Av ES STEAM Magnet",null,null,"1264402",{"$f":"VLOOKUP(F120, 'ECAST Lookup'!A:C,3,FALSE)","v":"Saturn Arts/Media Mag"},"1264402-Saturn Arts/Media Mag",29]
["1269901","Cahuenga El","1269901-Cahuenga El",null,null,"1265801",{"$f":"VLOOKUP(F121, 'ECAST Lookup'!A:C,3,FALSE)","v":"Burton El"},"1265801-Burton El",17]
["1269902","Cahuenga El DL One-Way Im Spanish","1269902-Cahuenga El DL One-Way Im Spanish",null,null,"1267101",{"$f":"VLOOKUP(F122, 'ECAST Lookup'!A:C,3,FALSE)","v":"Bushnell Way El"},"1267101-Bushnell Way El",23]
["1269903","Cahuenga El DL Two-Way Im Korean","1269903-Cahuenga El DL Two-Way Im Korean",null,null,"1267102",{"$f":"VLOOKUP(F123, 'ECAST Lookup'!A:C,3,FALSE)","v":"Bushnell Way DTS"},"1267102-Bushnell Way DTS",24]
["1270101","Kim El","1270101-Kim El",null,null,"1268501",{"$f":"VLOOKUP(F124, 'ECAST Lookup'!A:C,3,FALSE)","v":"Cabrillo El"},"1268501-Cabrillo El",19]
["1270102","Kim El DL Two-Way Im Spanish","1270102-Kim El DL Two-Way Im Spanish",null,null,"1268502",{"$f":"VLOOKUP(F125, 'ECAST Lookup'!A:C,3,FALSE)","v":"Cabrillo STEAM Mag"},"1268502-Cabrillo STEAM Mag",26]
["1270103","Kim El DL One-Way Im Korean","1270103-Kim El DL One-Way Im Korean",null,null,"1269901",{"$f":"VLOOKUP(F126, 'ECAST Lookup'!A:C,3,FALSE)","v":"Cahuenga El"},"1269901-Cahuenga El",19]
["1270401","Calabash CA","1270401-Calabash CA",null,null,"1269902",{"$f":"VLOOKUP(F127, 'ECAST Lookup'!A:C,3,FALSE)","v":"Cahuenga El DOS"},"1269902-Cahuenga El DOS",23]
["1270601","Calahan Street Elementary","1270601-Calahan Street Elementary",null,null,"1269903",{"$f":"VLOOKUP(F128, 'ECAST Lookup'!A:C,3,FALSE)","v":"Cahuenga El DTK"},"1269903-Cahuenga El DTK",23]
["1271201","Calvert Chtr For ES","1271201-Calvert Chtr For ES",null,null,"1270101",{"$f":"VLOOKUP(F129, 'ECAST Lookup'!A:C,3,FALSE)","v":"Kim El"},"1270101-Kim El",14]
["1272601","Camellia El","1272601-Camellia El",null,null,"1270102",{"$f":"VLOOKUP(F130, 'ECAST Lookup'!A:C,3,FALSE)","v":"Kim El DTS"},"1270102-Kim El DTS",18]
["1272602","Camellia Ave El DL Two-Way Im Spanish","1272602-Camellia Ave El DL Two-Way Im Spanish",null,null,"1270103",{"$f":"VLOOKUP(F131, 'ECAST Lookup'!A:C,3,FALSE)","v":"Kim El DOK"},{"$f":"F131&\"-\"&G131","v":"1270103-Kim El DOK"},{"$f":"LEN(H131)","v":18}]
["1274001","Canfield El",{"$f":"A132&\"-\"&B132","v":"1274001-Canfield El"},null,null,"1270401",{"$f":"VLOOKUP(F132, 'ECAST Lookup'!A:C,3,FALSE)","v":"Calabash CA"},"1270401-Calabash CA",19]
["1274101","Community El Mag CS","1274101-Community El Mag CS",null,null,"1270601",{"$f":"VLOOKUP(F133, 'ECAST Lookup'!A:C,3,FALSE)","v":"Calahan St El"},"1270601-Calahan St El",21]
["1275301","Canoga Park El","1275301-Canoga Park El",null,null,"1271201",{"$f":"VLOOKUP(F134, 'ECAST Lookup'!A:C,3,FALSE)","v":"Calvert Chtr For ES"},"1271201-Calvert Chtr For ES",27]
["1276701","Cantara El","1276701-Cantara El",null,null,"1272601",{"$f":"VLOOKUP(F135, 'ECAST Lookup'!A:C,3,FALSE)","v":"Camellia El"},"1272601-Camellia El",19]
["1276702","Cantara St ES Visual/Perf Arts Magnet","1276702-Cantara St ES Visual/Perf Arts Magnet",null,null,"1272602",{"$f":"VLOOKUP(F136, 'ECAST Lookup'!A:C,3,FALSE)","v":"Camellia El DTS"},"1272602-Camellia El DTS",23]
["1278101","Canterbury El","1278101-Canterbury El",null,null,"1274001",{"$f":"VLOOKUP(F137, 'ECAST Lookup'!A:C,3,FALSE)","v":"Canfield El"},"1274001-Canfield El",19]
["1278102","Canterbury Avenue Elementary Gifted Magnet","1278102-Canterbury Avenue Elementary Gifted Magnet",null,null,"1274101",{"$f":"VLOOKUP(F138, 'ECAST Lookup'!A:C,3,FALSE)","v":"Community El Mag CS"},"1274101-Community El Mag CS",27]
["1279501","Canyon El","1279501-Canyon El",null,null,"1275301",{"$f":"VLOOKUP(F139, 'ECAST Lookup'!A:C,3,FALSE)","v":"Canoga Park El"},"1275301-Canoga Park El",22]
["1280201","Capistrano El","1280201-Capistrano El",null,null,"1276701",{"$f":"VLOOKUP(F140, 'ECAST Lookup'!A:C,3,FALSE)","v":"Cantara El"},"1276701-Cantara El",18]
["1281501","Caroldale Lrng Comm","1281501-Caroldale Lrng Comm",null,null,"1276702",{"$f":"VLOOKUP(F141, 'ECAST Lookup'!A:C,3,FALSE)","v":"Cantara VAPA Mag"},"1276702-Cantara VAPA Mag",24]
["1282201","Carpenter Community Center","1282201-Carpenter Community Center",null,null,"1278101",{"$f":"VLOOKUP(F142, 'ECAST Lookup'!A:C,3,FALSE)","v":"Canterbury El"},"1278101-Canterbury El",21]
["1283601","Carson El","1283601-Carson El",null,null,"1278102",{"$f":"VLOOKUP(F143, 'ECAST Lookup'!A:C,3,FALSE)","v":"Canterbury Gifted Mg"},"1278102-Canterbury Gifted Mg",28]
["1284901","Carthay El ES Mag","1284901-Carthay El ES Mag",null,null,"1279501",{"$f":"VLOOKUP(F144, 'ECAST Lookup'!A:C,3,FALSE)","v":"Canyon El"},"1279501-Canyon El",17]
["1286301","Castelar El","1286301-Castelar El",null,null,"1280201",{"$f":"VLOOKUP(F145, 'ECAST Lookup'!A:C,3,FALSE)","v":"Capistrano El"},"1280201-Capistrano El",21]
["1286302","Castelar El DL Two-Way Im Mandarin","1286302-Castelar El DL Two-Way Im Mandarin",null,null,"1281501",{"$f":"VLOOKUP(F146, 'ECAST Lookup'!A:C,3,FALSE)","v":"Caroldale Lrng Comm"},"1281501-Caroldale Lrng Comm",27]
["1287701","Castle Hts El","1287701-Castle Hts El",null,null,"1282201",{"$f":"VLOOKUP(F147, 'ECAST Lookup'!A:C,3,FALSE)","v":"Carpenter Comm Ctr"},"1282201-Carpenter Comm Ctr",26]
["1287702","Castle Heights El World Lang Im Spanish","1287702-Castle Heights El World Lang Im Spanish",null,null,"1283601",{"$f":"VLOOKUP(F148, 'ECAST Lookup'!A:C,3,FALSE)","v":"Carson El"},"1283601-Carson El",17]
["1288101","Castlebay Lane Charter","1288101-Castlebay Lane Charter",null,null,"1284901",{"$f":"VLOOKUP(F149, 'ECAST Lookup'!A:C,3,FALSE)","v":"Carthay El ES Mag"},"1284901-Carthay El ES Mag",25]
["1289001","Catskill El","1289001-Catskill El",null,null,"1286301",{"$f":"VLOOKUP(F150, 'ECAST Lookup'!A:C,3,FALSE)","v":"Castelar El"},"1286301-Castelar El",19]
["1289002","Catskill El DL Two-Way Im Spanish","1289002-Catskill El DL Two-Way Im Spanish",null,null,"1286302",{"$f":"VLOOKUP(F151, 'ECAST Lookup'!A:C,3,FALSE)","v":"Castelar St El DTM"},"1286302-Castelar St El DTM",26]
["1293901","Carson-Gore Academy","1293901-Carson-Gore Academy",null,null,"1287701",{"$f":"VLOOKUP(F152, 'ECAST Lookup'!A:C,3,FALSE)","v":"Castle Hts El"},"1287701-Castle Hts El",21]
["1293902","Carson-Gore El DL Two-Way Im Spanish","1293902-Carson-Gore El DL Two-Way Im Spanish",null,null,"1287702",{"$f":"VLOOKUP(F153, 'ECAST Lookup'!A:C,3,FALSE)","v":"Castle Hts El DWS"},"1287702-Castle Hts El DWS",25]
["1294201","Estrella El","1294201-Estrella El",null,null,"1288101",{"$f":"VLOOKUP(F154, 'ECAST Lookup'!A:C,3,FALSE)","v":"Castlebay Lane"},"1288101-Castlebay Lane",22]
["1294301","Jones El","1294301-Jones El",null,null,"1289001",{"$f":"VLOOKUP(F155, 'ECAST Lookup'!A:C,3,FALSE)","v":"Catskill El"},"1289001-Catskill El",19]
["1294401","Huerta El","1294401-Huerta El",null,null,"1289002",{"$f":"VLOOKUP(F156, 'ECAST Lookup'!A:C,3,FALSE)","v":"Catskill El DTS"},"1289002-Catskill El DTS",23]
["1294501","Century Park El","1294501-Century Park El",null,null,"1293901",{"$f":"VLOOKUP(F157, 'ECAST Lookup'!A:C,3,FALSE)","v":"Carson-Gore Academy"},"1293901-Carson-Gore Academy",27]
["1295901","Chandler El","1295901-Chandler El",null,null,"1293902",{"$f":"VLOOKUP(F158, 'ECAST Lookup'!A:C,3,FALSE)","v":"Carson-Gore DTS"},"1293902-Carson-Gore DTS",23]
["1298601","Chapman El","1298601-Chapman El",null,null,"1294201",{"$f":"VLOOKUP(F159, 'ECAST Lookup'!A:C,3,FALSE)","v":"Estrella El"},"1294201-Estrella El",19]
["1298602","Chapman El DL Two-Way Im Mandarin","1298602-Chapman El DL Two-Way Im Mandarin",null,null,"1294301",{"$f":"VLOOKUP(F160, 'ECAST Lookup'!A:C,3,FALSE)","v":"Jones El"},"1294301-Jones El",16]
["1300201","Charnock Road El","1300201-Charnock Road El",null,null,"1294401",{"$f":"VLOOKUP(F161, 'ECAST Lookup'!A:C,3,FALSE)","v":"Huerta El"},"1294401-Huerta El",17]
["1301401","Chase El","1301401-Chase El",null,null,"1294501",{"$f":"VLOOKUP(F162, 'ECAST Lookup'!A:C,3,FALSE)","v":"Century Park El"},"1294501-Century Park El",23]
["1302701","Chatsworth Park ES UP/CD Magnet","1302701-Chatsworth Park ES UP/CD Magnet",null,null,"1295901",{"$f":"VLOOKUP(F163, 'ECAST Lookup'!A:C,3,FALSE)","v":"Chandler El"},"1295901-Chandler El",19]
["1304101","Cheremoya El","1304101-Cheremoya El",null,null,"1298601",{"$f":"VLOOKUP(F164, 'ECAST Lookup'!A:C,3,FALSE)","v":"Chapman El"},"1298601-Chapman El",18]
["1306801","Cienega El","1306801-Cienega El",null,null,"1298602",{"$f":"VLOOKUP(F165, 'ECAST Lookup'!A:C,3,FALSE)","v":"Chapman El DTM"},"1298602-Chapman El DTM",22]
["1306802","Cienega El DL Two-Way Im Spanish","1306802-Cienega El DL Two-Way Im Spanish",null,null,"1300201",{"$f":"VLOOKUP(F166, 'ECAST Lookup'!A:C,3,FALSE)","v":"Charnock Road El"},"1300201-Charnock Road El",24]
["1308201","Cimarron El","1308201-Cimarron El",null,null,"1301401",{"$f":"VLOOKUP(F167, 'ECAST Lookup'!A:C,3,FALSE)","v":"Chase El"},"1301401-Chase El",16]
["1308202","Cimarron Av ES STEAM Magnet","1308202-Cimarron Av ES STEAM Magnet",null,null,"1302701",{"$f":"VLOOKUP(F168, 'ECAST Lookup'!A:C,3,FALSE)","v":"Chatsworth UP/CD Mag"},"1302701-Chatsworth UP/CD Mag",28]
["1309601","City Terrace El","1309601-City Terrace El",null,null,"1304101",{"$f":"VLOOKUP(F169, 'ECAST Lookup'!A:C,3,FALSE)","v":"Cheremoya El"},"1304101-Cheremoya El",20]
["1309602","City Terrace El DL Two-Way Im Mandarin","1309602-City Terrace El DL Two-Way Im Mandarin",null,null,"1306801",{"$f":"VLOOKUP(F170, 'ECAST Lookup'!A:C,3,FALSE)","v":"Cienega El"},"1306801-Cienega El",18]
["1311001","Clifford El","1311001-Clifford El",null,null,"1306802",{"$f":"VLOOKUP(F171, 'ECAST Lookup'!A:C,3,FALSE)","v":"Cienega El DTS"},"1306802-Cienega El DTS",22]
["1312301","Clover El","1312301-Clover El",null,null,"1308201",{"$f":"VLOOKUP(F172, 'ECAST Lookup'!A:C,3,FALSE)","v":"Cimarron El"},"1308201-Cimarron El",19]
["1313701","Cohasset El","1313701-Cohasset El",null,null,"1308202",{"$f":"VLOOKUP(F173, 'ECAST Lookup'!A:C,3,FALSE)","v":"Cimarron STEAM Mag"},"1308202-Cimarron STEAM Mag",26]
["1313702","Cohasset El DL One-Way Im Spanish","1313702-Cohasset El DL One-Way Im Spanish",null,null,"1309601",{"$f":"VLOOKUP(F174, 'ECAST Lookup'!A:C,3,FALSE)","v":"City Terrace El"},"1309601-City Terrace El",23]
["1315101","Coldwater Cyn El","1315101-Coldwater Cyn El",null,null,"1309602",{"$f":"VLOOKUP(F175, 'ECAST Lookup'!A:C,3,FALSE)","v":"City Terrace DTM"},"1309602-City Terrace DTM",24]
["1315102","Coldwater Cyn DL Two-Way Im Spanish","1315102-Coldwater Cyn DL Two-Way Im Spanish",null,null,"1311001",{"$f":"VLOOKUP(F176, 'ECAST Lookup'!A:C,3,FALSE)","v":"Clifford El"},"1311001-Clifford El",19]
["1316401","Colfax Charter El","1316401-Colfax Charter El",null,null,"1312301",{"$f":"VLOOKUP(F177, 'ECAST Lookup'!A:C,3,FALSE)","v":"Clover El"},"1312301-Clover El",17]
["1317801","Coliseum El","1317801-Coliseum El",null,null,"1313701",{"$f":"VLOOKUP(F178, 'ECAST Lookup'!A:C,3,FALSE)","v":"Cohasset El"},"1313701-Cohasset El",19]
["1319201","Commonwealth El","1319201-Commonwealth El",null,null,"1313702",{"$f":"VLOOKUP(F179, 'ECAST Lookup'!A:C,3,FALSE)","v":"Cohasset St El DOS"},"1313702-Cohasset St El DOS",26]
["1319202","Commonwealth Avenue Elem Gifted Arts/Tech","1319202-Commonwealth Avenue Elem Gifted Arts/Tech",null,null,"1315101",{"$f":"VLOOKUP(F180, 'ECAST Lookup'!A:C,3,FALSE)","v":"Coldwater Cyn El"},"1315101-Coldwater Cyn El",24]
["1320501","Compton El","1320501-Compton El",null,null,"1315102",{"$f":"VLOOKUP(F181, 'ECAST Lookup'!A:C,3,FALSE)","v":"Coldwater Cyn DTS"},"1315102-Coldwater Cyn DTS",25]
["1321001","Madison El","1321001-Madison El",null,null,"1316401",{"$f":"VLOOKUP(F182, 'ECAST Lookup'!A:C,3,FALSE)","v":"Colfax Charter El"},"1316401-Colfax Charter El",25]
["1321002","Madison El DL Two-Way Im Spanish","1321002-Madison El DL Two-Way Im Spanish",null,null,"1317801",{"$f":"VLOOKUP(F183, 'ECAST Lookup'!A:C,3,FALSE)","v":"Coliseum El"},"1317801-Coliseum El",19]
["1321901","Corona El","1321901-Corona El",null,null,"1319201",{"$f":"VLOOKUP(F184, 'ECAST Lookup'!A:C,3,FALSE)","v":"Commonwealth El"},"1319201-Commonwealth El",23]
["1322001","Escutia PC","1322001-Escutia PC",null,null,"1319202",{"$f":"VLOOKUP(F185, 'ECAST Lookup'!A:C,3,FALSE)","v":"Commonwealth GAT Mag"},"1319202-Commonwealth GAT Mag",28]
["1324701","Plasencia El","1324701-Plasencia El",null,null,"1320501",{"$f":"VLOOKUP(F186, 'ECAST Lookup'!A:C,3,FALSE)","v":"Compton El"},"1320501-Compton El",18]
["1324702","Plasencia ES STEAM Magnet","1324702-Plasencia ES STEAM Magnet",null,null,"1321001",{"$f":"VLOOKUP(F187, 'ECAST Lookup'!A:C,3,FALSE)","v":"Madison El"},"1321001-Madison El",18]
["1326001","Cowan El","1326001-Cowan El",null,null,"1321002",{"$f":"VLOOKUP(F188, 'ECAST Lookup'!A:C,3,FALSE)","v":"Madison El DTS"},"1321002-Madison El DTS",22]
["1326002","Cowan Avenue Elem Gifted Int Humanities","1326002-Cowan Avenue Elem Gifted Int Humanities",null,null,"1321901",{"$f":"VLOOKUP(F189, 'ECAST Lookup'!A:C,3,FALSE)","v":"Corona El"},"1321901-Corona El",17]
["1326003","Cowan El DL World Lang Im Spanish","1326003-Cowan El DL World Lang Im Spanish",null,null,"1322001",{"$f":"VLOOKUP(F190, 'ECAST Lookup'!A:C,3,FALSE)","v":"Escutia PC"},"1322001-Escutia PC",18]
["1328801","Crescent Hts L/A/S/J","1328801-Crescent Hts L/A/S/J",null,null,"1324701",{"$f":"VLOOKUP(F191, 'ECAST Lookup'!A:C,3,FALSE)","v":"Plasencia El"},"1324701-Plasencia El",20]
["1330201","Crestwood St ES STEAM Magnet","1330201-Crestwood St ES STEAM Magnet",null,null,"1324702",{"$f":"VLOOKUP(F192, 'ECAST Lookup'!A:C,3,FALSE)","v":"Plasencia STEAM Mag"},"1324702-Plasencia STEAM Mag",27]
["1331101","Westside Glbl Awr Mg","1331101-Westside Glbl Awr Mg",null,null,"1326001",{"$f":"VLOOKUP(F193, 'ECAST Lookup'!A:C,3,FALSE)","v":"Cowan El"},"1326001-Cowan El",16]
["1331501","Dena El","1331501-Dena El",null,null,"1326002",{"$f":"VLOOKUP(F194, 'ECAST Lookup'!A:C,3,FALSE)","v":"Cowan Gifted/IH Mag"},"1326002-Cowan Gifted/IH Mag",27]
["1332901","Dahlia Heights El","1332901-Dahlia Heights El",null,null,"1326003",{"$f":"VLOOKUP(F195, 'ECAST Lookup'!A:C,3,FALSE)","v":"Cowan El DWS"},{"$f":"F195&\"-\"&G195","v":"1326003-Cowan El DWS"},{"$f":"LEN(H195)","v":20}]
["1333501","Danube El",{"$f":"A196&\"-\"&B196","v":"1333501-Danube El"},null,null,"1328801",{"$f":"VLOOKUP(F196, 'ECAST Lookup'!A:C,3,FALSE)","v":"Crescent Hts L/A/S/J"},"1328801-Crescent Hts L/A/S/J",28]
["1334001","Darby Avenue Elementary","1334001-Darby Avenue Elementary",null,null,"1330201",{"$f":"VLOOKUP(F197, 'ECAST Lookup'!A:C,3,FALSE)","v":"Crestwood STEAM Mag"},"1330201-Crestwood STEAM Mag",27]
["1335601","Dayton Heights El","1335601-Dayton Heights El",null,null,"1331101",{"$f":"VLOOKUP(F198, 'ECAST Lookup'!A:C,3,FALSE)","v":"Westside Glbl Awr Mg"},"1331101-Westside Glbl Awr Mg",28]
["1335602","Dayton Heights ES Urban Env Science Mag","1335602-Dayton Heights ES Urban Env Science Mag",null,null,"1331501",{"$f":"VLOOKUP(F199, 'ECAST Lookup'!A:C,3,FALSE)","v":"Dena El"},"1331501-Dena El",15]
["1337701","Dearborn El CA","1337701-Dearborn El CA",null,null,"1332901",{"$f":"VLOOKUP(F200, 'ECAST Lookup'!A:C,3,FALSE)","v":"Dahlia Heights El"},"1332901-Dahlia Heights El",25]
["1338401","Del Amo El","1338401-Del Amo El",null,null,"1333501",{"$f":"VLOOKUP(F201, 'ECAST Lookup'!A:C,3,FALSE)","v":"Danube El"},"1333501-Danube El",17]
["1339701","Delevan Drive El","1339701-Delevan Drive El",null,null,"1334001",{"$f":"VLOOKUP(F202, 'ECAST Lookup'!A:C,3,FALSE)","v":"Darby Ave El"},"1334001-Darby Ave El",20]
["1342501","Denker El","1342501-Denker El",null,null,"1335601",{"$f":"VLOOKUP(F203, 'ECAST Lookup'!A:C,3,FALSE)","v":"Dayton Heights El"},"1335601-Dayton Heights El",25]
["1342502","Denker El DL Two-Way Im Korean","1342502-Denker El DL Two-Way Im Korean",null,null,"1335602",{"$f":"VLOOKUP(F204, 'ECAST Lookup'!A:C,3,FALSE)","v":"Dayton Hts UES Mag"},"1335602-Dayton Hts UES Mag",26]
["1342601","Garza PC","1342601-Garza PC",null,null,"1337701",{"$f":"VLOOKUP(F205, 'ECAST Lookup'!A:C,3,FALSE)","v":"Dearborn El CA"},"1337701-Dearborn El CA",22]
["1343801","Dixie Cyn Comm Chtr","1343801-Dixie Cyn Comm Chtr",null,null,"1338401",{"$f":"VLOOKUP(F206, 'ECAST Lookup'!A:C,3,FALSE)","v":"Del Amo El"},"1338401-Del Amo El",18]
["1345201","Dolores El","1345201-Dolores El",null,null,"1339701",{"$f":"VLOOKUP(F207, 'ECAST Lookup'!A:C,3,FALSE)","v":"Delevan Drive El"},"1339701-Delevan Drive El",24]
["1346601","Dominguez El","1346601-Dominguez El",null,null,"1342501",{"$f":"VLOOKUP(F208, 'ECAST Lookup'!A:C,3,FALSE)","v":"Denker El"},"1342501-Denker El",17]
["1346602","Dominguez El DL Two-Way Im Spanish","1346602-Dominguez El DL Two-Way Im Spanish",null,null,"1342502",{"$f":"VLOOKUP(F209, 'ECAST Lookup'!A:C,3,FALSE)","v":"Denker Ave El DTK"},"1342502-Denker Ave El DTK",25]
["1347901","Dorris Place El","1347901-Dorris Place El",null,null,"1342601",{"$f":"VLOOKUP(F210, 'ECAST Lookup'!A:C,3,FALSE)","v":"Garza PC"},"1342601-Garza PC",16]
["1349301","Dyer El","1349301-Dyer El",null,null,"1343801",{"$f":"VLOOKUP(F211, 'ECAST Lookup'!A:C,3,FALSE)","v":"Dixie Cyn Comm Chtr"},"1343801-Dixie Cyn Comm Chtr",27]
["1350001","Midcity Prescott Mag","1350001-Midcity Prescott Mag",null,null,"1345201",{"$f":"VLOOKUP(F212, 'ECAST Lookup'!A:C,3,FALSE)","v":"Dolores El"},"1345201-Dolores El",18]
["1350701","Eagle Rock El","1350701-Eagle Rock El",null,null,"1346601",{"$f":"VLOOKUP(F213, 'ECAST Lookup'!A:C,3,FALSE)","v":"Dominguez El"},"1346601-Dominguez El",20]
["1350702","Eagle Rock Hg El Mag","1350702-Eagle Rock Hg El Mag",null,null,"1346602",{"$f":"VLOOKUP(F214, 'ECAST Lookup'!A:C,3,FALSE)","v":"Dominguez El DTS"},"1346602-Dominguez El DTS",24]
["1350703","Eagle Rck G/HA El Mg","1350703-Eagle Rck G/HA El Mg",null,null,"1347901",{"$f":"VLOOKUP(F215, 'ECAST Lookup'!A:C,3,FALSE)","v":"Dorris Place El"},"1347901-Dorris Place El",23]
["1352101","Eastman El","1352101-Eastman El",null,null,"1349301",{"$f":"VLOOKUP(F216, 'ECAST Lookup'!A:C,3,FALSE)","v":"Dyer El"},"1349301-Dyer El",15]
["1352102","Eastman El DL One & Two-Way Im Spanish","1352102-Eastman El DL One & Two-Way Im Spanish",null,null,"1350001",{"$f":"VLOOKUP(F217, 'ECAST Lookup'!A:C,3,FALSE)","v":"Midcity Prescott Mag"},"1350001-Midcity Prescott Mag",28]
["1354101","El Dorado El","1354101-El Dorado El",null,null,"1350701",{"$f":"VLOOKUP(F218, 'ECAST Lookup'!A:C,3,FALSE)","v":"Eagle Rock El"},"1350701-Eagle Rock El",21]
["1354501","El Oro Way Chtr CES","1354501-El Oro Way Chtr CES",null,null,"1350702",{"$f":"VLOOKUP(F219, 'ECAST Lookup'!A:C,3,FALSE)","v":"Eagle Rock Hg El Mag"},"1350702-Eagle Rock Hg El Mag",28]
["1354801","Elizabeth LC","1354801-Elizabeth LC",null,null,"1350703",{"$f":"VLOOKUP(F220, 'ECAST Lookup'!A:C,3,FALSE)","v":"Eagle Rck G/HA El Mg"},"1350703-Eagle Rck G/HA El Mg",28]
["1354805","Elizabeth LC DL Two-Way Im Arabic","1354805-Elizabeth LC DL Two-Way Im Arabic",null,null,"1352101",{"$f":"VLOOKUP(F221, 'ECAST Lookup'!A:C,3,FALSE)","v":"Eastman El"},"1352101-Eastman El",18]
["1356201","El Sereno El","1356201-El Sereno El",null,null,"1352102",{"$f":"VLOOKUP(F222, 'ECAST Lookup'!A:C,3,FALSE)","v":"Eastman El DTS & DOS"},"1352102-Eastman El DTS & DOS",28]
["1357401","Sendak El","1357401-Sendak El",null,null,"1354101",{"$f":"VLOOKUP(F223, 'ECAST Lookup'!A:C,3,FALSE)","v":"El Dorado El"},"1354101-El Dorado El",20]
["1357402","Sendak ES Arts/Comm/Technology Magnet","1357402-Sendak ES Arts/Comm/Technology Magnet",null,null,"1354501",{"$f":"VLOOKUP(F224, 'ECAST Lookup'!A:C,3,FALSE)","v":"El Oro Way Chtr CES"},"1354501-El Oro Way Chtr CES",27]
["1357501","Elysian Heights ES Arts Magnet","1357501-Elysian Heights ES Arts Magnet",null,null,"1354801",{"$f":"VLOOKUP(F225, 'ECAST Lookup'!A:C,3,FALSE)","v":"Elizabeth LC"},"1354801-Elizabeth LC",20]
["1357601","Parks LC","1357601-Parks LC",null,null,"1354805",{"$f":"VLOOKUP(F226, 'ECAST Lookup'!A:C,3,FALSE)","v":"Elizabeth LC DTA"},"1354805-Elizabeth LC DTA",24]
["1357701","Bellingham El","1357701-Bellingham El",null,null,"1356201",{"$f":"VLOOKUP(F227, 'ECAST Lookup'!A:C,3,FALSE)","v":"El Sereno El"},"1356201-El Sereno El",20]
["1358901","Emelita St El","1358901-Emelita St El",null,null,"1357401",{"$f":"VLOOKUP(F228, 'ECAST Lookup'!A:C,3,FALSE)","v":"Sendak El"},"1357401-Sendak El",17]
["1361001","Enadia Way Tech Charter","1361001-Enadia Way Tech Charter",null,null,"1357402",{"$f":"VLOOKUP(F229, 'ECAST Lookup'!A:C,3,FALSE)","v":"Sendak A/C/T Mag"},"1357402-Sendak A/C/T Mag",24]
["1361601","Encino Charter El","1361601-Encino Charter El",null,null,"1357501",{"$f":"VLOOKUP(F230, 'ECAST Lookup'!A:C,3,FALSE)","v":"Elysian Hts Arts Mag"},"1357501-Elysian Hts Arts Mag",28]
["1363001","Erwin El","1363001-Erwin El",null,null,"1357601",{"$f":"VLOOKUP(F231, 'ECAST Lookup'!A:C,3,FALSE)","v":"Parks LC"},"1357601-Parks LC",16]
["1364001","Eshelman El","1364001-Eshelman El",null,null,"1357701",{"$f":"VLOOKUP(F232, 'ECAST Lookup'!A:C,3,FALSE)","v":"Bellingham El"},"1357701-Bellingham El",21]
["1367101","Euclid El","1367101-Euclid El",null,null,"1358901",{"$f":"VLOOKUP(F233, 'ECAST Lookup'!A:C,3,FALSE)","v":"Emelita St El"},"1358901-Emelita St El",21]
["1367102","Euclid Av ES Gifted/STEAM Magnet","1367102-Euclid Av ES Gifted/STEAM Magnet",null,null,"1361001",{"$f":"VLOOKUP(F234, 'ECAST Lookup'!A:C,3,FALSE)","v":"Enadia Way"},"1361001-Enadia Way",18]
["1367103","Euclid El DL Two-Way Im Spanish","1367103-Euclid El DL Two-Way Im Spanish",null,null,"1361601",{"$f":"VLOOKUP(F235, 'ECAST Lookup'!A:C,3,FALSE)","v":"Encino Charter El"},"1361601-Encino Charter El",25]
["1369901","Evergreen El","1369901-Evergreen El",null,null,"1363001",{"$f":"VLOOKUP(F236, 'ECAST Lookup'!A:C,3,FALSE)","v":"Erwin El"},"1363001-Erwin El",16]
["1371201","Fair El","1371201-Fair El",null,null,"1364001",{"$f":"VLOOKUP(F237, 'ECAST Lookup'!A:C,3,FALSE)","v":"Eshelman El"},"1364001-Eshelman El",19]
["1372601","Fairburn El","1372601-Fairburn El",null,null,"1367101",{"$f":"VLOOKUP(F238, 'ECAST Lookup'!A:C,3,FALSE)","v":"Euclid El"},"1367101-Euclid El",17]
["1374001","Farmdale El","1374001-Farmdale El",null,null,"1367102",{"$f":"VLOOKUP(F239, 'ECAST Lookup'!A:C,3,FALSE)","v":"Euclid ES GSTEAM Mag"},"1367102-Euclid ES GSTEAM Mag",28]
["1374002","Farmdale El DL Two-Way Im Spanish","1374002-Farmdale El DL Two-Way Im Spanish",null,null,"1367103",{"$f":"VLOOKUP(F240, 'ECAST Lookup'!A:C,3,FALSE)","v":"Euclid Ave El DTS"},"1367103-Euclid Ave El DTS",25]
["1375301","Fernangeles El","1375301-Fernangeles El",null,null,"1369901",{"$f":"VLOOKUP(F241, 'ECAST Lookup'!A:C,3,FALSE)","v":"Evergreen El"},"1369901-Evergreen El",20]
["1375302","Fernangeles DL One & Two-Way Im Spanish","1375302-Fernangeles DL One & Two-Way Im Spanish",null,null,"1371201",{"$f":"VLOOKUP(F242, 'ECAST Lookup'!A:C,3,FALSE)","v":"Fair El"},"1371201-Fair El",15]
["1376701","15th St El","1376701-15th St El",null,null,"1372601",{"$f":"VLOOKUP(F243, 'ECAST Lookup'!A:C,3,FALSE)","v":"Fairburn El"},"1372601-Fairburn El",19]
["1378101","54th St El","1378101-54th St El",null,null,"1374001",{"$f":"VLOOKUP(F244, 'ECAST Lookup'!A:C,3,FALSE)","v":"Farmdale El"},"1374001-Farmdale El",19]
["1379501","59th St El","1379501-59th St El",null,null,"1374002",{"$f":"VLOOKUP(F245, 'ECAST Lookup'!A:C,3,FALSE)","v":"Farmdale El DOS"},"1374002-Farmdale El DOS",23]
["1380801","52nd St El","1380801-52nd St El",null,null,"1375301",{"$f":"VLOOKUP(F246, 'ECAST Lookup'!A:C,3,FALSE)","v":"Fernangeles El"},"1375301-Fernangeles El",22]
["1382201","Figueroa El","1382201-Figueroa El",null,null,"1375302",{"$f":"VLOOKUP(F247, 'ECAST Lookup'!A:C,3,FALSE)","v":"Fernangeles DTS & DOS"},"1375302-Fernangeles DTS & DOS",29]
["1382901","Broadous El","1382901-Broadous El",null,null,"1376701",{"$f":"VLOOKUP(F248, 'ECAST Lookup'!A:C,3,FALSE)","v":"15th St El"},"1376701-15th St El",18]
["1382902","Hillery T Broadous Elem Science/Tech/Math","1382902-Hillery T Broadous Elem Science/Tech/Math",null,null,"1378101",{"$f":"VLOOKUP(F249, 'ECAST Lookup'!A:C,3,FALSE)","v":"54th St El"},"1378101-54th St El",18]
["1383601","1st St El","1383601-1st St El",null,null,"1379501",{"$f":"VLOOKUP(F250, 'ECAST Lookup'!A:C,3,FALSE)","v":"59th St El"},"1379501-59th St El",18]
["1384901","Fishburn El","1384901-Fishburn El",null,null,"1380801",{"$f":"VLOOKUP(F251, 'ECAST Lookup'!A:C,3,FALSE)","v":"52nd St El"},"1380801-52nd St El",18]
["1384902","Fishburn El DL Two-Way Im Spanish","1384902-Fishburn El DL Two-Way Im Spanish",null,null,"1382201",{"$f":"VLOOKUP(F252, 'ECAST Lookup'!A:C,3,FALSE)","v":"Figueroa El"},"1382201-Figueroa El",19]
["1387701","Fletcher Dr El","1387701-Fletcher Dr El",null,null,"1382901",{"$f":"VLOOKUP(F253, 'ECAST Lookup'!A:C,3,FALSE)","v":"Broadous El"},"1382901-Broadous El",19]
["1387702","Fletcher Dr ES STEAM Magnet","1387702-Fletcher Dr ES STEAM Magnet",null,null,"1382902",{"$f":"VLOOKUP(F254, 'ECAST Lookup'!A:C,3,FALSE)","v":"Broadous El STEM Mag"},"1382902-Broadous El STEM Mag",28]
["1389001","Florence El","1389001-Florence El",null,null,"1383601",{"$f":"VLOOKUP(F255, 'ECAST Lookup'!A:C,3,FALSE)","v":"1st St El"},"1383601-1st St El",17]
["1389002","Florence El DL Two-Way Im Spanish","1389002-Florence El DL Two-Way Im Spanish",null,null,"1384901",{"$f":"VLOOKUP(F256, 'ECAST Lookup'!A:C,3,FALSE)","v":"Fishburn El"},"1384901-Fishburn El",19]
["1391801","Ford Blvd El","1391801-Ford Blvd El",null,null,"1384902",{"$f":"VLOOKUP(F257, 'ECAST Lookup'!A:C,3,FALSE)","v":"Fishburn El DTS"},"1384902-Fishburn El DTS",23]
["1391802","Ford Blvd El DL Two-Way Im Spanish","1391802-Ford Blvd El DL Two-Way Im Spanish",null,null,"1387701",{"$f":"VLOOKUP(F258, 'ECAST Lookup'!A:C,3,FALSE)","v":"Fletcher Dr El"},"1387701-Fletcher Dr El",22]
["1393201","49th St El","1393201-49th St El",null,null,"1387702",{"$f":"VLOOKUP(F259, 'ECAST Lookup'!A:C,3,FALSE)","v":"Fletcher STEAM Mag"},{"$f":"F259&\"-\"&G259","v":"1387702-Fletcher STEAM Mag"},{"$f":"LEN(H259)","v":26}]
["1395901","42nd St El",{"$f":"A260&\"-\"&B260","v":"1395901-42nd St El"},null,null,"1389001",{"$f":"VLOOKUP(F260, 'ECAST Lookup'!A:C,3,FALSE)","v":"Florence El"},"1389001-Florence El",19]
["1395902","42nd St El DL World Lang Im Spanish","1395902-42nd St El DL World Lang Im Spanish",null,null,"1389002",{"$f":"VLOOKUP(F261, 'ECAST Lookup'!A:C,3,FALSE)","v":"Florence El DTS"},"1389002-Florence El DTS",23]
["1397301","4th St El","1397301-4th St El",null,null,"1391801",{"$f":"VLOOKUP(F262, 'ECAST Lookup'!A:C,3,FALSE)","v":"Ford Blvd El"},"1391801-Ford Blvd El",20]
["1397401","4th Street Primary Center","1397401-4th Street Primary Center",null,null,"1391802",{"$f":"VLOOKUP(F263, 'ECAST Lookup'!A:C,3,FALSE)","v":"Ford Blvd El DTS"},"1391802-Ford Blvd El DTS",24]
["1397402","4th St PC DL Two-Way Im Spanish","1397402-4th St PC DL Two-Way Im Spanish",null,null,"1393201",{"$f":"VLOOKUP(F264, 'ECAST Lookup'!A:C,3,FALSE)","v":"49th St El"},"1393201-49th St El",18]
["1398601","Franklin El","1398601-Franklin El",null,null,"1395901",{"$f":"VLOOKUP(F265, 'ECAST Lookup'!A:C,3,FALSE)","v":"42nd St El"},"1395901-42nd St El",18]
["1401401","Fries El","1401401-Fries El",null,null,"1395902",{"$f":"VLOOKUP(F266, 'ECAST Lookup'!A:C,3,FALSE)","v":"42nd St El DWS"},"1395902-42nd St El DWS",22]
["1402001","Bakewell PC","1402001-Bakewell PC",null,null,"1397301",{"$f":"VLOOKUP(F267, 'ECAST Lookup'!A:C,3,FALSE)","v":"4th St El"},"1397301-4th St El",17]
["1402701","Fullbright El","1402701-Fullbright El",null,null,"1397302",{"$f":"VLOOKUP(F268, 'ECAST Lookup'!A:C,3,FALSE)","v":"4th Street El DTS"},"1397302-4th Street El DTS",25]
["1402702","Fullbright Ave El DL Two-Way Im Spanish","1402702-Fullbright Ave El DL Two-Way Im Spanish",null,null,"1397401",{"$f":"VLOOKUP(F269, 'ECAST Lookup'!A:C,3,FALSE)","v":"4th St Primary Ctr"},"1397401-4th St Primary Ctr",26]
["1404101","Gardena El","1404101-Gardena El",null,null,"1397402",{"$f":"VLOOKUP(F270, 'ECAST Lookup'!A:C,3,FALSE)","v":"4th St PC DTS"},"1397402-4th St PC DTS",21]
["1404102","Gardena El DL Two-Way Im Spanish","1404102-Gardena El DL Two-Way Im Spanish",null,null,"1398601",{"$f":"VLOOKUP(F271, 'ECAST Lookup'!A:C,3,FALSE)","v":"Franklin El"},"1398601-Franklin El",19]
["1405501","Garden Grove El","1405501-Garden Grove El",null,null,"1401401",{"$f":"VLOOKUP(F272, 'ECAST Lookup'!A:C,3,FALSE)","v":"Fries El"},"1401401-Fries El",16]
["1406801","Gardner El","1406801-Gardner El",null,null,"1402001",{"$f":"VLOOKUP(F273, 'ECAST Lookup'!A:C,3,FALSE)","v":"Bakewell PC"},"1402001-Bakewell PC",19]
["1408201","Garvanza ES Tech/Leadership Magnet","1408201-Garvanza ES Tech/Leadership Magnet",null,null,"1402701",{"$f":"VLOOKUP(F274, 'ECAST Lookup'!A:C,3,FALSE)","v":"Fullbright El"},"1402701-Fullbright El",21]
["1409601","Gates El","1409601-Gates El",null,null,"1402702",{"$f":"VLOOKUP(F275, 'ECAST Lookup'!A:C,3,FALSE)","v":"Fullbright El DTS"},"1402702-Fullbright El DTS",25]
["1409602","Gates El DL Two-Way Im Spanish","1409602-Gates El DL Two-Way Im Spanish",null,null,"1404101",{"$f":"VLOOKUP(F276, 'ECAST Lookup'!A:C,3,FALSE)","v":"Gardena El"},"1404101-Gardena El",18]
["1409603","Gates St El DL Two-Way Im Mandarin","1409603-Gates St El DL Two-Way Im Mandarin",null,null,"1404102",{"$f":"VLOOKUP(F277, 'ECAST Lookup'!A:C,3,FALSE)","v":"Gardena El DTS"},"1404102-Gardena El DTS",22]
["1411001","Gault El","1411001-Gault El",null,null,"1405501",{"$f":"VLOOKUP(F278, 'ECAST Lookup'!A:C,3,FALSE)","v":"Garden Grove El"},"1405501-Garden Grove El",23]
["1411701","Germain Acad AA","1411701-Germain Acad AA",null,null,"1406801",{"$f":"VLOOKUP(F279, 'ECAST Lookup'!A:C,3,FALSE)","v":"Gardner El"},"1406801-Gardner El",18]
["1412301","Glassell Park ES STEAM Magnet","1412301-Glassell Park ES STEAM Magnet",null,null,"1406802",{"$f":"VLOOKUP(F280, 'ECAST Lookup'!A:C,3,FALSE)","v":"Gardner St ES AI Mag"},"1406802-Gardner St ES AI Mag",28]
["1413001","Gledhill El","1413001-Gledhill El",null,null,"1408201",{"$f":"VLOOKUP(F281, 'ECAST Lookup'!A:C,3,FALSE)","v":"Garvanza ES Tech/Lea"},"1408201-Garvanza ES Tech/Lea",28]
["1413002","Gledhill Street Elem Science/Tech/Math Magnet","1413002-Gledhill Street Elem Science/Tech/Math Magnet",null,null,"1409601",{"$f":"VLOOKUP(F282, 'ECAST Lookup'!A:C,3,FALSE)","v":"Gates El"},"1409601-Gates El",16]
["1413701","Glen Alta El","1413701-Glen Alta El",null,null,"1409602",{"$f":"VLOOKUP(F283, 'ECAST Lookup'!A:C,3,FALSE)","v":"Gates St El DTS"},"1409602-Gates St El DTS",23]
["1416401","Glenfeliz Blvd El","1416401-Glenfeliz Blvd El",null,null,"1409603",{"$f":"VLOOKUP(F284, 'ECAST Lookup'!A:C,3,FALSE)","v":"Gates St El  DTM"},"1409603-Gates St El  DTM",24]
["1419201","Glenwood El","1419201-Glenwood El",null,null,"1411001",{"$f":"VLOOKUP(F285, 'ECAST Lookup'!A:C,3,FALSE)","v":"Gault El"},"1411001-Gault El",16]
["1421901","Graham El","1421901-Graham El",null,null,"1411701",{"$f":"VLOOKUP(F286, 'ECAST Lookup'!A:C,3,FALSE)","v":"Germain Acad AA"},"1411701-Germain Acad AA",23]
["1421902","Graham El DL Two-Way Im Spanish","1421902-Graham El DL Two-Way Im Spanish",null,null,"1412301",{"$f":"VLOOKUP(F287, 'ECAST Lookup'!A:C,3,FALSE)","v":"Glassell Pk STEAM Mg"},"1412301-Glassell Pk STEAM Mg",28]
["1423301","Granada Elementary","1423301-Granada Elementary",null,null,"1413001",{"$f":"VLOOKUP(F288, 'ECAST Lookup'!A:C,3,FALSE)","v":"Gledhill El"},"1413001-Gledhill El",19]
["1424701","Grand View El","1424701-Grand View El",null,null,"1413002",{"$f":"VLOOKUP(F289, 'ECAST Lookup'!A:C,3,FALSE)","v":"Gledhill El STEM Mag"},"1413002-Gledhill El STEM Mag",28]
["1424702","Grand View El DL Two-Way Im Spanish","1424702-Grand View El DL Two-Way Im Spanish",null,null,"1413701",{"$f":"VLOOKUP(F290, 'ECAST Lookup'!A:C,3,FALSE)","v":"Glen Alta El"},"1413701-Glen Alta El",20]
["1426001","Grant El","1426001-Grant El",null,null,"1416401",{"$f":"VLOOKUP(F291, 'ECAST Lookup'!A:C,3,FALSE)","v":"Glenfeliz Blvd El"},"1416401-Glenfeliz Blvd El",25]
["1426002","Grant El DL Two-Way Im Armenian","1426002-Grant El DL Two-Way Im Armenian",null,null,"1419201",{"$f":"VLOOKUP(F292, 'ECAST Lookup'!A:C,3,FALSE)","v":"Glenwood El"},"1419201-Glenwood El",19]
["1427401","Grape El","1427401-Grape El",null,null,"1421901",{"$f":"VLOOKUP(F293, 'ECAST Lookup'!A:C,3,FALSE)","v":"Graham El"},"1421901-Graham El",17]
["1429501","Gridley El","1429501-Gridley El",null,null,"1421902",{"$f":"VLOOKUP(F294, 'ECAST Lookup'!A:C,3,FALSE)","v":"Graham El DTS"},"1421902-Graham El DTS",21]
["1429502","Gridley El DL Two-Way Im Spanish","1429502-Gridley El DL Two-Way Im Spanish",null,null,"1423301",{"$f":"VLOOKUP(F295, 'ECAST Lookup'!A:C,3,FALSE)","v":"Granada Elementary"},"1423301-Granada Elementary",26]
["1430101","Griffin El","1430101-Griffin El",null,null,"1424701",{"$f":"VLOOKUP(F296, 'ECAST Lookup'!A:C,3,FALSE)","v":"Grand View El"},"1424701-Grand View El",21]
["1431501","Gulf El","1431501-Gulf El",null,null,"1424702",{"$f":"VLOOKUP(F297, 'ECAST Lookup'!A:C,3,FALSE)","v":"Grand View El DTS"},"1424702-Grand View El DTS",25]
["1431502","Gulf ES STEAM Magnet","1431502-Gulf ES STEAM Magnet",null,null,"1426001",{"$f":"VLOOKUP(F298, 'ECAST Lookup'!A:C,3,FALSE)","v":"Grant El"},"1426001-Grant El",16]
["1432201","Arroyo Seco Musm Sci","1432201-Arroyo Seco Musm Sci",null,null,"1426002",{"$f":"VLOOKUP(F299, 'ECAST Lookup'!A:C,3,FALSE)","v":"Grant St El DTR"},"1426002-Grant St El DTR",23]
["1432901","Haddon El","1432901-Haddon El",null,null,"1427401",{"$f":"VLOOKUP(F300, 'ECAST Lookup'!A:C,3,FALSE)","v":"Grape El"},"1427401-Grape El",16]
["1432902","Haddon Av ES STEAM Magnet","1432902-Haddon Av ES STEAM Magnet",null,null,"1429501",{"$f":"VLOOKUP(F301, 'ECAST Lookup'!A:C,3,FALSE)","v":"Gridley El"},"1429501-Gridley El",18]
["1434201","Halldale El","1434201-Halldale El",null,null,"1429502",{"$f":"VLOOKUP(F302, 'ECAST Lookup'!A:C,3,FALSE)","v":"Gridley St El DTS"},"1429502-Gridley St El DTS",25]
["1434901","Hamlin CA","1434901-Hamlin CA",null,null,"1430101",{"$f":"VLOOKUP(F303, 'ECAST Lookup'!A:C,3,FALSE)","v":"Griffin El"},"1430101-Griffin El",18]
["1435601","Anton El","1435601-Anton El",null,null,"1431501",{"$f":"VLOOKUP(F304, 'ECAST Lookup'!A:C,3,FALSE)","v":"Gulf El"},"1431501-Gulf El",15]
["1435602","Anton El DL Two-Way Im Spanish","1435602-Anton El DL Two-Way Im Spanish",null,null,"1431502",{"$f":"VLOOKUP(F305, 'ECAST Lookup'!A:C,3,FALSE)","v":"Gulf ES STEAM Magnet"},"1431502-Gulf ES STEAM Magnet",28]
["1439701","Hancock Park El","1439701-Hancock Park El",null,null,"1432201",{"$f":"VLOOKUP(F306, 'ECAST Lookup'!A:C,3,FALSE)","v":"Arroyo Seco Musm Sci"},"1432201-Arroyo Seco Musm Sci",28]
["1442501","Harbor City El","1442501-Harbor City El",null,null,"1432901",{"$f":"VLOOKUP(F307, 'ECAST Lookup'!A:C,3,FALSE)","v":"Haddon El"},"1432901-Haddon El",17]
["1443101","Harding El","1443101-Harding El",null,null,"1432902",{"$f":"VLOOKUP(F308, 'ECAST Lookup'!A:C,3,FALSE)","v":"Haddon STEAM Mag"},"1432902-Haddon STEAM Mag",24]
["1443801","Harrison El","1443801-Harrison El",null,null,"1434201",{"$f":"VLOOKUP(F309, 'ECAST Lookup'!A:C,3,FALSE)","v":"Halldale El"},"1434201-Halldale El",19]
["1443802","Harrison El DL Two-Way Im Spanish","1443802-Harrison El DL Two-Way Im Spanish",null,null,"1434901",{"$f":"VLOOKUP(F310, 'ECAST Lookup'!A:C,3,FALSE)","v":"Hamlin CA"},"1434901-Hamlin CA",17]
["1444501","Hart St El","1444501-Hart St El",null,null,"1435601",{"$f":"VLOOKUP(F311, 'ECAST Lookup'!A:C,3,FALSE)","v":"Anton El"},"1435601-Anton El",16]
["1445201","Haskell STEAM Magnet","1445201-Haskell STEAM Magnet",null,null,"1435602",{"$f":"VLOOKUP(F312, 'ECAST Lookup'!A:C,3,FALSE)","v":"Anton El DTS"},"1435602-Anton El DTS",20]
["1446601","Hawaiian El","1446601-Hawaiian El",null,null,"1439701",{"$f":"VLOOKUP(F313, 'ECAST Lookup'!A:C,3,FALSE)","v":"Hancock Park El"},"1439701-Hancock Park El",23]
["1446602","Hawaiian ES STEAM Magnet","1446602-Hawaiian ES STEAM Magnet",null,null,"1442501",{"$f":"VLOOKUP(F314, 'ECAST Lookup'!A:C,3,FALSE)","v":"Harbor City El"},"1442501-Harbor City El",22]
["1447301","Haynes CES","1447301-Haynes CES",null,null,"1443101",{"$f":"VLOOKUP(F315, 'ECAST Lookup'!A:C,3,FALSE)","v":"Harding El"},"1443101-Harding El",18]
["1449301","Hazeltine El","1449301-Hazeltine El",null,null,"1443801",{"$f":"VLOOKUP(F316, 'ECAST Lookup'!A:C,3,FALSE)","v":"Harrison El"},"1443801-Harrison El",19]
["1449302","Hazeltine El DL Two-Way Im Spanish","1449302-Hazeltine El DL Two-Way Im Spanish",null,null,"1443802",{"$f":"VLOOKUP(F317, 'ECAST Lookup'!A:C,3,FALSE)","v":"Harrison El DTS"},"1443802-Harrison El DTS",23]
["1450701","Heliotrope El","1450701-Heliotrope El",null,null,"1444501",{"$f":"VLOOKUP(F318, 'ECAST Lookup'!A:C,3,FALSE)","v":"Hart St El"},"1444501-Hart St El",18]
["1451501","Herrick El","1451501-Herrick El",null,null,"1445201",{"$f":"VLOOKUP(F319, 'ECAST Lookup'!A:C,3,FALSE)","v":"Haskell STEAM Magnet"},"1445201-Haskell STEAM Magnet",28]
["1452101","Hesby Oaks Lead Chtr","1452101-Hesby Oaks Lead Chtr",null,null,"1446601",{"$f":"VLOOKUP(F320, 'ECAST Lookup'!A:C,3,FALSE)","v":"Hawaiian El"},"1446601-Hawaiian El",19]
["1452801","Hillcrest Dr El","1452801-Hillcrest Dr El",null,null,"1446602",{"$f":"VLOOKUP(F321, 'ECAST Lookup'!A:C,3,FALSE)","v":"Hawaiian ES"},"1446602-Hawaiian ES",19]
["1452802","Hillcrest Drive Elementary Music Magnet","1452802-Hillcrest Drive Elementary Music Magnet",null,null,"1447301",{"$f":"VLOOKUP(F322, 'ECAST Lookup'!A:C,3,FALSE)","v":"Haynes CES"},"1447301-Haynes CES",18]
["1452803","Hillcrest Dr El DL Two-Way Im Spanish","1452803-Hillcrest Dr El DL Two-Way Im Spanish",null,null,"1449301",{"$f":"VLOOKUP(F323, 'ECAST Lookup'!A:C,3,FALSE)","v":"Hazeltine El"},{"$f":"F323&\"-\"&G323","v":"1449301-Hazeltine El"},{"$f":"LEN(H323)","v":20}]
["1453401","Hillside El",{"$f":"A324&\"-\"&B324","v":"1453401-Hillside El"},null,null,"1449302",{"$f":"VLOOKUP(F324, 'ECAST Lookup'!A:C,3,FALSE)","v":"Hazeltine El DTS"},"1449302-Hazeltine El DTS",24]
["1454801","Hobart Blvd El","1454801-Hobart Blvd El",null,null,"1450701",{"$f":"VLOOKUP(F325, 'ECAST Lookup'!A:C,3,FALSE)","v":"Heliotrope El"},"1450701-Heliotrope El",21]
["1454802","Hobart Blvd El DL Two-Way Im Spanish","1454802-Hobart Blvd El DL Two-Way Im Spanish",null,null,"1451501",{"$f":"VLOOKUP(F326, 'ECAST Lookup'!A:C,3,FALSE)","v":"Herrick El"},"1451501-Herrick El",18]
["1456201","Holmes El","1456201-Holmes El",null,null,"1452101",{"$f":"VLOOKUP(F327, 'ECAST Lookup'!A:C,3,FALSE)","v":"Hesby Oaks Lead Chtr"},"1452101-Hesby Oaks Lead Chtr",28]
["1457501","Hooper El","1457501-Hooper El",null,null,"1452801",{"$f":"VLOOKUP(F328, 'ECAST Lookup'!A:C,3,FALSE)","v":"Hillcrest Dr El"},"1452801-Hillcrest Dr El",23]
["1457502","Hooper El DL Two-Way Im Spanish","1457502-Hooper El DL Two-Way Im Spanish",null,null,"1452802",{"$f":"VLOOKUP(F329, 'ECAST Lookup'!A:C,3,FALSE)","v":"Hillcrest El Mus Mag"},"1452802-Hillcrest El Mus Mag",28]
["1457601","Hooper PC","1457601-Hooper PC",null,null,"1452803",{"$f":"VLOOKUP(F330, 'ECAST Lookup'!A:C,3,FALSE)","v":"Hillcrest El DTS"},"1452803-Hillcrest El DTS",24]
["1457602","Hooper PC El DL Two-Way Im Spanish","1457602-Hooper PC El DL Two-Way Im Spanish",null,null,"1453401",{"$f":"VLOOKUP(F331, 'ECAST Lookup'!A:C,3,FALSE)","v":"Hillside El"},"1453401-Hillside El",19]
["1458901","Hoover El","1458901-Hoover El",null,null,"1454801",{"$f":"VLOOKUP(F332, 'ECAST Lookup'!A:C,3,FALSE)","v":"Hobart Blvd El"},"1454801-Hobart Blvd El",22]
["1460301","Hubbard El","1460301-Hubbard El",null,null,"1454802",{"$f":"VLOOKUP(F333, 'ECAST Lookup'!A:C,3,FALSE)","v":"Hobart Blvd DTS"},"1454802-Hobart Blvd DTS",23]
["1460302","Hubbard St ES STEAM Magnet","1460302-Hubbard St ES STEAM Magnet",null,null,"1456201",{"$f":"VLOOKUP(F334, 'ECAST Lookup'!A:C,3,FALSE)","v":"Holmes El"},"1456201-Holmes El",17]
["1461601","Humphreys El","1461601-Humphreys El",null,null,"1457501",{"$f":"VLOOKUP(F335, 'ECAST Lookup'!A:C,3,FALSE)","v":"Hooper El"},"1457501-Hooper El",17]
["1461602","Humphreys Avenue Elem Science/Tech/Math","1461602-Humphreys Avenue Elem Science/Tech/Math",null,null,"1457502",{"$f":"VLOOKUP(F336, 'ECAST Lookup'!A:C,3,FALSE)","v":"Hooper El DTS"},"1457502-Hooper El DTS",21]
["1461603","Humphreys El DL Two-Way Im Spanish","1461603-Humphreys El DL Two-Way Im Spanish",null,null,"1457601",{"$f":"VLOOKUP(F337, 'ECAST Lookup'!A:C,3,FALSE)","v":"Hooper PC"},"1457601-Hooper PC",17]
["1463001","Huntington Dr El","1463001-Huntington Dr El",null,null,"1457602",{"$f":"VLOOKUP(F338, 'ECAST Lookup'!A:C,3,FALSE)","v":"Hooper PC DTS"},"1457602-Hooper PC DTS",21]
["1463002","Huntington Dr El DL Two-Way Im Spanish","1463002-Huntington Dr El DL Two-Way Im Spanish",null,null,"1458901",{"$f":"VLOOKUP(F339, 'ECAST Lookup'!A:C,3,FALSE)","v":"Hoover El"},"1458901-Hoover El",17]
["1464001","Walnut Park El","1464001-Walnut Park El",null,null,"1460301",{"$f":"VLOOKUP(F340, 'ECAST Lookup'!A:C,3,FALSE)","v":"Hubbard El"},"1460301-Hubbard El",18]
["1464002","Walnut Park El DL Two-Way Im Spanish","1464002-Walnut Park El DL Two-Way Im Spanish",null,null,"1460302",{"$f":"VLOOKUP(F341, 'ECAST Lookup'!A:C,3,FALSE)","v":"Hubbard STEAM Mag"},"1460302-Hubbard STEAM Mag",25]
["1464101","San Antonio El","1464101-San Antonio El",null,null,"1461601",{"$f":"VLOOKUP(F342, 'ECAST Lookup'!A:C,3,FALSE)","v":"Humphreys El"},"1461601-Humphreys El",20]
["1464102","San Antonio ES STEM Magnet","1464102-San Antonio ES STEM Magnet",null,null,"1461602",{"$f":"VLOOKUP(F343, 'ECAST Lookup'!A:C,3,FALSE)","v":"Humphreys El STEM Mag"},"1461602-Humphreys El STEM Mag",29]
["1464201","Pacific Blvd School","1464201-Pacific Blvd School",null,null,"1461603",{"$f":"VLOOKUP(F344, 'ECAST Lookup'!A:C,3,FALSE)","v":"Humphreys El DTS"},"1461603-Humphreys El DTS",24]
["1464202","Pacific Blvd El DL Two-Way Im Spanish","1464202-Pacific Blvd El DL Two-Way Im Spanish",null,null,"1463001",{"$f":"VLOOKUP(F345, 'ECAST Lookup'!A:C,3,FALSE)","v":"Huntington Dr El"},"1463001-Huntington Dr El",24]
["1465801","YES Academy","1465801-YES Academy",null,null,"1463002",{"$f":"VLOOKUP(F346, 'ECAST Lookup'!A:C,3,FALSE)","v":"Huntington Dr El DTS"},"1463002-Huntington Dr El DTS",28]
["1467101","Ivanhoe El","1467101-Ivanhoe El",null,null,"1464001",{"$f":"VLOOKUP(F347, 'ECAST Lookup'!A:C,3,FALSE)","v":"Walnut Park El"},"1464001-Walnut Park El",22]
["1468001","Lizarraga El","1468001-Lizarraga El",null,null,"1464002",{"$f":"VLOOKUP(F348, 'ECAST Lookup'!A:C,3,FALSE)","v":"Walnut Prk El DTS"},"1464002-Walnut Prk El DTS",25]
["1468101","Harmony El","1468101-Harmony El",null,null,"1464101",{"$f":"VLOOKUP(F349, 'ECAST Lookup'!A:C,3,FALSE)","v":"San Antonio El"},"1464101-San Antonio El",22]
["1468102","Harmony El DL Two-Way Im Spanish","1468102-Harmony El DL Two-Way Im Spanish",null,null,"1464102",{"$f":"VLOOKUP(F350, 'ECAST Lookup'!A:C,3,FALSE)","v":"San Antonio STEM Mag"},"1464102-San Antonio STEM Mag",28]
["1468501","Aurora El","1468501-Aurora El",null,null,"1464201",{"$f":"VLOOKUP(F351, 'ECAST Lookup'!A:C,3,FALSE)","v":"Pacific Blvd School"},"1464201-Pacific Blvd School",27]
["1468502","Aurora El DL Two-Way Im Spanish","1468502-Aurora El DL Two-Way Im Spanish",null,null,"1464202",{"$f":"VLOOKUP(F352, 'ECAST Lookup'!A:C,3,FALSE)","v":"Pacific Blvd El DTS"},"1464202-Pacific Blvd El DTS",27]
["1469201","Justice St Acad Chtr","1469201-Justice St Acad Chtr",null,null,"1465801",{"$f":"VLOOKUP(F353, 'ECAST Lookup'!A:C,3,FALSE)","v":"YES Academy"},"1465801-YES Academy",19]
["1469601","Kennedy El","1469601-Kennedy El",null,null,"1467101",{"$f":"VLOOKUP(F354, 'ECAST Lookup'!A:C,3,FALSE)","v":"Ivanhoe El"},"1467101-Ivanhoe El",18]
["1469901","Kenter Canyon Elementary Charter","1469901-Kenter Canyon Elementary Charter",null,null,"1468001",{"$f":"VLOOKUP(F355, 'ECAST Lookup'!A:C,3,FALSE)","v":"Lizarraga El"},"1468001-Lizarraga El",20]
["1471201","Kentwood El","1471201-Kentwood El",null,null,"1468002",{"$f":"VLOOKUP(F356, 'ECAST Lookup'!A:C,3,FALSE)","v":"Lizarraga El DTS"},"1468002-Lizarraga El DTS",24]
["1472601","Kester El","1472601-Kester El",null,null,"1468101",{"$f":"VLOOKUP(F357, 'ECAST Lookup'!A:C,3,FALSE)","v":"Harmony El"},"1468101-Harmony El",18]
["1472602","Kester Avenue Elementary Gifted Magnet","1472602-Kester Avenue Elementary Gifted Magnet",null,null,"1468102",{"$f":"VLOOKUP(F358, 'ECAST Lookup'!A:C,3,FALSE)","v":"Harmony El DTS"},"1468102-Harmony El DTS",22]
["1476001","Kittridge El","1476001-Kittridge El",null,null,"1468501",{"$f":"VLOOKUP(F359, 'ECAST Lookup'!A:C,3,FALSE)","v":"Aurora El"},"1468501-Aurora El",17]
["1476002","Kittridge El DL Two-Way Im Spanish","1476002-Kittridge El DL Two-Way Im Spanish",null,null,"1468502",{"$f":"VLOOKUP(F360, 'ECAST Lookup'!A:C,3,FALSE)","v":"Aurora El DTS"},"1468502-Aurora El DTS",21]
["1476003","Kittridge El DL Two-Way Im Armenian","1476003-Kittridge El DL Two-Way Im Armenian",null,null,"1469201",{"$f":"VLOOKUP(F361, 'ECAST Lookup'!A:C,3,FALSE)","v":"Justice St Acad Chtr"},"1469201-Justice St Acad Chtr",28]
["1476201","Knollwood Prep Acad","1476201-Knollwood Prep Acad",null,null,"1469601",{"$f":"VLOOKUP(F362, 'ECAST Lookup'!A:C,3,FALSE)","v":"Kennedy El"},"1469601-Kennedy El",18]
["1476401","Lanai El","1476401-Lanai El",null,null,"1469901",{"$f":"VLOOKUP(F363, 'ECAST Lookup'!A:C,3,FALSE)","v":"Kenter Canyon"},"1469901-Kenter Canyon",21]
["1476701","Lane El","1476701-Lane El",null,null,"1471201",{"$f":"VLOOKUP(F364, 'ECAST Lookup'!A:C,3,FALSE)","v":"Kentwood El"},"1471201-Kentwood El",19]
["1477501","Langdon El","1477501-Langdon El",null,null,"1472601",{"$f":"VLOOKUP(F365, 'ECAST Lookup'!A:C,3,FALSE)","v":"Kester El"},"1472601-Kester El",17]
["1477601","Primary Academy","1477601-Primary Academy",null,null,"1472602",{"$f":"VLOOKUP(F366, 'ECAST Lookup'!A:C,3,FALSE)","v":"Kester El Gifted Mag"},"1472602-Kester El Gifted Mag",28]
["1478101","Lankershim El","1478101-Lankershim El",null,null,"1476001",{"$f":"VLOOKUP(F367, 'ECAST Lookup'!A:C,3,FALSE)","v":"Kittridge El"},"1476001-Kittridge El",20]
["1478601","La Salle El","1478601-La Salle El",null,null,"1476002",{"$f":"VLOOKUP(F368, 'ECAST Lookup'!A:C,3,FALSE)","v":"Kittridge El DTS"},"1476002-Kittridge El DTS",24]
["1478602","La Salle El DL Two-Way Im Spanish","1478602-La Salle El DL Two-Way Im Spanish",null,null,"1476003",{"$f":"VLOOKUP(F369, 'ECAST Lookup'!A:C,3,FALSE)","v":"Kittridge El DTR"},"1476003-Kittridge El DTR",24]
["1479001","Lassen El","1479001-Lassen El",null,null,"1476201",{"$f":"VLOOKUP(F370, 'ECAST Lookup'!A:C,3,FALSE)","v":"Knollwood Prep Acad"},"1476201-Knollwood Prep Acad",27]
["1479002","Lassen El DL Two-Way Im Spanish","1479002-Lassen El DL Two-Way Im Spanish",null,null,"1476401",{"$f":"VLOOKUP(F371, 'ECAST Lookup'!A:C,3,FALSE)","v":"Lanai El"},"1476401-Lanai El",16]
["1479501","Latona El","1479501-Latona El",null,null,"1476701",{"$f":"VLOOKUP(F372, 'ECAST Lookup'!A:C,3,FALSE)","v":"Lane El"},"1476701-Lane El",15]
["1479502","Latona El DL Two-Way Im Spanish","1479502-Latona El DL Two-Way Im Spanish",null,null,"1477501",{"$f":"VLOOKUP(F373, 'ECAST Lookup'!A:C,3,FALSE)","v":"Langdon El"},"1477501-Langdon El",18]
["1480801","Laurel Cinematic Arts Creative Tech Mag","1480801-Laurel Cinematic Arts Creative Tech Mag",null,null,"1477601",{"$f":"VLOOKUP(F374, 'ECAST Lookup'!A:C,3,FALSE)","v":"Primary Academy"},"1477601-Primary Academy",23]
["1482901","Leapwood El","1482901-Leapwood El",null,null,"1478101",{"$f":"VLOOKUP(F375, 'ECAST Lookup'!A:C,3,FALSE)","v":"Lankershim El"},"1478101-Lankershim El",21]
["1483601","Leland El","1483601-Leland El",null,null,"1478601",{"$f":"VLOOKUP(F376, 'ECAST Lookup'!A:C,3,FALSE)","v":"La Salle El"},"1478601-La Salle El",19]
["1483602","Leland St ES Global Awareness Magnet","1483602-Leland St ES Global Awareness Magnet",null,null,"1478602",{"$f":"VLOOKUP(F377, 'ECAST Lookup'!A:C,3,FALSE)","v":"La Salle El DTS"},"1478602-La Salle El DTS",23]
["1484901","Lemay El","1484901-Lemay El",null,null,"1479001",{"$f":"VLOOKUP(F378, 'ECAST Lookup'!A:C,3,FALSE)","v":"Lassen El"},"1479001-Lassen El",17]
["1486301","Liberty El","1486301-Liberty El",null,null,"1479002",{"$f":"VLOOKUP(F379, 'ECAST Lookup'!A:C,3,FALSE)","v":"Lassen El DTS"},"1479002-Lassen El DTS",21]
["1487001","Liggett El","1487001-Liggett El",null,null,"1479501",{"$f":"VLOOKUP(F380, 'ECAST Lookup'!A:C,3,FALSE)","v":"Latona El"},"1479501-Latona El",17]
["1487701","Lillian El","1487701-Lillian El",null,null,"1479502",{"$f":"VLOOKUP(F381, 'ECAST Lookup'!A:C,3,FALSE)","v":"Latona El DTS"},"1479502-Latona El DTS",21]
["1488101","Limerick El","1488101-Limerick El",null,null,"1480801",{"$f":"VLOOKUP(F382, 'ECAST Lookup'!A:C,3,FALSE)","v":"Laurel CACT Mag"},"1480801-Laurel CACT Mag",23]
["1488102","Limerick Ave El DL Two-Way Im Spanish","1488102-Limerick Ave El DL Two-Way Im Spanish",null,null,"1482901",{"$f":"VLOOKUP(F383, 'ECAST Lookup'!A:C,3,FALSE)","v":"Leapwood El"},"1482901-Leapwood El",19]
["1488701","Lockhurst Dr Chtr El","1488701-Lockhurst Dr Chtr El",null,null,"1483601",{"$f":"VLOOKUP(F384, 'ECAST Lookup'!A:C,3,FALSE)","v":"Leland El"},"1483601-Leland El",17]
["1489001","Lockwood El","1489001-Lockwood El",null,null,"1483602",{"$f":"VLOOKUP(F385, 'ECAST Lookup'!A:C,3,FALSE)","v":"Leland GA Mag"},"1483602-Leland GA Mag",21]
["1490401","Logan Academy of Global Ecology","1490401-Logan Academy of Global Ecology",null,null,"1484901",{"$f":"VLOOKUP(F386, 'ECAST Lookup'!A:C,3,FALSE)","v":"Lemay El"},"1484901-Lemay El",16]
["1490402","Logan El DL Two-Way Im Spanish",{"$f":"A387&\"-\"&B387","v":"1490402-Logan El DL Two-Way Im Spanish"},null,null,"1486301",{"$f":"VLOOKUP(F387, 'ECAST Lookup'!A:C,3,FALSE)","v":"Liberty El"},{"$f":"F387&\"-\"&G387","v":"1486301-Liberty El"},{"$f":"LEN(H387)","v":18}]
["1491801","Loma Vista El","1491801-Loma Vista El",null,null,"1487001",{"$f":"VLOOKUP(F388, 'ECAST Lookup'!A:C,3,FALSE)","v":"Liggett El"},"1487001-Liggett El",18]
["1491802","Loma Vista El DL Two-Way Im Spanish","1491802-Loma Vista El DL Two-Way Im Spanish",null,null,"1487701",{"$f":"VLOOKUP(F389, 'ECAST Lookup'!A:C,3,FALSE)","v":"Lillian El"},"1487701-Lillian El",18]
["1493201","Lomita Math/Sci Mag","1493201-Lomita Math/Sci Mag",null,null,"1488101",{"$f":"VLOOKUP(F390, 'ECAST Lookup'!A:C,3,FALSE)","v":"Limerick El"},"1488101-Limerick El",19]
["1494501","Lorena El","1494501-Lorena El",null,null,"1488102",{"$f":"VLOOKUP(F391, 'ECAST Lookup'!A:C,3,FALSE)","v":"Limerick Ave El DTS"},"1488102-Limerick Ave El DTS",27]
["1494502","Lorena St. El DL Two-Way Im Spanish","1494502-Lorena St. El DL Two-Way Im Spanish",null,null,"1488701",{"$f":"VLOOKUP(F392, 'ECAST Lookup'!A:C,3,FALSE)","v":"Lockhurst Dr Chtr El"},"1488701-Lockhurst Dr Chtr El",28]
["1495901","Loreto El","1495901-Loreto El",null,null,"1489001",{"$f":"VLOOKUP(F393, 'ECAST Lookup'!A:C,3,FALSE)","v":"Lockwood El"},"1489001-Lockwood El",19]
["1495902","Loreto El DL Two-Way Im Spanish","1495902-Loreto El DL Two-Way Im Spanish",null,null,"1490401",{"$f":"VLOOKUP(F394, 'ECAST Lookup'!A:C,3,FALSE)","v":"Logan Acad Globl Eco"},"1490401-Logan Acad Globl Eco",28]
["1497301","Lorne El","1497301-Lorne El",null,null,"1490402",{"$f":"VLOOKUP(F395, 'ECAST Lookup'!A:C,3,FALSE)","v":"Logan Acad ES DL TWI"},"1490402-Logan Acad ES DL TWI",28]
["1497302","Lorne Street Elem Science/Tech/Math Magnet","1497302-Lorne Street Elem Science/Tech/Math Magnet",null,null,"1491801",{"$f":"VLOOKUP(F396, 'ECAST Lookup'!A:C,3,FALSE)","v":"Loma Vista El"},"1491801-Loma Vista El",21]
["1498001","Pio Pico MS","1498001-Pio Pico MS",null,null,"1491802",{"$f":"VLOOKUP(F397, 'ECAST Lookup'!A:C,3,FALSE)","v":"Loma Vista El DTS"},"1491802-Loma Vista El DTS",25]
["1498201","Los Angeles El","1498201-Los Angeles El",null,null,"1493201",{"$f":"VLOOKUP(F398, 'ECAST Lookup'!A:C,3,FALSE)","v":"Lomita Math/Sci Mag"},"1493201-Lomita Math/Sci Mag",27]
["1498301","Mariposa-Nabi PC","1498301-Mariposa-Nabi PC",null,null,"1494501",{"$f":"VLOOKUP(F399, 'ECAST Lookup'!A:C,3,FALSE)","v":"Lorena El"},"1494501-Lorena El",17]
["1498601","Los Feliz STEMM Magnet","1498601-Los Feliz STEMM Magnet",null,null,"1494502",{"$f":"VLOOKUP(F400, 'ECAST Lookup'!A:C,3,FALSE)","v":"Lorena St El DTS"},"1494502-Lorena St El DTS",24]
["1501401","Loyola Village ES Fine/Performing Arts Magnet","1501401-Loyola Village ES Fine/Performing Arts Magnet",null,null,"1495901",{"$f":"VLOOKUP(F401, 'ECAST Lookup'!A:C,3,FALSE)","v":"Loreto El"},"1495901-Loreto El",17]
["1501601","Coughlin El","1501601-Coughlin El",null,null,"1495902",{"$f":"VLOOKUP(F402, 'ECAST Lookup'!A:C,3,FALSE)","v":"Loreto St El DTS"},"1495902-Loreto St El DTS",24]
["1505501","Magnolia El","1505501-Magnolia El",null,null,"1497301",{"$f":"VLOOKUP(F403, 'ECAST Lookup'!A:C,3,FALSE)","v":"Lorne El"},"1497301-Lorne El",16]
["1505502","Magnolia El DL One & Two-Way Im Spanish","1505502-Magnolia El DL One & Two-Way Im Spanish",null,null,"1497302",{"$f":"VLOOKUP(F404, 'ECAST Lookup'!A:C,3,FALSE)","v":"Lorne St El STEM Mag"},"1497302-Lorne St El STEM Mag",28]
["1506801","Main St El","1506801-Main St El",null,null,"1498001",{"$f":"VLOOKUP(F405, 'ECAST Lookup'!A:C,3,FALSE)","v":"Pio Pico MS"},"1498001-Pio Pico MS",19]
["1506802","Main St El DL Two-Way Im Spanish","1506802-Main St El DL Two-Way Im Spanish",null,null,"1498201",{"$f":"VLOOKUP(F406, 'ECAST Lookup'!A:C,3,FALSE)","v":"Los Angeles El"},"1498201-Los Angeles El",22]
["1508201","Malabar El","1508201-Malabar El",null,null,"1498301",{"$f":"VLOOKUP(F407, 'ECAST Lookup'!A:C,3,FALSE)","v":"Mariposa-Nabi PC"},"1498301-Mariposa-Nabi PC",24]
["1508202","Malabar St El DL Two-Way Im Spanish","1508202-Malabar St El DL Two-Way Im Spanish",null,null,"1498601",{"$f":"VLOOKUP(F408, 'ECAST Lookup'!A:C,3,FALSE)","v":"Los Feliz STEMM Mag"},"1498601-Los Feliz STEMM Mag",27]
["1509601","Manchester El","1509601-Manchester El",null,null,"1501401",{"$f":"VLOOKUP(F409, 'ECAST Lookup'!A:C,3,FALSE)","v":"Loyola Vill ES Mag"},"1501401-Loyola Vill ES Mag",26]
["1509602","Manchester Av ES Comm/Broadcasting Mag","1509602-Manchester Av ES Comm/Broadcasting Mag",null,null,"1501601",{"$f":"VLOOKUP(F410, 'ECAST Lookup'!A:C,3,FALSE)","v":"Coughlin El"},"1501601-Coughlin El",19]
["1511001","Manhattan Place El","1511001-Manhattan Place El",null,null,"1505501",{"$f":"VLOOKUP(F411, 'ECAST Lookup'!A:C,3,FALSE)","v":"Magnolia El"},"1505501-Magnolia El",19]
["1511101","Alexander Sci Ctr Sc","1511101-Alexander Sci Ctr Sc",null,null,"1505502",{"$f":"VLOOKUP(F412, 'ECAST Lookup'!A:C,3,FALSE)","v":"Magnolia El DTS & DOS"},"1505502-Magnolia El DTS & DOS",29]
["1511102","Alexander Sci Ctr DL Two-Way Im Spanish","1511102-Alexander Sci Ctr DL Two-Way Im Spanish",null,null,"1506801",{"$f":"VLOOKUP(F413, 'ECAST Lookup'!A:C,3,FALSE)","v":"Main St El"},"1506801-Main St El",18]
["1511201","Jones PC","1511201-Jones PC",null,null,"1506802",{"$f":"VLOOKUP(F414, 'ECAST Lookup'!A:C,3,FALSE)","v":"Main St El DTS"},"1506802-Main St El DTS",22]
["1511301","Mack El","1511301-Mack El",null,null,"1508201",{"$f":"VLOOKUP(F415, 'ECAST Lookup'!A:C,3,FALSE)","v":"Malabar El"},"1508201-Malabar El",18]
["1511302","Mack El DL Two-Way Im Spanish","1511302-Mack El DL Two-Way Im Spanish",null,null,"1509601",{"$f":"VLOOKUP(F416, 'ECAST Lookup'!A:C,3,FALSE)","v":"Manchester El"},"1509601-Manchester El",21]
["1513701","Marianna El","1513701-Marianna El",null,null,"1509602",{"$f":"VLOOKUP(F417, 'ECAST Lookup'!A:C,3,FALSE)","v":"Manchester C/B Mag"},"1509602-Manchester C/B Mag",26]
["1513702","Marianna Ave El DL Two-Way Im Spanish","1513702-Marianna Ave El DL Two-Way Im Spanish",null,null,"1511001",{"$f":"VLOOKUP(F418, 'ECAST Lookup'!A:C,3,FALSE)","v":"Manhattan Place El"},"1511001-Manhattan Place El",26]
["1515301","Orchard Academies 2B","1515301-Orchard Academies 2B",null,null,"1511101",{"$f":"VLOOKUP(F419, 'ECAST Lookup'!A:C,3,FALSE)","v":"Alexander Sci Ctr Sc"},"1511101-Alexander Sci Ctr Sc",28]
["1515401","Orchard Academies 2C","1515401-Orchard Academies 2C",null,null,"1511102",{"$f":"VLOOKUP(F420, 'ECAST Lookup'!A:C,3,FALSE)","v":"Alexander SCS DTS"},"1511102-Alexander SCS DTS",25]
["1516401","Marquez Charter","1516401-Marquez Charter",null,null,"1511201",{"$f":"VLOOKUP(F421, 'ECAST Lookup'!A:C,3,FALSE)","v":"Jones PC"},"1511201-Jones PC",16]
["1517001","Lexington Ave PC","1517001-Lexington Ave PC",null,null,"1511301",{"$f":"VLOOKUP(F422, 'ECAST Lookup'!A:C,3,FALSE)","v":"Mack El"},"1511301-Mack El",15]
["1517301","Dr. Julian Nava Learning Academy","1517301-Dr. Julian Nava Learning Academy",null,null,"1511302",{"$f":"VLOOKUP(F423, 'ECAST Lookup'!A:C,3,FALSE)","v":"Mack El DTS"},"1511302-Mack El DTS",19]
["1517801","Marvin El","1517801-Marvin El",null,null,"1513701",{"$f":"VLOOKUP(F424, 'ECAST Lookup'!A:C,3,FALSE)","v":"Marianna El"},"1513701-Marianna El",19]
["1517802","Marvin Dual Lang Mag","1517802-Marvin Dual Lang Mag",null,null,"1513702",{"$f":"VLOOKUP(F425, 'ECAST Lookup'!A:C,3,FALSE)","v":"Marianna El DTS"},"1513702-Marianna El DTS",23]
["1519201","Mar Vista El","1519201-Mar Vista El",null,null,"1515301",{"$f":"VLOOKUP(F426, 'ECAST Lookup'!A:C,3,FALSE)","v":"Orchard Academies 2B"},"1515301-Orchard Academies 2B",28]
["1519301","Walnut Park MS STEM","1519301-Walnut Park MS STEM",null,null,"1515401",{"$f":"VLOOKUP(F427, 'ECAST Lookup'!A:C,3,FALSE)","v":"Orchard Academies 2C"},"1515401-Orchard Academies 2C",28]
["1519801","Mayall El","1519801-Mayall El",null,null,"1516401",{"$f":"VLOOKUP(F428, 'ECAST Lookup'!A:C,3,FALSE)","v":"Marquez Charter"},"1516401-Marquez Charter",23]
["1520501","Mayberry El","1520501-Mayberry El",null,null,"1517001",{"$f":"VLOOKUP(F429, 'ECAST Lookup'!A:C,3,FALSE)","v":"Lexington Ave PC"},"1517001-Lexington Ave PC",24]
["1520502","Mayberry El DL Two-Way Im Spanish","1520502-Mayberry El DL Two-Way Im Spanish",null,null,"1517301",{"$f":"VLOOKUP(F430, 'ECAST Lookup'!A:C,3,FALSE)","v":"Dr. Julian Nava Acad"},"1517301-Dr. Julian Nava Acad",28]
["1520503","Mayberry St ES Communication Arts Magnet","1520503-Mayberry St ES Communication Arts Magnet",null,null,"1517801",{"$f":"VLOOKUP(F431, 'ECAST Lookup'!A:C,3,FALSE)","v":"Marvin El"},"1517801-Marvin El",17]
["1521901","Melrose M/S/T Mag","1521901-Melrose M/S/T Mag",null,null,"1517802",{"$f":"VLOOKUP(F432, 'ECAST Lookup'!A:C,3,FALSE)","v":"Marvin Dual Lang Mag"},"1517802-Marvin Dual Lang Mag",28]
["1523301","Melvin El","1523301-Melvin El",null,null,"1519201",{"$f":"VLOOKUP(F433, 'ECAST Lookup'!A:C,3,FALSE)","v":"Mar Vista El"},"1519201-Mar Vista El",20]
["1523302","Melvin Av ES Humanities/Leadership Mag","1523302-Melvin Av ES Humanities/Leadership Mag",null,null,"1519301",{"$f":"VLOOKUP(F434, 'ECAST Lookup'!A:C,3,FALSE)","v":"Walnut Park MS STEM"},"1519301-Walnut Park MS STEM",27]
["1524001","Katherine Johnson STEM Academy","1524001-Katherine Johnson STEM Academy",null,null,"1519801",{"$f":"VLOOKUP(F435, 'ECAST Lookup'!A:C,3,FALSE)","v":"Mayall El"},"1519801-Mayall El",17]
["1524701","Menlo El","1524701-Menlo El",null,null,"1520501",{"$f":"VLOOKUP(F436, 'ECAST Lookup'!A:C,3,FALSE)","v":"Mayberry El"},"1520501-Mayberry El",19]
["1528801","Micheltorena El","1528801-Micheltorena El",null,null,"1520502",{"$f":"VLOOKUP(F437, 'ECAST Lookup'!A:C,3,FALSE)","v":"Mayberry St El DTS"},"1520502-Mayberry St El DTS",26]
["1528802","Micheltorena DL Two-Way Im Spanish","1528802-Micheltorena DL Two-Way Im Spanish",null,null,"1521901",{"$f":"VLOOKUP(F438, 'ECAST Lookup'!A:C,3,FALSE)","v":"Melrose M/S/T Mag"},"1521901-Melrose M/S/T Mag",25]
["1530101","Middleton El","1530101-Middleton El",null,null,"1523301",{"$f":"VLOOKUP(F439, 'ECAST Lookup'!A:C,3,FALSE)","v":"Melvin El"},"1523301-Melvin El",17]
["1530201","Middleton PC","1530201-Middleton PC",null,null,"1523302",{"$f":"VLOOKUP(F440, 'ECAST Lookup'!A:C,3,FALSE)","v":"Melvin Hum/Lead Mag"},"1523302-Melvin Hum/Lead Mag",27]
["1531501","Miles El","1531501-Miles El",null,null,"1524001",{"$f":"VLOOKUP(F441, 'ECAST Lookup'!A:C,3,FALSE)","v":"Johnson STEM Academy"},"1524001-Johnson STEM Academy",28]
["1531502","Miles Avenue Elem Science/Tech/Math Magnet","1531502-Miles Avenue Elem Science/Tech/Math Magnet",null,null,"1524701",{"$f":"VLOOKUP(F442, 'ECAST Lookup'!A:C,3,FALSE)","v":"Menlo El"},"1524701-Menlo El",16]
["1531503","Miles El DL Two-Way Im Spanish","1531503-Miles El DL Two-Way Im Spanish",null,null,"1524702",{"$f":"VLOOKUP(F443, 'ECAST Lookup'!A:C,3,FALSE)","v":"Menlo Ave El DTS"},"1524702-Menlo Ave El DTS",24]
["1532101","Miller El","1532101-Miller El",null,null,"1524703",{"$f":"VLOOKUP(F444, 'ECAST Lookup'!A:C,3,FALSE)","v":"Menlo ES STEAM Mag"},"1524703-Menlo ES STEAM Mag",26]
["1532901","Miramonte El","1532901-Miramonte El",null,null,"1528801",{"$f":"VLOOKUP(F445, 'ECAST Lookup'!A:C,3,FALSE)","v":"Micheltorena El"},"1528801-Micheltorena El",23]
["1532902","Miramonte El DL Two-Way Im Spanish","1532902-Miramonte El DL Two-Way Im Spanish",null,null,"1528802",{"$f":"VLOOKUP(F446, 'ECAST Lookup'!A:C,3,FALSE)","v":"Micheltorena El DTS"},"1528802-Micheltorena El DTS",27]
["1534201","Monlux El","1534201-Monlux El",null,null,"1530101",{"$f":"VLOOKUP(F447, 'ECAST Lookup'!A:C,3,FALSE)","v":"Middleton El"},"1530101-Middleton El",20]
["1534202","John B Monlux Elem Science/Tech/Math Mag","1534202-John B Monlux Elem Science/Tech/Math Mag",null,null,"1530201",{"$f":"VLOOKUP(F448, 'ECAST Lookup'!A:C,3,FALSE)","v":"Middleton PC"},"1530201-Middleton PC",20]
["1538401","Monte Vista El","1538401-Monte Vista El",null,null,"1531501",{"$f":"VLOOKUP(F449, 'ECAST Lookup'!A:C,3,FALSE)","v":"Miles El"},"1531501-Miles El",16]
["1538402","Monte Vista St ES Film/Comm Magnet","1538402-Monte Vista St ES Film/Comm Magnet",null,null,"1531502",{"$f":"VLOOKUP(F450, 'ECAST Lookup'!A:C,3,FALSE)","v":"Miles Av El STEM Mag"},"1531502-Miles Av El STEM Mag",28]
["1538501","Riordan PC",{"$f":"A451&\"-\"&B451","v":"1538501-Riordan PC"},null,null,"1531503",{"$f":"VLOOKUP(F451, 'ECAST Lookup'!A:C,3,FALSE)","v":"Miles Ave El DTS"},{"$f":"F451&\"-\"&G451","v":"1531503-Miles Ave El DTS"},{"$f":"LEN(H451)","v":24}]
["1538502","Riordan PC DL World Lang Im French","1538502-Riordan PC DL World Lang Im French",null,null,"1532101",{"$f":"VLOOKUP(F452, 'ECAST Lookup'!A:C,3,FALSE)","v":"Miller El"},"1532101-Miller El",17]
["1539701","Morningside El","1539701-Morningside El",null,null,"1532901",{"$f":"VLOOKUP(F453, 'ECAST Lookup'!A:C,3,FALSE)","v":"Miramonte El"},"1532901-Miramonte El",20]
["1540401","Mountain View El","1540401-Mountain View El",null,null,"1532902",{"$f":"VLOOKUP(F454, 'ECAST Lookup'!A:C,3,FALSE)","v":"Miramonte El DTS"},"1532902-Miramonte El DTS",24]
["1540402","Mountain View El DL Two-Way Im Armenian","1540402-Mountain View El DL Two-Way Im Armenian",null,null,"1534201",{"$f":"VLOOKUP(F455, 'ECAST Lookup'!A:C,3,FALSE)","v":"Monlux El"},"1534201-Monlux El",17]
["1541101","Mt Washington El","1541101-Mt Washington El",null,null,"1534202",{"$f":"VLOOKUP(F456, 'ECAST Lookup'!A:C,3,FALSE)","v":"Monlux El STEM Mag"},"1534202-Monlux El STEM Mag",26]
["1542501","Multnomah El","1542501-Multnomah El",null,null,"1538401",{"$f":"VLOOKUP(F457, 'ECAST Lookup'!A:C,3,FALSE)","v":"Monte Vista El"},"1538401-Monte Vista El",22]
["1542502","Multnomah Street Elementary Gifted Magnet","1542502-Multnomah Street Elementary Gifted Magnet",null,null,"1538402",{"$f":"VLOOKUP(F458, 'ECAST Lookup'!A:C,3,FALSE)","v":"Monte Vista FC Mag"},"1538402-Monte Vista FC Mag",26]
["1542503","Multnomah Env Sc Mag","1542503-Multnomah Env Sc Mag",null,null,"1538501",{"$f":"VLOOKUP(F459, 'ECAST Lookup'!A:C,3,FALSE)","v":"Riordan PC"},"1538501-Riordan PC",18]
["1543801","Murchison El","1543801-Murchison El",null,null,"1538502",{"$f":"VLOOKUP(F460, 'ECAST Lookup'!A:C,3,FALSE)","v":"Riordan PC DTF"},"1538502-Riordan PC DTF",22]
["1544601","Napa El","1544601-Napa El",null,null,"1539701",{"$f":"VLOOKUP(F461, 'ECAST Lookup'!A:C,3,FALSE)","v":"Morningside El"},"1539701-Morningside El",22]
["1544602","Napa St El DL Two-Way Im Spanish","1544602-Napa St El DL Two-Way Im Spanish",null,null,"1540401",{"$f":"VLOOKUP(F462, 'ECAST Lookup'!A:C,3,FALSE)","v":"Mountain View El"},"1540401-Mountain View El",24]
["1545201","Nestle Ave Charter","1545201-Nestle Ave Charter",null,null,"1540402",{"$f":"VLOOKUP(F463, 'ECAST Lookup'!A:C,3,FALSE)","v":"Mountain View El DTR"},"1540402-Mountain View El DTR",28]
["1545901","Nevada El","1545901-Nevada El",null,null,"1541101",{"$f":"VLOOKUP(F464, 'ECAST Lookup'!A:C,3,FALSE)","v":"Mt Washington El"},"1541101-Mt Washington El",24]
["1545902","Nevada El DL Two-Way Im Spanish","1545902-Nevada El DL Two-Way Im Spanish",null,null,"1542501",{"$f":"VLOOKUP(F465, 'ECAST Lookup'!A:C,3,FALSE)","v":"Multnomah El"},"1542501-Multnomah El",20]
["1546601","Nevin El","1546601-Nevin El",null,null,"1542502",{"$f":"VLOOKUP(F466, 'ECAST Lookup'!A:C,3,FALSE)","v":"Multnomah Gifted Mag"},"1542502-Multnomah Gifted Mag",28]
["1547901","Newcastle El","1547901-Newcastle El",null,null,"1542503",{"$f":"VLOOKUP(F467, 'ECAST Lookup'!A:C,3,FALSE)","v":"Multnomah Env Sc Mag"},"1542503-Multnomah Env Sc Mag",28]
["1550501","9th St El","1550501-9th St El",null,null,"1543801",{"$f":"VLOOKUP(F468, 'ECAST Lookup'!A:C,3,FALSE)","v":"Murchison El"},"1543801-Murchison El",20]
["1552101","95th St El","1552101-95th St El",null,null,"1544601",{"$f":"VLOOKUP(F469, 'ECAST Lookup'!A:C,3,FALSE)","v":"Napa El"},"1544601-Napa El",15]
["1553401","99th St El","1553401-99th St El",null,null,"1544602",{"$f":"VLOOKUP(F470, 'ECAST Lookup'!A:C,3,FALSE)","v":"Napa St El DTS"},"1544602-Napa St El DTS",22]
["1554801","92nd St El","1554801-92nd St El",null,null,"1545201",{"$f":"VLOOKUP(F471, 'ECAST Lookup'!A:C,3,FALSE)","v":"Nestle Ave Charter"},"1545201-Nestle Ave Charter",26]
["1556201","Barrett El","1556201-Barrett El",null,null,"1545901",{"$f":"VLOOKUP(F472, 'ECAST Lookup'!A:C,3,FALSE)","v":"Nevada El"},"1545901-Nevada El",17]
["1556202","Barrett El DL Two-Way Im Spanish","1556202-Barrett El DL Two-Way Im Spanish",null,null,"1545902",{"$f":"VLOOKUP(F473, 'ECAST Lookup'!A:C,3,FALSE)","v":"Nevada El DTS"},"1545902-Nevada El DTS",21]
["1557501","96th St El","1557501-96th St El",null,null,"1546601",{"$f":"VLOOKUP(F474, 'ECAST Lookup'!A:C,3,FALSE)","v":"Nevin El"},"1546601-Nevin El",16]
["1557502","96th St El DL Two-Way Im Spanish","1557502-96th St El DL Two-Way Im Spanish",null,null,"1547901",{"$f":"VLOOKUP(F475, 'ECAST Lookup'!A:C,3,FALSE)","v":"Newcastle El"},"1547901-Newcastle El",20]
["1558201","93rd St El","1558201-93rd St El",null,null,"1550501",{"$f":"VLOOKUP(F476, 'ECAST Lookup'!A:C,3,FALSE)","v":"9th St El"},"1550501-9th St El",17]
["1558202","93rd St El DL Two-Way Im Spanish","1558202-93rd St El DL Two-Way Im Spanish",null,null,"1552101",{"$f":"VLOOKUP(F477, 'ECAST Lookup'!A:C,3,FALSE)","v":"95th St El"},"1552101-95th St El",18]
["1558203","93rd St ES STEAM Magnet","1558203-93rd St ES STEAM Magnet",null,null,"1553401",{"$f":"VLOOKUP(F478, 'ECAST Lookup'!A:C,3,FALSE)","v":"99th St El"},"1553401-99th St El",18]
["1560301","Noble El","1560301-Noble El",null,null,"1554801",{"$f":"VLOOKUP(F479, 'ECAST Lookup'!A:C,3,FALSE)","v":"92nd St El"},"1554801-92nd St El",18]
["1560401","Panorama City El","1560401-Panorama City El",null,null,"1556201",{"$f":"VLOOKUP(F480, 'ECAST Lookup'!A:C,3,FALSE)","v":"Barrett El"},"1556201-Barrett El",18]
["1563001","Normandie El","1563001-Normandie El",null,null,"1556202",{"$f":"VLOOKUP(F481, 'ECAST Lookup'!A:C,3,FALSE)","v":"Barrett El DTS"},"1556202-Barrett El DTS",22]
["1563002","Normandie El DL Two-Way Im Spanish","1563002-Normandie El DL Two-Way Im Spanish",null,null,"1557501",{"$f":"VLOOKUP(F482, 'ECAST Lookup'!A:C,3,FALSE)","v":"96th St El"},"1557501-96th St El",18]
["1564401","Normont El","1564401-Normont El",null,null,"1557502",{"$f":"VLOOKUP(F483, 'ECAST Lookup'!A:C,3,FALSE)","v":"96th St El DTS"},"1557502-96th St El DTS",22]
["1564402","Normont El DL Two-Way Im Spanish","1564402-Normont El DL Two-Way Im Spanish",null,null,"1558201",{"$f":"VLOOKUP(F484, 'ECAST Lookup'!A:C,3,FALSE)","v":"93rd St El"},"1558201-93rd St El",18]
["1569901","Norwood El","1569901-Norwood El",null,null,"1558202",{"$f":"VLOOKUP(F485, 'ECAST Lookup'!A:C,3,FALSE)","v":"93rd St El DTS"},"1558202-93rd St El DTS",22]
["1572601","O Melveny El","1572601-O Melveny El",null,null,"1558203",{"$f":"VLOOKUP(F486, 'ECAST Lookup'!A:C,3,FALSE)","v":"93rd St STEAM"},"1558203-93rd St STEAM",21]
["1574001","118th St El","1574001-118th St El",null,null,"1560301",{"$f":"VLOOKUP(F487, 'ECAST Lookup'!A:C,3,FALSE)","v":"Noble El"},"1560301-Noble El",16]
["1574002","118th St El DL Two-Way Im Spanish","1574002-118th St El DL Two-Way Im Spanish",null,null,"1560401",{"$f":"VLOOKUP(F488, 'ECAST Lookup'!A:C,3,FALSE)","v":"Panorama City El"},"1560401-Panorama City El",24]
["1575301","186th St El","1575301-186th St El",null,null,"1563001",{"$f":"VLOOKUP(F489, 'ECAST Lookup'!A:C,3,FALSE)","v":"Normandie El"},"1563001-Normandie El",20]
["1578101","Flournoy El","1578101-Flournoy El",null,null,"1563002",{"$f":"VLOOKUP(F490, 'ECAST Lookup'!A:C,3,FALSE)","v":"Normandie Ave El DTS"},"1563002-Normandie Ave El DTS",28]
["1578102","Flournoy ES STEAM Magnet","1578102-Flournoy ES STEAM Magnet",null,null,"1564401",{"$f":"VLOOKUP(F491, 'ECAST Lookup'!A:C,3,FALSE)","v":"Normont El"},"1564401-Normont El",18]
["1580801","156th St El","1580801-156th St El",null,null,"1564402",{"$f":"VLOOKUP(F492, 'ECAST Lookup'!A:C,3,FALSE)","v":"Normont El  DTS"},"1564402-Normont El  DTS",23]
["1582201","153rd St El","1582201-153rd St El",null,null,"1569901",{"$f":"VLOOKUP(F493, 'ECAST Lookup'!A:C,3,FALSE)","v":"Norwood El"},"1569901-Norwood El",18]
["1582202","153rd St El DL Two-Way Im Spanish","1582202-153rd St El DL Two-Way Im Spanish",null,null,"1572601",{"$f":"VLOOKUP(F494, 'ECAST Lookup'!A:C,3,FALSE)","v":"O Melveny El"},"1572601-O Melveny El",20]
["1583601","109th St El","1583601-109th St El",null,null,"1574001",{"$f":"VLOOKUP(F495, 'ECAST Lookup'!A:C,3,FALSE)","v":"118th St El"},"1574001-118th St El",19]
["1584901","Griffith Joyner El","1584901-Griffith Joyner El",null,null,"1574002",{"$f":"VLOOKUP(F496, 'ECAST Lookup'!A:C,3,FALSE)","v":"118th St El DTS"},"1574002-118th St El DTS",23]
["1584902","Griffith Joyner ES Visual/Perf Arts Mag","1584902-Griffith Joyner ES Visual/Perf Arts Mag",null,null,"1575301",{"$f":"VLOOKUP(F497, 'ECAST Lookup'!A:C,3,FALSE)","v":"186th St El"},"1575301-186th St El",19]
["1585701","107th St El","1585701-107th St El",null,null,"1578101",{"$f":"VLOOKUP(F498, 'ECAST Lookup'!A:C,3,FALSE)","v":"Flournoy El"},"1578101-Flournoy El",19]
["1585702","107th St ES STEAM Magnet","1585702-107th St ES STEAM Magnet",null,null,"1578102",{"$f":"VLOOKUP(F499, 'ECAST Lookup'!A:C,3,FALSE)","v":"Flournoy STEAM Mag"},"1578102-Flournoy STEAM Mag",26]
["1586301","116th St El","1586301-116th St El",null,null,"1578103",{"$f":"VLOOKUP(F500, 'ECAST Lookup'!A:C,3,FALSE)","v":"Flournoy El DTS"},"1578103-Flournoy El DTS",23]
["1586302","116th St El DL Two-Way Im Spanish","1586302-116th St El DL Two-Way Im Spanish",null,null,"1580801",{"$f":"VLOOKUP(F501, 'ECAST Lookup'!A:C,3,FALSE)","v":"156th St El"},"1580801-156th St El",19]
["1587701","135th St El","1587701-135th St El",null,null,"1582201",{"$f":"VLOOKUP(F502, 'ECAST Lookup'!A:C,3,FALSE)","v":"153rd St El"},"1582201-153rd St El",19]
["1587702","135th St El DL Two-Way Im Spanish","1587702-135th St El DL Two-Way Im Spanish",null,null,"1582202",{"$f":"VLOOKUP(F503, 'ECAST Lookup'!A:C,3,FALSE)","v":"153rd St EL DTS"},"1582202-153rd St EL DTS",23]
["1588401","112th St El","1588401-112th St El",null,null,"1583601",{"$f":"VLOOKUP(F504, 'ECAST Lookup'!A:C,3,FALSE)","v":"109th St El"},"1583601-109th St El",19]
["1588701","122nd St El","1588701-122nd St El",null,null,"1584901",{"$f":"VLOOKUP(F505, 'ECAST Lookup'!A:C,3,FALSE)","v":"Griffith Joyner El"},"1584901-Griffith Joyner El",26]
["1588702","122nd St El DL Two-Way Im Spanish","1588702-122nd St El DL Two-Way Im Spanish",null,null,"1584902",{"$f":"VLOOKUP(F506, 'ECAST Lookup'!A:C,3,FALSE)","v":"Griffith Jyner VAPA Mg"},"1584902-Griffith Jyner VAPA Mg",30]
["1588901","Open Charter Magnet","1588901-Open Charter Magnet",null,null,"1585701",{"$f":"VLOOKUP(F507, 'ECAST Lookup'!A:C,3,FALSE)","v":"107th St El"},"1585701-107th St El",19]
["1589401","Osceola El","1589401-Osceola El",null,null,"1585702",{"$f":"VLOOKUP(F508, 'ECAST Lookup'!A:C,3,FALSE)","v":"107th St STEAM Mag"},"1585702-107th St STEAM Mag",26]
["1590401","Overland El","1590401-Overland El",null,null,"1586301",{"$f":"VLOOKUP(F509, 'ECAST Lookup'!A:C,3,FALSE)","v":"116th St El"},"1586301-116th St El",19]
["1591801","Oxnard El","1591801-Oxnard El",null,null,"1586302",{"$f":"VLOOKUP(F510, 'ECAST Lookup'!A:C,3,FALSE)","v":"116th St El DTS"},"1586302-116th St El DTS",23]
["1595901","Palisades Charter El","1595901-Palisades Charter El",null,null,"1587701",{"$f":"VLOOKUP(F511, 'ECAST Lookup'!A:C,3,FALSE)","v":"135th St El"},"1587701-135th St El",19]
["1598601","Palms El","1598601-Palms El",null,null,"1587702",{"$f":"VLOOKUP(F512, 'ECAST Lookup'!A:C,3,FALSE)","v":"135th St El DTS"},"1587702-135th St El DTS",23]
["1600501","Park Ave El","1600501-Park Ave El",null,null,"1588401",{"$f":"VLOOKUP(F513, 'ECAST Lookup'!A:C,3,FALSE)","v":"112th St El"},"1588401-112th St El",19]
["1600502","Park Ave El DL Two-Way Im Spanish","1600502-Park Ave El DL Two-Way Im Spanish",null,null,"1588701",{"$f":"VLOOKUP(F514, 'ECAST Lookup'!A:C,3,FALSE)","v":"122nd St El"},"1588701-122nd St El",19]
["1601301","Park Western El",{"$f":"A515&\"-\"&B515","v":"1601301-Park Western El"},null,null,"1588702",{"$f":"VLOOKUP(F515, 'ECAST Lookup'!A:C,3,FALSE)","v":"122nd St El DTS"},{"$f":"F515&\"-\"&G515","v":"1588702-122nd St El DTS"},{"$f":"LEN(H515)","v":23}]
["1601302","Park Western Pl ES Gifted/STEAM Magnet","1601302-Park Western Pl ES Gifted/STEAM Magnet",null,null,"1588901",{"$f":"VLOOKUP(F516, 'ECAST Lookup'!A:C,3,FALSE)","v":"Open Charter Magnet"},"1588901-Open Charter Magnet",27]
["1602101","Parmelee El","1602101-Parmelee El",null,null,"1589401",{"$f":"VLOOKUP(F517, 'ECAST Lookup'!A:C,3,FALSE)","v":"Osceola El"},"1589401-Osceola El",18]
["1602102","Parmelee Ave El DL Two-Way Im Spanish","1602102-Parmelee Ave El DL Two-Way Im Spanish",null,null,"1590401",{"$f":"VLOOKUP(F518, 'ECAST Lookup'!A:C,3,FALSE)","v":"Overland El"},"1590401-Overland El",19]
["1602701","Parthenia Academy of Arts and Technology","1602701-Parthenia Academy of Arts and Technology",null,null,"1591801",{"$f":"VLOOKUP(F519, 'ECAST Lookup'!A:C,3,FALSE)","v":"Oxnard El"},"1591801-Oxnard El",17]
["1605201","Paseo Del Rey Nat Sc","1605201-Paseo Del Rey Nat Sc",null,null,"1595901",{"$f":"VLOOKUP(F520, 'ECAST Lookup'!A:C,3,FALSE)","v":"Palisades Charter El"},"1595901-Palisades Charter El",28]
["1606801","Pinewood El","1606801-Pinewood El",null,null,"1598601",{"$f":"VLOOKUP(F521, 'ECAST Lookup'!A:C,3,FALSE)","v":"Palms El"},"1598601-Palms El",16]
["1608701","Girls Acad Leader, Dr. King Sch for STEM","1608701-Girls Acad Leader, Dr. King Sch for STEM",null,null,"1600501",{"$f":"VLOOKUP(F522, 'ECAST Lookup'!A:C,3,FALSE)","v":"Park Ave El"},"1600501-Park Ave El",19]
["1609601","Plainview Academc CA","1609601-Plainview Academc CA",null,null,"1600502",{"$f":"VLOOKUP(F523, 'ECAST Lookup'!A:C,3,FALSE)","v":"Park Ave El DTS"},"1600502-Park Ave El DTS",23]
["1611001","Playa Del Rey El","1611001-Playa Del Rey El",null,null,"1601301",{"$f":"VLOOKUP(F524, 'ECAST Lookup'!A:C,3,FALSE)","v":"Park Western El"},"1601301-Park Western El",23]
["1612301","Plummer El","1612301-Plummer El",null,null,"1601302",{"$f":"VLOOKUP(F525, 'ECAST Lookup'!A:C,3,FALSE)","v":"Park Wstrn GSTEAM Mg"},"1601302-Park Wstrn GSTEAM Mg",28]
["1613701","Pt Fermin Mar Sci Mg","1613701-Pt Fermin Mar Sci Mg",null,null,"1602101",{"$f":"VLOOKUP(F526, 'ECAST Lookup'!A:C,3,FALSE)","v":"Parmelee El"},"1602101-Parmelee El",19]
["1614001","Pomelo Community CS","1614001-Pomelo Community CS",null,null,"1602102",{"$f":"VLOOKUP(F527, 'ECAST Lookup'!A:C,3,FALSE)","v":"Parmelee Ave El DTS"},"1602102-Parmelee Ave El DTS",27]
["1614002","Pomelo CCES Arts/Sciences Magnet","1614002-Pomelo CCES Arts/Sciences Magnet",null,null,"1602701",{"$f":"VLOOKUP(F528, 'ECAST Lookup'!A:C,3,FALSE)","v":"Parthenia Ac Art Tech"},"1602701-Parthenia Ac Art Tech",29]
["1614801","President El","1614801-President El",null,null,"1605201",{"$f":"VLOOKUP(F529, 'ECAST Lookup'!A:C,3,FALSE)","v":"Paseo Del Rey Academy"},"1605201-Paseo Del Rey Academy",29]
["1614802","President El DL Two-Way Im Spanish","1614802-President El DL Two-Way Im Spanish",null,null,"1605202",{"$f":"VLOOKUP(F530, 'ECAST Lookup'!A:C,3,FALSE)","v":"Paseo Del Rey DTS"},"1605202-Paseo Del Rey DTS",25]
["1615801","Purche El","1615801-Purche El",null,null,"1605203",{"$f":"VLOOKUP(F531, 'ECAST Lookup'!A:C,3,FALSE)","v":"Paseo Del Rey NS Mag"},"1605203-Paseo Del Rey NS Mag",28]
["1615802","Purche ES STEAM Magnet","1615802-Purche ES STEAM Magnet",null,null,"1606801",{"$f":"VLOOKUP(F532, 'ECAST Lookup'!A:C,3,FALSE)","v":"Pinewood El"},"1606801-Pinewood El",19]
["1616401","Queen Anne El","1616401-Queen Anne El",null,null,"1608701",{"$f":"VLOOKUP(F533, 'ECAST Lookup'!A:C,3,FALSE)","v":"GALA Dr King Sc STEM"},"1608701-GALA Dr King Sc STEM",28]
["1616402","Queen Anne El DL Two-Way Im Spanish","1616402-Queen Anne El DL Two-Way Im Spanish",null,null,"1609601",{"$f":"VLOOKUP(F534, 'ECAST Lookup'!A:C,3,FALSE)","v":"Plainview Academc CA"},"1609601-Plainview Academc CA",28]
["1617801","Ramona El","1617801-Ramona El",null,null,"1611001",{"$f":"VLOOKUP(F535, 'ECAST Lookup'!A:C,3,FALSE)","v":"Playa Del Rey El"},"1611001-Playa Del Rey El",24]
["1617901","Kingsley El","1617901-Kingsley El",null,null,"1612301",{"$f":"VLOOKUP(F536, 'ECAST Lookup'!A:C,3,FALSE)","v":"Plummer El"},"1612301-Plummer El",18]
["1617902","Kingsley El DL Two-Way Im Spanish","1617902-Kingsley El DL Two-Way Im Spanish",null,null,"1613701",{"$f":"VLOOKUP(F537, 'ECAST Lookup'!A:C,3,FALSE)","v":"Pt Fermin Mar Sci Mg"},"1613701-Pt Fermin Mar Sci Mg",28]
["1619201","Ranchito El","1619201-Ranchito El",null,null,"1614001",{"$f":"VLOOKUP(F538, 'ECAST Lookup'!A:C,3,FALSE)","v":"Pomelo Community CS"},"1614001-Pomelo Community CS",27]
["1619202","Ranchito Ave El DL Two-Way Im Spanish","1619202-Ranchito Ave El DL Two-Way Im Spanish",null,null,"1614002",{"$f":"VLOOKUP(F539, 'ECAST Lookup'!A:C,3,FALSE)","v":"Pomelo Arts/Sci Mag"},"1614002-Pomelo Arts/Sci Mag",27]
["1621901","Raymond Ave El","1621901-Raymond Ave El",null,null,"1614801",{"$f":"VLOOKUP(F540, 'ECAST Lookup'!A:C,3,FALSE)","v":"President El"},"1614801-President El",20]
["1623301","Reseda El","1623301-Reseda El",null,null,"1614802",{"$f":"VLOOKUP(F541, 'ECAST Lookup'!A:C,3,FALSE)","v":"President Ave El DTS"},"1614802-President Ave El DTS",28]
["1626001","Richland El","1626001-Richland El",null,null,"1615801",{"$f":"VLOOKUP(F542, 'ECAST Lookup'!A:C,3,FALSE)","v":"Purche El"},"1615801-Purche El",17]
["1626002","Richland El DL World Lang Im French","1626002-Richland El DL World Lang Im French",null,null,"1615802",{"$f":"VLOOKUP(F543, 'ECAST Lookup'!A:C,3,FALSE)","v":"Purche STEAM Mag"},"1615802-Purche STEAM Mag",24]
["1627401","Hamasaki El","1627401-Hamasaki El",null,null,"1616401",{"$f":"VLOOKUP(F544, 'ECAST Lookup'!A:C,3,FALSE)","v":"Queen Anne El"},"1616401-Queen Anne El",21]
["1627402","Hamasaki ES Medical/ Science Magnet","1627402-Hamasaki ES Medical/ Science Magnet",null,null,"1616402",{"$f":"VLOOKUP(F545, 'ECAST Lookup'!A:C,3,FALSE)","v":"Queen Anne Pl El DTS"},"1616402-Queen Anne Pl El DTS",28]
["1628801","Rio Vista El","1628801-Rio Vista El",null,null,"1617801",{"$f":"VLOOKUP(F546, 'ECAST Lookup'!A:C,3,FALSE)","v":"Ramona El"},"1617801-Ramona El",17]
["1630101","Ritter El","1630101-Ritter El",null,null,"1617901",{"$f":"VLOOKUP(F547, 'ECAST Lookup'!A:C,3,FALSE)","v":"Kingsley El"},"1617901-Kingsley El",19]
["1631501","Riverside Drive Charter","1631501-Riverside Drive Charter",null,null,"1617902",{"$f":"VLOOKUP(F548, 'ECAST Lookup'!A:C,3,FALSE)","v":"Kingsley El DTS"},"1617902-Kingsley El DTS",23]
["1632901","Rockdale VAPA Mag","1632901-Rockdale VAPA Mag",null,null,"1619201",{"$f":"VLOOKUP(F549, 'ECAST Lookup'!A:C,3,FALSE)","v":"Ranchito El"},"1619201-Ranchito El",19]
["1634201","Coeur D Alene El","1634201-Coeur D Alene El",null,null,"1619202",{"$f":"VLOOKUP(F550, 'ECAST Lookup'!A:C,3,FALSE)","v":"Ranchito Ave DTS"},"1619202-Ranchito Ave DTS",24]
["1635601","Roscoe El","1635601-Roscoe El",null,null,"1621901",{"$f":"VLOOKUP(F551, 'ECAST Lookup'!A:C,3,FALSE)","v":"Raymond Ave El"},"1621901-Raymond Ave El",22]
["1635602","Roscoe El DL Two-Way Ime Spanish","1635602-Roscoe El DL Two-Way Ime Spanish",null,null,"1623301",{"$f":"VLOOKUP(F552, 'ECAST Lookup'!A:C,3,FALSE)","v":"Reseda El"},"1623301-Reseda El",17]
["1636301","Roscomare El","1636301-Roscomare El",null,null,"1626001",{"$f":"VLOOKUP(F553, 'ECAST Lookup'!A:C,3,FALSE)","v":"Richland El"},"1626001-Richland El",19]
["1637001","Rosemont El","1637001-Rosemont El",null,null,"1626002",{"$f":"VLOOKUP(F554, 'ECAST Lookup'!A:C,3,FALSE)","v":"Richland Av El DTF"},"1626002-Richland Av El DTF",26]
["1638401","Rosewood Av ES Urban/Plan Des Magnet","1638401-Rosewood Av ES Urban/Plan Des Magnet",null,null,"1627401",{"$f":"VLOOKUP(F555, 'ECAST Lookup'!A:C,3,FALSE)","v":"Hamasaki Med/Sci Mg"},"1627401-Hamasaki Med/Sci Mg",27]
["1642501","Rowan El","1642501-Rowan El",null,null,"1628801",{"$f":"VLOOKUP(F556, 'ECAST Lookup'!A:C,3,FALSE)","v":"Rio Vista El"},"1628801-Rio Vista El",20]
["1642502","Rowan Ave El DL Two-Way Im Spanish","1642502-Rowan Ave El DL Two-Way Im Spanish",null,null,"1630101",{"$f":"VLOOKUP(F557, 'ECAST Lookup'!A:C,3,FALSE)","v":"Ritter El"},"1630101-Ritter El",17]
["1642601","Amanecer PC","1642601-Amanecer PC",null,null,"1631501",{"$f":"VLOOKUP(F558, 'ECAST Lookup'!A:C,3,FALSE)","v":"Riverside Drive"},"1631501-Riverside Drive",23]
["1643801","Russell El","1643801-Russell El",null,null,"1632901",{"$f":"VLOOKUP(F559, 'ECAST Lookup'!A:C,3,FALSE)","v":"Rockdale VAPA Mag"},"1632901-Rockdale VAPA Mag",25]
["1643802","Russell Elementary Gifted Magnet","1643802-Russell Elementary Gifted Magnet",null,null,"1634201",{"$f":"VLOOKUP(F560, 'ECAST Lookup'!A:C,3,FALSE)","v":"Coeur D Alene El"},"1634201-Coeur D Alene El",24]
["1645201","San Fernando El","1645201-San Fernando El",null,null,"1635601",{"$f":"VLOOKUP(F561, 'ECAST Lookup'!A:C,3,FALSE)","v":"Roscoe El"},"1635601-Roscoe El",17]
["1645202","San Fernando El DL Two-Way Im Spanish","1645202-San Fernando El DL Two-Way Im Spanish",null,null,"1635602",{"$f":"VLOOKUP(F562, 'ECAST Lookup'!A:C,3,FALSE)","v":"Roscoe El DTS"},"1635602-Roscoe El DTS",21]
["1646601","San Gabriel El","1646601-San Gabriel El",null,null,"1636301",{"$f":"VLOOKUP(F563, 'ECAST Lookup'!A:C,3,FALSE)","v":"Roscomare El"},"1636301-Roscomare El",20]
["1646602","San Gabriel El DL Two-Way Im Spanish","1646602-San Gabriel El DL Two-Way Im Spanish",null,null,"1637001",{"$f":"VLOOKUP(F564, 'ECAST Lookup'!A:C,3,FALSE)","v":"Rosemont El"},"1637001-Rosemont El",19]
["1647901","San Jose El","1647901-San Jose El",null,null,"1638401",{"$f":"VLOOKUP(F565, 'ECAST Lookup'!A:C,3,FALSE)","v":"Rosewood UP/UD Mag"},"1638401-Rosewood UP/UD Mag",26]
["1647902","San Jose Hg Mag","1647902-San Jose Hg Mag",null,null,"1642501",{"$f":"VLOOKUP(F566, 'ECAST Lookup'!A:C,3,FALSE)","v":"Rowan El"},"1642501-Rowan El",16]
["1649301","San Pascual Avenue Elementary STEAM Magnet","1649301-San Pascual Avenue Elementary STEAM Magnet",null,null,"1642502",{"$f":"VLOOKUP(F567, 'ECAST Lookup'!A:C,3,FALSE)","v":"Rowan Ave El DTS"},"1642502-Rowan Ave El DTS",24]
["1650101","San Fernando MS IAM","1650101-San Fernando MS IAM",null,null,"1642601",{"$f":"VLOOKUP(F568, 'ECAST Lookup'!A:C,3,FALSE)","v":"Amanecer PC"},"1642601-Amanecer PC",19]
["1650701","San Pedro El","1650701-San Pedro El",null,null,"1643801",{"$f":"VLOOKUP(F569, 'ECAST Lookup'!A:C,3,FALSE)","v":"Russell El"},"1643801-Russell El",18]
["1653401","King Jr El","1653401-King Jr El",null,null,"1643802",{"$f":"VLOOKUP(F570, 'ECAST Lookup'!A:C,3,FALSE)","v":"Russell El Gifted Mg"},"1643802-Russell El Gifted Mg",28]
["1653402","King Jr El DL Two-Way Im Spanish","1653402-King Jr El DL Two-Way Im Spanish",null,null,"1645201",{"$f":"VLOOKUP(F571, 'ECAST Lookup'!A:C,3,FALSE)","v":"San Fernando El"},"1645201-San Fernando El",23]
["1654901","Hollywood PC","1654901-Hollywood PC",null,null,"1645202",{"$f":"VLOOKUP(F572, 'ECAST Lookup'!A:C,3,FALSE)","v":"San Fernando El DTS"},"1645202-San Fernando El DTS",27]
["1656501","Saticoy El","1656501-Saticoy El",null,null,"1646601",{"$f":"VLOOKUP(F573, 'ECAST Lookup'!A:C,3,FALSE)","v":"San Gabriel El"},"1646601-San Gabriel El",22]
["1656502","Saticoy El DL Two-Way Im Armenian","1656502-Saticoy El DL Two-Way Im Armenian",null,null,"1646602",{"$f":"VLOOKUP(F574, 'ECAST Lookup'!A:C,3,FALSE)","v":"San Gabriel DTS"},"1646602-San Gabriel DTS",23]
["1657501","2nd St El","1657501-2nd St El",null,null,"1647901",{"$f":"VLOOKUP(F575, 'ECAST Lookup'!A:C,3,FALSE)","v":"San Jose El"},"1647901-San Jose El",19]
["1657502","2nd St El DL Two-Way Im Spanish","1657502-2nd St El DL Two-Way Im Spanish",null,null,"1647902",{"$f":"VLOOKUP(F576, 'ECAST Lookup'!A:C,3,FALSE)","v":"San Jose Hg Mag"},"1647902-San Jose Hg Mag",23]
["1658901","Selma El","1658901-Selma El",null,null,"1649301",{"$f":"VLOOKUP(F577, 'ECAST Lookup'!A:C,3,FALSE)","v":"San Pascual STEAM Mg"},"1649301-San Pascual STEAM Mg",28]
["1660601","Serrania CES","1660601-Serrania CES",null,null,"1650101",{"$f":"VLOOKUP(F578, 'ECAST Lookup'!A:C,3,FALSE)","v":"San Fernando MS IAM"},"1650101-San Fernando MS IAM",27]
["1661601","7th St El",{"$f":"A579&\"-\"&B579","v":"1661601-7th St El"},null,null,"1650701",{"$f":"VLOOKUP(F579, 'ECAST Lookup'!A:C,3,FALSE)","v":"San Pedro El"},{"$f":"F579&\"-\"&G579","v":"1650701-San Pedro El"},{"$f":"LEN(H579)","v":20}]
["1663001","75th St El","1663001-75th St El",null,null,"1653401",{"$f":"VLOOKUP(F580, 'ECAST Lookup'!A:C,3,FALSE)","v":"King Jr El"},"1653401-King Jr El",18]
["1663002","75Th St El DL Two-Way Im Spanish","1663002-75Th St El DL Two-Way Im Spanish",null,null,"1653402",{"$f":"VLOOKUP(F581, 'ECAST Lookup'!A:C,3,FALSE)","v":"King Jr El DTS"},"1653402-King Jr El DTS",22]
["1664401","74th St El","1664401-74th St El",null,null,"1654901",{"$f":"VLOOKUP(F582, 'ECAST Lookup'!A:C,3,FALSE)","v":"Hollywood ES"},"1654901-Hollywood ES",20]
["1664402","74th Street Elementary Gifted Magnet","1664402-74th Street Elementary Gifted Magnet",null,null,"1656501",{"$f":"VLOOKUP(F583, 'ECAST Lookup'!A:C,3,FALSE)","v":"Saticoy El"},"1656501-Saticoy El",18]
["1665801","Mc Kinley El","1665801-Mc Kinley El",null,null,"1656502",{"$f":"VLOOKUP(F584, 'ECAST Lookup'!A:C,3,FALSE)","v":"Saticoy El DTR"},"1656502-Saticoy El DTR",22]
["1666501","Sharp El","1666501-Sharp El",null,null,"1657501",{"$f":"VLOOKUP(F585, 'ECAST Lookup'!A:C,3,FALSE)","v":"2nd St El"},"1657501-2nd St El",17]
["1667101","Shenandoah El","1667101-Shenandoah El",null,null,"1657502",{"$f":"VLOOKUP(F586, 'ECAST Lookup'!A:C,3,FALSE)","v":"2nd St El DTS"},"1657502-2nd St El DTS",21]
["1668501","Sheridan St El","1668501-Sheridan St El",null,null,"1660601",{"$f":"VLOOKUP(F587, 'ECAST Lookup'!A:C,3,FALSE)","v":"Serrania CES"},"1660601-Serrania CES",20]
["1668502","Sheridan El DL Two-Way Im Spanish","1668502-Sheridan El DL Two-Way Im Spanish",null,null,"1661601",{"$f":"VLOOKUP(F588, 'ECAST Lookup'!A:C,3,FALSE)","v":"7th St ES AI Mag"},"1661601-7th St ES AI Mag",24]
["1669901","Sherman Oaks El CS","1669901-Sherman Oaks El CS",null,null,"1663001",{"$f":"VLOOKUP(F589, 'ECAST Lookup'!A:C,3,FALSE)","v":"75th St El"},"1663001-75th St El",18]
["1671201","Shirley El","1671201-Shirley El",null,null,"1663002",{"$f":"VLOOKUP(F590, 'ECAST Lookup'!A:C,3,FALSE)","v":"75th St El DTS"},"1663002-75th St El DTS",22]
["1674001","Short El","1674001-Short El",null,null,"1664401",{"$f":"VLOOKUP(F591, 'ECAST Lookup'!A:C,3,FALSE)","v":"74th St El"},"1664401-74th St El",18]
["1675301","Sierra Park El","1675301-Sierra Park El",null,null,"1664402",{"$f":"VLOOKUP(F592, 'ECAST Lookup'!A:C,3,FALSE)","v":"74th St El Gifted Mg"},"1664402-74th St El Gifted Mg",28]
["1676701","Sierra Vista El","1676701-Sierra Vista El",null,null,"1665801",{"$f":"VLOOKUP(F593, 'ECAST Lookup'!A:C,3,FALSE)","v":"Mc Kinley El"},"1665801-Mc Kinley El",20]
["1678101","6th Ave El","1678101-6th Ave El",null,null,"1666501",{"$f":"VLOOKUP(F594, 'ECAST Lookup'!A:C,3,FALSE)","v":"Sharp El"},"1666501-Sharp El",16]
["1678102","6th Av El DL Two-Way Im Spanish","1678102-6th Av El DL Two-Way Im Spanish",null,null,"1667101",{"$f":"VLOOKUP(F595, 'ECAST Lookup'!A:C,3,FALSE)","v":"Shenandoah El"},"1667101-Shenandoah El",21]
["1679501","Gil Garcetti Learning Academy","1679501-Gil Garcetti Learning Academy",null,null,"1668501",{"$f":"VLOOKUP(F596, 'ECAST Lookup'!A:C,3,FALSE)","v":"Sheridan St El"},"1668501-Sheridan St El",22]
["1680801","61st St El","1680801-61st St El",null,null,"1668502",{"$f":"VLOOKUP(F597, 'ECAST Lookup'!A:C,3,FALSE)","v":"Sheridan El DTS"},"1668502-Sheridan El DTS",23]
["1680802","61st St El DL Two-Way Im Spanish","1680802-61st St El DL Two-Way Im Spanish",null,null,"1669901",{"$f":"VLOOKUP(F598, 'ECAST Lookup'!A:C,3,FALSE)","v":"Sherman Oaks El CS"},"1669901-Sherman Oaks El CS",26]
["1682201","66th St El","1682201-66th St El",null,null,"1671201",{"$f":"VLOOKUP(F599, 'ECAST Lookup'!A:C,3,FALSE)","v":"Shirley El"},"1671201-Shirley El",18]
["1683601","Solano El","1683601-Solano El",null,null,"1674001",{"$f":"VLOOKUP(F600, 'ECAST Lookup'!A:C,3,FALSE)","v":"Short El"},"1674001-Short El",16]
["1684901","Soto El","1684901-Soto El",null,null,"1675301",{"$f":"VLOOKUP(F601, 'ECAST Lookup'!A:C,3,FALSE)","v":"Sierra Park El"},"1675301-Sierra Park El",22]
["1686301","South Park El","1686301-South Park El",null,null,"1676701",{"$f":"VLOOKUP(F602, 'ECAST Lookup'!A:C,3,FALSE)","v":"Sierra Vista El"},"1676701-Sierra Vista El",23]
["1686302","South Park El DL Two-Way Im Spanish","1686302-South Park El DL Two-Way Im Spanish",null,null,"1678101",{"$f":"VLOOKUP(F603, 'ECAST Lookup'!A:C,3,FALSE)","v":"6th Ave El"},"1678101-6th Ave El",18]
["1686701","Bridges School","1686701-Bridges School",null,null,"1678102",{"$f":"VLOOKUP(F604, 'ECAST Lookup'!A:C,3,FALSE)","v":"6th Ave El DTS"},"1678102-6th Ave El DTS",22]
["1686801","Obama Global Prep Acad","1686801-Obama Global Prep Acad",null,null,"1679501",{"$f":"VLOOKUP(F605, 'ECAST Lookup'!A:C,3,FALSE)","v":"G. Garcetti Lrng Aca"},"1679501-G. Garcetti Lrng Aca",28]
["1686802","Obama GPA STEAM Magnet","1686802-Obama GPA STEAM Magnet",null,null,"1680801",{"$f":"VLOOKUP(F606, 'ECAST Lookup'!A:C,3,FALSE)","v":"61st St El"},"1680801-61st St El",18]
["1686901","Knox El","1686901-Knox El",null,null,"1680802",{"$f":"VLOOKUP(F607, 'ECAST Lookup'!A:C,3,FALSE)","v":"61st St El DTS"},"1680802-61st St El DTS",22]
["1686902","Knox El DL Two-Way Im Spanish","1686902-Knox El DL Two-Way Im Spanish",null,null,"1682201",{"$f":"VLOOKUP(F608, 'ECAST Lookup'!A:C,3,FALSE)","v":"66th St El"},"1682201-66th St El",18]
["1686903","Knox ES Visual/Performing Arts Magnet","1686903-Knox ES Visual/Performing Arts Magnet",null,null,"1683601",{"$f":"VLOOKUP(F609, 'ECAST Lookup'!A:C,3,FALSE)","v":"Solano El"},"1683601-Solano El",17]
["1687001","S Shores Per Arts Mg","1687001-S Shores Per Arts Mg",null,null,"1684901",{"$f":"VLOOKUP(F610, 'ECAST Lookup'!A:C,3,FALSE)","v":"Soto El"},"1684901-Soto El",15]
["1687201","Wisdom El","1687201-Wisdom El",null,null,"1686301",{"$f":"VLOOKUP(F611, 'ECAST Lookup'!A:C,3,FALSE)","v":"South Park El"},"1686301-South Park El",21]
["1687301","Escalante El","1687301-Escalante El",null,null,"1686302",{"$f":"VLOOKUP(F612, 'ECAST Lookup'!A:C,3,FALSE)","v":"South Park El DTS"},"1686302-South Park El DTS",25]
["1687501","San Miguel El","1687501-San Miguel El",null,null,"1686701",{"$f":"VLOOKUP(F613, 'ECAST Lookup'!A:C,3,FALSE)","v":"Bridges School"},"1686701-Bridges School",22]
["1687502","San Miguel Elem Science/Tech/Math Magnet","1687502-San Miguel Elem Science/Tech/Math Magnet",null,null,"1686801",{"$f":"VLOOKUP(F614, 'ECAST Lookup'!A:C,3,FALSE)","v":"Obama Glbl Prep Acad"},"1686801-Obama Glbl Prep Acad",28]
["1687503","San Miguel El DL Two-Way Im Spanish","1687503-San Miguel El DL Two-Way Im Spanish",null,null,"1686802",{"$f":"VLOOKUP(F615, 'ECAST Lookup'!A:C,3,FALSE)","v":"Obama GPA STEAM Mag"},"1686802-Obama GPA STEAM Mag",27]
["1687504","San Miguel El DL World Lang Im Mandarin","1687504-San Miguel El DL World Lang Im Mandarin",null,null,"1686901",{"$f":"VLOOKUP(F616, 'ECAST Lookup'!A:C,3,FALSE)","v":"Knox El"},"1686901-Knox El",15]
["1687801","Montara Ave El","1687801-Montara Ave El",null,null,"1686902",{"$f":"VLOOKUP(F617, 'ECAST Lookup'!A:C,3,FALSE)","v":"Knox El DTS"},"1686902-Knox El DTS",19]
["1687802","Montara Avenue Elem Science/Tech/Math Mag","1687802-Montara Avenue Elem Science/Tech/Math Mag",null,null,"1686903",{"$f":"VLOOKUP(F618, 'ECAST Lookup'!A:C,3,FALSE)","v":"Knox VAPA Mag"},"1686903-Knox VAPA Mag",21]
["1687803","Montara Ave El DL Two-Way Im Spanish","1687803-Montara Ave El DL Two-Way Im Spanish",null,null,"1687001",{"$f":"VLOOKUP(F619, 'ECAST Lookup'!A:C,3,FALSE)","v":"S Shores Per Arts Mg"},"1687001-S Shores Per Arts Mg",28]
["1688001","Independence El","1688001-Independence El",null,null,"1687201",{"$f":"VLOOKUP(F620, 'ECAST Lookup'!A:C,3,FALSE)","v":"Wisdom El"},"1687201-Wisdom El",17]
["1688002","Independence Elementary STEM Magnet","1688002-Independence Elementary STEM Magnet",null,null,"1687301",{"$f":"VLOOKUP(F621, 'ECAST Lookup'!A:C,3,FALSE)","v":"Escalante El"},"1687301-Escalante El",20]
["1688003","Independence El DL Two-Way Im Spanish","1688003-Independence El DL Two-Way Im Spanish",null,null,"1687501",{"$f":"VLOOKUP(F622, 'ECAST Lookup'!A:C,3,FALSE)","v":"San Miguel El"},"1687501-San Miguel El",21]
["1688401","Roybal-Allard El","1688401-Roybal-Allard El",null,null,"1687502",{"$f":"VLOOKUP(F623, 'ECAST Lookup'!A:C,3,FALSE)","v":"San Miguel STEAM Mag"},"1687502-San Miguel STEAM Mag",28]
["1688402","Roybal-Allard El DL Two-Way Im Spanish","1688402-Roybal-Allard El DL Two-Way Im Spanish",null,null,"1687503",{"$f":"VLOOKUP(F624, 'ECAST Lookup'!A:C,3,FALSE)","v":"San Miguel El DTS"},"1687503-San Miguel El DTS",25]
["1688403","Roybal-Allard ES DREAMS Magnet","1688403-Roybal-Allard ES DREAMS Magnet",null,null,"1687504",{"$f":"VLOOKUP(F625, 'ECAST Lookup'!A:C,3,FALSE)","v":"San Miguel El Dwm"},"1687504-San Miguel El Dwm",25]
["1688601","BACA Arts Acad","1688601-BACA Arts Acad",null,null,"1687801",{"$f":"VLOOKUP(F626, 'ECAST Lookup'!A:C,3,FALSE)","v":"Montara Ave El"},"1687801-Montara Ave El",22]
["1688602","Baca Arts Acad DL Two-Way Im Spanish","1688602-Baca Arts Acad DL Two-Way Im Spanish",null,null,"1687802",{"$f":"VLOOKUP(F627, 'ECAST Lookup'!A:C,3,FALSE)","v":"Montara El STEM Mag"},"1687802-Montara El STEM Mag",27]
["1689001","Stagg El","1689001-Stagg El",null,null,"1687803",{"$f":"VLOOKUP(F628, 'ECAST Lookup'!A:C,3,FALSE)","v":"Montara Ave El DTS"},"1687803-Montara Ave El DTS",26]
["1690401","Stanford El","1690401-Stanford El",null,null,"1688001",{"$f":"VLOOKUP(F629, 'ECAST Lookup'!A:C,3,FALSE)","v":"Independence El"},"1688001-Independence El",23]
["1690402","Stanford Ave El DL Two-Way Im Spanish","1690402-Stanford Ave El DL Two-Way Im Spanish",null,null,"1688002",{"$f":"VLOOKUP(F630, 'ECAST Lookup'!A:C,3,FALSE)","v":"Independence STEM Mg"},"1688002-Independence STEM Mg",28]
["1690501","Stanford PC","1690501-Stanford PC",null,null,"1688003",{"$f":"VLOOKUP(F631, 'ECAST Lookup'!A:C,3,FALSE)","v":"Independence DTS"},"1688003-Independence DTS",24]
["1690502","Stanford PC El DL Two-Way Im Spanish","1690502-Stanford PC El DL Two-Way Im Spanish",null,null,"1688401",{"$f":"VLOOKUP(F632, 'ECAST Lookup'!A:C,3,FALSE)","v":"Roybal-Allard El"},"1688401-Roybal-Allard El",24]
["1691801","State El","1691801-State El",null,null,"1688402",{"$f":"VLOOKUP(F633, 'ECAST Lookup'!A:C,3,FALSE)","v":"Roybal-Allard El DTS"},"1688402-Roybal-Allard El DTS",28]
["1691802","State St El DL Two-Way Im Spanish","1691802-State St El DL Two-Way Im Spanish",null,null,"1688403",{"$f":"VLOOKUP(F634, 'ECAST Lookup'!A:C,3,FALSE)","v":"Rybl-Allrd DREAMS Mg"},"1688403-Rybl-Allrd DREAMS Mg",28]
["1692001","Hope El","1692001-Hope El",null,null,"1688601",{"$f":"VLOOKUP(F635, 'ECAST Lookup'!A:C,3,FALSE)","v":"BACA Arts Acad"},"1688601-BACA Arts Acad",22]
["1693201","Sterry El","1693201-Sterry El",null,null,"1688602",{"$f":"VLOOKUP(F636, 'ECAST Lookup'!A:C,3,FALSE)","v":"Baca Arts Aca DTS"},"1688602-Baca Arts Aca DTS",25]
["1694501","Stonehurst Av ES STEAM Magnet","1694501-Stonehurst Av ES STEAM Magnet",null,null,"1689001",{"$f":"VLOOKUP(F637, 'ECAST Lookup'!A:C,3,FALSE)","v":"Stagg El"},"1689001-Stagg El",16]
["1695201","Stoner El","1695201-Stoner El",null,null,"1690401",{"$f":"VLOOKUP(F638, 'ECAST Lookup'!A:C,3,FALSE)","v":"Stanford El"},"1690401-Stanford El",19]
["1695202","Stoner El DL One-Way Im Spanish","1695202-Stoner El DL One-Way Im Spanish",null,null,"1690402",{"$f":"VLOOKUP(F639, 'ECAST Lookup'!A:C,3,FALSE)","v":"Stanford Ave El DTS"},"1690402-Stanford Ave El DTS",27]
["1695901","Strathern El","1695901-Strathern El",null,null,"1690501",{"$f":"VLOOKUP(F640, 'ECAST Lookup'!A:C,3,FALSE)","v":"Stanford PC"},"1690501-Stanford PC",19]
["1697301","Sunland El","1697301-Sunland El",null,null,"1690502",{"$f":"VLOOKUP(F641, 'ECAST Lookup'!A:C,3,FALSE)","v":"Stanford PC DTS"},"1690502-Stanford PC DTS",23]
["1697302","Sunland Elementary Gifted Magnet","1697302-Sunland Elementary Gifted Magnet",null,null,"1691801",{"$f":"VLOOKUP(F642, 'ECAST Lookup'!A:C,3,FALSE)","v":"State El"},"1691801-State El",16]
["1698601","Sunny Brae El",{"$f":"A643&\"-\"&B643","v":"1698601-Sunny Brae El"},null,null,"1691802",{"$f":"VLOOKUP(F643, 'ECAST Lookup'!A:C,3,FALSE)","v":"State St El DTS"},{"$f":"F643&\"-\"&G643","v":"1691802-State St El DTS"},{"$f":"LEN(H643)","v":23}]
["1698602","Sunny Brae Av ES Global Awareness Magnet","1698602-Sunny Brae Av ES Global Awareness Magnet",null,null,"1692001",{"$f":"VLOOKUP(F644, 'ECAST Lookup'!A:C,3,FALSE)","v":"Hope El"},"1692001-Hope El",15]
["1698603","Sunny Brae El DL Two-Way Im Spanish","1698603-Sunny Brae El DL Two-Way Im Spanish",null,null,"1693201",{"$f":"VLOOKUP(F645, 'ECAST Lookup'!A:C,3,FALSE)","v":"Sterry El"},"1693201-Sterry El",17]
["1698801","Sunrise El","1698801-Sunrise El",null,null,"1693202",{"$f":"VLOOKUP(F646, 'ECAST Lookup'!A:C,3,FALSE)","v":"Sterry El DTJ"},"1693202-Sterry El DTJ",21]
["1698802","Sunrise El DL Two-Way Im Spanish","1698802-Sunrise El DL Two-Way Im Spanish",null,null,"1694501",{"$f":"VLOOKUP(F647, 'ECAST Lookup'!A:C,3,FALSE)","v":"Stonehurst STEAM Mag"},"1694501-Stonehurst STEAM Mag",28]
["1700701","Superior El","1700701-Superior El",null,null,"1695201",{"$f":"VLOOKUP(F648, 'ECAST Lookup'!A:C,3,FALSE)","v":"Stoner El"},"1695201-Stoner El",17]
["1701401","Sylmar El","1701401-Sylmar El",null,null,"1695202",{"$f":"VLOOKUP(F649, 'ECAST Lookup'!A:C,3,FALSE)","v":"Stoner Ave El DOS"},"1695202-Stoner Ave El DOS",25]
["1702701","Sylvan Park El","1702701-Sylvan Park El",null,null,"1695901",{"$f":"VLOOKUP(F650, 'ECAST Lookup'!A:C,3,FALSE)","v":"Strathern El"},"1695901-Strathern El",20]
["1703501","Taper El","1703501-Taper El",null,null,"1697301",{"$f":"VLOOKUP(F651, 'ECAST Lookup'!A:C,3,FALSE)","v":"Sunland El"},"1697301-Sunland El",18]
["1703502","Taper ES STEAM Magnet","1703502-Taper ES STEAM Magnet",null,null,"1697302",{"$f":"VLOOKUP(F652, 'ECAST Lookup'!A:C,3,FALSE)","v":"Sunland El Gifted Mg"},"1697302-Sunland El Gifted Mg",28]
["1704101","Tarzana El","1704101-Tarzana El",null,null,"1698601",{"$f":"VLOOKUP(F653, 'ECAST Lookup'!A:C,3,FALSE)","v":"Sunny Brae El"},"1698601-Sunny Brae El",21]
["1706801","Telfair El","1706801-Telfair El",null,null,"1698602",{"$f":"VLOOKUP(F654, 'ECAST Lookup'!A:C,3,FALSE)","v":"Sunny Brae GA Mag"},"1698602-Sunny Brae GA Mag",25]
["1706802","Telfair Ave El DL Two-Way Im Spanish","1706802-Telfair Ave El DL Two-Way Im Spanish",null,null,"1698603",{"$f":"VLOOKUP(F655, 'ECAST Lookup'!A:C,3,FALSE)","v":"Sunny Brae El DTS"},"1698603-Sunny Brae El DTS",25]
["1708201","10th St El","1708201-10th St El",null,null,"1698801",{"$f":"VLOOKUP(F656, 'ECAST Lookup'!A:C,3,FALSE)","v":"Sunrise El"},"1698801-Sunrise El",18]
["1711001","3rd St El","1711001-3rd St El",null,null,"1698802",{"$f":"VLOOKUP(F657, 'ECAST Lookup'!A:C,3,FALSE)","v":"Sunrise El DTS"},"1698802-Sunrise El DTS",22]
["1711002","3rd St El DL Two-Way Im Korean","1711002-3rd St El DL Two-Way Im Korean",null,null,"1700701",{"$f":"VLOOKUP(F658, 'ECAST Lookup'!A:C,3,FALSE)","v":"Superior El"},"1700701-Superior El",19]
["1712301","Bradley Glbl Awr Mag","1712301-Bradley Glbl Awr Mag",null,null,"1701401",{"$f":"VLOOKUP(F659, 'ECAST Lookup'!A:C,3,FALSE)","v":"Sylmar El"},"1701401-Sylmar El",17]
["1713701","32nd/USC Per Art Mag","1713701-32nd/USC Per Art Mag",null,null,"1702701",{"$f":"VLOOKUP(F660, 'ECAST Lookup'!A:C,3,FALSE)","v":"Sylvan Park El"},"1702701-Sylvan Park El",22]
["1713702","LAUSD/USC Media Arts/Engineering Magnet","1713702-LAUSD/USC Media Arts/Engineering Magnet",null,null,"1703501",{"$f":"VLOOKUP(F661, 'ECAST Lookup'!A:C,3,FALSE)","v":"Taper El"},"1703501-Taper El",16]
["1715101","Weemes El","1715101-Weemes El",null,null,"1703502",{"$f":"VLOOKUP(F662, 'ECAST Lookup'!A:C,3,FALSE)","v":"Taper STEAM Mag"},"1703502-Taper STEAM Mag",23]
["1716401","Bright El","1716401-Bright El",null,null,"1704101",{"$f":"VLOOKUP(F663, 'ECAST Lookup'!A:C,3,FALSE)","v":"Tarzana El"},"1704101-Tarzana El",18]
["1717801","Toland Way El","1717801-Toland Way El",null,null,"1706801",{"$f":"VLOOKUP(F664, 'ECAST Lookup'!A:C,3,FALSE)","v":"Telfair El"},"1706801-Telfair El",18]
["1719201","Toluca Lake El","1719201-Toluca Lake El",null,null,"1706802",{"$f":"VLOOKUP(F665, 'ECAST Lookup'!A:C,3,FALSE)","v":"Telfair Ave El DTS"},"1706802-Telfair Ave El DTS",26]
["1719801","Topanga El CS","1719801-Topanga El CS",null,null,"1708201",{"$f":"VLOOKUP(F666, 'ECAST Lookup'!A:C,3,FALSE)","v":"10th St El"},"1708201-10th St El",18]
["1720101","Topeka Charter for Advanced Studies","1720101-Topeka Charter for Advanced Studies",null,null,"1711001",{"$f":"VLOOKUP(F667, 'ECAST Lookup'!A:C,3,FALSE)","v":"3rd St El"},"1711001-3rd St El",17]
["1720501","Towne El","1720501-Towne El",null,null,"1711002",{"$f":"VLOOKUP(F668, 'ECAST Lookup'!A:C,3,FALSE)","v":"3rd St El DTK"},"1711002-3rd St El DTK",21]
["1721901","Trinity El","1721901-Trinity El",null,null,"1711003",{"$f":"VLOOKUP(F669, 'ECAST Lookup'!A:C,3,FALSE)","v":"3rd St ES Gifted Mag"},"1711003-3rd St ES Gifted Mag",28]
["1721902","Trinity St El DL Two-Way Im Spanish","1721902-Trinity St El DL Two-Way Im Spanish",null,null,"1712301",{"$f":"VLOOKUP(F670, 'ECAST Lookup'!A:C,3,FALSE)","v":"Bradley Glbl Awr Mag"},"1712301-Bradley Glbl Awr Mag",28]
["1722001","Maple PC","1722001-Maple PC",null,null,"1713701",{"$f":"VLOOKUP(F671, 'ECAST Lookup'!A:C,3,FALSE)","v":"32nd/USC Per Art Mag"},"1713701-32nd/USC Per Art Mag",28]
["1722002","Maple PC DL Two-Way Im Spanish","1722002-Maple PC DL Two-Way Im Spanish",null,null,"1713702",{"$f":"VLOOKUP(F672, 'ECAST Lookup'!A:C,3,FALSE)","v":"LAUSD/USC"},"1713702-LAUSD/USC",17]
["1724701","Tulsa El","1724701-Tulsa El",null,null,"1715101",{"$f":"VLOOKUP(F673, 'ECAST Lookup'!A:C,3,FALSE)","v":"Weemes El"},"1715101-Weemes El",17]
["1726001","Tweedy El","1726001-Tweedy El",null,null,"1716401",{"$f":"VLOOKUP(F674, 'ECAST Lookup'!A:C,3,FALSE)","v":"Bright El"},"1716401-Bright El",17]
["1726002","Tweedy EL DL Two-Way Im Spanish","1726002-Tweedy EL DL Two-Way Im Spanish",null,null,"1717801",{"$f":"VLOOKUP(F675, 'ECAST Lookup'!A:C,3,FALSE)","v":"Toland Way El"},"1717801-Toland Way El",21]
["1727401","20th St El","1727401-20th St El",null,null,"1719201",{"$f":"VLOOKUP(F676, 'ECAST Lookup'!A:C,3,FALSE)","v":"Toluca Lake El"},"1719201-Toluca Lake El",22]
["1727402","20th St El DL Two-Way Im Spanish","1727402-20th St El DL Two-Way Im Spanish",null,null,"1719801",{"$f":"VLOOKUP(F677, 'ECAST Lookup'!A:C,3,FALSE)","v":"Topanga El CS"},"1719801-Topanga El CS",21]
["1728801","28th St El","1728801-28th St El",null,null,"1720101",{"$f":"VLOOKUP(F678, 'ECAST Lookup'!A:C,3,FALSE)","v":"Topeka Charter"},"1720101-Topeka Charter",22]
["1728802","28th St El DL One-Way Im Spanish","1728802-28th St El DL One-Way Im Spanish",null,null,"1720501",{"$f":"VLOOKUP(F679, 'ECAST Lookup'!A:C,3,FALSE)","v":"Towne El"},"1720501-Towne El",16]
["1730101","24th St El","1730101-24th St El",null,null,"1721901",{"$f":"VLOOKUP(F680, 'ECAST Lookup'!A:C,3,FALSE)","v":"Trinity El"},"1721901-Trinity El",18]
["1732901","232nd Pl El","1732901-232nd Pl El",null,null,"1721902",{"$f":"VLOOKUP(F681, 'ECAST Lookup'!A:C,3,FALSE)","v":"Trinity St El DTS"},"1721902-Trinity St El DTS",25]
["1732902","232nd Pl ES STEMM Magnet","1732902-232nd Pl ES STEMM Magnet",null,null,"1722001",{"$f":"VLOOKUP(F682, 'ECAST Lookup'!A:C,3,FALSE)","v":"Maple PC"},"1722001-Maple PC",16]
["1734201","Meyler El","1734201-Meyler El",null,null,"1722002",{"$f":"VLOOKUP(F683, 'ECAST Lookup'!A:C,3,FALSE)","v":"Maple PC DTS"},"1722002-Maple PC DTS",20]
["1734202","Meyler El DL Two-Way Im Spanish","1734202-Meyler El DL Two-Way Im Spanish",null,null,"1724701",{"$f":"VLOOKUP(F684, 'ECAST Lookup'!A:C,3,FALSE)","v":"Tulsa El"},"1724701-Tulsa El",16]
["1735601","Union El","1735601-Union El",null,null,"1726001",{"$f":"VLOOKUP(F685, 'ECAST Lookup'!A:C,3,FALSE)","v":"Tweedy El"},"1726001-Tweedy El",17]
["1737001","Utah El","1737001-Utah El",null,null,"1726002",{"$f":"VLOOKUP(F686, 'ECAST Lookup'!A:C,3,FALSE)","v":"Tweedy El DTS"},"1726002-Tweedy El DTS",21]
["1738401","Valerio El","1738401-Valerio El",null,null,"1727401",{"$f":"VLOOKUP(F687, 'ECAST Lookup'!A:C,3,FALSE)","v":"20th St El"},"1727401-20th St El",18]
["1739001","Lake Balboa College Prep Magnet K-12","1739001-Lake Balboa College Prep Magnet K-12",null,null,"1727402",{"$f":"VLOOKUP(F688, 'ECAST Lookup'!A:C,3,FALSE)","v":"20th St El DTS"},"1727402-20th St El DTS",22]
["1739701","Valley View El","1739701-Valley View El",null,null,"1728801",{"$f":"VLOOKUP(F689, 'ECAST Lookup'!A:C,3,FALSE)","v":"28th St El"},"1728801-28th St El",18]
["1739801","Alta California El","1739801-Alta California El",null,null,"1728802",{"$f":"VLOOKUP(F690, 'ECAST Lookup'!A:C,3,FALSE)","v":"28th St El DOS"},"1728802-28th St El DOS",22]
["1739802","Alta California ES Gifted/STEAM Magnet","1739802-Alta California ES Gifted/STEAM Magnet",null,null,"1730101",{"$f":"VLOOKUP(F691, 'ECAST Lookup'!A:C,3,FALSE)","v":"24th St El"},"1730101-24th St El",18]
["1739901","Korenstein El","1739901-Korenstein El",null,null,"1732901",{"$f":"VLOOKUP(F692, 'ECAST Lookup'!A:C,3,FALSE)","v":"232nd Pl El"},"1732901-232nd Pl El",19]
["1740001","Vista Del Valle Acad","1740001-Vista Del Valle Acad",null,null,"1732902",{"$f":"VLOOKUP(F693, 'ECAST Lookup'!A:C,3,FALSE)","v":"232nd STEMM Mag"},"1732902-232nd STEMM Mag",23]
["1740002","Vista Del Valle Ac DL Two-Way Im Spanish","1740002-Vista Del Valle Ac DL Two-Way Im Spanish",null,null,"1734201",{"$f":"VLOOKUP(F694, 'ECAST Lookup'!A:C,3,FALSE)","v":"Meyler El"},"1734201-Meyler El",17]
["1740101","Cardenas El","1740101-Cardenas El",null,null,"1734202",{"$f":"VLOOKUP(F695, 'ECAST Lookup'!A:C,3,FALSE)","v":"Meyler St El DTS"},"1734202-Meyler St El DTS",24]
["1740201","Mosk El","1740201-Mosk El",null,null,"1735601",{"$f":"VLOOKUP(F696, 'ECAST Lookup'!A:C,3,FALSE)","v":"Union El"},"1735601-Union El",16]
["1740202","Mosk ES STEAM Magnet","1740202-Mosk ES STEAM Magnet",null,null,"1737001",{"$f":"VLOOKUP(F697, 'ECAST Lookup'!A:C,3,FALSE)","v":"Utah El"},"1737001-Utah El",15]
["1740401","Santana Arts Academy","1740401-Santana Arts Academy",null,null,"1738401",{"$f":"VLOOKUP(F698, 'ECAST Lookup'!A:C,3,FALSE)","v":"Valerio El"},"1738401-Valerio El",18]
["1740402","Santana Arts Acad DL Two-Way Im Spanish","1740402-Santana Arts Acad DL Two-Way Im Spanish",null,null,"1739001",{"$f":"VLOOKUP(F699, 'ECAST Lookup'!A:C,3,FALSE)","v":"Lake Balboa Clg Prep"},"1739001-Lake Balboa Clg Prep",28]
["1740801","Sylmar Ldshp Acad","1740801-Sylmar Ldshp Acad",null,null,"1739701",{"$f":"VLOOKUP(F700, 'ECAST Lookup'!A:C,3,FALSE)","v":"Valley View El"},"1739701-Valley View El",22]
["1741101","Vanalden El","1741101-Vanalden El",null,null,"1739801",{"$f":"VLOOKUP(F701, 'ECAST Lookup'!A:C,3,FALSE)","v":"Alta California El"},"1739801-Alta California El",26]
["1741901","Van Deene El","1741901-Van Deene El",null,null,"1739802",{"$f":"VLOOKUP(F702, 'ECAST Lookup'!A:C,3,FALSE)","v":"Alta Cal GSTEAM Mag"},"1739802-Alta Cal GSTEAM Mag",27]
["1742201","Van Gogh Charter","1742201-Van Gogh Charter",null,null,"1739901",{"$f":"VLOOKUP(F703, 'ECAST Lookup'!A:C,3,FALSE)","v":"Korenstein El"},"1739901-Korenstein El",21]
["1742501","Van Ness El","1742501-Van Ness El",null,null,"1740001",{"$f":"VLOOKUP(F704, 'ECAST Lookup'!A:C,3,FALSE)","v":"Vista Del Valle Acad"},"1740001-Vista Del Valle Acad",28]
["1743201","Columbus Ave El","1743201-Columbus Ave El",null,null,"1740002",{"$f":"VLOOKUP(F705, 'ECAST Lookup'!A:C,3,FALSE)","v":"Vista Del Valle DTS"},"1740002-Vista Del Valle DTS",27]
["1743801","Van Nuys El","1743801-Van Nuys El",null,null,"1740101",{"$f":"VLOOKUP(F706, 'ECAST Lookup'!A:C,3,FALSE)","v":"Cardenas El"},"1740101-Cardenas El",19]
["1746601","Vena El",{"$f":"A707&\"-\"&B707","v":"1746601-Vena El"},null,null,"1740201",{"$f":"VLOOKUP(F707, 'ECAST Lookup'!A:C,3,FALSE)","v":"Mosk El"},{"$f":"F707&\"-\"&G707","v":"1740201-Mosk El"},{"$f":"LEN(H707)","v":15}]
["1746602","Vena Avenue Elementary Gifted Magnet","1746602-Vena Avenue Elementary Gifted Magnet",null,null,"1740202",{"$f":"VLOOKUP(F708, 'ECAST Lookup'!A:C,3,FALSE)","v":"Mosk ES STEAM Magnet"},"1740202-Mosk ES STEAM Magnet",28]
["1747901","Vermont El","1747901-Vermont El",null,null,"1740401",{"$f":"VLOOKUP(F709, 'ECAST Lookup'!A:C,3,FALSE)","v":"Santana Arts Academy"},"1740401-Santana Arts Academy",28]
["1749301","Vernon City El","1749301-Vernon City El",null,null,"1740402",{"$f":"VLOOKUP(F710, 'ECAST Lookup'!A:C,3,FALSE)","v":"Santana Arts Aca DTS"},"1740402-Santana Arts Aca DTS",28]
["1750701","Victoria El","1750701-Victoria El",null,null,"1740801",{"$f":"VLOOKUP(F711, 'ECAST Lookup'!A:C,3,FALSE)","v":"Sylmar Ldshp Acad"},"1740801-Sylmar Ldshp Acad",25]
["1752101","Victory El","1752101-Victory El",null,null,"1741101",{"$f":"VLOOKUP(F712, 'ECAST Lookup'!A:C,3,FALSE)","v":"Vanalden El"},"1741101-Vanalden El",19]
["1752102","Victory Bl ES STEAM Magnet","1752102-Victory Bl ES STEAM Magnet",null,null,"1741901",{"$f":"VLOOKUP(F713, 'ECAST Lookup'!A:C,3,FALSE)","v":"Van Deene El"},"1741901-Van Deene El",20]
["1753401","Vine El","1753401-Vine El",null,null,"1742201",{"$f":"VLOOKUP(F714, 'ECAST Lookup'!A:C,3,FALSE)","v":"Van Gogh Charter"},"1742201-Van Gogh Charter",24]
["1754801","Vinedale El","1754801-Vinedale El",null,null,"1742501",{"$f":"VLOOKUP(F715, 'ECAST Lookup'!A:C,3,FALSE)","v":"Van Ness El"},"1742501-Van Ness El",19]
["1756201","Vintage Math/Sci Mag","1756201-Vintage Math/Sci Mag",null,null,"1743201",{"$f":"VLOOKUP(F716, 'ECAST Lookup'!A:C,3,FALSE)","v":"Columbus Ave El"},"1743201-Columbus Ave El",23]
["1756601","University Pathways Public Svc Academy","1756601-University Pathways Public Svc Academy",null,null,"1743801",{"$f":"VLOOKUP(F717, 'ECAST Lookup'!A:C,3,FALSE)","v":"Van Nuys El"},"1743801-Van Nuys El",19]
["1756701","University Pathways Medical Mag Academy","1756701-University Pathways Medical Mag Academy",null,null,"1746601",{"$f":"VLOOKUP(F718, 'ECAST Lookup'!A:C,3,FALSE)","v":"Vena El"},"1746601-Vena El",15]
["1756901","Boys Academic Leadership Academy","1756901-Boys Academic Leadership Academy",null,null,"1746602",{"$f":"VLOOKUP(F719, 'ECAST Lookup'!A:C,3,FALSE)","v":"Vena El Gifted Mag"},"1746602-Vena El Gifted Mag",26]
["1757401","Horace Mann UCLA Community School","1757401-Horace Mann UCLA Community School",null,null,"1747901",{"$f":"VLOOKUP(F720, 'ECAST Lookup'!A:C,3,FALSE)","v":"Vermont El"},"1747901-Vermont El",18]
["1757501","Virginia El","1757501-Virginia El",null,null,"1749301",{"$f":"VLOOKUP(F721, 'ECAST Lookup'!A:C,3,FALSE)","v":"Vernon City El"},"1749301-Vernon City El",22]
["1757502","Virginia Rd El DL Two-Way Im Spanish","1757502-Virginia Rd El DL Two-Way Im Spanish",null,null,"1750701",{"$f":"VLOOKUP(F722, 'ECAST Lookup'!A:C,3,FALSE)","v":"Victoria El"},"1750701-Victoria El",19]
["1758901","Wadsworth El","1758901-Wadsworth El",null,null,"1751301",{"$f":"VLOOKUP(F723, 'ECAST Lookup'!A:C,3,FALSE)","v":"Regional HS IDTE Mag"},"1751301-Regional HS IDTE Mag",28]
["1760301","Walgrove El","1760301-Walgrove El",null,null,"1752101",{"$f":"VLOOKUP(F724, 'ECAST Lookup'!A:C,3,FALSE)","v":"Victory El"},"1752101-Victory El",18]
["1760401","The Science Academy STEM Magnet","1760401-The Science Academy STEM Magnet",null,null,"1752102",{"$f":"VLOOKUP(F725, 'ECAST Lookup'!A:C,3,FALSE)","v":"Victory STEAM Mag"},"1752102-Victory STEAM Mag",25]
["1761401","Nava Coll Prep Acad","1761401-Nava Coll Prep Acad",null,null,"1753401",{"$f":"VLOOKUP(F726, 'ECAST Lookup'!A:C,3,FALSE)","v":"Vine El"},"1753401-Vine El",15]
["1761501","Boyle Heights HS STEM Magnet","1761501-Boyle Heights HS STEM Magnet",null,null,"1754801",{"$f":"VLOOKUP(F727, 'ECAST Lookup'!A:C,3,FALSE)","v":"Vinedale College Pep"},"1754801-Vinedale College Pep",28]
["1761601","Warner El","1761601-Warner El",null,null,"1756201",{"$f":"VLOOKUP(F728, 'ECAST Lookup'!A:C,3,FALSE)","v":"Vintage Math/Sci Mag"},"1756201-Vintage Math/Sci Mag",28]
["1763001","Washington PC","1763001-Washington PC",null,null,"1756601",{"$f":"VLOOKUP(F729, 'ECAST Lookup'!A:C,3,FALSE)","v":"Univ Pathwys Pub Srv"},"1756601-Univ Pathwys Pub Srv",28]
["1763002","Washington PC DL Two-Way Im Spanish","1763002-Washington PC DL Two-Way Im Spanish",null,null,"1756701",{"$f":"VLOOKUP(F730, 'ECAST Lookup'!A:C,3,FALSE)","v":"Univ Pathwys Medical"},"1756701-Univ Pathwys Medical",28]
["1763401","Weigand El","1763401-Weigand El",null,null,"1756901",{"$f":"VLOOKUP(F731, 'ECAST Lookup'!A:C,3,FALSE)","v":"Boys Acad Leader"},"1756901-Boys Acad Leader",24]
["1763701","Welby Way Charter ES & GHA Magnet","1763701-Welby Way Charter ES & GHA Magnet",null,null,"1757401",{"$f":"VLOOKUP(F732, 'ECAST Lookup'!A:C,3,FALSE)","v":"Horace Mann UCLA"},"1757401-Horace Mann UCLA",24]
["1763702","Welby Way Charter Elementary Gifted Magnet","1763702-Welby Way Charter Elementary Gifted Magnet",null,null,"1757501",{"$f":"VLOOKUP(F733, 'ECAST Lookup'!A:C,3,FALSE)","v":"Virginia El"},"1757501-Virginia El",19]
["1764001","Chavez El","1764001-Chavez El",null,null,"1757502",{"$f":"VLOOKUP(F734, 'ECAST Lookup'!A:C,3,FALSE)","v":"Virginia Rd El DTS"},"1757502-Virginia Rd El DTS",26]
["1764401","West Athens El","1764401-West Athens El",null,null,"1758901",{"$f":"VLOOKUP(F735, 'ECAST Lookup'!A:C,3,FALSE)","v":"Wadsworth El"},"1758901-Wadsworth El",20]
["1764901","West Hollywood El","1764901-West Hollywood El",null,null,"1760301",{"$f":"VLOOKUP(F736, 'ECAST Lookup'!A:C,3,FALSE)","v":"Walgrove El"},"1760301-Walgrove El",19]
["1765401","West Vernon El","1765401-West Vernon El",null,null,"1760401",{"$f":"VLOOKUP(F737, 'ECAST Lookup'!A:C,3,FALSE)","v":"Science Ac STEM Mag"},"1760401-Science Ac STEM Mag",27]
["1765601","Carson Acad Med Arts","1765601-Carson Acad Med Arts",null,null,"1761401",{"$f":"VLOOKUP(F738, 'ECAST Lookup'!A:C,3,FALSE)","v":"Nava Coll Prep Acad"},"1761401-Nava Coll Prep Acad",27]
["1765701","Carson Acad Ed & Emp","1765701-Carson Acad Ed & Emp",null,null,"1761501",{"$f":"VLOOKUP(F739, 'ECAST Lookup'!A:C,3,FALSE)","v":"Boyle Hts STEM Mag"},"1761501-Boyle Hts STEM Mag",26]
["1765801","Sylmar Academy Biotech Health/Eng Magnet","1765801-Sylmar Academy Biotech Health/Eng Magnet",null,null,"1761601",{"$f":"VLOOKUP(F740, 'ECAST Lookup'!A:C,3,FALSE)","v":"Warner El"},"1761601-Warner El",17]
["1766401","Legacy SH VAPA","1766401-Legacy SH VAPA",null,null,"1763001",{"$f":"VLOOKUP(F741, 'ECAST Lookup'!A:C,3,FALSE)","v":"Washington PC"},"1763001-Washington PC",21]
["1766501","Hawkins SH CHAS","1766501-Hawkins SH CHAS",null,null,"1763002",{"$f":"VLOOKUP(F742, 'ECAST Lookup'!A:C,3,FALSE)","v":"Washington PC DTS"},"1763002-Washington PC DTS",25]
["1766601","Hawkins SH RISE","1766601-Hawkins SH RISE",null,null,"1763401",{"$f":"VLOOKUP(F743, 'ECAST Lookup'!A:C,3,FALSE)","v":"Weigand El"},"1763401-Weigand El",18]
["1766701","Dymally SH","1766701-Dymally SH",null,null,"1763701",{"$f":"VLOOKUP(F744, 'ECAST Lookup'!A:C,3,FALSE)","v":"Welby Way Chtr"},"1763701-Welby Way Chtr",22]
["1766702","Dymally HS Biomed Science/Research Mag","1766702-Dymally HS Biomed Science/Research Mag",null,null,"1763702",{"$f":"VLOOKUP(F745, 'ECAST Lookup'!A:C,3,FALSE)","v":"Welby Way Gifted Mag"},"1763702-Welby Way Gifted Mag",28]
["1766901","Marquez SH Soc Jus","1766901-Marquez SH Soc Jus",null,null,"1764001",{"$f":"VLOOKUP(F746, 'ECAST Lookup'!A:C,3,FALSE)","v":"Chavez El"},"1764001-Chavez El",17]
["1767101","Western Av Tech/Eng/Comm/Hum Magnet","1767101-Western Av Tech/Eng/Comm/Hum Magnet",null,null,"1764401",{"$f":"VLOOKUP(F747, 'ECAST Lookup'!A:C,3,FALSE)","v":"West Athens El"},"1764401-West Athens El",22]
["1769901","Westminster ES Math/Tech/Env Stud Magnet","1769901-Westminster ES Math/Tech/Env Stud Magnet",null,null,"1764901",{"$f":"VLOOKUP(F748, 'ECAST Lookup'!A:C,3,FALSE)","v":"West Hollywood El"},"1764901-West Hollywood El",25]
["1771201","Westport Hts El","1771201-Westport Hts El",null,null,"1765401",{"$f":"VLOOKUP(F749, 'ECAST Lookup'!A:C,3,FALSE)","v":"West Vernon El"},"1765401-West Vernon El",22]
["1771501","Chavez LA Artes Mag","1771501-Chavez LA Artes Mag",null,null,"1765601",{"$f":"VLOOKUP(F750, 'ECAST Lookup'!A:C,3,FALSE)","v":"Carson Acad Med Arts"},"1765601-Carson Acad Med Arts",28]
["1771601","Chavez LA SJ Hum Ac","1771601-Chavez LA SJ Hum Ac",null,null,"1765701",{"$f":"VLOOKUP(F751, 'ECAST Lookup'!A:C,3,FALSE)","v":"Carson Acad Ed & Emp"},"1765701-Carson Acad Ed & Emp",28]
["1771701","Chavez LA ASE","1771701-Chavez LA ASE",null,null,"1765801",{"$f":"VLOOKUP(F752, 'ECAST Lookup'!A:C,3,FALSE)","v":"Sylmar Acad BH/E Mag"},"1765801-Sylmar Acad BH/E Mag",28]
["1771801","Rivera LC Com & Tech","1771801-Rivera LC Com & Tech",null,null,"1766401",{"$f":"VLOOKUP(F753, 'ECAST Lookup'!A:C,3,FALSE)","v":"Legacy SH VAPA"},"1766401-Legacy SH VAPA",22]
["1771901","Diego Rivera LC Green Design STEAM Acad","1771901-Diego Rivera LC Green Design STEAM Acad",null,null,"1766701",{"$f":"VLOOKUP(F754, 'ECAST Lookup'!A:C,3,FALSE)","v":"Dymally SH"},"1766701-Dymally SH",18]
["1772101","Rivera LC Perf Arts","1772101-Rivera LC Perf Arts",null,null,"1766702",{"$f":"VLOOKUP(F755, 'ECAST Lookup'!A:C,3,FALSE)","v":"Dymally BMS/R Mag"},"1766702-Dymally BMS/R Mag",25]
["1772201","Dr. Maya Angelou Community Senior High","1772201-Dr. Maya Angelou Community Senior High",null,null,"1766901",{"$f":"VLOOKUP(F756, 'ECAST Lookup'!A:C,3,FALSE)","v":"Marquez SH Soc Jus"},"1766901-Marquez SH Soc Jus",26]
["1772501","Marquez SH LIBRA","1772501-Marquez SH LIBRA",null,null,"1767101",{"$f":"VLOOKUP(F757, 'ECAST Lookup'!A:C,3,FALSE)","v":"Western Av Tech Mag"},"1767101-Western Av Tech Mag",27]
["1773401","Bernstein SH STEM","1773401-Bernstein SH STEM",null,null,"1769901",{"$f":"VLOOKUP(F758, 'ECAST Lookup'!A:C,3,FALSE)","v":"Westminster MTES Mag"},"1769901-Westminster MTES Mag",28]
["1774001","Westwood Chtr El","1774001-Westwood Chtr El",null,null,"1771201",{"$f":"VLOOKUP(F759, 'ECAST Lookup'!A:C,3,FALSE)","v":"Westport Hts El"},"1771201-Westport Hts El",23]
["1774901","Roosevelt SH","1774901-Roosevelt SH",null,null,"1771501",{"$f":"VLOOKUP(F760, 'ECAST Lookup'!A:C,3,FALSE)","v":"Chavez LA Artes Mag"},"1771501-Chavez LA Artes Mag",27]
["1774902","Roosevelt HS Law/Public Services Magnet","1774902-Roosevelt HS Law/Public Services Magnet",null,null,"1771601",{"$f":"VLOOKUP(F761, 'ECAST Lookup'!A:C,3,FALSE)","v":"Chavez LA SJ Hum Ac"},"1771601-Chavez LA SJ Hum Ac",27]
["1775101","Roosevelt Senior High Science/Tech/Math","1775101-Roosevelt Senior High Science/Tech/Math",null,null,"1771701",{"$f":"VLOOKUP(F762, 'ECAST Lookup'!A:C,3,FALSE)","v":"Chavez LA ASE"},"1771701-Chavez LA ASE",21]
["1775201","Solis Learning Acad","1775201-Solis Learning Acad",null,null,"1771801",{"$f":"VLOOKUP(F763, 'ECAST Lookup'!A:C,3,FALSE)","v":"Rivera LC Com & Tech"},"1771801-Rivera LC Com & Tech",28]
["1776701","White Point El","1776701-White Point El",null,null,"1771901",{"$f":"VLOOKUP(F764, 'ECAST Lookup'!A:C,3,FALSE)","v":"Rivera LC STEAM Acad"},"1771901-Rivera LC STEAM Acad",28]
["1777101","RFK Ambsdr Glbl Ldsh","1777101-RFK Ambsdr Glbl Ldsh",null,null,"1772101",{"$f":"VLOOKUP(F765, 'ECAST Lookup'!A:C,3,FALSE)","v":"Rivera LC Perf Arts"},"1772101-Rivera LC Perf Arts",27]
["1777201","Torres Renaissance","1777201-Torres Renaissance",null,null,"1772201",{"$f":"VLOOKUP(F766, 'ECAST Lookup'!A:C,3,FALSE)","v":"Dr. Maya Angelou"},"1772201-Dr. Maya Angelou",24]
["1777301","Torres Eng & Tech","1777301-Torres Eng & Tech",null,null,"1772501",{"$f":"VLOOKUP(F767, 'ECAST Lookup'!A:C,3,FALSE)","v":"Marquez SH LIBRA"},"1772501-Marquez SH LIBRA",24]
["1777401","Wilbur El","1777401-Wilbur El",null,null,"1773401",{"$f":"VLOOKUP(F768, 'ECAST Lookup'!A:C,3,FALSE)","v":"Bernstein SH STEM"},"1773401-Bernstein SH STEM",25]
["1777501","Torres Hum/Art/Tech","1777501-Torres Hum/Art/Tech",null,null,"1774001",{"$f":"VLOOKUP(F769, 'ECAST Lookup'!A:C,3,FALSE)","v":"Westwood Chtr El"},"1774001-Westwood Chtr El",24]
["1777701","Torres HS Social Justice Ldshp Ac Magnet","1777701-Torres HS Social Justice Ldshp Ac Magnet",null,null,"1774901",{"$f":"VLOOKUP(F770, 'ECAST Lookup'!A:C,3,FALSE)","v":"Roosevelt SH"},"1774901-Roosevelt SH",20]
["1778001","RFK UCLA Comm Sch",{"$f":"A771&\"-\"&B771","v":"1778001-RFK UCLA Comm Sch"},null,null,"1774902",{"$f":"VLOOKUP(F771, 'ECAST Lookup'!A:C,3,FALSE)","v":"Roosevelt LPS Mag"},{"$f":"F771&\"-\"&G771","v":"1774902-Roosevelt LPS Mag"},{"$f":"LEN(H771)","v":25}]
["1778002","RFK UCLA Comm Sch DL One-Way Im Spanish","1778002-RFK UCLA Comm Sch DL One-Way Im Spanish",null,null,"1775101",{"$f":"VLOOKUP(F772, 'ECAST Lookup'!A:C,3,FALSE)","v":"Roosevelt SH STM Mag"},"1775101-Roosevelt SH STM Mag",28]
["1778101","Wilmington Park El","1778101-Wilmington Park El",null,null,"1775201",{"$f":"VLOOKUP(F773, 'ECAST Lookup'!A:C,3,FALSE)","v":"Solis Learning Acad"},"1775201-Solis Learning Acad",27]
["1778301","RFK Comm Schs-New Open World Acad K-12","1778301-RFK Comm Schs-New Open World Acad K-12",null,null,"1776701",{"$f":"VLOOKUP(F774, 'ECAST Lookup'!A:C,3,FALSE)","v":"White Point El"},"1776701-White Point El",22]
["1779501","Wilshire Crest El","1779501-Wilshire Crest El",null,null,"1777101",{"$f":"VLOOKUP(F775, 'ECAST Lookup'!A:C,3,FALSE)","v":"RFK Ambsdr Glbl Ldsh"},"1777101-RFK Ambsdr Glbl Ldsh",28]
["1779502","Wilshire Crest El DL Two-Way Im Spanish","1779502-Wilshire Crest El DL Two-Way Im Spanish",null,null,"1777201",{"$f":"VLOOKUP(F776, 'ECAST Lookup'!A:C,3,FALSE)","v":"Torres Renaissance"},"1777201-Torres Renaissance",26]
["1780801","Wilton Pl El","1780801-Wilton Pl El",null,null,"1777301",{"$f":"VLOOKUP(F777, 'ECAST Lookup'!A:C,3,FALSE)","v":"Torres Eng & Tech"},"1777301-Torres Eng & Tech",25]
["1780802","Wilton Pl El DL Two-Way Im Spanish","1780802-Wilton Pl El DL Two-Way Im Spanish",null,null,"1777401",{"$f":"VLOOKUP(F778, 'ECAST Lookup'!A:C,3,FALSE)","v":"Wilbur El"},"1777401-Wilbur El",17]
["1780803","Wilton Pl El DL Two-Way Im Korean","1780803-Wilton Pl El DL Two-Way Im Korean",null,null,"1777501",{"$f":"VLOOKUP(F779, 'ECAST Lookup'!A:C,3,FALSE)","v":"Torres Hum/Art/Tech"},"1777501-Torres Hum/Art/Tech",27]
["1782201","Windsor M/S Aero Mag","1782201-Windsor M/S Aero Mag",null,null,"1777701",{"$f":"VLOOKUP(F780, 'ECAST Lookup'!A:C,3,FALSE)","v":"Torres HS SJLA Mag"},"1777701-Torres HS SJLA Mag",26]
["1783601","Winnetka El","1783601-Winnetka El",null,null,"1778001",{"$f":"VLOOKUP(F781, 'ECAST Lookup'!A:C,3,FALSE)","v":"RFK UCLA Comm Sch"},"1778001-RFK UCLA Comm Sch",25]
["1784901","Wonderland El","1784901-Wonderland El",null,null,"1778002",{"$f":"VLOOKUP(F782, 'ECAST Lookup'!A:C,3,FALSE)","v":"RFK UCLA Comm DOS"},"1778002-RFK UCLA Comm DOS",25]
["1784902","Wonderland G/HA Mag","1784902-Wonderland G/HA Mag",null,null,"1778101",{"$f":"VLOOKUP(F783, 'ECAST Lookup'!A:C,3,FALSE)","v":"Wilmington Park El"},"1778101-Wilmington Park El",26]
["1786301","Woodcrest El","1786301-Woodcrest El",null,null,"1778301",{"$f":"VLOOKUP(F784, 'ECAST Lookup'!A:C,3,FALSE)","v":"RFK Comm Schs-New"},"1778301-RFK Comm Schs-New",25]
["1787701","Woodlake Elementary Community Charter","1787701-Woodlake Elementary Community Charter",null,null,"1779501",{"$f":"VLOOKUP(F785, 'ECAST Lookup'!A:C,3,FALSE)","v":"Wilshire Crest El"},"1779501-Wilshire Crest El",25]
["1789001","Woodland Hills CES","1789001-Woodland Hills CES",null,null,"1779502",{"$f":"VLOOKUP(F786, 'ECAST Lookup'!A:C,3,FALSE)","v":"Wilshire Crst DTS"},"1779502-Wilshire Crst DTS",25]
["1789501","Valley Oaks Center for Enr Studies Mag","1789501-Valley Oaks Center for Enr Studies Mag",null,null,"1780801",{"$f":"VLOOKUP(F787, 'ECAST Lookup'!A:C,3,FALSE)","v":"Wilton Pl El"},"1780801-Wilton Pl El",20]
["1790401","Woodlawn El","1790401-Woodlawn El",null,null,"1780802",{"$f":"VLOOKUP(F788, 'ECAST Lookup'!A:C,3,FALSE)","v":"Wilton Pl El DTS"},"1780802-Wilton Pl El DTS",24]
["1790402","Woodlawn Ave El DL Two-Way Im Spanish","1790402-Woodlawn Ave El DL Two-Way Im Spanish",null,null,"1780803",{"$f":"VLOOKUP(F789, 'ECAST Lookup'!A:C,3,FALSE)","v":"Wilton Pl El DTK"},"1780803-Wilton Pl El DTK",24]
["1795901","Yorkdale El","1795901-Yorkdale El",null,null,"1782201",{"$f":"VLOOKUP(F790, 'ECAST Lookup'!A:C,3,FALSE)","v":"Windsor M/S Aero Mag"},"1782201-Windsor M/S Aero Mag",28]
["1800901","Adams MS","1800901-Adams MS",null,null,"1783601",{"$f":"VLOOKUP(F791, 'ECAST Lookup'!A:C,3,FALSE)","v":"Winnetka El"},"1783601-Winnetka El",19]
["1800902","John Adams MS Gifted Magnet","1800902-John Adams MS Gifted Magnet",null,null,"1784901",{"$f":"VLOOKUP(F792, 'ECAST Lookup'!A:C,3,FALSE)","v":"Wonderland El"},"1784901-Wonderland El",21]
["1802801","Audubon MS","1802801-Audubon MS",null,null,"1784902",{"$f":"VLOOKUP(F793, 'ECAST Lookup'!A:C,3,FALSE)","v":"Wonderland G/HA Mag"},"1784902-Wonderland G/HA Mag",27]
["1802802","Audubon MS Gifted Magnet","1802802-Audubon MS Gifted Magnet",null,null,"1786301",{"$f":"VLOOKUP(F794, 'ECAST Lookup'!A:C,3,FALSE)","v":"Woodcrest El"},"1786301-Woodcrest El",20]
["1803801","Bancroft MS","1803801-Bancroft MS",null,null,"1787701",{"$f":"VLOOKUP(F795, 'ECAST Lookup'!A:C,3,FALSE)","v":"Woodlake Charter"},"1787701-Woodlake Charter",24]
["1803802","Bancroft Per Art Mag","1803802-Bancroft Per Art Mag",null,null,"1789001",{"$f":"VLOOKUP(F796, 'ECAST Lookup'!A:C,3,FALSE)","v":"Woodland Hills CES"},"1789001-Woodland Hills CES",26]
["1803803","Hubert Howe Bancroft MS Gifted STEAM Mag","1803803-Hubert Howe Bancroft MS Gifted STEAM Mag",null,null,"1789501",{"$f":"VLOOKUP(F797, 'ECAST Lookup'!A:C,3,FALSE)","v":"Valley Oaks CES Mag"},"1789501-Valley Oaks CES Mag",27]
["1804501","Castro MS","1804501-Castro MS",null,null,"1790401",{"$f":"VLOOKUP(F798, 'ECAST Lookup'!A:C,3,FALSE)","v":"Woodlawn El"},"1790401-Woodlawn El",19]
["1804701","Belvedere MS","1804701-Belvedere MS",null,null,"1790402",{"$f":"VLOOKUP(F799, 'ECAST Lookup'!A:C,3,FALSE)","v":"Woodlawn Ave El DTS"},"1790402-Woodlawn Ave El DTS",27]
["1804702","Belvedere Media Mag","1804702-Belvedere Media Mag",null,null,"1795901",{"$f":"VLOOKUP(F800, 'ECAST Lookup'!A:C,3,FALSE)","v":"Yorkdale El"},"1795901-Yorkdale El",19]
["1804703","Belvedere MS STEAM Magnet","1804703-Belvedere MS STEAM Magnet",null,null,"1800901",{"$f":"VLOOKUP(F801, 'ECAST Lookup'!A:C,3,FALSE)","v":"Adams MS"},"1800901-Adams MS",16]
["1805701","Berendo MS","1805701-Berendo MS",null,null,"1800902",{"$f":"VLOOKUP(F802, 'ECAST Lookup'!A:C,3,FALSE)","v":"Adams MS Gifted Mag"},"1800902-Adams MS Gifted Mag",27]
["1805801","Liechty MS","1805801-Liechty MS",null,null,"1802801",{"$f":"VLOOKUP(F803, 'ECAST Lookup'!A:C,3,FALSE)","v":"Audubon MS"},"1802801-Audubon MS",18]
["1806001","Bethune MS","1806001-Bethune MS",null,null,"1802802",{"$f":"VLOOKUP(F804, 'ECAST Lookup'!A:C,3,FALSE)","v":"Audubon MS Gifted Mg"},"1802802-Audubon MS Gifted Mg",28]
["1806002","Mary Mcleod Bethune MS Science/Tech/Math","1806002-Mary Mcleod Bethune MS Science/Tech/Math",null,null,"1803801",{"$f":"VLOOKUP(F805, 'ECAST Lookup'!A:C,3,FALSE)","v":"Bancroft MS"},"1803801-Bancroft MS",19]
["1806201","Clinton MS","1806201-Clinton MS",null,null,"1803802",{"$f":"VLOOKUP(F806, 'ECAST Lookup'!A:C,3,FALSE)","v":"Bancroft Per Art Mag"},"1803802-Bancroft Per Art Mag",28]
["1806401","Kim Academy","1806401-Kim Academy",null,null,"1803803",{"$f":"VLOOKUP(F807, 'ECAST Lookup'!A:C,3,FALSE)","v":"Bancroft GSTEAM Mag"},"1803803-Bancroft GSTEAM Mag",27]
["1806601","Burbank MS Arts/Tech/Comm Magnet","1806601-Burbank MS Arts/Tech/Comm Magnet",null,null,"1804501",{"$f":"VLOOKUP(F808, 'ECAST Lookup'!A:C,3,FALSE)","v":"Castro MS"},"1804501-Castro MS",17]
["1806603","Burbank Police Ac Mg","1806603-Burbank Police Ac Mg",null,null,"1804701",{"$f":"VLOOKUP(F809, 'ECAST Lookup'!A:C,3,FALSE)","v":"Belvedere MS"},"1804701-Belvedere MS",20]
["1807501","Burroughs MS","1807501-Burroughs MS",null,null,"1804702",{"$f":"VLOOKUP(F810, 'ECAST Lookup'!A:C,3,FALSE)","v":"Belvedere Media Mag"},"1804702-Belvedere Media Mag",27]
["1807502","John Burroughs MS Gifted Magnet","1807502-John Burroughs MS Gifted Magnet",null,null,"1804703",{"$f":"VLOOKUP(F811, 'ECAST Lookup'!A:C,3,FALSE)","v":"Belvedere STEAM Mag"},"1804703-Belvedere STEAM Mag",27]
["1808001","Byrd MS","1808001-Byrd MS",null,null,"1805701",{"$f":"VLOOKUP(F812, 'ECAST Lookup'!A:C,3,FALSE)","v":"Berendo MS"},"1805701-Berendo MS",18]
["1808002","Richard E Byrd MS Science/Tech/Math Magnet","1808002-Richard E Byrd MS Science/Tech/Math Magnet",null,null,"1805801",{"$f":"VLOOKUP(F813, 'ECAST Lookup'!A:C,3,FALSE)","v":"Liechty MS"},"1805801-Liechty MS",18]
["1809001","Carnegie MS","1809001-Carnegie MS",null,null,"1806001",{"$f":"VLOOKUP(F814, 'ECAST Lookup'!A:C,3,FALSE)","v":"Bethune MS"},"1806001-Bethune MS",18]
["1809002","Carnegie MS Medical Magnet","1809002-Carnegie MS Medical Magnet",null,null,"1806002",{"$f":"VLOOKUP(F815, 'ECAST Lookup'!A:C,3,FALSE)","v":"Bethune MS STM Mag"},"1806002-Bethune MS STM Mag",26]
["1809401","Carver MS","1809401-Carver MS",null,null,"1806201",{"$f":"VLOOKUP(F816, 'ECAST Lookup'!A:C,3,FALSE)","v":"Clinton MS"},"1806201-Clinton MS",18]
["1810201","Columbus MS","1810201-Columbus MS",null,null,"1806202",{"$f":"VLOOKUP(F817, 'ECAST Lookup'!A:C,3,FALSE)","v":"Clinton MS M/HC Mag"},"1806202-Clinton MS M/HC Mag",27]
["1810202","Columbus MS M/S/Med","1810202-Columbus MS M/S/Med",null,null,"1806401",{"$f":"VLOOKUP(F818, 'ECAST Lookup'!A:C,3,FALSE)","v":"Kim Academy"},"1806401-Kim Academy",19]
["1810301","Curtiss MS","1810301-Curtiss MS",null,null,"1806601",{"$f":"VLOOKUP(F819, 'ECAST Lookup'!A:C,3,FALSE)","v":"Burbank MS Arts/Tech"},"1806601-Burbank MS Arts/Tech",28]
["1810302","Curtiss MS STEAM Magnet","1810302-Curtiss MS STEAM Magnet",null,null,"1806603",{"$f":"VLOOKUP(F820, 'ECAST Lookup'!A:C,3,FALSE)","v":"Burbank Police Ac Mg"},"1806603-Burbank Police Ac Mg",28]
["1810401","Dana MS","1810401-Dana MS",null,null,"1807501",{"$f":"VLOOKUP(F821, 'ECAST Lookup'!A:C,3,FALSE)","v":"Burroughs MS"},"1807501-Burroughs MS",20]
["1810402","Dana STEAM Magnet","1810402-Dana STEAM Magnet",null,null,"1807502",{"$f":"VLOOKUP(F822, 'ECAST Lookup'!A:C,3,FALSE)","v":"Burroughs Gifted Mag"},"1807502-Burroughs Gifted Mag",28]
["1810701","Gaspar De Portola Charter Middle","1810701-Gaspar De Portola Charter Middle",null,null,"1808001",{"$f":"VLOOKUP(F823, 'ECAST Lookup'!A:C,3,FALSE)","v":"Byrd MS"},"1808001-Byrd MS",15]
["1810702","Portola Highly Gifted Magnet","1810702-Portola Highly Gifted Magnet",null,null,"1808002",{"$f":"VLOOKUP(F824, 'ECAST Lookup'!A:C,3,FALSE)","v":"Byrd MS STM Mag"},"1808002-Byrd MS STM Mag",23]
["1810703","Academy of Integrated Arts & Technology","1810703-Academy of Integrated Arts & Technology",null,null,"1809001",{"$f":"VLOOKUP(F825, 'ECAST Lookup'!A:C,3,FALSE)","v":"Carnegie MS"},"1809001-Carnegie MS",19]
["1811001","Dodson MS","1811001-Dodson MS",null,null,"1809002",{"$f":"VLOOKUP(F826, 'ECAST Lookup'!A:C,3,FALSE)","v":"Carnegie Medical Mag"},"1809002-Carnegie Medical Mag",28]
["1811002","Rudecinda Sepulveda Dodson MS Gifted Mag","1811002-Rudecinda Sepulveda Dodson MS Gifted Mag",null,null,"1809003",{"$f":"VLOOKUP(F827, 'ECAST Lookup'!A:C,3,FALSE)","v":"Carnegie MS AMME Mag"},"1809003-Carnegie MS AMME Mag",28]
["1811003","Dodson MS Visual/Performing Arts Magnet","1811003-Dodson MS Visual/Performing Arts Magnet",null,null,"1809401",{"$f":"VLOOKUP(F828, 'ECAST Lookup'!A:C,3,FALSE)","v":"Carver MS"},"1809401-Carver MS",17]
["1811201","Drew MS","1811201-Drew MS",null,null,"1810201",{"$f":"VLOOKUP(F829, 'ECAST Lookup'!A:C,3,FALSE)","v":"Columbus MS"},"1810201-Columbus MS",19]
["1811202","Charles Drew MS Gifted Magnet","1811202-Charles Drew MS Gifted Magnet",null,null,"1810202",{"$f":"VLOOKUP(F830, 'ECAST Lookup'!A:C,3,FALSE)","v":"Columbus MS M/S/Med"},"1810202-Columbus MS M/S/Med",27]
["1811301","Edison MS","1811301-Edison MS",null,null,"1810203",{"$f":"VLOOKUP(F831, 'ECAST Lookup'!A:C,3,FALSE)","v":"Columbus MS MAC Mag"},"1810203-Columbus MS MAC Mag",27]
["1811601","Romer MS","1811601-Romer MS",null,null,"1810301",{"$f":"VLOOKUP(F832, 'ECAST Lookup'!A:C,3,FALSE)","v":"Curtiss MS"},"1810301-Curtiss MS",18]
["1811602","Romer STEM Magnet","1811602-Romer STEM Magnet",null,null,"1810302",{"$f":"VLOOKUP(F833, 'ECAST Lookup'!A:C,3,FALSE)","v":"Curtiss STEAM Mag"},"1810302-Curtiss STEAM Mag",25]
["1811603","Romer MS G/HG/HA/Humanities Magnet","1811603-Romer MS G/HG/HA/Humanities Magnet",null,null,"1810401",{"$f":"VLOOKUP(F834, 'ECAST Lookup'!A:C,3,FALSE)","v":"Dana MS"},"1810401-Dana MS",15]
["1811701","Vista MS",{"$f":"A835&\"-\"&B835","v":"1811701-Vista MS"},null,null,"1810402",{"$f":"VLOOKUP(F835, 'ECAST Lookup'!A:C,3,FALSE)","v":"Dana STEAM Magnet"},{"$f":"F835&\"-\"&G835","v":"1810402-Dana STEAM Magnet"},{"$f":"LEN(H835)","v":25}]
["1811703","Vista MS Sports Med/College Prep Magnet","1811703-Vista MS Sports Med/College Prep Magnet",null,null,"1810701",{"$f":"VLOOKUP(F836, 'ECAST Lookup'!A:C,3,FALSE)","v":"Gaspar de Portola CM"},"1810701-Gaspar de Portola CM",28]
["1811704","Vista MS Gifted STEAM Magnet","1811704-Vista MS Gifted STEAM Magnet",null,null,"1810702",{"$f":"VLOOKUP(F837, 'ECAST Lookup'!A:C,3,FALSE)","v":"Portola HG Magnet"},"1810702-Portola HG Magnet",25]
["1811801","El Sereno MS","1811801-El Sereno MS",null,null,"1810703",{"$f":"VLOOKUP(F838, 'ECAST Lookup'!A:C,3,FALSE)","v":"Acad of Int Art"},"1810703-Acad of Int Art",23]
["1811802","El Sereno MS Science/Tech/Math Magnet","1811802-El Sereno MS Science/Tech/Math Magnet",null,null,"1811001",{"$f":"VLOOKUP(F839, 'ECAST Lookup'!A:C,3,FALSE)","v":"Dodson MS"},"1811001-Dodson MS",17]
["1811803","El Sereno MS Gifted Magnet","1811803-El Sereno MS Gifted Magnet",null,null,"1811002",{"$f":"VLOOKUP(F840, 'ECAST Lookup'!A:C,3,FALSE)","v":"Dodson MS Gifted Mag"},"1811002-Dodson MS Gifted Mag",28]
["1811804","El Sereno MS Env Sci/Humanitarian Magnet","1811804-El Sereno MS Env Sci/Humanitarian Magnet",null,null,"1811003",{"$f":"VLOOKUP(F841, 'ECAST Lookup'!A:C,3,FALSE)","v":"Dodson VAPA Mag"},"1811003-Dodson VAPA Mag",23]
["1812301","Emerson Comm Charter","1812301-Emerson Comm Charter",null,null,"1811201",{"$f":"VLOOKUP(F842, 'ECAST Lookup'!A:C,3,FALSE)","v":"Drew MS"},"1811201-Drew MS",15]
["1812701","Fleming MS","1812701-Fleming MS",null,null,"1811202",{"$f":"VLOOKUP(F843, 'ECAST Lookup'!A:C,3,FALSE)","v":"Drew MS Gifted Mag"},"1811202-Drew MS Gifted Mag",26]
["1812702","Alexander Fleming MS Science/Tech/Math Mag","1812702-Alexander Fleming MS Science/Tech/Math Mag",null,null,"1811301",{"$f":"VLOOKUP(F844, 'ECAST Lookup'!A:C,3,FALSE)","v":"Edison MS"},"1811301-Edison MS",17]
["1813201","Foshay LC","1813201-Foshay LC",null,null,"1811601",{"$f":"VLOOKUP(F845, 'ECAST Lookup'!A:C,3,FALSE)","v":"Romer MS"},"1811601-Romer MS",16]
["1813701","Frost MS","1813701-Frost MS",null,null,"1811602",{"$f":"VLOOKUP(F846, 'ECAST Lookup'!A:C,3,FALSE)","v":"Romer STEM Magnet"},"1811602-Romer STEM Magnet",25]
["1813702","Robert Frost MS Science/Tech/Math Magnet","1813702-Robert Frost MS Science/Tech/Math Magnet",null,null,"1811603",{"$f":"VLOOKUP(F847, 'ECAST Lookup'!A:C,3,FALSE)","v":"Romer Gifted/Hum Mag"},"1811603-Romer Gifted/Hum Mag",28]
["1814201","Fulton College Prep","1814201-Fulton College Prep",null,null,"1811701",{"$f":"VLOOKUP(F848, 'ECAST Lookup'!A:C,3,FALSE)","v":"Vista MS"},"1811701-Vista MS",16]
["1814204","Fulton Communication Arts/Music Magnet","1814204-Fulton Communication Arts/Music Magnet",null,null,"1811703",{"$f":"VLOOKUP(F849, 'ECAST Lookup'!A:C,3,FALSE)","v":"Vista SMCP Mag"},"1811703-Vista SMCP Mag",22]
["1815101","Gage MS","1815101-Gage MS",null,null,"1811704",{"$f":"VLOOKUP(F850, 'ECAST Lookup'!A:C,3,FALSE)","v":"Vista GSTEAM Mag"},"1811704-Vista GSTEAM Mag",24]
["1815102","Henry T Gage MS Science/Tech/Math Magnet","1815102-Henry T Gage MS Science/Tech/Math Magnet",null,null,"1811705",{"$f":"VLOOKUP(F851, 'ECAST Lookup'!A:C,3,FALSE)","v":"Vista MS LGSJL Mag"},"1811705-Vista MS LGSJL Mag",26]
["1815301","Southeast MS","1815301-Southeast MS",null,null,"1811801",{"$f":"VLOOKUP(F852, 'ECAST Lookup'!A:C,3,FALSE)","v":"El Sereno MS"},"1811801-El Sereno MS",20]
["1815302","Southeast MS DREAMS Magnet","1815302-Southeast MS DREAMS Magnet",null,null,"1811802",{"$f":"VLOOKUP(F853, 'ECAST Lookup'!A:C,3,FALSE)","v":"El Sereno STEM Mag"},"1811802-El Sereno STEM Mag",26]
["1816001","Gompers MS","1816001-Gompers MS",null,null,"1811803",{"$f":"VLOOKUP(F854, 'ECAST Lookup'!A:C,3,FALSE)","v":"El Sereno Gifted Mag"},"1811803-El Sereno Gifted Mag",28]
["1816002","Gompers MS STEAM Magnet","1816002-Gompers MS STEAM Magnet",null,null,"1811804",{"$f":"VLOOKUP(F855, 'ECAST Lookup'!A:C,3,FALSE)","v":"El Sereno ESH Mag"},"1811804-El Sereno ESH Mag",25]
["1816801","Griffith MS STEAM Magnet","1816801-Griffith MS STEAM Magnet",null,null,"1812301",{"$f":"VLOOKUP(F856, 'ECAST Lookup'!A:C,3,FALSE)","v":"Emerson Comm Charter"},"1812301-Emerson Comm Charter",28]
["1816901","George E Hale Charter Acad","1816901-George E Hale Charter Acad",null,null,"1812701",{"$f":"VLOOKUP(F857, 'ECAST Lookup'!A:C,3,FALSE)","v":"Fleming MS"},"1812701-Fleming MS",18]
["1816902","George Ellery Hale Charter Aca Gifted St","1816902-George Ellery Hale Charter Aca Gifted St",null,null,"1812702",{"$f":"VLOOKUP(F858, 'ECAST Lookup'!A:C,3,FALSE)","v":"Fleming MS STM Mag"},"1812702-Fleming MS STM Mag",26]
["1816903","Hale Charter Academy VAPA Magnet","1816903-Hale Charter Academy VAPA Magnet",null,null,"1813201",{"$f":"VLOOKUP(F859, 'ECAST Lookup'!A:C,3,FALSE)","v":"Foshay LC"},"1813201-Foshay LC",17]
["1817001","Harte Prep MS","1817001-Harte Prep MS",null,null,"1813701",{"$f":"VLOOKUP(F860, 'ECAST Lookup'!A:C,3,FALSE)","v":"Frost MS"},"1813701-Frost MS",16]
["1817401","Henry MS","1817401-Henry MS",null,null,"1813702",{"$f":"VLOOKUP(F861, 'ECAST Lookup'!A:C,3,FALSE)","v":"Frost MS STEAM Mag"},"1813702-Frost MS STEAM Mag",26]
["1817402","Henry MS Comp/M/S Mg","1817402-Henry MS Comp/M/S Mg",null,null,"1813703",{"$f":"VLOOKUP(F862, 'ECAST Lookup'!A:C,3,FALSE)","v":"Frost MS GMC Mag"},"1813703-Frost MS GMC Mag",24]
["1817403","Henry Visual And Performing Arts Magnet","1817403-Henry Visual And Performing Arts Magnet",null,null,"1814201",{"$f":"VLOOKUP(F863, 'ECAST Lookup'!A:C,3,FALSE)","v":"Fulton College Prep"},"1814201-Fulton College Prep",27]
["1817901","Hollenbeck MS","1817901-Hollenbeck MS",null,null,"1814204",{"$f":"VLOOKUP(F864, 'ECAST Lookup'!A:C,3,FALSE)","v":"Fulton CAM Mag"},"1814204-Fulton CAM Mag",22]
["1817902","Hollenbeck MS STEMM Magnet","1817902-Hollenbeck MS STEMM Magnet",null,null,"1815101",{"$f":"VLOOKUP(F865, 'ECAST Lookup'!A:C,3,FALSE)","v":"Gage MS"},"1815101-Gage MS",15]
["1817903","Hollenbeck MS Law/Public Service Magnet","1817903-Hollenbeck MS Law/Public Service Magnet",null,null,"1815102",{"$f":"VLOOKUP(F866, 'ECAST Lookup'!A:C,3,FALSE)","v":"Gage MS STEM Mag"},"1815102-Gage MS STEM Mag",24]
["1818201","Holmes MS","1818201-Holmes MS",null,null,"1815301",{"$f":"VLOOKUP(F867, 'ECAST Lookup'!A:C,3,FALSE)","v":"Southeast MS"},"1815301-Southeast MS",20]
["1818202","Holmes Int Human Mag","1818202-Holmes Int Human Mag",null,null,"1815302",{"$f":"VLOOKUP(F868, 'ECAST Lookup'!A:C,3,FALSE)","v":"Southeast DREAMS Mg"},"1815302-Southeast DREAMS Mg",27]
["1818901","Irving MME Mag","1818901-Irving MME Mag",null,null,"1816001",{"$f":"VLOOKUP(F869, 'ECAST Lookup'!A:C,3,FALSE)","v":"Gompers MS"},"1816001-Gompers MS",18]
["1820001","Los Angeles Acad MS","1820001-Los Angeles Acad MS",null,null,"1816002",{"$f":"VLOOKUP(F870, 'ECAST Lookup'!A:C,3,FALSE)","v":"Gompers STEAM Mag"},"1816002-Gompers STEAM Mag",25]
["1820002","Los Angeles Academy STEAM Magnet","1820002-Los Angeles Academy STEAM Magnet",null,null,"1816801",{"$f":"VLOOKUP(F871, 'ECAST Lookup'!A:C,3,FALSE)","v":"Griffith MS"},"1816801-Griffith MS",19]
["1820601","RFK Sch Vis Arts/Hum","1820601-RFK Sch Vis Arts/Hum",null,null,"1816901",{"$f":"VLOOKUP(F872, 'ECAST Lookup'!A:C,3,FALSE)","v":"G E Hale Chrtr Acad"},"1816901-G E Hale Chrtr Acad",27]
["1820701","Contreras LC ALC","1820701-Contreras LC ALC",null,null,"1816902",{"$f":"VLOOKUP(F873, 'ECAST Lookup'!A:C,3,FALSE)","v":"Hale Gifted/STEAM Mg"},"1816902-Hale Gifted/STEAM Mg",28]
["1820801","King Film/Media Mag","1820801-King Film/Media Mag",null,null,"1816903",{"$f":"VLOOKUP(F874, 'ECAST Lookup'!A:C,3,FALSE)","v":"Hale VAPA Mag"},"1816903-Hale VAPA Mag",21]
["1820802","Thomas Starr King MS Gifted/Arts/Technology","1820802-Thomas Starr King MS Gifted/Arts/Technology",null,null,"1817001",{"$f":"VLOOKUP(F875, 'ECAST Lookup'!A:C,3,FALSE)","v":"Harte Prep MS"},"1817001-Harte Prep MS",21]
["1820803","King MS ESTEAM Magnet","1820803-King MS ESTEAM Magnet",null,null,"1817401",{"$f":"VLOOKUP(F876, 'ECAST Lookup'!A:C,3,FALSE)","v":"Henry MS"},"1817401-Henry MS",16]
["1821701","Lawrence MS","1821701-Lawrence MS",null,null,"1817402",{"$f":"VLOOKUP(F877, 'ECAST Lookup'!A:C,3,FALSE)","v":"Henry MS Comp/M/S Mg"},"1817402-Henry MS Comp/M/S Mg",28]
["1821702","Ernest Lawrence MS Gifted Magnet","1821702-Ernest Lawrence MS Gifted Magnet",null,null,"1817403",{"$f":"VLOOKUP(F878, 'ECAST Lookup'!A:C,3,FALSE)","v":"Henry MS VAPA Mag"},"1817403-Henry MS VAPA Mag",25]
["1821703","Lawrence MS Pioneering Science Magnet","1821703-Lawrence MS Pioneering Science Magnet",null,null,"1817901",{"$f":"VLOOKUP(F879, 'ECAST Lookup'!A:C,3,FALSE)","v":"Hollenbeck MS"},"1817901-Hollenbeck MS",21]
["1822601","Le Conte MS","1822601-Le Conte MS",null,null,"1817902",{"$f":"VLOOKUP(F880, 'ECAST Lookup'!A:C,3,FALSE)","v":"Hollenbeck STEAMM Mg"},"1817902-Hollenbeck STEAMM Mg",28]
["1822602","Le Conte HEAT Magnet","1822602-Le Conte HEAT Magnet",null,null,"1817903",{"$f":"VLOOKUP(F881, 'ECAST Lookup'!A:C,3,FALSE)","v":"Hollenbeck L/PS Mag"},"1817903-Hollenbeck L/PS Mag",27]
["1822603","Le Conte CES CA Mag","1822603-Le Conte CES CA Mag",null,null,"1818201",{"$f":"VLOOKUP(F882, 'ECAST Lookup'!A:C,3,FALSE)","v":"Holmes MS"},"1818201-Holmes MS",17]
["1822801","Maclay MS","1822801-Maclay MS",null,null,"1818202",{"$f":"VLOOKUP(F883, 'ECAST Lookup'!A:C,3,FALSE)","v":"Holmes Int Human Mag"},"1818202-Holmes Int Human Mag",28]
["1823001","Madison MS","1823001-Madison MS",null,null,"1818901",{"$f":"VLOOKUP(F884, 'ECAST Lookup'!A:C,3,FALSE)","v":"Irving MME Mag"},"1818901-Irving MME Mag",22]
["1823002","Madison M/S/Med Mag","1823002-Madison M/S/Med Mag",null,null,"1820001",{"$f":"VLOOKUP(F885, 'ECAST Lookup'!A:C,3,FALSE)","v":"Los Angeles Acad MS"},"1820001-Los Angeles Acad MS",27]
["1823003","Madison Computer Sci/Eng Design Magnet","1823003-Madison Computer Sci/Eng Design Magnet",null,null,"1820002",{"$f":"VLOOKUP(F886, 'ECAST Lookup'!A:C,3,FALSE)","v":"LA Academy STEAM Mag"},"1820002-LA Academy STEAM Mag",28]
["1823501","Marina Del Rey MS","1823501-Marina Del Rey MS",null,null,"1820601",{"$f":"VLOOKUP(F887, 'ECAST Lookup'!A:C,3,FALSE)","v":"RFK Sch Vis Arts/Hum"},"1820601-RFK Sch Vis Arts/Hum",28]
["1823502","Marina Del Rey PA Mg","1823502-Marina Del Rey PA Mg",null,null,"1820701",{"$f":"VLOOKUP(F888, 'ECAST Lookup'!A:C,3,FALSE)","v":"Contreras LC ALC"},"1820701-Contreras LC ALC",24]
["1823701","Markham MS","1823701-Markham MS",null,null,"1820801",{"$f":"VLOOKUP(F889, 'ECAST Lookup'!A:C,3,FALSE)","v":"King Film/Media Mag"},"1820801-King Film/Media Mag",27]
["1823702","Markham Hlth CAR Mag","1823702-Markham Hlth CAR Mag",null,null,"1820802",{"$f":"VLOOKUP(F890, 'ECAST Lookup'!A:C,3,FALSE)","v":"King MS Gifted/AT Mg"},"1820802-King MS Gifted/AT Mg",28]
["1823801","Robert A. Millikan Affiliated Chtr & PAM","1823801-Robert A. Millikan Affiliated Chtr & PAM",null,null,"1820803",{"$f":"VLOOKUP(F891, 'ECAST Lookup'!A:C,3,FALSE)","v":"King ESTEAM Mag"},"1820803-King ESTEAM Mag",23]
["1823802","Millikan Charter MS Performing Arts Mag","1823802-Millikan Charter MS Performing Arts Mag",null,null,"1821701",{"$f":"VLOOKUP(F892, 'ECAST Lookup'!A:C,3,FALSE)","v":"Lawrence MS"},"1821701-Lawrence MS",19]
["1823804","Millikan Charter MS Socl/Gndr Equity Mg","1823804-Millikan Charter MS Socl/Gndr Equity Mg",null,null,"1821702",{"$f":"VLOOKUP(F893, 'ECAST Lookup'!A:C,3,FALSE)","v":"Lawrence Gifted Mag"},"1821702-Lawrence Gifted Mag",27]
["1824001","Mount Gleason MS","1824001-Mount Gleason MS",null,null,"1821703",{"$f":"VLOOKUP(F894, 'ECAST Lookup'!A:C,3,FALSE)","v":"Lawrence Pio Sci Mag"},"1821703-Lawrence Pio Sci Mag",28]
["1824002","Mount Gleason MS Gifted Magnet","1824002-Mount Gleason MS Gifted Magnet",null,null,"1822601",{"$f":"VLOOKUP(F895, 'ECAST Lookup'!A:C,3,FALSE)","v":"Le Conte MS"},"1822601-Le Conte MS",19]
["1824003","Mount Gleason MS STEAM Magnet","1824003-Mount Gleason MS STEAM Magnet",null,null,"1822602",{"$f":"VLOOKUP(F896, 'ECAST Lookup'!A:C,3,FALSE)","v":"Le Conte HEAT Magnet"},"1822602-Le Conte HEAT Magnet",28]
["1824501","Cochran MS","1824501-Cochran MS",null,null,"1822603",{"$f":"VLOOKUP(F897, 'ECAST Lookup'!A:C,3,FALSE)","v":"Le Conte CES CA Mag"},"1822603-Le Conte CES CA Mag",27]
["1825501","Muir MS","1825501-Muir MS",null,null,"1822801",{"$f":"VLOOKUP(F898, 'ECAST Lookup'!A:C,3,FALSE)","v":"Maclay MS"},"1822801-Maclay MS",17]
["1825502","John Muir MS Science/Tech/Math Magnet",{"$f":"A899&\"-\"&B899","v":"1825502-John Muir MS Science/Tech/Math Magnet"},null,null,"1823001",{"$f":"VLOOKUP(F899, 'ECAST Lookup'!A:C,3,FALSE)","v":"Madison MS"},{"$f":"F899&\"-\"&G899","v":"1823001-Madison MS"},{"$f":"LEN(H899)","v":18}]
["1825901","Mulholland MS","1825901-Mulholland MS",null,null,"1823002",{"$f":"VLOOKUP(F900, 'ECAST Lookup'!A:C,3,FALSE)","v":"Madison M/S/Med Mag"},"1823002-Madison M/S/Med Mag",27]
["1825902","Mulholland MS Police Academy","1825902-Mulholland MS Police Academy",null,null,"1823003",{"$f":"VLOOKUP(F901, 'ECAST Lookup'!A:C,3,FALSE)","v":"Madison CSED Mag"},"1823003-Madison CSED Mag",24]
["1825903","Mulholland Robotics Magnet","1825903-Mulholland Robotics Magnet",null,null,"1823501",{"$f":"VLOOKUP(F902, 'ECAST Lookup'!A:C,3,FALSE)","v":"Marina Del Rey MS"},"1823501-Marina Del Rey MS",25]
["1826401","Nightingale MS","1826401-Nightingale MS",null,null,"1823502",{"$f":"VLOOKUP(F903, 'ECAST Lookup'!A:C,3,FALSE)","v":"Marina Del Rey PA Mg"},"1823502-Marina Del Rey PA Mg",28]
["1826402","Nightingale BET Magnet","1826402-Nightingale BET Magnet",null,null,"1823701",{"$f":"VLOOKUP(F904, 'ECAST Lookup'!A:C,3,FALSE)","v":"Markham MS"},"1823701-Markham MS",18]
["1826403","Florence Nightingale MS Gifted STEM Magnet","1826403-Florence Nightingale MS Gifted STEM Magnet",null,null,"1823702",{"$f":"VLOOKUP(F905, 'ECAST Lookup'!A:C,3,FALSE)","v":"Markham Hlth CAR Mag"},"1823702-Markham Hlth CAR Mag",28]
["1826404","Nightingale MS Med/Hea/Kinesiology Mag","1826404-Nightingale MS Med/Hea/Kinesiology Mag",null,null,"1823703",{"$f":"VLOOKUP(F906, 'ECAST Lookup'!A:C,3,FALSE)","v":"Markham MS VAPA Mag"},"1823703-Markham MS VAPA Mag",27]
["1826801","Nimitz MS","1826801-Nimitz MS",null,null,"1823801",{"$f":"VLOOKUP(F907, 'ECAST Lookup'!A:C,3,FALSE)","v":"Robert A. Millikan"},"1823801-Robert A. Millikan",26]
["1826802","Chester W Nimitz MS Science/Technology/Math","1826802-Chester W Nimitz MS Science/Technology/Math",null,null,"1823802",{"$f":"VLOOKUP(F908, 'ECAST Lookup'!A:C,3,FALSE)","v":"Millikan CMS PA Mag"},"1823802-Millikan CMS PA Mag",27]
["1827201","Alfred B. Nobel Charter Middle","1827201-Alfred B. Nobel Charter Middle",null,null,"1823804",{"$f":"VLOOKUP(F909, 'ECAST Lookup'!A:C,3,FALSE)","v":"Millikan CMS SGE Mag"},"1823804-Millikan CMS SGE Mag",28]
["1827202","Nobel Charter MS STEAM Magnet","1827202-Nobel Charter MS STEAM Magnet",null,null,"1824001",{"$f":"VLOOKUP(F910, 'ECAST Lookup'!A:C,3,FALSE)","v":"Mount Gleason MS"},"1824001-Mount Gleason MS",24]
["1828301","Northridge MS","1828301-Northridge MS",null,null,"1824002",{"$f":"VLOOKUP(F911, 'ECAST Lookup'!A:C,3,FALSE)","v":"Mt Gleason Gifted Mg"},"1824002-Mt Gleason Gifted Mg",28]
["1828303","Northridge MS Medical/Health Careers Mag","1828303-Northridge MS Medical/Health Careers Mag",null,null,"1824003",{"$f":"VLOOKUP(F912, 'ECAST Lookup'!A:C,3,FALSE)","v":"Mt Gleason STEAM Mg"},"1824003-Mt Gleason STEAM Mg",27]
["1830601","Olive Vista MS","1830601-Olive Vista MS",null,null,"1824501",{"$f":"VLOOKUP(F913, 'ECAST Lookup'!A:C,3,FALSE)","v":"Cochran MS"},"1824501-Cochran MS",18]
["1830602","Olive Vista MS STEAM Magnet","1830602-Olive Vista MS STEAM Magnet",null,null,"1825501",{"$f":"VLOOKUP(F914, 'ECAST Lookup'!A:C,3,FALSE)","v":"Muir MS"},"1825501-Muir MS",15]
["1832101","Pacoima MS","1832101-Pacoima MS",null,null,"1825502",{"$f":"VLOOKUP(F915, 'ECAST Lookup'!A:C,3,FALSE)","v":"Muir MS STEM Mag"},"1825502-Muir MS STEM Mag",24]
["1832102","Pacoima MS Film/Media/Perf Arts Magnet","1832102-Pacoima MS Film/Media/Perf Arts Magnet",null,null,"1825901",{"$f":"VLOOKUP(F916, 'ECAST Lookup'!A:C,3,FALSE)","v":"Mulholland MS"},"1825901-Mulholland MS",21]
["1832103","Pacoima MS Computer Science/Math Magnet","1832103-Pacoima MS Computer Science/Math Magnet",null,null,"1825902",{"$f":"VLOOKUP(F917, 'ECAST Lookup'!A:C,3,FALSE)","v":"Mulholland MS Police"},"1825902-Mulholland MS Police",28]
["1834001","Palms MS","1834001-Palms MS",null,null,"1825903",{"$f":"VLOOKUP(F918, 'ECAST Lookup'!A:C,3,FALSE)","v":"Mulholland Robotics"},"1825903-Mulholland Robotics",27]
["1834002","Palms MS Gifted Magnet","1834002-Palms MS Gifted Magnet",null,null,"1826401",{"$f":"VLOOKUP(F919, 'ECAST Lookup'!A:C,3,FALSE)","v":"Nightingale MS"},"1826401-Nightingale MS",22]
["1834003","PalMS MS Modern Media/Comm. Magnet","1834003-PalMS MS Modern Media/Comm. Magnet",null,null,"1826402",{"$f":"VLOOKUP(F920, 'ECAST Lookup'!A:C,3,FALSE)","v":"Nightingale BET Mag"},"1826402-Nightingale BET Mag",27]
["1834401","Woodland Hills Acad","1834401-Woodland Hills Acad",null,null,"1826403",{"$f":"VLOOKUP(F921, 'ECAST Lookup'!A:C,3,FALSE)","v":"Nightingale GSTEM Mg"},"1826403-Nightingale GSTEM Mg",28]
["1834402","Woodland Hills Academy Humanities Magnet","1834402-Woodland Hills Academy Humanities Magnet",null,null,"1826404",{"$f":"VLOOKUP(F922, 'ECAST Lookup'!A:C,3,FALSE)","v":"Nightingale M/H/K Mg"},"1826404-Nightingale M/H/K Mg",28]
["1835201","Peary MS","1835201-Peary MS",null,null,"1826801",{"$f":"VLOOKUP(F923, 'ECAST Lookup'!A:C,3,FALSE)","v":"Nimitz MS"},"1826801-Nimitz MS",17]
["1835202","Peary MS STEAM Magnet","1835202-Peary MS STEAM Magnet",null,null,"1826802",{"$f":"VLOOKUP(F924, 'ECAST Lookup'!A:C,3,FALSE)","v":"Nimitz MS STEM Mag"},"1826802-Nimitz MS STEM Mag",26]
["1835203","Peary MS Gifted Magnet","1835203-Peary MS Gifted Magnet",null,null,"1827201",{"$f":"VLOOKUP(F925, 'ECAST Lookup'!A:C,3,FALSE)","v":"Alfred B. Nobel"},"1827201-Alfred B. Nobel",23]
["1835401","Porter MS","1835401-Porter MS",null,null,"1827202",{"$f":"VLOOKUP(F926, 'ECAST Lookup'!A:C,3,FALSE)","v":"Nobel CMS STEAM Mag"},"1827202-Nobel CMS STEAM Mag",27]
["1835402","George K Porter MS Gifted Magnet","1835402-George K Porter MS Gifted Magnet",null,null,"1828301",{"$f":"VLOOKUP(F927, 'ECAST Lookup'!A:C,3,FALSE)","v":"Northridge MS"},"1828301-Northridge MS",21]
["1835501","Reed MS","1835501-Reed MS",null,null,"1828303",{"$f":"VLOOKUP(F928, 'ECAST Lookup'!A:C,3,FALSE)","v":"Northridge Med/HC Mg"},"1828303-Northridge Med/HC Mg",28]
["1835601","Revere MS","1835601-Revere MS",null,null,"1828304",{"$f":"VLOOKUP(F929, 'ECAST Lookup'!A:C,3,FALSE)","v":"Northridge MS LA Mag"},"1828304-Northridge MS LA Mag",28]
["1835602","Paul Revere Charter MS Science/Tech/Math","1835602-Paul Revere Charter MS Science/Tech/Math",null,null,"1830601",{"$f":"VLOOKUP(F930, 'ECAST Lookup'!A:C,3,FALSE)","v":"Olive Vista MS"},"1830601-Olive Vista MS",22]
["1835801","San Fernando MS","1835801-San Fernando MS",null,null,"1830602",{"$f":"VLOOKUP(F931, 'ECAST Lookup'!A:C,3,FALSE)","v":"Olive Vista STEAM Mg"},"1830602-Olive Vista STEAM Mg",28]
["1836301","Sepulveda MS","1836301-Sepulveda MS",null,null,"1832101",{"$f":"VLOOKUP(F932, 'ECAST Lookup'!A:C,3,FALSE)","v":"Pacoima MS"},"1832101-Pacoima MS",18]
["1836302","Francisco Sepulveda MS Gifted Magnet","1836302-Francisco Sepulveda MS Gifted Magnet",null,null,"1832102",{"$f":"VLOOKUP(F933, 'ECAST Lookup'!A:C,3,FALSE)","v":"Pacoima FMPA Mag"},"1832102-Pacoima FMPA Mag",24]
["1836303","Sepulveda MS Kine/Sports Medicine Magnet","1836303-Sepulveda MS Kine/Sports Medicine Magnet",null,null,"1832103",{"$f":"VLOOKUP(F934, 'ECAST Lookup'!A:C,3,FALSE)","v":"Pacoima MS CS/M Mag"},"1832103-Pacoima MS CS/M Mag",27]
["1837701","South Gate MS","1837701-South Gate MS",null,null,"1834001",{"$f":"VLOOKUP(F935, 'ECAST Lookup'!A:C,3,FALSE)","v":"Palms MS"},"1834001-Palms MS",16]
["1837702","South Gate MS Science/Tech/Math Magnet","1837702-South Gate MS Science/Tech/Math Magnet",null,null,"1834002",{"$f":"VLOOKUP(F936, 'ECAST Lookup'!A:C,3,FALSE)","v":"Palms MS Gifted Mag"},"1834002-Palms MS Gifted Mag",27]
["1838701","Robert L Stevenson College & Career Prep","1838701-Robert L Stevenson College & Career Prep",null,null,"1834003",{"$f":"VLOOKUP(F937, 'ECAST Lookup'!A:C,3,FALSE)","v":"Palms MMC Mag"},"1834003-Palms MMC Mag",21]
["1838702","Stevenson Col & Car Prep Gifted Magnet","1838702-Stevenson Col & Car Prep Gifted Magnet",null,null,"1834401",{"$f":"VLOOKUP(F938, 'ECAST Lookup'!A:C,3,FALSE)","v":"Woodland Hills Acad"},"1834401-Woodland Hills Acad",27]
["1838703","Stevenson Col & Car Prep Ca Magnet","1838703-Stevenson Col & Car Prep Ca Magnet",null,null,"1834402",{"$f":"VLOOKUP(F939, 'ECAST Lookup'!A:C,3,FALSE)","v":"Woodland Hls Hum Mag"},"1834402-Woodland Hls Hum Mag",28]
["1839001","Walnut Park MS SJ/SL","1839001-Walnut Park MS SJ/SL",null,null,"1835201",{"$f":"VLOOKUP(F940, 'ECAST Lookup'!A:C,3,FALSE)","v":"Peary MS"},"1835201-Peary MS",16]
["1839601","Sun Valley ET Mag","1839601-Sun Valley ET Mag",null,null,"1835202",{"$f":"VLOOKUP(F941, 'ECAST Lookup'!A:C,3,FALSE)","v":"Peary STEAM Mag"},"1835202-Peary STEAM Mag",23]
["1839602","Sun Valley ES Mag","1839602-Sun Valley ES Mag",null,null,"1835203",{"$f":"VLOOKUP(F942, 'ECAST Lookup'!A:C,3,FALSE)","v":"Peary Gifted Mag"},"1835203-Peary Gifted Mag",24]
["1839603","Sun Valley BSEL Mag","1839603-Sun Valley BSEL Mag",null,null,"1835401",{"$f":"VLOOKUP(F943, 'ECAST Lookup'!A:C,3,FALSE)","v":"Porter MS"},"1835401-Porter MS",17]
["1840601","Sutter MS","1840601-Sutter MS",null,null,"1835402",{"$f":"VLOOKUP(F944, 'ECAST Lookup'!A:C,3,FALSE)","v":"Porter MS Gifted Mag"},"1835402-Porter MS Gifted Mag",28]
["1840602","Sutter MS STEAM Magnet","1840602-Sutter MS STEAM Magnet",null,null,"1835501",{"$f":"VLOOKUP(F945, 'ECAST Lookup'!A:C,3,FALSE)","v":"Reed MS"},"1835501-Reed MS",15]
["1842501","Mark Twain MS","1842501-Mark Twain MS",null,null,"1835601",{"$f":"VLOOKUP(F946, 'ECAST Lookup'!A:C,3,FALSE)","v":"Revere MS"},"1835601-Revere MS",17]
["1842502","Mark Twain WL Mag","1842502-Mark Twain WL Mag",null,null,"1835602",{"$f":"VLOOKUP(F947, 'ECAST Lookup'!A:C,3,FALSE)","v":"Revere CMS STEM Mag"},"1835602-Revere CMS STEM Mag",27]
["1843401","Van Nuys MS","1843401-Van Nuys MS",null,null,"1835801",{"$f":"VLOOKUP(F948, 'ECAST Lookup'!A:C,3,FALSE)","v":"San Fernando MS"},"1835801-San Fernando MS",23]
["1843402","Van Nuys MS STEAM Magnet","1843402-Van Nuys MS STEAM Magnet",null,null,"1836301",{"$f":"VLOOKUP(F949, 'ECAST Lookup'!A:C,3,FALSE)","v":"Sepulveda MS"},"1836301-Sepulveda MS",20]
["1846201","Virgil MS","1846201-Virgil MS",null,null,"1836302",{"$f":"VLOOKUP(F950, 'ECAST Lookup'!A:C,3,FALSE)","v":"Sepulveda Gifted Mag"},"1836302-Sepulveda Gifted Mag",28]
["1846202","Virgil Med & Health Sci Magnet","1846202-Virgil Med & Health Sci Magnet",null,null,"1836303",{"$f":"VLOOKUP(F951, 'ECAST Lookup'!A:C,3,FALSE)","v":"Sepulveda KSM Mag"},"1836303-Sepulveda KSM Mag",25]
["1848101","Webster MS","1848101-Webster MS",null,null,"1837701",{"$f":"VLOOKUP(F952, 'ECAST Lookup'!A:C,3,FALSE)","v":"South Gate MS"},"1837701-South Gate MS",21]
["1848102","Webster MS STEAM Magnet","1848102-Webster MS STEAM Magnet",null,null,"1837702",{"$f":"VLOOKUP(F953, 'ECAST Lookup'!A:C,3,FALSE)","v":"South Gate MS STEM Mg"},"1837702-South Gate MS STEM Mg",29]
["1848701","White MS","1848701-White MS",null,null,"1838701",{"$f":"VLOOKUP(F954, 'ECAST Lookup'!A:C,3,FALSE)","v":"Stevenson Col Car Pr"},"1838701-Stevenson Col Car Pr",28]
["1848702","White STEAM Magnet","1848702-White STEAM Magnet",null,null,"1838702",{"$f":"VLOOKUP(F955, 'ECAST Lookup'!A:C,3,FALSE)","v":"Stvnsn C&CP Gift Mag"},"1838702-Stvnsn C&CP Gift Mag",28]
["1849001","Wilmington MS STEAM Magnet","1849001-Wilmington MS STEAM Magnet",null,null,"1838703",{"$f":"VLOOKUP(F956, 'ECAST Lookup'!A:C,3,FALSE)","v":"Stvnsn C&P CA Mag"},"1838703-Stvnsn C&P CA Mag",25]
["1849301","Wright Eng & Design Magnet","1849301-Wright Eng & Design Magnet",null,null,"1839001",{"$f":"VLOOKUP(F957, 'ECAST Lookup'!A:C,3,FALSE)","v":"Walnut Park MS SJ/SL"},"1839001-Walnut Park MS SJ/SL",28]
["1849303","Wright MS Gifted Magnet","1849303-Wright MS Gifted Magnet",null,null,"1839601",{"$f":"VLOOKUP(F958, 'ECAST Lookup'!A:C,3,FALSE)","v":"Sun Valley ET Mag"},"1839601-Sun Valley ET Mag",25]
["1850101","RFK LA SH Arts","1850101-RFK LA SH Arts",null,null,"1839602",{"$f":"VLOOKUP(F959, 'ECAST Lookup'!A:C,3,FALSE)","v":"Sun Valley ES Mag"},"1839602-Sun Valley ES Mag",25]
["1851301","Northridge Acad SH","1851301-Northridge Acad SH",null,null,"1839603",{"$f":"VLOOKUP(F960, 'ECAST Lookup'!A:C,3,FALSE)","v":"Sun Valley BSEL Mag"},"1839603-Sun Valley BSEL Mag",27]
["1851601","Cortines Sch Of VPA","1851601-Cortines Sch Of VPA",null,null,"1840601",{"$f":"VLOOKUP(F961, 'ECAST Lookup'!A:C,3,FALSE)","v":"Sutter MS"},"1840601-Sutter MS",17]
["1851701","Contreras Bus Tour","1851701-Contreras Bus Tour",null,null,"1840602",{"$f":"VLOOKUP(F962, 'ECAST Lookup'!A:C,3,FALSE)","v":"Sutter STEAM Mag"},"1840602-Sutter STEAM Mag",24]
["1851801","Dr. R.A. Vladovic Harbor Tchr Prep Acad",{"$f":"A963&\"-\"&B963","v":"1851801-Dr. R.A. Vladovic Harbor Tchr Prep Acad"},null,null,"1842501",{"$f":"VLOOKUP(F963, 'ECAST Lookup'!A:C,3,FALSE)","v":"Mark Twain MS"},{"$f":"F963&\"-\"&G963","v":"1842501-Mark Twain MS"},{"$f":"LEN(H963)","v":21}]
["1852701","Contreras LC Soc Jus","1852701-Contreras LC Soc Jus",null,null,"1842502",{"$f":"VLOOKUP(F964, 'ECAST Lookup'!A:C,3,FALSE)","v":"Mark Twain WL Mag"},"1842502-Mark Twain WL Mag",25]
["1852901","Banning SH","1852901-Banning SH",null,null,"1843401",{"$f":"VLOOKUP(F965, 'ECAST Lookup'!A:C,3,FALSE)","v":"Van Nuys MS"},"1843401-Van Nuys MS",19]
["1852902","Banning HS College Preparatory Magnet","1852902-Banning HS College Preparatory Magnet",null,null,"1843402",{"$f":"VLOOKUP(F966, 'ECAST Lookup'!A:C,3,FALSE)","v":"Van Nuys STEAM Mag"},"1843402-Van Nuys STEAM Mag",26]
["1852907","Phineas Banning Senior High Firefighter","1852907-Phineas Banning Senior High Firefighter",null,null,"1846201",{"$f":"VLOOKUP(F967, 'ECAST Lookup'!A:C,3,FALSE)","v":"Virgil MS"},"1846201-Virgil MS",17]
["1852908","Phineas Banning Senior High STEAM Magnet","1852908-Phineas Banning Senior High STEAM Magnet",null,null,"1846202",{"$f":"VLOOKUP(F968, 'ECAST Lookup'!A:C,3,FALSE)","v":"Virgil Med&Health Sc"},"1846202-Virgil Med&Health Sc",28]
["1852909","Banning HS Police Academy Magnet","1852909-Banning HS Police Academy Magnet",null,null,"1848101",{"$f":"VLOOKUP(F969, 'ECAST Lookup'!A:C,3,FALSE)","v":"Webster MS"},"1848101-Webster MS",18]
["1853601","Bell SH","1853601-Bell SH",null,null,"1848102",{"$f":"VLOOKUP(F970, 'ECAST Lookup'!A:C,3,FALSE)","v":"Webster MS STEAM"},"1848102-Webster MS STEAM",24]
["1853614","Bell SH Gifted Science/Tech/Eng/Math Mag","1853614-Bell SH Gifted Science/Tech/Eng/Math Mag",null,null,"1848701",{"$f":"VLOOKUP(F971, 'ECAST Lookup'!A:C,3,FALSE)","v":"White MS"},"1848701-White MS",16]
["1854301","Belmont SH","1854301-Belmont SH",null,null,"1848702",{"$f":"VLOOKUP(F972, 'ECAST Lookup'!A:C,3,FALSE)","v":"White STEAM Magnet"},"1848702-White STEAM Magnet",26]
["1854401","Roybal LC","1854401-Roybal LC",null,null,"1849001",{"$f":"VLOOKUP(F973, 'ECAST Lookup'!A:C,3,FALSE)","v":"Wilmington STEAM Mag"},"1849001-Wilmington STEAM Mag",28]
["1854406","Roybal LC Innov Cine Arts/Music Prod Mag","1854406-Roybal LC Innov Cine Arts/Music Prod Mag",null,null,"1849301",{"$f":"VLOOKUP(F974, 'ECAST Lookup'!A:C,3,FALSE)","v":"Wright Eng & Des Mag"},"1849301-Wright Eng & Des Mag",28]
["1855801","Pearl Journ/Comm Mag","1855801-Pearl Journ/Comm Mag",null,null,"1849303",{"$f":"VLOOKUP(F975, 'ECAST Lookup'!A:C,3,FALSE)","v":"Wright Gifted Mag"},"1849303-Wright Gifted Mag",25]
["1857101","Canoga Park SH","1857101-Canoga Park SH",null,null,"1850101",{"$f":"VLOOKUP(F976, 'ECAST Lookup'!A:C,3,FALSE)","v":"RFK LA SH Arts"},"1850101-RFK LA SH Arts",22]
["1857102","Canoga Park HS Eng & Env/Vet Sci Magnet","1857102-Canoga Park HS Eng & Env/Vet Sci Magnet",null,null,"1851301",{"$f":"VLOOKUP(F977, 'ECAST Lookup'!A:C,3,FALSE)","v":"Northridge Acad SH"},"1851301-Northridge Acad SH",26]
["1857106","Canoga Park HS Comm Arts/Media Magnet","1857106-Canoga Park HS Comm Arts/Media Magnet",null,null,"1851601",{"$f":"VLOOKUP(F978, 'ECAST Lookup'!A:C,3,FALSE)","v":"Cortines Sch Of VPA"},"1851601-Cortines Sch Of VPA",27]
["1857501","Carson SH","1857501-Carson SH",null,null,"1851701",{"$f":"VLOOKUP(F979, 'ECAST Lookup'!A:C,3,FALSE)","v":"Contreras Bus Tour"},"1851701-Contreras Bus Tour",26]
["1857701","Sotomayor Art/Sciences Magnet","1857701-Sotomayor Art/Sciences Magnet",null,null,"1851801",{"$f":"VLOOKUP(F980, 'ECAST Lookup'!A:C,3,FALSE)","v":"Dr. Vladovic HTPA"},"1851801-Dr. Vladovic HTPA",25]
["1858301","Chatsworth Chtr HS","1858301-Chatsworth Chtr HS",null,null,"1852701",{"$f":"VLOOKUP(F981, 'ECAST Lookup'!A:C,3,FALSE)","v":"Contreras LC Soc Jus"},"1852701-Contreras LC Soc Jus",28]
["1858309","Chatsworth Charter HS GSTEAM Magnet","1858309-Chatsworth Charter HS GSTEAM Magnet",null,null,"1852901",{"$f":"VLOOKUP(F982, 'ECAST Lookup'!A:C,3,FALSE)","v":"Banning SH"},"1852901-Banning SH",18]
["1859001","Cleveland Chtr HS","1859001-Cleveland Chtr HS",null,null,"1852902",{"$f":"VLOOKUP(F983, 'ECAST Lookup'!A:C,3,FALSE)","v":"Banning Col Prep Mag"},"1852902-Banning Col Prep Mag",28]
["1859002","Cleveland Human Mag","1859002-Cleveland Human Mag",null,null,"1852907",{"$f":"VLOOKUP(F984, 'ECAST Lookup'!A:C,3,FALSE)","v":"Banning SH FF Mag"},"1852907-Banning SH FF Mag",25]
["1859007","Cleveland Charter HS GMS Magnet","1859007-Cleveland Charter HS GMS Magnet",null,null,"1852908",{"$f":"VLOOKUP(F985, 'ECAST Lookup'!A:C,3,FALSE)","v":"Banning SH STEAM Mag"},"1852908-Banning SH STEAM Mag",28]
["1859601","Crenshaw STEMM Mag","1859601-Crenshaw STEMM Mag",null,null,"1852909",{"$f":"VLOOKUP(F986, 'ECAST Lookup'!A:C,3,FALSE)","v":"Banning PA Mag"},"1852909-Banning PA Mag",22]
["1860001","Dorsey SH","1860001-Dorsey SH",null,null,"1853601",{"$f":"VLOOKUP(F987, 'ECAST Lookup'!A:C,3,FALSE)","v":"Bell SH"},"1853601-Bell SH",15]
["1860002","Susan Miller Dorsey SH Science/Tech/Math","1860002-Susan Miller Dorsey SH Science/Tech/Math",null,null,"1853614",{"$f":"VLOOKUP(F988, 'ECAST Lookup'!A:C,3,FALSE)","v":"Bell Gifted/STEM Mag"},"1853614-Bell Gifted/STEM Mag",28]
["1860003","Susan Miller Dorsey SH Law/Public Srv/Po","1860003-Susan Miller Dorsey SH Law/Public Srv/Po",null,null,"1854301",{"$f":"VLOOKUP(F989, 'ECAST Lookup'!A:C,3,FALSE)","v":"Belmont SH"},"1854301-Belmont SH",18]
["1860009","Dorsey HS Firefighter/EMS Magnet","1860009-Dorsey HS Firefighter/EMS Magnet",null,null,"1854401",{"$f":"VLOOKUP(F990, 'ECAST Lookup'!A:C,3,FALSE)","v":"Roybal LC"},"1854401-Roybal LC",17]
["1860601","Torres ELA PA Mag","1860601-Torres ELA PA Mag",null,null,"1854406",{"$f":"VLOOKUP(F991, 'ECAST Lookup'!A:C,3,FALSE)","v":"Roybal ICAMP Mag"},"1854406-Roybal ICAMP Mag",24]
["1860701","East Valley SH","1860701-East Valley SH",null,null,"1855801",{"$f":"VLOOKUP(F992, 'ECAST Lookup'!A:C,3,FALSE)","v":"Pearl Journ/Comm Mag"},"1855801-Pearl Journ/Comm Mag",28]
["1860901","Arleta SH","1860901-Arleta SH",null,null,"1857101",{"$f":"VLOOKUP(F993, 'ECAST Lookup'!A:C,3,FALSE)","v":"Canoga Park SH"},"1857101-Canoga Park SH",22]
["1861001","Panorama SH","1861001-Panorama SH",null,null,"1857102",{"$f":"VLOOKUP(F994, 'ECAST Lookup'!A:C,3,FALSE)","v":"Canoga Park EEVS Mag"},"1857102-Canoga Park EEVS Mag",28]
["1861007","Panorama HS Sports Med/Info Tech Magnet","1861007-Panorama HS Sports Med/Info Tech Magnet",null,null,"1857106",{"$f":"VLOOKUP(F995, 'ECAST Lookup'!A:C,3,FALSE)","v":"Canoga Park CAM Mag"},"1857106-Canoga Park CAM Mag",27]
["1861008","Panorama HS Gifted STEAM Magnet","1861008-Panorama HS Gifted STEAM Magnet",null,null,"1857501",{"$f":"VLOOKUP(F996, 'ECAST Lookup'!A:C,3,FALSE)","v":"Carson SH"},"1857501-Carson SH",17]
["1861101","Mendez SH","1861101-Mendez SH",null,null,"1857510",{"$f":"VLOOKUP(F997, 'ECAST Lookup'!A:C,3,FALSE)","v":"Carson HS MEDiA Mag"},"1857510-Carson HS MEDiA Mag",27]
["1861401","Eagle Rock HS","1861401-Eagle Rock HS",null,null,"1857701",{"$f":"VLOOKUP(F998, 'ECAST Lookup'!A:C,3,FALSE)","v":"Sotomayor Art/Sci Mg"},"1857701-Sotomayor Art/Sci Mg",28]
["1861402","Eagle Rock High School Gifted Magnet","1861402-Eagle Rock High School Gifted Magnet",null,null,"1858301",{"$f":"VLOOKUP(F999, 'ECAST Lookup'!A:C,3,FALSE)","v":"Chatsworth Chtr HS"},"1858301-Chatsworth Chtr HS",26]
["1861801","Wilson SH","1861801-Wilson SH",null,null,"1858309",{"$f":"VLOOKUP(F1000, 'ECAST Lookup'!A:C,3,FALSE)","v":"Chatsworth GSTEAM Mg"},"1858309-Chatsworth GSTEAM Mg",28]
["1861802","Wilson Police Acd Mg","1861802-Wilson Police Acd Mg",null,null,"1859001",{"$f":"VLOOKUP(F1001, 'ECAST Lookup'!A:C,3,FALSE)","v":"Cleveland Chtr HS"},"1859001-Cleveland Chtr HS",25]
["1861803","Wilson Adm/Law Mag","1861803-Wilson Adm/Law Mag",null,null,"1859002",{"$f":"VLOOKUP(F1002, 'ECAST Lookup'!A:C,3,FALSE)","v":"Cleveland Human Mag"},"1859002-Cleveland Human Mag",27]
["1861810","Woodrow Wilson Senior High Firefighter Mag","1861810-Woodrow Wilson Senior High Firefighter Mag",null,null,"1859007",{"$f":"VLOOKUP(F1003, 'ECAST Lookup'!A:C,3,FALSE)","v":"Cleveland GMS Mag"},"1859007-Cleveland GMS Mag",25]
["1862101","Fairfax SH","1862101-Fairfax SH",null,null,"1859601",{"$f":"VLOOKUP(F1004, 'ECAST Lookup'!A:C,3,FALSE)","v":"Crenshaw STEMM Mag"},"1859601-Crenshaw STEMM Mag",26]
["1862102","Fairfax Vis Arts Mag","1862102-Fairfax Vis Arts Mag",null,null,"1860001",{"$f":"VLOOKUP(F1005, 'ECAST Lookup'!A:C,3,FALSE)","v":"Dorsey SH"},"1860001-Dorsey SH",17]
["1862108","Fairfax HS Police Academy Magnet","1862108-Fairfax HS Police Academy Magnet",null,null,"1860002",{"$f":"VLOOKUP(F1006, 'ECAST Lookup'!A:C,3,FALSE)","v":"Dorsey SH STM Mag"},"1860002-Dorsey SH STM Mag",25]
["1863601","Polytechnic SH","1863601-Polytechnic SH",null,null,"1860003",{"$f":"VLOOKUP(F1007, 'ECAST Lookup'!A:C,3,FALSE)","v":"Dorsey SM/L Mag"},"1860003-Dorsey SM/L Mag",23]
["1863602","John H Francis Polytechnic SH Sci/Tech/Math","1863602-John H Francis Polytechnic SH Sci/Tech/Math",null,null,"1860009",{"$f":"VLOOKUP(F1008, 'ECAST Lookup'!A:C,3,FALSE)","v":"Dorsey FEMS Mag"},"1860009-Dorsey FEMS Mag",23]
["1864301","Franklin SH","1864301-Franklin SH",null,null,"1860601",{"$f":"VLOOKUP(F1009, 'ECAST Lookup'!A:C,3,FALSE)","v":"Torres ELA PA Mag"},"1860601-Torres ELA PA Mag",25]
["1864302","Benjamin Franklin SH Science/Tech/Math Mag","1864302-Benjamin Franklin SH Science/Tech/Math Mag",null,null,"1860701",{"$f":"VLOOKUP(F1010, 'ECAST Lookup'!A:C,3,FALSE)","v":"East Valley SH"},"1860701-East Valley SH",22]
["1864311","Franklin HS Dual Language Academy Magnet","1864311-Franklin HS Dual Language Academy Magnet",null,null,"1860706",{"$f":"VLOOKUP(F1011, 'ECAST Lookup'!A:C,3,FALSE)","v":"East Valley ICM Mag"},"1860706-East Valley ICM Mag",27]
["1865001","Fremont SH","1865001-Fremont SH",null,null,"1860901",{"$f":"VLOOKUP(F1012, 'ECAST Lookup'!A:C,3,FALSE)","v":"Arleta SH"},"1860901-Arleta SH",17]
["1865002","Fremont HS STEAM Magnet","1865002-Fremont HS STEAM Magnet",null,null,"1861001",{"$f":"VLOOKUP(F1013, 'ECAST Lookup'!A:C,3,FALSE)","v":"Panorama SH"},"1861001-Panorama SH",19]
["1866401","Gardena SH","1866401-Gardena SH",null,null,"1861007",{"$f":"VLOOKUP(F1014, 'ECAST Lookup'!A:C,3,FALSE)","v":"Panorama SMIT Mag"},"1861007-Panorama SMIT Mag",25]
["1866402","Gardena HS Gobal Business Magnet","1866402-Gardena HS Gobal Business Magnet",null,null,"1861008",{"$f":"VLOOKUP(F1015, 'ECAST Lookup'!A:C,3,FALSE)","v":"Panorama GSTEAM Mag"},"1861008-Panorama GSTEAM Mag",27]
["1866407","Gardena HS Law/Public Service Magnet","1866407-Gardena HS Law/Public Service Magnet",null,null,"1861009",{"$f":"VLOOKUP(F1016, 'ECAST Lookup'!A:C,3,FALSE)","v":"Panorama HS SJL Mag"},"1861009-Panorama HS SJL Mag",27]
["1867901","Garfield SH","1867901-Garfield SH",null,null,"1861101",{"$f":"VLOOKUP(F1017, 'ECAST Lookup'!A:C,3,FALSE)","v":"Mendez SH"},"1861101-Mendez SH",17]
["1867902","Garfield Comp Sci Mg","1867902-Garfield Comp Sci Mg",null,null,"1861401",{"$f":"VLOOKUP(F1018, 'ECAST Lookup'!A:C,3,FALSE)","v":"Eagle Rock HS"},"1861401-Eagle Rock HS",21]
["1868301","Grant SH","1868301-Grant SH",null,null,"1861402",{"$f":"VLOOKUP(F1019, 'ECAST Lookup'!A:C,3,FALSE)","v":"Eagle Rck SH Gifted Mg"},"1861402-Eagle Rck SH Gifted Mg",30]
["1868302","Grant HS College Prep/Digital Arts Mag","1868302-Grant HS College Prep/Digital Arts Mag",null,null,"1861801",{"$f":"VLOOKUP(F1020, 'ECAST Lookup'!A:C,3,FALSE)","v":"Wilson SH"},"1861801-Wilson SH",17]
["1868308","Grant HS Hum For Interdiscip Studies Mag","1868308-Grant HS Hum For Interdiscip Studies Mag",null,null,"1861802",{"$f":"VLOOKUP(F1021, 'ECAST Lookup'!A:C,3,FALSE)","v":"Wilson Police Acd Mg"},"1861802-Wilson Police Acd Mg",28]
["1868601","Hamilton SH-Complex","1868601-Hamilton SH-Complex",null,null,"1861803",{"$f":"VLOOKUP(F1022, 'ECAST Lookup'!A:C,3,FALSE)","v":"Wilson Adm/Law Mag"},"1861803-Wilson Adm/Law Mag",26]
["1868602","Hamilton Music & Perf Arts Mag","1868602-Hamilton Music & Perf Arts Mag",null,null,"1861810",{"$f":"VLOOKUP(F1023, 'ECAST Lookup'!A:C,3,FALSE)","v":"Wilson SH FF Mag"},"1861810-Wilson SH FF Mag",24]
["1868603","Hamilton Human Mag","1868603-Hamilton Human Mag",null,null,"1862101",{"$f":"VLOOKUP(F1024, 'ECAST Lookup'!A:C,3,FALSE)","v":"Fairfax SH"},"1862101-Fairfax SH",18]
["1869301","Hollywood SH","1869301-Hollywood SH",null,null,"1862102",{"$f":"VLOOKUP(F1025, 'ECAST Lookup'!A:C,3,FALSE)","v":"Fairfax Vis Arts Mag"},"1862102-Fairfax Vis Arts Mag",28]
["1869302","Hollywood Per Art Mg","1869302-Hollywood Per Art Mg",null,null,"1862108",{"$f":"VLOOKUP(F1026, 'ECAST Lookup'!A:C,3,FALSE)","v":"Fairfax PA Mag"},"1862108-Fairfax PA Mag",22]
["1869307","Hollywood HS New Media Magnet",{"$f":"A1027&\"-\"&B1027","v":"1869307-Hollywood HS New Media Magnet"},null,null,"1863601",{"$f":"VLOOKUP(F1027, 'ECAST Lookup'!A:C,3,FALSE)","v":"Polytechnic SH"},{"$f":"F1027&\"-\"&G1027","v":"1863601-Polytechnic SH"},{"$f":"LEN(H1027)","v":22}]
["1869601","Bernstein SH","1869601-Bernstein SH",null,null,"1863602",{"$f":"VLOOKUP(F1028, 'ECAST Lookup'!A:C,3,FALSE)","v":"Polytechnic STEM Mag"},"1863602-Polytechnic STEM Mag",28]
["1869602","Bernstein HS Cine Arts/Creative Tech Mag","1869602-Bernstein HS Cine Arts/Creative Tech Mag",null,null,"1864301",{"$f":"VLOOKUP(F1029, 'ECAST Lookup'!A:C,3,FALSE)","v":"Franklin SH"},"1864301-Franklin SH",19]
["1870001","Huntington Park SH","1870001-Huntington Park SH",null,null,"1864302",{"$f":"VLOOKUP(F1030, 'ECAST Lookup'!A:C,3,FALSE)","v":"Franklin SH STM Mag"},"1864302-Franklin SH STM Mag",27]
["1870018","Huntington Park HS STEAM Magnet","1870018-Huntington Park HS STEAM Magnet",null,null,"1864311",{"$f":"VLOOKUP(F1031, 'ECAST Lookup'!A:C,3,FALSE)","v":"Franklin DLA Mag"},"1864311-Franklin DLA Mag",24]
["1870101","International St LC","1870101-International St LC",null,null,"1865001",{"$f":"VLOOKUP(F1032, 'ECAST Lookup'!A:C,3,FALSE)","v":"Fremont SH"},"1865001-Fremont SH",18]
["1871001","Early College Acad","1871001-Early College Acad",null,null,"1865002",{"$f":"VLOOKUP(F1033, 'ECAST Lookup'!A:C,3,FALSE)","v":"Fremont STEAM Mag"},"1865002-Fremont STEAM Mag",25]
["1871301","Hawkins SH C/DAGS","1871301-Hawkins SH C/DAGS",null,null,"1866401",{"$f":"VLOOKUP(F1034, 'ECAST Lookup'!A:C,3,FALSE)","v":"Gardena SH"},"1866401-Gardena SH",18]
["1871401","Jefferson SH","1871401-Jefferson SH",null,null,"1866402",{"$f":"VLOOKUP(F1035, 'ECAST Lookup'!A:C,3,FALSE)","v":"Gardena HS GB Mag"},"1866402-Gardena HS GB Mag",25]
["1871601","Santee Educ Complex","1871601-Santee Educ Complex",null,null,"1866407",{"$f":"VLOOKUP(F1036, 'ECAST Lookup'!A:C,3,FALSE)","v":"Gardena L/PS Mag"},"1866407-Gardena L/PS Mag",24]
["1872101","Jordan SH","1872101-Jordan SH",null,null,"1867901",{"$f":"VLOOKUP(F1037, 'ECAST Lookup'!A:C,3,FALSE)","v":"Garfield SH"},"1867901-Garfield SH",19]
["1872501","Kennedy SH","1872501-Kennedy SH",null,null,"1867902",{"$f":"VLOOKUP(F1038, 'ECAST Lookup'!A:C,3,FALSE)","v":"Garfield Comp Sci Mg"},"1867902-Garfield Comp Sci Mg",28]
["1872502","Kennedy A/DD/FM Magnet","1872502-Kennedy A/DD/FM Magnet",null,null,"1868301",{"$f":"VLOOKUP(F1039, 'ECAST Lookup'!A:C,3,FALSE)","v":"Grant SH"},"1868301-Grant SH",16]
["1872508","John F Kennedy Senior High Gifted Medical Mag","1872508-John F Kennedy Senior High Gifted Medical Mag",null,null,"1868302",{"$f":"VLOOKUP(F1040, 'ECAST Lookup'!A:C,3,FALSE)","v":"Grant CP/DA Mag"},"1868302-Grant CP/DA Mag",23]
["1872701","King-Drew Med Mag","1872701-King-Drew Med Mag",null,null,"1868308",{"$f":"VLOOKUP(F1041, 'ECAST Lookup'!A:C,3,FALSE)","v":"Grant H for IS Mag"},"1868308-Grant H for IS Mag",26]
["1872901","Lincoln SH","1872901-Lincoln SH",null,null,"1868601",{"$f":"VLOOKUP(F1042, 'ECAST Lookup'!A:C,3,FALSE)","v":"Hamilton SH-Complex"},"1868601-Hamilton SH-Complex",27]
["1872902","Abraham Lincoln SH Science/Tech/Math Mag","1872902-Abraham Lincoln SH Science/Tech/Math Mag",null,null,"1868602",{"$f":"VLOOKUP(F1043, 'ECAST Lookup'!A:C,3,FALSE)","v":"Hamilton Music"},"1868602-Hamilton Music",22]
["1872908","Lincoln ESP Magnet","1872908-Lincoln ESP Magnet",null,null,"1868603",{"$f":"VLOOKUP(F1044, 'ECAST Lookup'!A:C,3,FALSE)","v":"Hamilton Human Mag"},"1868603-Hamilton Human Mag",26]
["1873601","Los Angeles SH","1873601-Los Angeles SH",null,null,"1869301",{"$f":"VLOOKUP(F1045, 'ECAST Lookup'!A:C,3,FALSE)","v":"Hollywood SH"},"1869301-Hollywood SH",20]
["1873602","Los Angeles HS STEAM Magnet","1873602-Los Angeles HS STEAM Magnet",null,null,"1869302",{"$f":"VLOOKUP(F1046, 'ECAST Lookup'!A:C,3,FALSE)","v":"Hollywood Per Art Mg"},"1869302-Hollywood Per Art Mg",28]
["1873801","Downtwn Business Mag","1873801-Downtwn Business Mag",null,null,"1869307",{"$f":"VLOOKUP(F1047, 'ECAST Lookup'!A:C,3,FALSE)","v":"Hollywood HS"},"1869307-Hollywood HS",20]
["1873803","Downtown Computer Sci/Digital Media Arts","1873803-Downtown Computer Sci/Digital Media Arts",null,null,"1869601",{"$f":"VLOOKUP(F1048, 'ECAST Lookup'!A:C,3,FALSE)","v":"Bernstein SH"},"1869601-Bernstein SH",20]
["1874101","LACES Mag","1874101-LACES Mag",null,null,"1869602",{"$f":"VLOOKUP(F1049, 'ECAST Lookup'!A:C,3,FALSE)","v":"Bernstein CA/CT Mag"},"1869602-Bernstein CA/CT Mag",27]
["1874301","Manual Arts SH","1874301-Manual Arts SH",null,null,"1870001",{"$f":"VLOOKUP(F1050, 'ECAST Lookup'!A:C,3,FALSE)","v":"Huntington Park SH"},"1870001-Huntington Park SH",26]
["1874302","Manual Arts Col Prep","1874302-Manual Arts Col Prep",null,null,"1870018",{"$f":"VLOOKUP(F1051, 'ECAST Lookup'!A:C,3,FALSE)","v":"Hntngtn Pk STEAM Mag"},"1870018-Hntngtn Pk STEAM Mag",28]
["1874801","West AdaMS Prep SH","1874801-West AdaMS Prep SH",null,null,"1870101",{"$f":"VLOOKUP(F1052, 'ECAST Lookup'!A:C,3,FALSE)","v":"International St LC"},"1870101-International St LC",27]
["1874802","West Adams HS Firefighter Academy Magnet","1874802-West Adams HS Firefighter Academy Magnet",null,null,"1871001",{"$f":"VLOOKUP(F1053, 'ECAST Lookup'!A:C,3,FALSE)","v":"Early College Acad"},"1871001-Early College Acad",26]
["1874803","West Adams HS Police Academy Magnet","1874803-West Adams HS Police Academy Magnet",null,null,"1871301",{"$f":"VLOOKUP(F1054, 'ECAST Lookup'!A:C,3,FALSE)","v":"Hawkins SH C/DAGS"},"1871301-Hawkins SH C/DAGS",25]
["1875001","Marshall SH","1875001-Marshall SH",null,null,"1871302",{"$f":"VLOOKUP(F1055, 'ECAST Lookup'!A:C,3,FALSE)","v":"Hawkins HS CD/G Mag"},"1871302-Hawkins HS CD/G Mag",27]
["1875002","John Marshall Senior High Gifted Magnet","1875002-John Marshall Senior High Gifted Magnet",null,null,"1871401",{"$f":"VLOOKUP(F1056, 'ECAST Lookup'!A:C,3,FALSE)","v":"Jefferson SH"},"1871401-Jefferson SH",20]
["1875401","Bravo Medical Mag","1875401-Bravo Medical Mag",null,null,"1871601",{"$f":"VLOOKUP(F1057, 'ECAST Lookup'!A:C,3,FALSE)","v":"Santee Educ Complex"},"1871601-Santee Educ Complex",27]
["1876001","Middle College HS","1876001-Middle College HS",null,null,"1872101",{"$f":"VLOOKUP(F1058, 'ECAST Lookup'!A:C,3,FALSE)","v":"Jordan SH"},"1872101-Jordan SH",17]
["1876801","Monroe SH","1876801-Monroe SH",null,null,"1872501",{"$f":"VLOOKUP(F1059, 'ECAST Lookup'!A:C,3,FALSE)","v":"Kennedy SH"},{"$f":"F1059&\"-\"&G1059","v":"1872501-Kennedy SH"},{"$f":"LEN(H1059)","v":18}]
["1876802","Monroe Police Acd Mg","1876802-Monroe Police Acd Mg",null,null,"1872502",{"$f":"VLOOKUP(F1060, 'ECAST Lookup'!A:C,3,FALSE)","v":"Kennedy A/DD/FM"},{"$f":"F1060&\"-\"&G1060","v":"1872502-Kennedy A/DD/FM"},{"$f":"LEN(H1060)","v":23}]
["1876803","Monroe Law/Gov Mag","1876803-Monroe Law/Gov Mag",null,null,"1872508",{"$f":"VLOOKUP(F1061, 'ECAST Lookup'!A:C,3,FALSE)","v":"Kennedy Gifted/Md Mg"},{"$f":"F1061&\"-\"&G1061","v":"1872508-Kennedy Gifted/Md Mg"},{"$f":"LEN(H1061)","v":28}]
["1876810","POPP","1876810-POPP",null,null,"1872509",{"$f":"VLOOKUP(F1062, 'ECAST Lookup'!A:C,3,FALSE)","v":"Kennedy HS GLEA Mag"},{"$f":"F1062&\"-\"&G1062","v":"1872509-Kennedy HS GLEA Mag"},{"$f":"LEN(H1062)","v":27}]
["1876812","Monroe HS Firefighter Academy Magnet","1876812-Monroe HS Firefighter Academy Magnet",null,null,"1872701",{"$f":"VLOOKUP(F1063, 'ECAST Lookup'!A:C,3,FALSE)","v":"King-Drew Med Mag"},{"$f":"F1063&\"-\"&G1063","v":"1872701-King-Drew Med Mag"},{"$f":"LEN(H1063)","v":25}]
["1877401","Contreras LC Glbl St","1877401-Contreras LC Glbl St",null,null,"1872901",{"$f":"VLOOKUP(F1064, 'ECAST Lookup'!A:C,3,FALSE)","v":"Lincoln SH"},{"$f":"F1064&\"-\"&G1064","v":"1872901-Lincoln SH"},{"$f":"LEN(H1064)","v":18}]
["1877901","Narbonne SH","1877901-Narbonne SH",null,null,"1872902",{"$f":"VLOOKUP(F1065, 'ECAST Lookup'!A:C,3,FALSE)","v":"Lincoln SH STM Mag"},{"$f":"F1065&\"-\"&G1065","v":"1872902-Lincoln SH STM Mag"},{"$f":"LEN(H1065)","v":26}]
["1877902","Narbonne HS STEAM Magnet","1877902-Narbonne HS STEAM Magnet",null,null,"1872908",{"$f":"VLOOKUP(F1066, 'ECAST Lookup'!A:C,3,FALSE)","v":"Lincoln ESP Magnet"},{"$f":"F1066&\"-\"&G1066","v":"1872908-Lincoln ESP Magnet"},{"$f":"LEN(H1066)","v":26}]
["1877911","Narbonne HS Bus/Entrep/Tech Magnet","1877911-Narbonne HS Bus/Entrep/Tech Magnet",null,null,"1873601",{"$f":"VLOOKUP(F1067, 'ECAST Lookup'!A:C,3,FALSE)","v":"Los Angeles SH"},{"$f":"F1067&\"-\"&G1067","v":"1873601-Los Angeles SH"},{"$f":"LEN(H1067)","v":22}]
["1878601","No Hollywood SH","1878601-No Hollywood SH",null,null,"1873602",{"$f":"VLOOKUP(F1068, 'ECAST Lookup'!A:C,3,FALSE)","v":"Los Angeles STEAM Mg"},{"$f":"F1068&\"-\"&G1068","v":"1873602-Los Angeles STEAM Mg"},{"$f":"LEN(H1068)","v":28}]
["1878602","No Hollywood Hg Mag","1878602-No Hollywood Hg Mag",null,null,"1873801",{"$f":"VLOOKUP(F1069, 'ECAST Lookup'!A:C,3,FALSE)","v":"Downtwn Business Mag"},{"$f":"F1069&\"-\"&G1069","v":"1873801-Downtwn Business Mag"},{"$f":"LEN(H1069)","v":28}]
["1878603","NHHS/LA Zoo Biol Mag","1878603-NHHS/LA Zoo Biol Mag",null,null,"1873803",{"$f":"VLOOKUP(F1070, 'ECAST Lookup'!A:C,3,FALSE)","v":"Downtown CS/DMA/E Mg"},{"$f":"F1070&\"-\"&G1070","v":"1873803-Downtown CS/DMA/E Mg"},{"$f":"LEN(H1070)","v":28}]
["1878612","North Hollywood HS STEM Magnet","1878612-North Hollywood HS STEM Magnet",null,null,"1874101",{"$f":"VLOOKUP(F1071, 'ECAST Lookup'!A:C,3,FALSE)","v":"LACES Mag"},{"$f":"F1071&\"-\"&G1071","v":"1874101-LACES Mag"},{"$f":"LEN(H1071)","v":17}]
["1881401","Reseda Charter High School","1881401-Reseda Charter High School",null,null,"1874301",{"$f":"VLOOKUP(F1072, 'ECAST Lookup'!A:C,3,FALSE)","v":"Manual Arts SH"},{"$f":"F1072&\"-\"&G1072","v":"1874301-Manual Arts SH"},{"$f":"LEN(H1072)","v":22}]
["1881402","Reseda Charter HS Police Academy Magnet","1881402-Reseda Charter HS Police Academy Magnet",null,null,"1874302",{"$f":"VLOOKUP(F1073, 'ECAST Lookup'!A:C,3,FALSE)","v":"Manual Arts Col Prep"},{"$f":"F1073&\"-\"&G1073","v":"1874302-Manual Arts Col Prep"},{"$f":"LEN(H1073)","v":28}]
["1881403","Reseda Charter HS Science Magnet","1881403-Reseda Charter HS Science Magnet",null,null,"1874801",{"$f":"VLOOKUP(F1074, 'ECAST Lookup'!A:C,3,FALSE)","v":"West Adams Prep SH"},{"$f":"F1074&\"-\"&G1074","v":"1874801-West Adams Prep SH"},{"$f":"LEN(H1074)","v":26}]
["1881409","Reseda Charter HS Arts/Media/Ent Magnet","1881409-Reseda Charter HS Arts/Media/Ent Magnet",null,null,"1874802",{"$f":"VLOOKUP(F1075, 'ECAST Lookup'!A:C,3,FALSE)","v":"W Adams FA Mag"},{"$f":"F1075&\"-\"&G1075","v":"1874802-W Adams FA Mag"},{"$f":"LEN(H1075)","v":22}]
["1883801","Narbonne SH Harts LA","1883801-Narbonne SH Harts LA",null,null,"1874803",{"$f":"VLOOKUP(F1076, 'ECAST Lookup'!A:C,3,FALSE)","v":"W Adams PA Mag"},{"$f":"F1076&\"-\"&G1076","v":"1874803-W Adams PA Mag"},{"$f":"LEN(H1076)","v":22}]
["1884201","SOCES Mag","1884201-SOCES Mag",null,null,"1875001",{"$f":"VLOOKUP(F1077, 'ECAST Lookup'!A:C,3,FALSE)","v":"Marshall SH"},{"$f":"F1077&\"-\"&G1077","v":"1875001-Marshall SH"},{"$f":"LEN(H1077)","v":19}]
["1884301","San Fernando SH","1884301-San Fernando SH",null,null,"1875002",{"$f":"VLOOKUP(F1078, 'ECAST Lookup'!A:C,3,FALSE)","v":"Marshall Gifted Mag"},{"$f":"F1078&\"-\"&G1078","v":"1875002-Marshall Gifted Mag"},{"$f":"LEN(H1078)","v":27}]
["1884302","San Fernando Senior High Science/Tech/Math","1884302-San Fernando Senior High Science/Tech/Math",null,null,"1875401",{"$f":"VLOOKUP(F1079, 'ECAST Lookup'!A:C,3,FALSE)","v":"Bravo Medical Mag"},{"$f":"F1079&\"-\"&G1079","v":"1875401-Bravo Medical Mag"},{"$f":"LEN(H1079)","v":25}]
["1885001","San Pedro SH","1885001-San Pedro SH",null,null,"1876001",{"$f":"VLOOKUP(F1080, 'ECAST Lookup'!A:C,3,FALSE)","v":"Middle College HS"},{"$f":"F1080&\"-\"&G1080","v":"1876001-Middle College HS"},{"$f":"LEN(H1080)","v":25}]
["1885002","San Pedro Pol Acd Mg","1885002-San Pedro Pol Acd Mg",null,null,"1876801",{"$f":"VLOOKUP(F1081, 'ECAST Lookup'!A:C,3,FALSE)","v":"Monroe SH"},{"$f":"F1081&\"-\"&G1081","v":"1876801-Monroe SH"},{"$f":"LEN(H1081)","v":17}]
["1885003","San Pedro Senior High Marine Science/Tech","1885003-San Pedro Senior High Marine Science/Tech",null,null,"1876802",{"$f":"VLOOKUP(F1082, 'ECAST Lookup'!A:C,3,FALSE)","v":"Monroe Police Acd Mg"},{"$f":"F1082&\"-\"&G1082","v":"1876802-Monroe Police Acd Mg"},{"$f":"LEN(H1082)","v":28}]
["1885010","San Pedro Senior High Gifted STEAM Magnet","1885010-San Pedro Senior High Gifted STEAM Magnet",null,null,"1876803",{"$f":"VLOOKUP(F1083, 'ECAST Lookup'!A:C,3,FALSE)","v":"Monroe Law/Gov Mag"},{"$f":"F1083&\"-\"&G1083","v":"1876803-Monroe Law/Gov Mag"},{"$f":"LEN(H1083)","v":26}]
["1885011","San Pedro HS Visual/Perf Arts Magnet","1885011-San Pedro HS Visual/Perf Arts Magnet",null,null,"1876812",{"$f":"VLOOKUP(F1084, 'ECAST Lookup'!A:C,3,FALSE)","v":"Monroe FA Mag"},{"$f":"F1084&\"-\"&G1084","v":"1876812-Monroe FA Mag"},{"$f":"LEN(H1084)","v":21}]
["1885301","Orthopaedic Hosp Mag","1885301-Orthopaedic Hosp Mag",null,null,"1877401",{"$f":"VLOOKUP(F1085, 'ECAST Lookup'!A:C,3,FALSE)","v":"Contreras LC Glbl St"},{"$f":"F1085&\"-\"&G1085","v":"1877401-Contreras LC Glbl St"},{"$f":"LEN(H1085)","v":28}]
["1886601","Marquez SH HPIAM","1886601-Marquez SH HPIAM",null,null,"1877901",{"$f":"VLOOKUP(F1086, 'ECAST Lookup'!A:C,3,FALSE)","v":"Narbonne SH"},{"$f":"F1086&\"-\"&G1086","v":"1877901-Narbonne SH"},{"$f":"LEN(H1086)","v":19}]
["1886701","Rivera LC Pub Srv","1886701-Rivera LC Pub Srv",null,null,"1877902",{"$f":"VLOOKUP(F1087, 'ECAST Lookup'!A:C,3,FALSE)","v":"Narbonne STEAM Mag"},{"$f":"F1087&\"-\"&G1087","v":"1877902-Narbonne STEAM Mag"},{"$f":"LEN(H1087)","v":26}]
["1886801","Rancho Domingz Prep","1886801-Rancho Domingz Prep",null,null,"1877911",{"$f":"VLOOKUP(F1088, 'ECAST Lookup'!A:C,3,FALSE)","v":"Narbonne BET Mag"},{"$f":"F1088&\"-\"&G1088","v":"1877911-Narbonne BET Mag"},{"$f":"LEN(H1088)","v":24}]
["1886802","Rancho Dominguez PS Law/Gov/Pub Serv Mag","1886802-Rancho Dominguez PS Law/Gov/Pub Serv Mag",null,null,"1878601",{"$f":"VLOOKUP(F1089, 'ECAST Lookup'!A:C,3,FALSE)","v":"No Hollywood SH"},{"$f":"F1089&\"-\"&G1089","v":"1878601-No Hollywood SH"},{"$f":"LEN(H1089)","v":23}]
["1887101","South Gate SH","1887101-South Gate SH",null,null,"1878602",{"$f":"VLOOKUP(F1090, 'ECAST Lookup'!A:C,3,FALSE)","v":"No Hollywood Hg Mag"},{"$f":"F1090&\"-\"&G1090","v":"1878602-No Hollywood Hg Mag"},{"$f":"LEN(H1090)","v":27}]
["1887801","Sylmar Charter High School",{"$f":"A1091&\"-\"&B1091","v":"1887801-Sylmar Charter High School"},null,null,"1878603",{"$f":"VLOOKUP(F1091, 'ECAST Lookup'!A:C,3,FALSE)","v":"NHHS/LA Zoo Biol Mag"},"1878603-NHHS/LA Zoo Biol Mag",28]
["1887802","Sylmar Charter HS Sci/Tech/Math Magnet","1887802-Sylmar Charter HS Sci/Tech/Math Magnet",null,null,"1878612",{"$f":"VLOOKUP(F1092, 'ECAST Lookup'!A:C,3,FALSE)","v":"N Hollywood STEM Mag"},"1878612-N Hollywood STEM Mag",28]
["1888001","William Howard Taft Charter HS","1888001-William Howard Taft Charter HS",null,null,"1881401",{"$f":"VLOOKUP(F1093, 'ECAST Lookup'!A:C,3,FALSE)","v":"Reseda Charter HS"},"1881401-Reseda Charter HS",25]
["1888007","William Howard Taft Charter SH Gifted St","1888007-William Howard Taft Charter SH Gifted St",null,null,"1881402",{"$f":"VLOOKUP(F1094, 'ECAST Lookup'!A:C,3,FALSE)","v":"Reseda CHS PA Mag"},"1881402-Reseda CHS PA Mag",25]
["1888101","South East SH","1888101-South East SH",null,null,"1881403",{"$f":"VLOOKUP(F1095, 'ECAST Lookup'!A:C,3,FALSE)","v":"Reseda CHS Sci Mag"},"1881403-Reseda CHS Sci Mag",26]
["1888108","SEHS Tech/Media Mag","1888108-SEHS Tech/Media Mag",null,null,"1881409",{"$f":"VLOOKUP(F1096, 'ECAST Lookup'!A:C,3,FALSE)","v":"Reseda CHS AME Mag"},"1881409-Reseda CHS AME Mag",26]
["1888201","Maywood Academy SH","1888201-Maywood Academy SH",null,null,"1883801",{"$f":"VLOOKUP(F1097, 'ECAST Lookup'!A:C,3,FALSE)","v":"Narbonne SH Harts LA"},"1883801-Narbonne SH Harts LA",28]
["1888601","University High School Charter","1888601-University High School Charter",null,null,"1884201",{"$f":"VLOOKUP(F1098, 'ECAST Lookup'!A:C,3,FALSE)","v":"SOCES Mag"},"1884201-SOCES Mag",17]
["1888607","University Charter HS Mth/Art/Sci/Tch Mg","1888607-University Charter HS Mth/Art/Sci/Tch Mg",null,null,"1884301",{"$f":"VLOOKUP(F1099, 'ECAST Lookup'!A:C,3,FALSE)","v":"San Fernando SH"},"1884301-San Fernando SH",23]
["1889301","Van Nuys SH","1889301-Van Nuys SH",null,null,"1884302",{"$f":"VLOOKUP(F1100, 'ECAST Lookup'!A:C,3,FALSE)","v":"San Fernando STEM Mag"},"1884302-San Fernando STEM Mag",29]
["1889302","Van Nuys Medical Mag","1889302-Van Nuys Medical Mag",null,null,"1885001",{"$f":"VLOOKUP(F1101, 'ECAST Lookup'!A:C,3,FALSE)","v":"San Pedro SH"},"1885001-San Pedro SH",20]
["1889303","Van Nuys Senior High Science/Tech/Math Mag","1889303-Van Nuys Senior High Science/Tech/Math Mag",null,null,"1885002",{"$f":"VLOOKUP(F1102, 'ECAST Lookup'!A:C,3,FALSE)","v":"San Pedro Pol Acd Mg"},"1885002-San Pedro Pol Acd Mg",28]
["1889304","Van Nuys Per Arts Mg","1889304-Van Nuys Per Arts Mg",null,null,"1885003",{"$f":"VLOOKUP(F1103, 'ECAST Lookup'!A:C,3,FALSE)","v":"San Pedro MS/T/M Mag"},"1885003-San Pedro MS/T/M Mag",28]
["1889801","Valley Acad Arts/Sci","1889801-Valley Acad Arts/Sci",null,null,"1885010",{"$f":"VLOOKUP(F1104, 'ECAST Lookup'!A:C,3,FALSE)","v":"San Pedro G/STEAM Mg"},"1885010-San Pedro G/STEAM Mg",28]
["1890101","Chavez Learning Acad-Technology Prep","1890101-Chavez Learning Acad-Technology Prep",null,null,"1885011",{"$f":"VLOOKUP(F1105, 'ECAST Lookup'!A:C,3,FALSE)","v":"San Pedro VAPA Mag"},"1885011-San Pedro VAPA Mag",26]
["1890701","Venice SH","1890701-Venice SH",null,null,"1885301",{"$f":"VLOOKUP(F1106, 'ECAST Lookup'!A:C,3,FALSE)","v":"Orthopaedic Hosp Mag"},"1885301-Orthopaedic Hosp Mag",28]
["1890702","Venice SH World Languages/Golbal Studies","1890702-Venice SH World Languages/Golbal Studies",null,null,"1886601",{"$f":"VLOOKUP(F1107, 'ECAST Lookup'!A:C,3,FALSE)","v":"Marquez SH HPIAM"},"1886601-Marquez SH HPIAM",24]
["1890707","Venice SH STEMM Mag","1890707-Venice SH STEMM Mag",null,null,"1886701",{"$f":"VLOOKUP(F1108, 'ECAST Lookup'!A:C,3,FALSE)","v":"Rivera LC Pub Srv"},"1886701-Rivera LC Pub Srv",25]
["1891401","Verdugo Hills SH","1891401-Verdugo Hills SH",null,null,"1886801",{"$f":"VLOOKUP(F1109, 'ECAST Lookup'!A:C,3,FALSE)","v":"Rancho Domingz Prep"},"1886801-Rancho Domingz Prep",27]
["1891402","Verdguo Hills HS STEMM Magnet","1891402-Verdguo Hills HS STEMM Magnet",null,null,"1886802",{"$f":"VLOOKUP(F1110, 'ECAST Lookup'!A:C,3,FALSE)","v":"Rancho Dmngz L/G/PS Mg"},"1886802-Rancho Dmngz L/G/PS Mg",30]
["1891408","Verdugo Hills SH Visual and Performing Acad","1891408-Verdugo Hills SH Visual and Performing Acad",null,null,"1887101",{"$f":"VLOOKUP(F1111, 'ECAST Lookup'!A:C,3,FALSE)","v":"South Gate SH"},"1887101-South Gate SH",21]
["1891701","Maywood Center for Enriched Studies Mag","1891701-Maywood Center for Enriched Studies Mag",null,null,"1887110",{"$f":"VLOOKUP(F1112, 'ECAST Lookup'!A:C,3,FALSE)","v":"South Gate HS PSB Mg"},"1887110-South Gate HS PSB Mg",28]
["1892101","Legacy SH STEAM","1892101-Legacy SH STEAM",null,null,"1887801",{"$f":"VLOOKUP(F1113, 'ECAST Lookup'!A:C,3,FALSE)","v":"Sylmar Charter HS"},"1887801-Sylmar Charter HS",25]
["1892801","Washington Prep SH","1892801-Washington Prep SH",null,null,"1887802",{"$f":"VLOOKUP(F1114, 'ECAST Lookup'!A:C,3,FALSE)","v":"Sylmar CHS STM Mag"},"1887802-Sylmar CHS STM Mag",26]
["1892803","Washington Preparatory HS STEAM Magnet","1892803-Washington Preparatory HS STEAM Magnet",null,null,"1888001",{"$f":"VLOOKUP(F1115, 'ECAST Lookup'!A:C,3,FALSE)","v":"William H Taft"},"1888001-William H Taft",22]
["1894301","WESM Hlth/Sports Med","1894301-WESM Hlth/Sports Med",null,null,"1888007",{"$f":"VLOOKUP(F1116, 'ECAST Lookup'!A:C,3,FALSE)","v":"Taft Gifted/STEAM Mg"},"1888007-Taft Gifted/STEAM Mg",28]
["1894309","Westchester HS G/HG/HA/STEAM Magnet","1894309-Westchester HS G/HG/HA/STEAM Magnet",null,null,"1888101",{"$f":"VLOOKUP(F1117, 'ECAST Lookup'!A:C,3,FALSE)","v":"South East SH"},"1888101-South East SH",21]
["1894310","WESM Env Natrl Sci","1894310-WESM Env Natrl Sci",null,null,"1888108",{"$f":"VLOOKUP(F1118, 'ECAST Lookup'!A:C,3,FALSE)","v":"South East STEAM Mag"},"1888108-South East STEAM Mag",28]
[null,null,null,null,null,"1888201",{"$f":"VLOOKUP(F1119, 'ECAST Lookup'!A:C,3,FALSE)","v":"Maywood Academy SH"},"1888201-Maywood Academy SH",26]
[null,null,null,null,null,"1888601",{"$f":"VLOOKUP(F1120, 'ECAST Lookup'!A:C,3,FALSE)","v":"University HS Charter"},"1888601-University HS Charter",29]
[null,null,null,null,null,"1888607",{"$f":"VLOOKUP(F1121, 'ECAST Lookup'!A:C,3,FALSE)","v":"Univrsty CHS MAST Mg"},"1888607-Univrsty CHS MAST Mg",28]
[null,null,null,null,null,"1889301",{"$f":"VLOOKUP(F1122, 'ECAST Lookup'!A:C,3,FALSE)","v":"Van Nuys SH"},"1889301-Van Nuys SH",19]
[null,null,null,null,null,"1889302",{"$f":"VLOOKUP(F1123, 'ECAST Lookup'!A:C,3,FALSE)","v":"Van Nuys Medical Mag"},"1889302-Van Nuys Medical Mag",28]
[null,null,null,null,null,"1889303",{"$f":"VLOOKUP(F1124, 'ECAST Lookup'!A:C,3,FALSE)","v":"Van Nuys SH STM Mag"},"1889303-Van Nuys SH STM Mag",27]
[null,null,null,null,null,"1889304",{"$f":"VLOOKUP(F1125, 'ECAST Lookup'!A:C,3,FALSE)","v":"Van Nuys Per Arts Mg"},"1889304-Van Nuys Per Arts Mg",28]
[null,null,null,null,null,"1889801",{"$f":"VLOOKUP(F1126, 'ECAST Lookup'!A:C,3,FALSE)","v":"Valley Acad Arts/Sci"},"1889801-Valley Acad Arts/Sci",28]
[null,null,null,null,null,"1890101",{"$f":"VLOOKUP(F1127, 'ECAST Lookup'!A:C,3,FALSE)","v":"Chavez LA Tech Prep"},"1890101-Chavez LA Tech Prep",27]
[null,null,null,null,null,"1890701",{"$f":"VLOOKUP(F1128, 'ECAST Lookup'!A:C,3,FALSE)","v":"Venice SH"},"1890701-Venice SH",17]
[null,null,null,null,null,"1890702",{"$f":"VLOOKUP(F1129, 'ECAST Lookup'!A:C,3,FALSE)","v":"Venice SH WL/GS Mag"},"1890702-Venice SH WL/GS Mag",27]
[null,null,null,null,null,"1890707",{"$f":"VLOOKUP(F1130, 'ECAST Lookup'!A:C,3,FALSE)","v":"Venice SH STEMM Mag"},"1890707-Venice SH STEMM Mag",27]
[null,null,null,null,null,"1891401",{"$f":"VLOOKUP(F1131, 'ECAST Lookup'!A:C,3,FALSE)","v":"Verdugo Hills SH"},"1891401-Verdugo Hills SH",24]
[null,null,null,null,null,"1891402",{"$f":"VLOOKUP(F1132, 'ECAST Lookup'!A:C,3,FALSE)","v":"Vrdgo Hlls STEMM Mg"},"1891402-Vrdgo Hlls STEMM Mg",27]
[null,null,null,null,null,"1891408",{"$f":"VLOOKUP(F1133, 'ECAST Lookup'!A:C,3,FALSE)","v":"Verdgo Hls VAPA Mag"},"1891408-Verdgo Hls VAPA Mag",27]
[null,null,null,null,null,"1891701",{"$f":"VLOOKUP(F1134, 'ECAST Lookup'!A:C,3,FALSE)","v":"MaCES Magnet"},"1891701-MaCES Magnet",20]
[null,null,null,null,null,"1892101",{"$f":"VLOOKUP(F1135, 'ECAST Lookup'!A:C,3,FALSE)","v":"Legacy SH STEAM"},"1892101-Legacy SH STEAM",23]
[null,null,null,null,null,"1892801",{"$f":"VLOOKUP(F1136, 'ECAST Lookup'!A:C,3,FALSE)","v":"Washington Prep SH"},"1892801-Washington Prep SH",26]
[null,null,null,null,null,"1892803",{"$f":"VLOOKUP(F1137, 'ECAST Lookup'!A:C,3,FALSE)","v":"Washington STEAM Mag"},"1892803-Washington STEAM Mag",28]
[null,null,null,null,null,"1894301",{"$f":"VLOOKUP(F1138, 'ECAST Lookup'!A:C,3,FALSE)","v":"WESM Hlth/Sports Med"},"1894301-WESM Hlth/Sports Med",28]
[null,null,null,null,null,"1894309",{"$f":"VLOOKUP(F1139, 'ECAST Lookup'!A:C,3,FALSE)","v":"WESM Gifted/STEAM Mg"},"1894309-WESM Gifted/STEAM Mg",28]
[null,null,null,null,null,"1894310",{"$f":"VLOOKUP(F1140, 'ECAST Lookup'!A:C,3,FALSE)","v":"WESM Env Natrl Sci"},"1894310-WESM Env Natrl Sci",26]
[null,null,null,null,null,"1194901",{"$f":"VLOOKUP(F1141, 'ECAST Lookup'!A:C,3,FALSE)","v":"Marlton"},"1194901-Marlton",15]

{"sheet":"Removed Non Norm Schools","index":11,"n_rows":75,"n_cols":49,"rows_kept":75,"cut":false,"hidden":true,"merged":[]}
[null,null,1,2,3,4,5,6,7,8,9,10,11,12,13,14,15,16,17,18,19,20,21,22,23,24,25,26,27,28,29,30,31,32,33,34,35,36,37,38,39,40,41,42,43,44,45,46,47]
["Count of Home Schools","Sort Count","Index","School Rev for ECAST Lookup","School","School Name","Loc Code","Home School","School Type","Norm Category (for Norming only)","Norm Category (official)","Affiliated (for Norming only)","Affiliated (Official)","Grade 6 Elem","OLC","Span","LD","Physical LD","SPAN Calc for Non-Tchr","Board District","Board Member","Alt Schedule","Notes","Type","K","G1","G2","G3","G4","G5","G6","G7","G8","G9","G10","G11","G12","CONTINUATION_9_12","OPPORTUNITY_6_8","OPPORTUNITY_9_12","SDC K-5(6)","SDC 6-8","SDC 9-12","Pre-K SP ED","ST_PRE_SCH_PROG","TE","Total K-12 Enrollment Without SDC","Total K-12 With SDC","Grand Total"]
[1,1,"11908011",{"$f":"E3","v":"1190801"},"1190801","Leichman Career Preparatory & Transit Ct","1908","1190801","Special Education School",null,null,"f","f","f","f","f","NW","NW","no","4","Nick Melvoin",null,null,"ECAST",null,null,null,null,null,null,null,null,null,null,null,0,0,null,null,null,null,null,193,0,0,0,0,211,211]
[null,null,null,{"$f":"E4","v":"1191001"},"1191001","Miller CTC","1910","1191001","Special Education School",null,null,"f","f","f","f","f","NW","NW","no","3","Scott Schmerelson",null,null,"ECAST",null,null,null,null,null,null,null,null,null,null,null,null,0,null,null,null,null,null,185,0,0,0]
[null,null,null,"1191401","1191401","Widney Career Prep & Tran Ctr","1914","1191401","Special Education School",null,null,"f","f","f","f","f","C","C","no","1","George McKenna",null,null,"ECAST",null,null,null,null,null,null,null,null,null,null,null,0,0,null,null,null,null,null,229,0,0,0]
[null,null,null,"1191701","1191701","Riley HS Cyesis","1917","1191701","Opportunity School",null,null,"f","f","f","f","f","S","S","no","7","Tanya Ortiz Franklin",null,null,"ECAST",null,null,null,null,null,null,null,0,0,0,0,0,0,null,null,22,null,null,null,0,0,0]
[null,null,null,"1191801","1191801","Mc Alister HS Cyesis","1918","1191801","Opportunity School",null,null,"f","f","f","f","f","C","C","no","2","Monica Garcia",null,null,"ECAST",null,null,null,null,null,null,0,0,0,0,0,0,0,null,null,76,null,null,null,0,0,0]
[null,null,null,"1194101","1194101","Banneker Center & Transition Center","1941","1194101","Special Education School",null,null,"f","f","f","f","f","S","S","no","7","Tanya Ortiz Franklin",null,null,"ECAST",null,null,null,null,null,null,null,null,null,null,null,null,0,null,null,null,null,null,159,0,0,0]
[null,null,null,"1194401","1194401","Carlson Hosp (K-12)","1944","1194401","Special Education School",null,null,"f","f","f","f","t","XS","NE","no","6","Kelly Gonez",null,null,"ECAST",1,0,3,2,3,2,3,5,9,11,12,14,8,null,null,null,4,2,16,0,0,0]
[null,null,null,"1194402","1194402","Carlson Home School (K12)","2092","1194401","Special Education School",null,null,"f","f","f","f","t","XS","NE","no","6","Kelly Gonez",null,null,"ECAST",0,5,3,3,3,4,5,1,1,3,3,8,3,null,null,null,64,35,95,0,0,0]
[null,null,null,"1194701","1194701","Lokrantz Sp Ed Ctr","1947","1194701","Special Education School",null,null,"f","f","t","f","f","NW","NW","no","4","Nick Melvoin",null,null,"ECAST",0,0,0,0,0,0,0,0,0,0,0,null,null,null,null,null,10,9,21,5,0,0]
[null,null,null,"1194801","1194801","Lowman Sp Ed & Career Transition Center","1948","1194801","Special Education School",null,null,"f","f","f","f","f","NE","NE","no","6","Kelly Gonez",null,null,"ECAST",0,0,0,0,0,0,0,0,0,0,0,0,0,null,null,null,1,3,96,0,0,0]
[null,null,null,"1195201","1195201","Mcbride Sp Ed Ctr","1952","1195201","Special Education School",null,null,"f","f","f","f","f","W","W","no","4","Nick Melvoin",null,null,"ECAST",null,null,null,null,null,null,0,0,0,0,0,0,0,null,null,null,null,null,27,0,0,0]
[null,null,null,"1195202","1195202","CTC - West","1197","1195201","Special Education School",null,null,"f","f","f","f","f","W","W","no","4","Nick Melvoin",null,null,"ECAST",null,null,null,null,null,null,null,null,null,null,null,null,null,null,null,null,null,null,107,0,0,0]
[null,null,null,"1195301","1195301","Perez Sp Ed Ctr","1953","1195301","Special Education School",null,null,"f","f","f","f","f","E","E","no","2","Monica Garcia",null,null,"ECAST",null,null,null,null,null,null,null,null,null,0,0,0,0,null,null,null,null,null,240,0,0,0]
[null,null,null,"1195501","1195501","Sophia T Salvin Spec Ed Center","1955","1195501","Special Education School",null,null,"f","f","t","f","f","C","C","no","5","Jackie Goldberg",null,null,"ECAST",0,0,0,0,0,0,0,0,0,0,0,null,null,null,null,null,9,15,33,0,0,0]
[null,null,null,"1195701","1195701","Willenberg Sp Ed Ctr","1957","1195701","Special Education School",null,null,"f","f","f","f","f","S","S","no","7","Tanya Ortiz Franklin",null,null,"ECAST",null,null,null,null,null,null,null,null,null,null,null,null,0,null,null,null,null,null,146,0,0,0]
[null,null,null,"1268001","1268001","Elementary CDS","2680","1268001","Community Day School",null,null,"f","f","t","f","f","XS","NW","no","3","Scott Schmerelson",null,null,"ECAST",0,0,0,0,0,0,0,null,null,null,null,null,null,null,null,null,null,null,null,0,0,0]
[null,null,null,"1776101","1776101","CDS Johnson","7761","1776101","Community Day School",null,null,"f","f","f","f","f","S","S","no","7","Tanya Ortiz Franklin",null,null,"ECAST",null,null,null,null,null,null,null,null,null,1,21,6,13,null,null,null,null,null,null,0,0,0]
[null,null,null,"1809201","1809201","CDS London","8092","1809201","Community Day School",null,null,"f","f","f","f","f","NE","NE","no","6","Kelly Gonez",null,null,"ECAST",null,null,null,null,null,null,null,null,null,12,9,13,0,null,null,null,null,null,null,0,0,0]
[null,null,null,"1849701","1849701","Secondary CDS","8497","1849701","Community Day School",null,null,"f","f","f","f","f","XS","C","no","2","Monica Garcia",null,null,"ECAST",null,null,null,null,null,null,0,0,1,0,0,0,0,null,null,null,null,null,null,0,0,0]
[null,null,null,"1850601","1850601","CDS Aggeler","8506","1850601","Community Day School",null,null,"f","f","f","f","f","NW","NW","no","3","Scott Schmerelson",null,null,"ECAST",null,null,null,null,null,null,null,0,0,4,11,13,9,null,null,null,null,null,1,0,0,0]
[null,null,null,"1850701","1850701","Aggeler HS","8507","1850701","Opportunity School",null,null,"f","f","f","f","f","NW","NW","no","3","Scott Schmerelson",null,null,"ECAST",null,null,null,null,null,null,null,0,0,0,0,0,0,null,2,45,null,null,19,0,0,0]
[null,null,null,"1853101","1853101","Dan M. Isaacs Avalon High School","8531","1853101","Continuation High School",null,null,"f","f","f","f","f","S","S","no","7","Tanya Ortiz Franklin",null,null,"ECAST",null,null,null,null,null,null,null,null,null,0,0,0,0,51,null,null,null,null,null,0,0,0]
[null,null,null,"1854501","1854501","Newmark HS","8545","1854501","Continuation High School",null,null,"f","f","f","f","f","C","C","no","2","Monica Garcia",null,null,"ECAST",null,null,null,null,null,null,null,null,null,0,0,0,0,58,null,null,null,null,null,0,0,0]
[null,null,null,"1855901","1855901","Independence HS","8559","1855901","Continuation High School",null,null,"f","f","f","f","f","NW","NW","no","3","Scott Schmerelson",null,null,"ECAST",null,null,null,null,null,null,null,null,null,0,0,0,0,68,null,null,null,null,10,0,0,0]
[null,null,null,"1857301","1857301","Owensmouth HS","8573","1857301","Continuation High School",null,null,"f","f","f","f","f","NW","NW","no","3","Scott Schmerelson","4x4",null,"ECAST",null,null,null,null,null,null,null,null,null,0,0,0,0,81,null,null,null,null,null,0,0,0]
[null,null,null,"1857801","1857801","Eagle Tree Contn HS","8578","1857801","Continuation High School",null,null,"f","f","f","f","f","S","S","no","7","Tanya Ortiz Franklin",null,null,"ECAST",null,null,null,null,null,null,null,null,null,0,0,0,0,31,null,null,null,null,null,0,0,0]
[null,null,null,"1858001","1858001","Central HS","8580","1858001","Continuation High School",null,null,"f","f","f","f","f","C","C","no","2","Monica Garcia",null,null,"ECAST",null,null,null,null,null,null,null,null,null,0,0,0,0,301,null,null,null,null,50,0,0,0]
[null,null,null,"1858501","1858501","Stoney Point HS","8585","1858501","Continuation High School",null,null,"f","f","f","f","f","NW","NW","no","3","Scott Schmerelson","2x8",null,"ECAST",null,null,null,null,null,null,null,null,null,0,0,0,0,133,null,null,null,null,null,0,0,0]
[null,null,null,"1858901","1858901","CDS Johnston","8589","1858901","Community Day School",null,null,"f","f","f","f","f","S","S","no","7","Tanya Ortiz Franklin",null,null,"ECAST",null,null,null,null,null,null,null,0,0,13,26,18,7,null,null,null,null,null,9,0,0,0]
[null,null,null,"1859101","1859101","Wooden HS","8591","1859101","Continuation High School",null,null,"f","f","f","f","f","NW","NW","no","3","Scott Schmerelson",null,null,"ECAST",null,null,null,null,null,null,null,null,null,0,0,0,0,82,null,null,null,null,1,0,0,0]
[null,null,null,"1859801","1859801","Young HS","8598","1859801","Continuation High School",null,null,"f","f","f","f","f","W","W","no","1","George McKenna",null,null,"ECAST",null,null,null,null,null,null,null,null,null,0,0,0,0,36,null,null,null,null,null,0,0,0]
[null,null,null,"1860201","1860201","View Park Contn HS","8602","1860201","Continuation High School",null,null,"f","f","f","f","f","W","W","no","1","George McKenna",null,null,"ECAST",null,null,null,null,null,null,null,null,null,0,0,0,0,21,null,null,null,null,null,0,0,0]
[null,null,null,"1861201","1861201","Burke HS","8612","1861201","Continuation High School",null,null,"f","f","f","f","f","NE","NE","no","6","Kelly Gonez","4x4",null,"ECAST",null,null,null,null,null,null,null,null,null,0,0,0,0,127,null,null,null,null,null,0,0,0]
[null,null,null,"1862301","1862301","Whitman HS","8623","1862301","Continuation High School",null,null,"f","f","f","f","f","W","W","no","4","Nick Melvoin","4x4",null,"ECAST",null,null,null,null,null,null,null,null,null,0,0,0,0,45,null,null,null,null,null,0,0,0]
[null,null,null,"1863801","1863801","Lewis HS","8638","1863801","Continuation High School",null,null,"f","f","f","f","f","NE","NE","no","6","Kelly Gonez","4x4",null,"ECAST",null,null,null,null,null,null,null,null,null,0,0,0,0,50,null,null,null,null,null,0,0,0]
[null,null,null,"1864501","1864501","Highland Park HS","8645","1864501","Continuation High School",null,null,"f","f","f","f","f","C","C","no","2","Monica Garcia","4x4",null,"ECAST",null,null,null,null,null,null,null,null,null,0,0,0,0,56,null,null,null,null,null,0,0,0]
[null,null,null,"1865201","1865201","Hope HS","8652","1865201","Continuation High School",null,null,"f","f","f","f","f","S","S","no","7","Tanya Ortiz Franklin","4x4",null,"ECAST",null,null,null,null,null,null,null,null,null,0,0,0,0,50,null,null,null,null,null,0,0,0]
[null,null,null,"1866601","1866601","Moneta HS","8666","1866601","Continuation High School",null,null,"f","f","f","f","f","S","S","no","7","Tanya Ortiz Franklin","4x4",null,"ECAST",null,null,null,null,null,null,null,null,null,0,0,0,0,30,null,null,null,null,null,0,0,0]
[null,null,null,"1867001","1867001","CDS Alonzo","8670","1867001","Community Day School",null,null,"f","f","f","f","f","W","W","no","5","Jackie Goldberg","4x4",null,"ECAST",null,null,null,null,null,null,null,0,0,1,4,24,40,null,null,null,null,null,null,0,0,0]
[null,null,null,"1867701","1867701","Monterey HS","8677","1867701","Continuation High School",null,null,"f","f","f","f","f","E","E","no","2","Monica Garcia",null,null,"ECAST",null,null,null,null,null,null,null,null,null,0,0,0,0,41,null,null,null,null,null,0,0,0]
[null,null,null,"1868501","1868501","London HS","8685","1868501","Continuation High School",null,null,"f","f","f","f","f","NE","NE","no","6","Kelly Gonez",null,null,"ECAST",null,null,null,null,null,null,null,null,null,0,0,0,0,66,null,null,null,null,null,0,0,0]
[null,null,null,"1868801","1868801","Cheviot Hills HS","8688","1868801","Continuation High School",null,null,"f","f","f","f","f","W","W","no","1","George McKenna","4x4",null,"ECAST",null,null,null,null,null,null,null,null,null,0,0,0,0,30,null,null,null,null,null,0,0,0]
[null,null,null,"1870201","1870201","San Antonio HS","8702","1870201","Continuation High School",null,null,"f","f","f","f","f","E","E","no","5","Jackie Goldberg",null,null,"ECAST",null,null,null,null,null,null,null,null,null,0,0,0,0,103,null,null,null,null,null,0,0,0]
[null,null,null,"1872301","1872301","Rodia HS","8723","1872301","Continuation High School",null,null,"f","f","f","f","f","E","E","no","5","Jackie Goldberg",null,null,"ECAST",null,null,null,null,null,null,null,null,null,0,0,0,0,137,null,null,null,null,null,0,0,0]
[null,null,null,"1872601","1872601","AddaMS HS","8726","1872601","Continuation High School",null,null,"f","f","f","f","f","NW","NW","no","3","Scott Schmerelson",null,null,"ECAST",null,null,null,null,null,null,null,null,null,0,0,0,0,205,null,null,null,null,null,0,0,0]
[null,null,null,"1873101","1873101","Pueblo De LA HS","8731","1873101","Continuation High School",null,null,"f","f","f","f","f","E","E","no","2","Monica Garcia",null,null,"ECAST",null,null,null,null,null,null,null,null,null,0,0,0,0,74,null,null,null,null,null,0,0,0]
[null,null,null,"1875701","1875701","Metropolitan HS","8757","1875701","Continuation High School",null,null,"f","f","f","f","f","E","E","no","2","Monica Garcia",null,null,"ECAST",null,null,null,null,null,null,null,null,null,0,0,0,0,43,null,null,null,null,null,0,0,0]
[null,null,null,"1877001","1877001","Einstein HS","8770","1877001","Continuation High School",null,null,"f","f","f","f","f","NW","NW","no","6","Kelly Gonez",null,null,"ECAST",null,null,null,null,null,null,null,null,null,0,0,0,0,58,null,null,null,null,null,0,0,0]
[null,null,null,"1877701","1877701","Kahlo HS","8777","1877701","Continuation High School",null,null,"f","f","f","f","f","C","C","no","2","Monica Garcia","4x4",null,"ECAST",null,null,null,null,null,null,null,null,null,0,0,0,0,104,null,null,null,null,null,0,0,0]
[null,null,null,"1878101","1878101","Patton HS","8781","1878101","Continuation High School",null,null,"f","f","f","f","f","S","S","no","7","Tanya Ortiz Franklin",null,null,"ECAST",null,null,null,null,null,null,null,null,null,0,0,0,0,29,null,null,null,null,null,0,0,0]
[null,null,null,"1878801","1878801","Earhart HS","8788","1878801","Continuation High School",null,null,"f","f","f","f","f","NE","NE","no","3","Scott Schmerelson","4x4",null,"ECAST",null,null,null,null,null,null,null,null,null,0,0,0,0,41,null,null,null,null,null,0,0,0]
[null,null,null,"1880101","1880101","City Of Angels","8801","1880101","Independent Study",null,null,"f","f","f","f","f","XS","E","no","2","Monica Garcia",null,null,"ECAST",7,6,11,9,10,9,42,46,73,97,259,295,418,null,null,null,null,null,null,0,0,0]
[null,null,null,"1880102","1880102","City Of Angels Virtual Academy","7744","1880101","Independent Study",null,null,"f","f","f","f","f","XS","E","no","2","Monica Garcia",null,null,"ECAST",0,0,0,0,0,0,0,0,0,0,0,0,1,null,null,null,69,34,61,0,0,0]
[null,null,null,"1880103","1880103","City of Angels Virtual Academy 1","7898","1880101","Independent Study",null,null,"f","f","f","f","f","XS","E","no","2","Monica Garcia",null,null,"ECAST",22,27,30,27,27,31,23,15,15,17,22,18,18,null,null,null,23,10,15,0,0,0]
[null,null,null,"1880104","1880104","City of Angels Virtual Academy 2","7899","1880101","Independent Study",null,null,"f","f","f","f","f","XS","E","no","2","Monica Garcia",null,null,"ECAST",28,30,31,35,34,31,29,22,19,25,32,29,14,null,null,null,44,16,20,0,0,0]
[null,null,null,"1880105","1880105","City of Angels Virtual Academy 3","7900","1880101","Independent Study",null,null,"f","f","f","f","f","XS","E","no","2","Monica Garcia",null,null,"ECAST",28,37,37,39,36,32,23,22,23,20,26,23,16,null,null,null,19,12,10,0,0,0]
[null,null,null,"1880106","1880106","City of Angels Virtual Academy 4","7901","1880101","Independent Study",null,null,"f","f","f","f","f","XS","E","no","2","Monica Garcia",null,null,"ECAST",30,37,37,38,31,32,29,20,19,14,17,19,13,null,null,null,37,21,23,0,0,0]
[null,null,null,"1880107","1880107","City of Angels Virtual Academy 5","7902","1880101","Independent Study",null,null,"f","f","f","f","f","XS","E","no","2","Monica Garcia",null,null,"ECAST",30,40,38,45,44,44,28,24,20,22,28,26,12,null,null,null,49,14,8,0,0,0]
[null,null,null,"1880108","1880108","City of Angels Virtual Academy 6","7903","1880101","Independent Study",null,null,"f","f","f","f","f","XS","E","no","2","Monica Garcia",null,null,"ECAST",22,27,28,28,31,26,25,17,15,14,16,12,12,null,null,null,40,24,19,0,0,0]
[null,null,null,"1880701","1880701","Ramona HS","8807","1880701","Community Day School",null,null,"f","f","f","f","f","E","E","no","2","Monica Garcia","7 Period",null,"ECAST",null,null,null,null,null,null,null,0,0,8,12,8,5,null,null,null,null,null,null,0,0,0]
[null,null,null,"1881601","1881601","Grey HS","8816","1881601","Continuation High School",null,null,"f","f","f","f","f","NW","NW","no","4","Nick Melvoin",null,null,"ECAST",null,null,null,null,null,null,null,null,null,0,0,0,0,78,null,null,null,null,1,0,0,0]
[null,null,null,"1883101","1883101","Boyle Heights HS","8831","1883101","Continuation High School",null,null,"f","f","f","f","f","E","E","no","2","Monica Garcia","4x4",null,"ECAST",null,null,null,null,null,null,null,null,null,0,0,0,0,59,null,null,null,null,null,0,0,0]
[null,null,null,"1884501","1884501","Mission HS","8845","1884501","Continuation High School",null,null,"f","f","f","f","f","NE","NE","no","6","Kelly Gonez","4x4",null,"ECAST",null,null,null,null,null,null,null,null,null,0,0,0,0,77,null,null,null,null,null,0,0,0]
[null,null,null,"1885201","1885201","Angel's Gate HS","8852","1885201","Continuation High School",null,null,"f","f","f","f","f","S","S","no","7","Tanya Ortiz Franklin",null,null,"ECAST",null,null,null,null,null,null,null,null,null,0,0,0,0,74,null,null,null,null,null,0,0,0]
[null,null,null,"1887301","1887301","Odyssey HS","8873","1887301","Continuation High School",null,null,"f","f","f","f","f","E","E","no","5","Jackie Goldberg",null,null,"ECAST",null,null,null,null,null,null,null,null,null,0,0,0,0,76,null,null,null,null,null,0,0,0]
[null,null,null,{"$f":"E68","v":"1887601"},"1887601","Evergreen HS","8876","1887601","Continuation High School",null,null,"f","f","f","f","f","NE","NE","no","6","Kelly Gonez",null,null,"ECAST",null,null,null,null,null,null,null,null,null,0,0,0,0,46,null,null,null,null,4,0,0,0]
[null,null,null,"1888301","1888301","Thoreau HS","8883","1888301","Continuation High School",null,null,"f","f","f","f","f","NW","NW","no","4","Nick Melvoin",null,null,"ECAST",null,null,null,null,null,null,null,null,null,0,0,0,0,56,null,null,null,null,4,0,0,0]
[null,null,null,"1889501","1889501","Rogers HS","8895","1889501","Continuation High School",null,null,"f","f","f","f","f","NE","NE","no","3","Scott Schmerelson",null,null,"ECAST",null,null,null,null,null,null,null,null,null,0,0,0,0,135,null,null,null,null,18,0,0,0]
[null,null,null,"1890901","1890901","Phoenix HS","8909","1890901","Continuation High School",null,null,"f","f","f","f","f","W","W","no","4","Nick Melvoin","4x4",null,"ECAST",null,null,null,null,null,null,null,null,null,0,0,0,0,60,null,null,null,null,null,0,0,0]
[null,null,null,"1891601","1891601","Mt Lukens HS","8916","1891601","Continuation High School",null,null,"f","f","f","f","f","NE","NE","no","6","Kelly Gonez",null,null,"ECAST",null,null,null,null,null,null,null,null,null,0,0,0,0,19,null,null,null,null,null,0,0,0]
[null,null,null,"1893001","1893001","Ellington HS","8930","1893001","Continuation High School",null,null,"f","f","f","f","f","W","W","no","1","George McKenna",null,null,"ECAST",null,null,null,null,null,null,null,null,null,0,0,0,0,29,null,null,null,null,4,0,0,0]
[null,null,null,"1894801","1894801","Yth Opp Unltd Alt HS","8948","1894801","Opportunity School",null,null,"f","f","f","f","f","S","S","no","1","George McKenna","4x4",null,"ECAST",null,null,null,null,null,null,null,null,null,0,0,0,0,null,null,71,null,null,null,0,0,0]
[null,null,null,"1899101","1899101","CDS Tri-C","8991","1899101","Community Day School",null,null,"f","f","f","f","f","C","C","no","2","Monica Garcia",null,null,"ECAST",null,null,null,null,null,null,null,0,0,30,60,55,40,null,null,null,null,null,32,0,0,0]

{"sheet":"Grade 6 and School Type","index":12,"n_rows":15,"n_cols":15,"rows_kept":15,"cut":false,"hidden":true,"merged":[]}
["School Type",null,".5 Full Time Equivalent (FTE) for (a) elementary schools with enrollment below 500; (b) middle schools with enrollment below 1000; and (c) senior high schools with enrollment below 1700",null,"Elem",null,null,null,"Middle",null,null,null,"Senior"]
["Primary Center",null,"1 FTE for (a) elementary schools with enrollment of 500 and above; (b) middle schools with enrollment of 1000 and above; and (c) senior high schools with enrollment of 1700 and above",null,0,499,0.5,null,0,999,0.5,null,0,1699,0.5]
["Elementary School",null,null,null,500,9999,1,null,1000,9999,1,null,1700,9999,1]
["Elementary School, Magnet"]
["Middle School"]
["Middle School, Magnet"]
["Senior High School"]
["Senior High School, Magnet"]
["Span School"]
["Span Magnet School"]
[]
[]
["6th Grade Elem"]
["t"]
["f"]

{"sheet":"Enrollment & Allocations","index":13,"n_rows":49,"n_cols":19,"rows_kept":49,"cut":false,"hidden":true,"merged":[[44,8,44,9],[41,13,41,14],[42,13,42,14],[43,13,43,14],[44,13,44,14],[49,5,49,10],[49,12,49,14],[48,2,48,17],[6,5,6,8],[7,5,7,16],[18,5,18,8],[18,9,18,12],[18,13,18,16],[8,5,8,9],[8,10,8,12],[8,13,8,15],[40,13,40,14],[45,13,45,14],[41,8,41,9],[42,8,42,9],[43,8,43,9],[37,5,37,14],[38,6,38,13],[1,3,1,17],[2,3,2,17],[3,3,3,17],[27,5,27,14],[29,11,29,13],[29,7,29,9]]}
[null,null,null,null,null,null,null,null,null,null,null,null,null,null,null,null,null,null,"Not updated"]
[null,null,null,"E-CAST ENROLLMENT & ALLOCATIONS"]
[null,null,null,"Instructions: enter or select a value for field highlighted in blue to populate the Norm Day enrollment and allocations for your school(s)."]
[null,null,null,"Use the Position Simulator to project allocations based on enrollment or school attribute changes."]
[]
[]
[null,null,null,"Cost Center","1871301-Hawkins SH C/DAGS",{"$f":"IF(AND(D12=\"\",E7<>\"\"),\"Please check the cost center code\",\"\")","v":""}]
[null,null,null,null,"29.82 column width for 30 characters","2021-22 E-CAST Enrollment "]
[null,null,null,null,null,"General Education",null,null,null,null,"Special Day Program",null,null,"Pre-Kindergarten"]
[]
[null,null,null,"Cost Center","School Name","K-3","4-5(6)","6-8","9-10","9-12","SDP\nK-5(6)","SDP\n6-8","SDP\n9-12","Pre-K\nSP ED","State\nPreschool","TE (ETK)","Total"]
[null,null,{"$f":"IF(OR(LEFT($E$7,7)=\"1766501\",LEFT($E$7,7)=\"1766601\"),\"18713\"&\"01\"&1,LEFT($E$7,5)&\"01\"&1)","v":"18713011"},{"$f":"IFERROR(INDEX('Norm Enroll & FTEs'!B:B, MATCH('Enrollment & Allocations'!$C12,'Norm Enroll & FTEs'!$AE:$AE,0)),\"\")","v":"1766501"},{"$f":"IF($D12=\"\",\"\",(VLOOKUP($D12,'Norm Enroll & FTEs'!$B:$AB,2,FALSE)))","v":{"$error":"#N/A"}},{"$f":"IF($D12=\"\",\"\",(VLOOKUP($D12,'Norm Enroll & FTEs'!$B:$AB,4,FALSE)))","v":0},{"$f":"IF($D12=\"\",\"\",(VLOOKUP($D12,'Norm Enroll & FTEs'!$B:$AB,5,FALSE)))","v":0},{"$f":"IF($D12=\"\",\"\",(VLOOKUP($D12,'Norm Enroll & FTEs'!$B:$AB,6,FALSE)))","v":0},{"$f":"IF($D12=\"\",\"\",(VLOOKUP($D12,'Norm Enroll & FTEs'!$B:$AB,7,FALSE)))","v":0},{"$f":"IF($D12=\"\",\"\",(VLOOKUP($D12,'Norm Enroll & FTEs'!$B:$AB,8,FALSE)))","v":0},{"$f":"IF($D12=\"\",\"\",(VLOOKUP($D12,'Norm Enroll & FTEs'!$B:$AB,9,FALSE)))","v":0},{"$f":"IF($D12=\"\",\"\",(VLOOKUP($D12,'Norm Enroll & FTEs'!$B:$AB,10,FALSE)))","v":0},{"$f":"IF($D12=\"\",\"\",(VLOOKUP($D12,'Norm Enroll & FTEs'!$B:$AB,11,FALSE)))","v":0},{"$f":"IF($D12=\"\",\"\",(VLOOKUP($D12,'Norm Enroll & FTEs'!$B:$AB,12,FALSE)))","v":0},{"$f":"IF($D12=\"\",\"\",(VLOOKUP($D12,'Norm Enroll & FTEs'!$B:$AB,13,FALSE)))","v":0},{"$f":"IF($D12=\"\",\"\",(VLOOKUP($D12,'Norm Enroll & FTEs'!$B:$AB,14,FALSE)))","v":0},{"$f":"IF(D12=\"\",\"\",SUM(F12:H12)+SUM(J12:P12))","v":0}]
[null,null,{"$f":"IF(OR(LEFT($E$7,7)=\"1766501\",LEFT($E$7,7)=\"1766601\"),\"18713\"&\"01\"&2,LEFT($E$7,5)&\"01\"&2)","v":"18713012"},{"$f":"IFERROR(INDEX('Norm Enroll & FTEs'!B:B, MATCH('Enrollment & Allocations'!$C13,'Norm Enroll & FTEs'!$AE:$AE,0)),\"\")","v":"1766601"},{"$f":"IF($D13=\"\",\"\",(VLOOKUP($D13,'Norm Enroll & FTEs'!$B:$AB,2,FALSE)))","v":{"$error":"#N/A"}},{"$f":"IF($D13=\"\",\"\",(VLOOKUP($D13,'Norm Enroll & FTEs'!$B:$AB,4,FALSE)))","v":0},{"$f":"IF($D13=\"\",\"\",(VLOOKUP($D13,'Norm Enroll & FTEs'!$B:$AB,5,FALSE)))","v":0},{"$f":"IF($D13=\"\",\"\",(VLOOKUP($D13,'Norm Enroll & FTEs'!$B:$AB,6,FALSE)))","v":0},{"$f":"IF($D13=\"\",\"\",(VLOOKUP($D13,'Norm Enroll & FTEs'!$B:$AB,7,FALSE)))","v":0},{"$f":"IF($D13=\"\",\"\",(VLOOKUP($D13,'Norm Enroll & FTEs'!$B:$AB,8,FALSE)))","v":0},{"$f":"IF($D13=\"\",\"\",(VLOOKUP($D13,'Norm Enroll & FTEs'!$B:$AB,9,FALSE)))","v":0},{"$f":"IF($D13=\"\",\"\",(VLOOKUP($D13,'Norm Enroll & FTEs'!$B:$AB,10,FALSE)))","v":0},{"$f":"IF($D13=\"\",\"\",(VLOOKUP($D13,'Norm Enroll & FTEs'!$B:$AB,11,FALSE)))","v":0},{"$f":"IF($D13=\"\",\"\",(VLOOKUP($D13,'Norm Enroll & FTEs'!$B:$AB,12,FALSE)))","v":0},{"$f":"IF($D13=\"\",\"\",(VLOOKUP($D13,'Norm Enroll & FTEs'!$B:$AB,13,FALSE)))","v":0},{"$f":"IF($D13=\"\",\"\",(VLOOKUP($D13,'Norm Enroll & FTEs'!$B:$AB,14,FALSE)))","v":0},{"$f":"IF(D13=\"\",\"\",SUM(F13:H13)+SUM(J13:P13))","v":0}]
[null,null,{"$f":"IF(OR(LEFT($E$7,7)=\"1766501\",LEFT($E$7,7)=\"1766601\"),\"18713\"&\"01\"&3,LEFT($E$7,5)&\"01\"&3)","v":"18713013"},{"$f":"IFERROR(INDEX('Norm Enroll & FTEs'!B:B, MATCH('Enrollment & Allocations'!$C14,'Norm Enroll & FTEs'!$AE:$AE,0)),\"\")","v":"1871301"},{"$f":"IF($D14=\"\",\"\",(VLOOKUP($D14,'Norm Enroll & FTEs'!$B:$AB,2,FALSE)))","v":"Hawkins SH C/DAGS"},{"$f":"IF($D14=\"\",\"\",(VLOOKUP($D14,'Norm Enroll & FTEs'!$B:$AB,4,FALSE)))","v":0},{"$f":"IF($D14=\"\",\"\",(VLOOKUP($D14,'Norm Enroll & FTEs'!$B:$AB,5,FALSE)))","v":0},{"$f":"IF($D14=\"\",\"\",(VLOOKUP($D14,'Norm Enroll & FTEs'!$B:$AB,6,FALSE)))","v":0},{"$f":"IF($D14=\"\",\"\",(VLOOKUP($D14,'Norm Enroll & FTEs'!$B:$AB,7,FALSE)))","v":539},{"$f":"IF($D14=\"\",\"\",(VLOOKUP($D14,'Norm Enroll & FTEs'!$B:$AB,8,FALSE)))","v":1030},{"$f":"IF($D14=\"\",\"\",(VLOOKUP($D14,'Norm Enroll & FTEs'!$B:$AB,9,FALSE)))","v":0},{"$f":"IF($D14=\"\",\"\",(VLOOKUP($D14,'Norm Enroll & FTEs'!$B:$AB,10,FALSE)))","v":0},{"$f":"IF($D14=\"\",\"\",(VLOOKUP($D14,'Norm Enroll & FTEs'!$B:$AB,11,FALSE)))","v":13},{"$f":"IF($D14=\"\",\"\",(VLOOKUP($D14,'Norm Enroll & FTEs'!$B:$AB,12,FALSE)))","v":0},{"$f":"IF($D14=\"\",\"\",(VLOOKUP($D14,'Norm Enroll & FTEs'!$B:$AB,13,FALSE)))","v":0},{"$f":"IF($D14=\"\",\"\",(VLOOKUP($D14,'Norm Enroll & FTEs'!$B:$AB,14,FALSE)))","v":0},1043]
[null,null,{"$f":"IF(OR(LEFT($E$7,7)=\"1766501\",LEFT($E$7,7)=\"1766601\"),\"18713\"&\"01\"&4,LEFT($E$7,5)&\"01\"&4)","v":"18713014"},{"$f":"IFERROR(INDEX('Norm Enroll & FTEs'!B:B, MATCH('Enrollment & Allocations'!$C15,'Norm Enroll & FTEs'!$AE:$AE,0)),\"\")","v":""},{"$f":"IF($D15=\"\",\"\",(VLOOKUP($D15,'Norm Enroll & FTEs'!$B:$AB,2,FALSE)))","v":""},{"$f":"IF($D15=\"\",\"\",(VLOOKUP($D15,'Norm Enroll & FTEs'!$B:$AB,4,FALSE)))","v":""},{"$f":"IF($D15=\"\",\"\",(VLOOKUP($D15,'Norm Enroll & FTEs'!$B:$AB,5,FALSE)))","v":""},{"$f":"IF($D15=\"\",\"\",(VLOOKUP($D15,'Norm Enroll & FTEs'!$B:$AB,6,FALSE)))","v":""},{"$f":"IF($D15=\"\",\"\",(VLOOKUP($D15,'Norm Enroll & FTEs'!$B:$AB,7,FALSE)))","v":""},{"$f":"IF($D15=\"\",\"\",(VLOOKUP($D15,'Norm Enroll & FTEs'!$B:$AB,8,FALSE)))","v":""},{"$f":"IF($D15=\"\",\"\",(VLOOKUP($D15,'Norm Enroll & FTEs'!$B:$AB,9,FALSE)))","v":""},{"$f":"IF($D15=\"\",\"\",(VLOOKUP($D15,'Norm Enroll & FTEs'!$B:$AB,10,FALSE)))","v":""},{"$f":"IF($D15=\"\",\"\",(VLOOKUP($D15,'Norm Enroll & FTEs'!$B:$AB,11,FALSE)))","v":""},{"$f":"IF($D15=\"\",\"\",(VLOOKUP($D15,'Norm Enroll & FTEs'!$B:$AB,12,FALSE)))","v":""},{"$f":"IF($D15=\"\",\"\",(VLOOKUP($D15,'Norm Enroll & FTEs'!$B:$AB,13,FALSE)))","v":""},{"$f":"IF($D15=\"\",\"\",(VLOOKUP($D15,'Norm Enroll & FTEs'!$B:$AB,14,FALSE)))","v":""},""]
[null,null,{"$f":"IF(OR(LEFT($E$7,7)=\"1766501\",LEFT($E$7,7)=\"1766601\"),\"18713\"&\"01\"&5,LEFT($E$7,5)&\"01\"&5)","v":"18713015"},{"$f":"IFERROR(INDEX('Norm Enroll & FTEs'!B:B, MATCH('Enrollment & Allocations'!$C16,'Norm Enroll & FTEs'!$AE:$AE,0)),\"\")","v":""},{"$f":"IF($D16=\"\",\"\",(VLOOKUP($D16,'Norm Enroll & FTEs'!$B:$AB,2,FALSE)))","v":""},{"$f":"IF($D16=\"\",\"\",(VLOOKUP($D16,'Norm Enroll & FTEs'!$B:$AB,4,FALSE)))","v":""},{"$f":"IF($D16=\"\",\"\",(VLOOKUP($D16,'Norm Enroll & FTEs'!$B:$AB,5,FALSE)))","v":""},{"$f":"IF($D16=\"\",\"\",(VLOOKUP($D16,'Norm Enroll & FTEs'!$B:$AB,6,FALSE)))","v":""},{"$f":"IF($D16=\"\",\"\",(VLOOKUP($D16,'Norm Enroll & FTEs'!$B:$AB,7,FALSE)))","v":""},{"$f":"IF($D16=\"\",\"\",(VLOOKUP($D16,'Norm Enroll & FTEs'!$B:$AB,8,FALSE)))","v":""},{"$f":"IF($D16=\"\",\"\",(VLOOKUP($D16,'Norm Enroll & FTEs'!$B:$AB,9,FALSE)))","v":""},{"$f":"IF($D16=\"\",\"\",(VLOOKUP($D16,'Norm Enroll & FTEs'!$B:$AB,10,FALSE)))","v":""},{"$f":"IF($D16=\"\",\"\",(VLOOKUP($D16,'Norm Enroll & FTEs'!$B:$AB,11,FALSE)))","v":""},{"$f":"IF($D16=\"\",\"\",(VLOOKUP($D16,'Norm Enroll & FTEs'!$B:$AB,12,FALSE)))","v":""},{"$f":"IF($D16=\"\",\"\",(VLOOKUP($D16,'Norm Enroll & FTEs'!$B:$AB,13,FALSE)))","v":""},{"$f":"IF($D16=\"\",\"\",(VLOOKUP($D16,'Norm Enroll & FTEs'!$B:$AB,14,FALSE)))","v":""},""]
[null,null,"formula updated for Hawkins"]
[]
[null,null,null,null,null,"2021-22 E-CAST Allocations",null,null,null,"2020-21 Norm Day Allocations",null,null,null,"Gain/Loss"]
[null,null,null,"Cost Center","School Name","Teacher","Admin ","Counselor ","Clerical ","Teacher","Admin ","Counselor ","Clerical ","Teacher","Admin ","Counselor ","Clerical "]
[null,null,null,{"$f":"D12","v":"1766501"},{"$error":"#N/A"},{"$f":"IF($D21=\"\",\"\",(VLOOKUP($D21,'Norm Enroll & FTEs'!$B:$AK,21,FALSE)))","v":0},{"$f":"IF($D21=\"\",\"\",(VLOOKUP($D21,'Norm Enroll & FTEs'!$B:$AK,31,FALSE)))","v":0},{"$f":"IF($D21=\"\",\"\",(VLOOKUP($D21,'Norm Enroll & FTEs'!$B:$AK,32,FALSE)))","v":0},{"$f":"IF($D21=\"\",\"\",(VLOOKUP($D21,'Norm Enroll & FTEs'!$B:$AK,33,FALSE)))","v":0},{"$f":"IF($D21=\"\",\"\",(VLOOKUP($D21,'Norm Enroll & FTEs'!$B:$AK,27,FALSE)))","v":14},{"$f":"IF($D21=\"\",\"\",(VLOOKUP($D21,'Norm Enroll & FTEs'!$B:$AK,34,FALSE)))","v":1},{"$f":"IF($D21=\"\",\"\",(VLOOKUP($D21,'Norm Enroll & FTEs'!$B:$AK,35,FALSE)))","v":1},{"$f":"IF($D21=\"\",\"\",(VLOOKUP($D21,'Norm Enroll & FTEs'!$B:$AK,36,FALSE)))","v":2},{"$f":"IF($D21=\"\",\"\",F21-J21)","v":-14},-1,-1,-2]
[null,null,null,"1766601",{"$error":"#N/A"},{"$f":"IF($D22=\"\",\"\",(VLOOKUP($D22,'Norm Enroll & FTEs'!$B:$AK,21,FALSE)))","v":0},{"$f":"IF($D22=\"\",\"\",(VLOOKUP($D22,'Norm Enroll & FTEs'!$B:$AK,31,FALSE)))","v":0},{"$f":"IF($D22=\"\",\"\",(VLOOKUP($D22,'Norm Enroll & FTEs'!$B:$AK,32,FALSE)))","v":0},{"$f":"IF($D22=\"\",\"\",(VLOOKUP($D22,'Norm Enroll & FTEs'!$B:$AK,33,FALSE)))","v":0},{"$f":"IF($D22=\"\",\"\",(VLOOKUP($D22,'Norm Enroll & FTEs'!$B:$AK,27,FALSE)))","v":8},{"$f":"IF($D22=\"\",\"\",(VLOOKUP($D22,'Norm Enroll & FTEs'!$B:$AK,34,FALSE)))","v":1},{"$f":"IF($D22=\"\",\"\",(VLOOKUP($D22,'Norm Enroll & FTEs'!$B:$AK,35,FALSE)))","v":0.5},{"$f":"IF($D22=\"\",\"\",(VLOOKUP($D22,'Norm Enroll & FTEs'!$B:$AK,36,FALSE)))","v":2},-8,-1,-0.5,-2]
[null,null,null,"1871301","Hawkins SH C/DAGS",{"$f":"IF($D23=\"\",\"\",(VLOOKUP($D23,'Norm Enroll & FTEs'!$B:$AK,21,FALSE)))","v":37},{"$f":"IF($D23=\"\",\"\",(VLOOKUP($D23,'Norm Enroll & FTEs'!$B:$AK,31,FALSE)))","v":2},{"$f":"IF($D23=\"\",\"\",(VLOOKUP($D23,'Norm Enroll & FTEs'!$B:$AK,32,FALSE)))","v":2},{"$f":"IF($D23=\"\",\"\",(VLOOKUP($D23,'Norm Enroll & FTEs'!$B:$AK,33,FALSE)))","v":3},{"$f":"IF($D23=\"\",\"\",(VLOOKUP($D23,'Norm Enroll & FTEs'!$B:$AK,27,FALSE)))","v":16},{"$f":"IF($D23=\"\",\"\",(VLOOKUP($D23,'Norm Enroll & FTEs'!$B:$AK,34,FALSE)))","v":1},{"$f":"IF($D23=\"\",\"\",(VLOOKUP($D23,'Norm Enroll & FTEs'!$B:$AK,35,FALSE)))","v":1},{"$f":"IF($D23=\"\",\"\",(VLOOKUP($D23,'Norm Enroll & FTEs'!$B:$AK,36,FALSE)))","v":2},21,1,1,1]
[null,null,null,"","",{"$f":"IF($D24=\"\",\"\",(VLOOKUP($D24,'Norm Enroll & FTEs'!$B:$AK,21,FALSE)))","v":""},{"$f":"IF($D24=\"\",\"\",(VLOOKUP($D24,'Norm Enroll & FTEs'!$B:$AK,31,FALSE)))","v":""},{"$f":"IF($D24=\"\",\"\",(VLOOKUP($D24,'Norm Enroll & FTEs'!$B:$AK,32,FALSE)))","v":""},{"$f":"IF($D24=\"\",\"\",(VLOOKUP($D24,'Norm Enroll & FTEs'!$B:$AK,33,FALSE)))","v":""},{"$f":"IF($D24=\"\",\"\",(VLOOKUP($D24,'Norm Enroll & FTEs'!$B:$AK,27,FALSE)))","v":""},{"$f":"IF($D24=\"\",\"\",(VLOOKUP($D24,'Norm Enroll & FTEs'!$B:$AK,34,FALSE)))","v":""},{"$f":"IF($D24=\"\",\"\",(VLOOKUP($D24,'Norm Enroll & FTEs'!$B:$AK,35,FALSE)))","v":""},{"$f":"IF($D24=\"\",\"\",(VLOOKUP($D24,'Norm Enroll & FTEs'!$B:$AK,36,FALSE)))","v":""},{"$f":"IF($D24=\"\",\"\",F24-J24)","v":""},{"$f":"IF($D24=\"\",\"\",G24-K24)","v":""},{"$f":"IF($D24=\"\",\"\",H24-L24)","v":""},{"$f":"IF($D24=\"\",\"\",I24-M24)","v":""}]
[null,null,null,"","",{"$f":"IF($D25=\"\",\"\",(VLOOKUP($D25,'Norm Enroll & FTEs'!$B:$AK,21,FALSE)))","v":""},{"$f":"IF($D25=\"\",\"\",(VLOOKUP($D25,'Norm Enroll & FTEs'!$B:$AK,31,FALSE)))","v":""},{"$f":"IF($D25=\"\",\"\",(VLOOKUP($D25,'Norm Enroll & FTEs'!$B:$AK,32,FALSE)))","v":""},{"$f":"IF($D25=\"\",\"\",(VLOOKUP($D25,'Norm Enroll & FTEs'!$B:$AK,33,FALSE)))","v":""},{"$f":"IF($D25=\"\",\"\",(VLOOKUP($D25,'Norm Enroll & FTEs'!$B:$AK,27,FALSE)))","v":""},{"$f":"IF($D25=\"\",\"\",(VLOOKUP($D25,'Norm Enroll & FTEs'!$B:$AK,34,FALSE)))","v":""},{"$f":"IF($D25=\"\",\"\",(VLOOKUP($D25,'Norm Enroll & FTEs'!$B:$AK,35,FALSE)))","v":""},{"$f":"IF($D25=\"\",\"\",(VLOOKUP($D25,'Norm Enroll & FTEs'!$B:$AK,36,FALSE)))","v":""},"","","",""]
[]
[]
[null,null,null,null,null,"Off Norm Approvals"]
[]
[null,null,null,null,null,null,null,"2021-22 ECAST",null,null,null,"2020-21 Norm Day"]
[null,null,null,null,null,null,null,null,"Teacher",null,null,"Teacher",null,"Counselor "]
[null,null,null,null,null,null,null,null,{"$f":"IFERROR(IF($D12=\"\",\"\",VLOOKUP(LEFT($E$7,5)&\"01\",'Pivot Norm'!$M:$N,2,FALSE)),0)","v":0},null,null,{"$f":"IFERROR(IF($D12=\"\",\"\",VLOOKUP(LEFT($E$7,5)&\"01\",'Pivot Norm'!$D:$G,4,FALSE)),0)","v":1},null,{"$f":"IFERROR(IF($D12=\"\",\"\",VLOOKUP(LEFT($E$7,5)&\"01\",'Pivot Norm'!$I:$J,2,FALSE)),0)","v":0}]
[]
[]
[]
[]
[]
[null,null,null,null,null,"E-CAST Campus Summary"]
[null,null,null,null,null,null,"(total enrollment and FTEs, including off norm, for all sites within the campus)"]
[]
[null,null,null,null,null,"Enrollment Group",null,null,"E-CAST Enrollment",null,null,"Allocations",null,"E-CAST FTEs"]
[null,null,null,null,null,"Total K-12 General Ed ",null,null,{"$f":"IF($D12=\"\",\"\",SUMIF(F12:H16,\"<>\",F12:H16)+SUMIF(J12:J16,\"<>\",J12:J16))","v":1030},null,null,"Teacher",null,{"$f":"IF($D12=\"\",\"\",SUMIF(F21:F25,\"<>\",F21:F25)+SUMIF(I32,\"<>\",I32))","v":37}]
[null,null,null,null,null,"Total K-12 SDP",null,null,{"$f":"IF($D12=\"\",\"\",SUMIF(K12:M16,\"<>\",K12:M16))","v":13},null,null,"Administrator",null,{"$f":"IF($D12=\"\",\"\",SUMIF(G21:G25,\"<>\",G21:G25))","v":2}]
[null,null,null,null,null,"Total Pre-Kindergarten",null,null,{"$f":"IF($D12=\"\",\"\",SUMIF(N12:P16,\"<>\",N12:P16))","v":0},null,null,"Counselor",null,{"$f":"IF($D12=\"\",\"\",SUMIF(H21:H25,\"<>\",H21:H25))","v":2}]
[null,null,null,null,null,"Grand Total",null,null,{"$f":"IF($D12=\"\",\"\",SUM(I42:I44))","v":1043},null,null,"Clerical Support",null,{"$f":"IF($D12=\"\",\"\",SUMIF(I21:I25,\"<>\",I21:I25))","v":3}]
[null,null,null,null,null,null,null,null,null,null,null,"Grand Total",null,{"$f":"IF($D12=\"\",\"\",SUM(N42:N45))","v":44}]
[]
[]
[null,null,"SUBJECT TO CHANGE"]

{"sheet":"Pivot Norm","index":14,"n_rows":719,"n_cols":14,"rows_kept":719,"cut":false,"hidden":true,"merged":[]}
[]
[]
["Home School","Count of Cost Center",null,"Home School","Sum of 20-21 ND Hold Harmless","Sum of 20-21 ND Mitigation Positions","Total",null,"Home School","Sum of 20-21 ND Counselors (Plus 17)",null,null,"Home School","Sum of 21-22 ECAST Tchr Appeals"]
["1194901",1,null,"1194901",1,0,{"$f":"E4+F4","v":1},null,"1194901",0,null,null,"1194901",0]
["1201401",1,null,"1201401",0,0,{"$f":"E5+F5","v":0},null,"1201401",0,null,null,"1201401",0]
["1202701",2,null,"1202701",1,1,2,null,"1202701",0,null,null,"1202701",0]
["1204101",2,null,"1204101",1,0,1,null,"1204101",0,null,null,"1204101",0]
["1204201",2,null,"1204201",0,0,0,null,"1204201",0,null,null,"1204201",0]
["1206801",2,null,"1206801",0,0,0,null,"1206801",0,null,null,"1206801",0]
["1208201",2,null,"1208201",0,0,0,null,"1208201",0,null,null,"1208201",0]
["1208901",3,null,"1208901",1,0,1,null,"1208901",0,null,null,"1208901",0]
["1209601",3,null,"1209601",0,0,0,null,"1209601",0,null,null,"1209601",0]
["1211001",1,null,"1211001",0,0,0,null,"1211001",0,null,null,"1211001",0]
["1211701",1,null,"1211701",1,0,1,null,"1211701",0,null,null,"1211701",0]
["1212301",2,null,"1212301",0,0,0,null,"1212301",0,null,null,"1212301",0]
["1213701",1,null,"1213701",1,0,1,null,"1213701",0,null,null,"1213701",0]
["1214601",2,null,"1214601",0,0,0,null,"1214601",0,null,null,"1214601",0]
["1215101",1,null,"1215101",0,0,0,null,"1215101",0,null,null,"1215101",0]
["1216401",1,null,"1216401",0,0,0,null,"1216401",0,null,null,"1216401",0]
["1217801",1,null,"1217801",0,0,0,null,"1217801",0,null,null,"1217801",0]
["1219201",2,null,"1219201",1,0,1,null,"1219201",0,null,null,"1219201",0]
["1220501",1,null,"1220501",0,0,0,null,"1220501",0,null,null,"1220501",1]
["1221901",1,null,"1221901",1,0,1,null,"1221901",0,null,null,"1221901",0]
["1223301",2,null,"1223301",1,0,1,null,"1223301",0,null,null,"1223301",0]
["1224701",1,null,"1224701",0,0,0,null,"1224701",0,null,null,"1224701",0]
["1225001",1,null,"1225001",0,0,0,null,"1225001",0,null,null,"1225001",0]
["1226901",1,null,"1226901",0,0,0,null,"1226901",0,null,null,"1226901",0]
["1227401",2,null,"1227401",0,0,0,null,"1227401",0,null,null,"1227401",0]
["1228801",2,null,"1228801",0,0,0,null,"1228801",0,null,null,"1228801",0]
["1230101",2,null,"1230101",0,0,0,null,"1230101",0,null,null,"1230101",0]
["1230201",1,null,"1230201",0,1,1,null,"1230201",0,null,null,"1230201",0]
["1230301",2,null,"1230301",0,0,0,null,"1230301",0,null,null,"1230301",0]
["1230601",1,null,"1230601",1,2,3,null,"1230601",0,null,null,"1230601",0]
["1230701",1,null,"1230701",0,0,0,null,"1230701",0,null,null,"1230701",0]
["1230801",1,null,"1230801",0,0,0,null,"1230801",0,null,null,"1230801",0]
["1230901",2,null,"1230901",0,0,0,null,"1230901",0,null,null,"1230901",0]
["1231101",1,null,"1231101",1,0,1,null,"1231101",0,null,null,"1231101",0]
["1231201",1,null,"1231201",1,0,1,null,"1231201",0,null,null,"1231201",0]
["1231301",1,null,"1231301",0,0,0,null,"1231301",0,null,null,"1231301",0]
["1231501",2,null,"1231501",1,0,1,null,"1231501",0,null,null,"1231501",0]
["1232301",2,null,"1232301",1,1,2,null,"1232301",0,null,null,"1232301",0]
["1232901",1,null,"1232901",0,0,0,null,"1232901",0,null,null,"1232901",0]
["1233501",1,null,"1233501",1,0,1,null,"1233501",0,null,null,"1233501",1]
["1234201",1,null,"1234201",1,1,2,null,"1234201",0,null,null,"1234201",0]
["1236901",3,null,"1236901",0,0,0,null,"1236901",0,null,null,"1236901",0]
["1237201",2,null,"1237201",1,0,1,null,"1237201",0,null,null,"1237201",0]
["1237501",2,null,"1237501",0,0,0,null,"1237501",0,null,null,"1237501",0]
["1237801",2,null,"1237801",2,0,2,null,"1237801",0,null,null,"1237801",0]
["1238101",2,null,"1238101",0,0,0,null,"1238101",0,null,null,"1238101",0]
["1238301",1,null,"1238301",0,1,1,null,"1238301",0,null,null,"1238301",0]
["1238401",1,null,"1238401",0,0,0,null,"1238401",0,null,null,"1238401",0]
["1238501",2,null,"1238501",0,1,1,null,"1238501",0,null,null,"1238501",0]
["1238601",1,null,"1238601",0,0,0,null,"1238601",0,null,null,"1238601",0]
["1239101",2,null,"1239101",0,0,0,null,"1239101",0,null,null,"1239101",0]
["1239201",1,null,"1239201",0,0,0,null,"1239201",0,null,null,"1239201",0]
["1239301",1,null,"1239301",1,0,1,null,"1239301",0,null,null,"1239301",0]
["1239701",1,null,"1239701",2,0,2,null,"1239701",0,null,null,"1239701",0]
["1243801",1,null,"1243801",0,0,0,null,"1243801",0,null,null,"1243801",0]
["1247001",1,null,"1247001",1,0,1,null,"1247001",0,null,null,"1247001",0]
["1247301",1,null,"1247301",0,0,0,null,"1247301",0,null,null,"1247301",1]
["1247901",3,null,"1247901",1,0,1,null,"1247901",0,null,null,"1247901",1]
["1248601",1,null,"1248601",0,0,0,null,"1248601",0,null,null,"1248601",0]
["1249301",1,null,"1249301",1,0,1,null,"1249301",0,null,null,"1249301",0]
["1250701",1,null,"1250701",0,0,0,null,"1250701",0,null,null,"1250701",0]
["1252101",1,null,"1252101",1,0,1,null,"1252101",0,null,null,"1252101",0]
["1252701",2,null,"1252701",0,0,0,null,"1252701",0,null,null,"1252701",0]
["1253001",2,null,"1253001",1,0,1,null,"1253001",0,null,null,"1253001",0]
["1253401",3,null,"1253401",1,0,1,null,"1253401",0,null,null,"1253401",0]
["1254201",2,null,"1254201",0,0,{"$f":"E69+F69","v":0},null,"1254201",0,null,null,"1254201",0]
["1254301",1,null,"1254301",0,0,0,null,"1254301",0,null,null,"1254301",0]
["1254401",2,null,"1254401",2,0,2,null,"1254401",0,null,null,"1254401",0]
["1254801",1,null,"1254801",0,0,0,null,"1254801",0,null,null,"1254801",0]
["1256201",1,null,"1256201",1,0,1,null,"1256201",0,null,null,"1256201",0]
["1258901",2,null,"1258901",1,0,1,null,"1258901",0,null,null,"1258901",0]
["1260301",3,null,"1260301",0,0,0,null,"1260301",0,null,null,"1260301",0]
["1261601",1,null,"1261601",1,1,2,null,"1261601",0,null,null,"1261601",0]
["1261901",1,null,"1261901",0,0,0,null,"1261901",0,null,null,"1261901",0]
["1263001",2,null,"1263001",0,0,0,null,"1263001",0,null,null,"1263001",0]
["1264401",2,null,"1264401",0,0,0,null,"1264401",0,null,null,"1264401",0]
["1265801",1,null,"1265801",1,0,1,null,"1265801",0,null,null,"1265801",0]
["1267101",2,null,"1267101",1,0,1,null,"1267101",0,null,null,"1267101",0]
["1268501",2,null,"1268501",0,0,0,null,"1268501",0,null,null,"1268501",0]
["1269901",3,null,"1269901",2,0,2,null,"1269901",0,null,null,"1269901",0]
["1270101",3,null,"1270101",0,0,0,null,"1270101",0,null,null,"1270101",0]
["1270401",1,null,"1270401",0,0,0,null,"1270401",0,null,null,"1270401",0]
["1270601",1,null,"1270601",0,0,0,null,"1270601",0,null,null,"1270601",0]
["1271201",1,null,"1271201",2,0,2,null,"1271201",0,null,null,"1271201",0]
["1272601",2,null,"1272601",0,0,0,null,"1272601",0,null,null,"1272601",0]
["1274001",1,null,"1274001",1,0,1,null,"1274001",0,null,null,"1274001",0]
["1274101",1,null,"1274101",0,0,0,null,"1274101",0,null,null,"1274101",0]
["1275301",1,null,"1275301",0,0,0,null,"1275301",0,null,null,"1275301",0]
["1276701",2,null,"1276701",1,0,1,null,"1276701",0,null,null,"1276701",0]
["1278101",2,null,"1278101",2,0,2,null,"1278101",0,null,null,"1278101",0]
["1279501",1,null,"1279501",1,0,1,null,"1279501",0,null,null,"1279501",0]
["1280201",1,null,"1280201",0,0,0,null,"1280201",0,null,null,"1280201",0]
["1281501",1,null,"1281501",0,2,2,null,"1281501",0,null,null,"1281501",0]
["1282201",1,null,"1282201",2,2,4,null,"1282201",0,null,null,"1282201",3]
["1283601",1,null,"1283601",0,0,0,null,"1283601",0,null,null,"1283601",1]
["1284901",1,null,"1284901",0,0,0,null,"1284901",0,null,null,"1284901",0]
["1286301",2,null,"1286301",1,0,1,null,"1286301",0,null,null,"1286301",0]
["1287701",2,null,"1287701",0,0,0,null,"1287701",0,null,null,"1287701",0]
["1288101",1,null,"1288101",2,0,2,null,"1288101",0,null,null,"1288101",0]
["1289001",2,null,"1289001",2,0,2,null,"1289001",0,null,null,"1289001",0]
["1293901",2,null,"1293901",0,0,0,null,"1293901",0,null,null,"1293901",0]
["1294201",1,null,"1294201",0,1,1,null,"1294201",0,null,null,"1294201",0]
["1294301",1,null,"1294301",0,0,0,null,"1294301",0,null,null,"1294301",0]
["1294401",1,null,"1294401",0,0,0,null,"1294401",0,null,null,"1294401",0]
["1294501",1,null,"1294501",0,0,0,null,"1294501",0,null,null,"1294501",0]
["1295901",1,null,"1295901",1,0,1,null,"1295901",0,null,null,"1295901",1]
["1298601",2,null,"1298601",2,0,2,null,"1298601",0,null,null,"1298601",0]
["1300201",1,null,"1300201",0,0,0,null,"1300201",0,null,null,"1300201",0]
["1301401",1,null,"1301401",1,0,1,null,"1301401",0,null,null,"1301401",0]
["1302701",1,null,"1302701",0,0,0,null,"1302701",0,null,null,"1302701",0]
["1304101",1,null,"1304101",0,0,0,null,"1304101",0,null,null,"1304101",0]
["1306801",2,null,"1306801",1,0,1,null,"1306801",0,null,null,"1306801",0]
["1308201",2,null,"1308201",0,0,0,null,"1308201",0,null,null,"1308201",0]
["1309601",2,null,"1309601",1,0,1,null,"1309601",0,null,null,"1309601",0]
["1311001",1,null,"1311001",0,0,0,null,"1311001",0,null,null,"1311001",0]
["1312301",1,null,"1312301",0,1,1,null,"1312301",0,null,null,"1312301",2]
["1313701",2,null,"1313701",0,0,0,null,"1313701",0,null,null,"1313701",0]
["1315101",2,null,"1315101",1,0,1,null,"1315101",0,null,null,"1315101",0]
["1316401",1,null,"1316401",1,0,1,null,"1316401",0,null,null,"1316401",1]
["1317801",1,null,"1317801",0,0,0,null,"1317801",0,null,null,"1317801",0]
["1319201",2,null,"1319201",1,0,1,null,"1319201",0,null,null,"1319201",0]
["1320501",1,null,"1320501",0,0,0,null,"1320501",0,null,null,"1320501",0]
["1321001",2,null,"1321001",1,0,1,null,"1321001",0,null,null,"1321001",0]
["1321901",1,null,"1321901",0,0,0,null,"1321901",0,null,null,"1321901",0]
["1322001",1,null,"1322001",1,1,2,null,"1322001",0,null,null,"1322001",0]
["1324701",2,null,"1324701",1,0,1,null,"1324701",0,null,null,"1324701",0]
["1326001",3,null,"1326001",0,0,0,null,"1326001",0,null,null,"1326001",0]
["1328801",1,null,"1328801",0,2,2,null,"1328801",0,null,null,"1328801",1]
["1330201",1,null,"1330201",1,0,1,null,"1330201",0,null,null,"1330201",0]
["1331101",1,null,"1331101",0,0,{"$f":"E133+F133","v":0},null,"1331101",0,null,null,"1331101",0]
["1331501",1,null,"1331501",0,0,0,null,"1331501",0,null,null,"1331501",1]
["1332901",1,null,"1332901",0,0,0,null,"1332901",0,null,null,"1332901",0]
["1333501",1,null,"1333501",1,0,1,null,"1333501",0,null,null,"1333501",0]
["1334001",1,null,"1334001",1,0,1,null,"1334001",0,null,null,"1334001",0]
["1335601",2,null,"1335601",0,0,0,null,"1335601",0,null,null,"1335601",0]
["1337701",1,null,"1337701",0,0,0,null,"1337701",0,null,null,"1337701",0]
["1338401",1,null,"1338401",0,0,0,null,"1338401",0,null,null,"1338401",0]
["1339701",1,null,"1339701",1,0,1,null,"1339701",0,null,null,"1339701",0]
["1342501",2,null,"1342501",1,1,2,null,"1342501",0,null,null,"1342501",0]
["1342601",1,null,"1342601",0,0,0,null,"1342601",0,null,null,"1342601",0]
["1343801",1,null,"1343801",1,0,1,null,"1343801",0,null,null,"1343801",1]
["1345201",1,null,"1345201",1,0,1,null,"1345201",0,null,null,"1345201",0]
["1346601",2,null,"1346601",0,0,0,null,"1346601",0,null,null,"1346601",1]
["1347901",1,null,"1347901",0,0,0,null,"1347901",0,null,null,"1347901",0]
["1349301",1,null,"1349301",0,0,0,null,"1349301",0,null,null,"1349301",0]
["1350001",1,null,"1350001",1,0,1,null,"1350001",0,null,null,"1350001",0]
["1350701",3,null,"1350701",0,1,1,null,"1350701",0,null,null,"1350701",0]
["1352101",2,null,"1352101",1,0,1,null,"1352101",0,null,null,"1352101",0]
["1354101",1,null,"1354101",1,0,1,null,"1354101",0,null,null,"1354101",0]
["1354501",1,null,"1354501",1,0,1,null,"1354501",0,null,null,"1354501",0]
["1354801",2,null,"1354801",2,0,2,null,"1354801",0,null,null,"1354801",0]
["1356201",1,null,"1356201",0,0,0,null,"1356201",0,null,null,"1356201",0]
["1357401",2,null,"1357401",1,0,1,null,"1357401",0,null,null,"1357401",0]
["1357501",1,null,"1357501",0,0,0,null,"1357501",0,null,null,"1357501",0]
["1357601",1,null,"1357601",0,0,0,null,"1357601",0,null,null,"1357601",0]
["1357701",1,null,"1357701",1,0,1,null,"1357701",0,null,null,"1357701",0]
["1358901",1,null,"1358901",0,0,0,null,"1358901",0,null,null,"1358901",1]
["1361001",1,null,"1361001",0,0,0,null,"1361001",0,null,null,"1361001",0]
["1361601",1,null,"1361601",1,0,1,null,"1361601",0,null,null,"1361601",2]
["1363001",1,null,"1363001",0,1,1,null,"1363001",0,null,null,"1363001",1]
["1364001",1,null,"1364001",0,0,0,null,"1364001",0,null,null,"1364001",0]
["1367101",3,null,"1367101",0,0,0,null,"1367101",0,null,null,"1367101",0]
["1369901",1,null,"1369901",1,1,2,null,"1369901",0,null,null,"1369901",0]
["1371201",1,null,"1371201",0,1,1,null,"1371201",0,null,null,"1371201",1]
["1372601",1,null,"1372601",1,0,1,null,"1372601",0,null,null,"1372601",0]
["1374001",2,null,"1374001",0,0,0,null,"1374001",0,null,null,"1374001",0]
["1375301",2,null,"1375301",1,0,1,null,"1375301",0,null,null,"1375301",0]
["1376701",1,null,"1376701",1,0,1,null,"1376701",0,null,null,"1376701",0]
["1378101",1,null,"1378101",0,0,0,null,"1378101",0,null,null,"1378101",0]
["1379501",1,null,"1379501",0,0,0,null,"1379501",0,null,null,"1379501",0]
["1380801",1,null,"1380801",0,0,0,null,"1380801",0,null,null,"1380801",0]
["1382201",1,null,"1382201",0,0,0,null,"1382201",0,null,null,"1382201",0]
["1382901",2,null,"1382901",0,0,0,null,"1382901",0,null,null,"1382901",0]
["1383601",1,null,"1383601",1,0,1,null,"1383601",0,null,null,"1383601",0]
["1384901",2,null,"1384901",0,0,0,null,"1384901",0,null,null,"1384901",0]
["1387701",2,null,"1387701",0,1,1,null,"1387701",0,null,null,"1387701",1]
["1389001",2,null,"1389001",2,1,3,null,"1389001",0,null,null,"1389001",0]
["1391801",2,null,"1391801",1,1,2,null,"1391801",0,null,null,"1391801",0]
["1393201",1,null,"1393201",0,0,0,null,"1393201",0,null,null,"1393201",0]
["1395901",2,null,"1395901",0,0,0,null,"1395901",0,null,null,"1395901",0]
["1397301",2,null,"1397301",0,0,0,null,"1397301",0,null,null,"1397301",0]
["1397401",2,null,"1397401",0,0,0,null,"1397401",0,null,null,"1397401",0]
["1398601",1,null,"1398601",0,0,0,null,"1398601",0,null,null,"1398601",0]
["1401401",1,null,"1401401",0,0,0,null,"1401401",0,null,null,"1401401",0]
["1402001",1,null,"1402001",0,0,0,null,"1402001",0,null,null,"1402001",0]
["1402701",2,null,"1402701",3,0,3,null,"1402701",0,null,null,"1402701",1]
["1404101",2,null,"1404101",0,0,0,null,"1404101",0,null,null,"1404101",0]
["1405501",1,null,"1405501",1,1,2,null,"1405501",0,null,null,"1405501",0]
["1406801",1,null,"1406801",0,0,0,null,"1406801",0,null,null,"1406801",0]
["1408201",1,null,"1408201",0,0,0,null,"1408201",0,null,null,"1408201",0]
["1409601",3,null,"1409601",1,0,1,null,"1409601",0,null,null,"1409601",0]
["1411001",1,null,"1411001",0,0,0,null,"1411001",0,null,null,"1411001",0]
["1411701",1,null,"1411701",0,2,2,null,"1411701",0,null,null,"1411701",0]
["1412301",1,null,"1412301",0,0,{"$f":"E197+F197","v":0},null,"1412301",0,null,null,"1412301",0]
["1413001",2,null,"1413001",0,0,0,null,"1413001",0,null,null,"1413001",0]
["1413701",1,null,"1413701",0,0,0,null,"1413701",0,null,null,"1413701",0]
["1416401",1,null,"1416401",2,0,2,null,"1416401",0,null,null,"1416401",0]
["1419201",1,null,"1419201",0,0,0,null,"1419201",0,null,null,"1419201",0]
["1421901",2,null,"1421901",0,0,0,null,"1421901",0,null,null,"1421901",0]
["1423301",1,null,"1423301",1,0,1,null,"1423301",0,null,null,"1423301",0]
["1424701",2,null,"1424701",1,0,1,null,"1424701",0,null,null,"1424701",0]
["1426001",2,null,"1426001",1,0,1,null,"1426001",0,null,null,"1426001",0]
["1427401",1,null,"1427401",0,0,0,null,"1427401",0,null,null,"1427401",0]
["1429501",2,null,"1429501",0,0,0,null,"1429501",0,null,null,"1429501",0]
["1430101",1,null,"1430101",1,0,1,null,"1430101",0,null,null,"1430101",0]
["1431501",2,null,"1431501",0,0,0,null,"1431501",0,null,null,"1431501",0]
["1432201",1,null,"1432201",0,0,0,null,"1432201",0,null,null,"1432201",0]
["1432901",2,null,"1432901",0,0,0,null,"1432901",0,null,null,"1432901",0]
["1434201",1,null,"1434201",0,0,0,null,"1434201",0,null,null,"1434201",0]
["1434901",1,null,"1434901",1,0,1,null,"1434901",0,null,null,"1434901",0]
["1435601",2,null,"1435601",0,0,0,null,"1435601",0,null,null,"1435601",0]
["1439701",1,null,"1439701",0,2,2,null,"1439701",0,null,null,"1439701",0]
["1442501",1,null,"1442501",1,0,1,null,"1442501",0,null,null,"1442501",0]
["1443101",1,null,"1443101",1,0,1,null,"1443101",0,null,null,"1443101",0]
["1443801",2,null,"1443801",0,0,0,null,"1443801",0,null,null,"1443801",0]
["1444501",1,null,"1444501",1,0,1,null,"1444501",0,null,null,"1444501",0]
["1445201",1,null,"1445201",0,0,0,null,"1445201",0,null,null,"1445201",0]
["1446601",2,null,"1446601",0,0,0,null,"1446601",0,null,null,"1446601",0]
["1447301",1,null,"1447301",0,0,0,null,"1447301",0,null,null,"1447301",0]
["1449301",2,null,"1449301",1,0,1,null,"1449301",0,null,null,"1449301",0]
["1450701",1,null,"1450701",0,0,0,null,"1450701",0,null,null,"1450701",0]
["1451501",1,null,"1451501",0,0,0,null,"1451501",0,null,null,"1451501",0]
["1452101",1,null,"1452101",0,0,0,null,"1452101",0,null,null,"1452101",0]
["1452801",3,null,"1452801",3,0,3,null,"1452801",0,null,null,"1452801",0]
["1453401",1,null,"1453401",0,0,0,null,"1453401",0,null,null,"1453401",0]
["1454801",2,null,"1454801",0,0,0,null,"1454801",0,null,null,"1454801",0]
["1456201",1,null,"1456201",0,0,0,null,"1456201",0,null,null,"1456201",0]
["1457501",2,null,"1457501",1,0,1,null,"1457501",0,null,null,"1457501",0]
["1457601",2,null,"1457601",0,1,1,null,"1457601",0,null,null,"1457601",0]
["1458901",1,null,"1458901",2,0,2,null,"1458901",0,null,null,"1458901",0]
["1460301",2,null,"1460301",0,0,0,null,"1460301",0,null,null,"1460301",0]
["1461601",3,null,"1461601",1,0,1,null,"1461601",0,null,null,"1461601",0]
["1463001",2,null,"1463001",1,0,1,null,"1463001",0,null,null,"1463001",0]
["1464001",2,null,"1464001",0,0,0,null,"1464001",0,null,null,"1464001",0]
["1464101",2,null,"1464101",0,0,0,null,"1464101",0,null,null,"1464101",0]
["1464201",2,null,"1464201",0,0,0,null,"1464201",0,null,null,"1464201",0]
["1465801",1,null,"1465801",1,0,1,null,"1465801",0,null,null,"1465801",0]
["1467101",1,null,"1467101",0,0,0,null,"1467101",0,null,null,"1467101",0]
["1468001",2,null,"1468001",1,0,1,null,"1468001",0,null,null,"1468001",0]
["1468101",2,null,"1468101",0,0,0,null,"1468101",0,null,null,"1468101",0]
["1468501",2,null,"1468501",0,0,0,null,"1468501",0,null,null,"1468501",0]
["1469201",1,null,"1469201",1,0,1,null,"1469201",0,null,null,"1469201",0]
["1469601",1,null,"1469601",0,0,0,null,"1469601",0,null,null,"1469601",0]
["1469901",1,null,"1469901",0,1,1,null,"1469901",0,null,null,"1469901",2]
["1471201",1,null,"1471201",0,0,0,null,"1471201",0,null,null,"1471201",0]
["1472601",2,null,"1472601",1,0,1,null,"1472601",0,null,null,"1472601",2]
["1476001",3,null,"1476001",1,0,1,null,"1476001",0,null,null,"1476001",0]
["1476201",1,null,"1476201",1,0,1,null,"1476201",0,null,null,"1476201",0]
["1476401",1,null,"1476401",1,0,1,null,"1476401",0,null,null,"1476401",1]
["1476701",1,null,"1476701",0,0,0,null,"1476701",0,null,null,"1476701",0]
["1477501",1,null,"1477501",0,0,0,null,"1477501",0,null,null,"1477501",0]
["1477601",1,null,"1477601",1,0,1,null,"1477601",0,null,null,"1477601",0]
["1478101",1,null,"1478101",0,0,0,null,"1478101",0,null,null,"1478101",0]
["1478601",2,null,"1478601",1,0,1,null,"1478601",0,null,null,"1478601",1]
["1479001",2,null,"1479001",0,0,0,null,"1479001",0,null,null,"1479001",0]
["1479501",2,null,"1479501",0,0,0,null,"1479501",0,null,null,"1479501",0]
["1480801",1,null,"1480801",0,0,0,null,"1480801",0,null,null,"1480801",0]
["1482901",1,null,"1482901",1,0,{"$f":"E261+F261","v":1},null,"1482901",0,null,null,"1482901",0]
["1483601",2,null,"1483601",0,0,0,null,"1483601",0,null,null,"1483601",0]
["1484901",1,null,"1484901",0,0,0,null,"1484901",0,null,null,"1484901",0]
["1486301",1,null,"1486301",0,0,0,null,"1486301",0,null,null,"1486301",0]
["1487001",1,null,"1487001",0,0,0,null,"1487001",0,null,null,"1487001",1]
["1487701",1,null,"1487701",0,0,0,null,"1487701",0,null,null,"1487701",0]
["1488101",2,null,"1488101",0,0,0,null,"1488101",0,null,null,"1488101",1]
["1488701",1,null,"1488701",1,0,1,null,"1488701",0,null,null,"1488701",1]
["1489001",1,null,"1489001",1,0,1,null,"1489001",0,null,null,"1489001",0]
["1490401",2,null,"1490401",1,0,1,null,"1490401",0,null,null,"1490401",0]
["1491801",2,null,"1491801",1,0,1,null,"1491801",0,null,null,"1491801",0]
["1493201",1,null,"1493201",1,0,1,null,"1493201",0,null,null,"1493201",1]
["1494501",2,null,"1494501",0,0,0,null,"1494501",0,null,null,"1494501",0]
["1495901",2,null,"1495901",0,0,0,null,"1495901",0,null,null,"1495901",0]
["1497301",2,null,"1497301",0,1,1,null,"1497301",0,null,null,"1497301",1]
["1498001",1,null,"1498001",1,0,1,null,"1498001",0,null,null,"1498001",0]
["1498201",1,null,"1498201",0,0,0,null,"1498201",0,null,null,"1498201",0]
["1498301",1,null,"1498301",0,0,0,null,"1498301",0,null,null,"1498301",0]
["1498601",1,null,"1498601",1,0,1,null,"1498601",0,null,null,"1498601",0]
["1501401",1,null,"1501401",0,2,2,null,"1501401",0,null,null,"1501401",0]
["1501601",1,null,"1501601",1,0,1,null,"1501601",0,null,null,"1501601",0]
["1505501",2,null,"1505501",2,0,2,null,"1505501",0,null,null,"1505501",0]
["1506801",2,null,"1506801",1,0,1,null,"1506801",0,null,null,"1506801",0]
["1508201",2,null,"1508201",0,0,0,null,"1508201",0,null,null,"1508201",0]
["1509601",2,null,"1509601",0,0,0,null,"1509601",0,null,null,"1509601",1]
["1511001",1,null,"1511001",0,0,0,null,"1511001",0,null,null,"1511001",0]
["1511101",2,null,"1511101",0,0,0,null,"1511101",0,null,null,"1511101",0]
["1511201",1,null,"1511201",1,0,1,null,"1511201",0,null,null,"1511201",0]
["1511301",2,null,"1511301",0,1,1,null,"1511301",0,null,null,"1511301",0]
["1513701",2,null,"1513701",1,0,1,null,"1513701",0,null,null,"1513701",0]
["1515301",1,null,"1515301",0,0,0,null,"1515301",0,null,null,"1515301",0]
["1515401",1,null,"1515401",0,0,0,null,"1515401",0,null,null,"1515401",0]
["1516401",1,null,"1516401",1,0,1,null,"1516401",0,null,null,"1516401",0]
["1517001",1,null,"1517001",0,0,0,null,"1517001",0,null,null,"1517001",0]
["1517301",1,null,"1517301",1,0,1,null,"1517301",0,null,null,"1517301",0]
["1517801",2,null,"1517801",0,1,1,null,"1517801",0,null,null,"1517801",1]
["1519201",1,null,"1519201",0,0,0,null,"1519201",0,null,null,"1519201",0]
["1519301",1,null,"1519301",0,0,0,null,"1519301",0,null,null,"1519301",0]
["1519801",1,null,"1519801",0,0,0,null,"1519801",0,null,null,"1519801",0]
["1520501",3,null,"1520501",1,0,1,null,"1520501",0,null,null,"1520501",0]
["1521901",1,null,"1521901",0,0,0,null,"1521901",0,null,null,"1521901",0]
["1523301",2,null,"1523301",0,0,0,null,"1523301",0,null,null,"1523301",0]
["1524001",1,null,"1524001",0,0,0,null,"1524001",0,null,null,"1524001",0]
["1524701",2,null,"1524701",0,0,0,null,"1524701",0,null,null,"1524701",0]
["1528801",2,null,"1528801",2,0,2,null,"1528801",0,null,null,"1528801",0]
["1530101",1,null,"1530101",0,1,1,null,"1530101",0,null,null,"1530101",0]
["1530201",1,null,"1530201",0,0,0,null,"1530201",0,null,null,"1530201",0]
["1531501",3,null,"1531501",1,0,1,null,"1531501",0,null,null,"1531501",0]
["1532101",1,null,"1532101",0,0,0,null,"1532101",0,null,null,"1532101",0]
["1532901",2,null,"1532901",0,0,0,null,"1532901",0,null,null,"1532901",0]
["1534201",2,null,"1534201",0,0,0,null,"1534201",0,null,null,"1534201",0]
["1538401",2,null,"1538401",0,0,0,null,"1538401",0,null,null,"1538401",0]
["1538501",2,null,"1538501",1,0,1,null,"1538501",0,null,null,"1538501",0]
["1539701",1,null,"1539701",0,0,0,null,"1539701",0,null,null,"1539701",0]
["1540401",2,null,"1540401",0,0,0,null,"1540401",0,null,null,"1540401",0]
["1541101",1,null,"1541101",0,0,0,null,"1541101",0,null,null,"1541101",1]
["1542501",3,null,"1542501",0,0,0,null,"1542501",0,null,null,"1542501",0]
["1543801",1,null,"1543801",0,0,0,null,"1543801",0,null,null,"1543801",0]
["1544601",2,null,"1544601",0,0,0,null,"1544601",0,null,null,"1544601",0]
["1545201",1,null,"1545201",0,0,0,null,"1545201",0,null,null,"1545201",0]
["1545901",2,null,"1545901",0,0,0,null,"1545901",0,null,null,"1545901",0]
["1546601",1,null,"1546601",0,0,0,null,"1546601",0,null,null,"1546601",0]
["1547901",1,null,"1547901",1,0,1,null,"1547901",0,null,null,"1547901",1]
["1550501",1,null,"1550501",2,1,3,null,"1550501",0,null,null,"1550501",0]
["1552101",1,null,"1552101",1,0,{"$f":"E325+F325","v":1},null,"1552101",0,null,null,"1552101",0]
["1553401",1,null,"1553401",0,0,0,null,"1553401",0,null,null,"1553401",0]
["1554801",1,null,"1554801",0,0,0,null,"1554801",0,null,null,"1554801",0]
["1556201",2,null,"1556201",0,0,0,null,"1556201",0,null,null,"1556201",0]
["1557501",2,null,"1557501",1,0,1,null,"1557501",0,null,null,"1557501",0]
["1558201",3,null,"1558201",1,0,1,null,"1558201",0,null,null,"1558201",0]
["1560301",1,null,"1560301",0,0,0,null,"1560301",0,null,null,"1560301",1]
["1560401",1,null,"1560401",0,0,0,null,"1560401",0,null,null,"1560401",0]
["1563001",2,null,"1563001",0,0,0,null,"1563001",0,null,null,"1563001",0]
["1564401",2,null,"1564401",0,0,0,null,"1564401",0,null,null,"1564401",0]
["1569901",1,null,"1569901",0,0,0,null,"1569901",0,null,null,"1569901",0]
["1572601",1,null,"1572601",1,0,1,null,"1572601",0,null,null,"1572601",1]
["1574001",2,null,"1574001",1,0,1,null,"1574001",0,null,null,"1574001",0]
["1575301",1,null,"1575301",1,0,1,null,"1575301",0,null,null,"1575301",1]
["1578101",3,null,"1578101",1,2,3,null,"1578101",0,null,null,"1578101",0]
["1580801",1,null,"1580801",1,0,1,null,"1580801",0,null,null,"1580801",0]
["1582201",2,null,"1582201",1,0,1,null,"1582201",0,null,null,"1582201",0]
["1583601",1,null,"1583601",1,0,1,null,"1583601",0,null,null,"1583601",0]
["1584901",2,null,"1584901",1,0,1,null,"1584901",0,null,null,"1584901",0]
["1585701",2,null,"1585701",0,0,0,null,"1585701",0,null,null,"1585701",1]
["1586301",2,null,"1586301",1,0,1,null,"1586301",0,null,null,"1586301",0]
["1587701",2,null,"1587701",0,0,0,null,"1587701",0,null,null,"1587701",0]
["1588401",1,null,"1588401",1,0,1,null,"1588401",0,null,null,"1588401",0]
["1588701",2,null,"1588701",0,0,0,null,"1588701",0,null,null,"1588701",0]
["1588901",1,null,"1588901",1,0,1,null,"1588901",0,null,null,"1588901",0]
["1589401",1,null,"1589401",1,0,1,null,"1589401",0,null,null,"1589401",0]
["1590401",1,null,"1590401",1,0,1,null,"1590401",0,null,null,"1590401",0]
["1591801",1,null,"1591801",1,0,1,null,"1591801",0,null,null,"1591801",0]
["1595901",1,null,"1595901",0,0,0,null,"1595901",0,null,null,"1595901",0]
["1598601",1,null,"1598601",0,0,0,null,"1598601",0,null,null,"1598601",0]
["1600501",2,null,"1600501",0,0,0,null,"1600501",0,null,null,"1600501",0]
["1601301",2,null,"1601301",1,0,1,null,"1601301",0,null,null,"1601301",0]
["1602101",2,null,"1602101",1,0,1,null,"1602101",0,null,null,"1602101",0]
["1602701",1,null,"1602701",1,0,1,null,"1602701",0,null,null,"1602701",1]
["1605201",1,null,"1605201",0,0,0,null,"1605201",0,null,null,"1605201",0]
["1606801",1,null,"1606801",1,0,1,null,"1606801",0,null,null,"1606801",0]
["1608701",1,null,"1608701",0,0,0,null,"1608701",0,null,null,"1608701",2]
["1609601",1,null,"1609601",0,0,0,null,"1609601",0,null,null,"1609601",0]
["1611001",1,null,"1611001",0,0,0,null,"1611001",0,null,null,"1611001",0]
["1612301",1,null,"1612301",0,0,0,null,"1612301",0,null,null,"1612301",0]
["1613701",1,null,"1613701",0,0,0,null,"1613701",0,null,null,"1613701",0]
["1614001",2,null,"1614001",1,1,2,null,"1614001",0,null,null,"1614001",1]
["1614801",2,null,"1614801",0,0,0,null,"1614801",0,null,null,"1614801",0]
["1615801",2,null,"1615801",0,0,0,null,"1615801",0,null,null,"1615801",0]
["1616401",2,null,"1616401",0,0,0,null,"1616401",0,null,null,"1616401",0]
["1617801",1,null,"1617801",0,0,0,null,"1617801",0,null,null,"1617801",0]
["1617901",2,null,"1617901",2,0,2,null,"1617901",0,null,null,"1617901",0]
["1619201",2,null,"1619201",0,0,0,null,"1619201",0,null,null,"1619201",0]
["1621901",1,null,"1621901",1,0,1,null,"1621901",0,null,null,"1621901",0]
["1623301",1,null,"1623301",1,0,1,null,"1623301",0,null,null,"1623301",1]
["1626001",2,null,"1626001",0,0,0,null,"1626001",0,null,null,"1626001",1]
["1627401",2,null,"1627401",1,0,1,null,"1627401",0,null,null,"1627401",0]
["1628801",1,null,"1628801",0,0,0,null,"1628801",0,null,null,"1628801",0]
["1630101",1,null,"1630101",1,0,1,null,"1630101",0,null,null,"1630101",1]
["1631501",1,null,"1631501",1,0,1,null,"1631501",0,null,null,"1631501",1]
["1632901",1,null,"1632901",1,0,1,null,"1632901",0,null,null,"1632901",0]
["1634201",1,null,"1634201",1,0,1,null,"1634201",0,null,null,"1634201",0]
["1635601",2,null,"1635601",1,0,1,null,"1635601",0,null,null,"1635601",0]
["1636301",1,null,"1636301",1,0,1,null,"1636301",0,null,null,"1636301",0]
["1637001",1,null,"1637001",0,0,0,null,"1637001",0,null,null,"1637001",0]
["1638401",1,null,"1638401",0,0,0,null,"1638401",0,null,null,"1638401",0]
["1642501",2,null,"1642501",0,0,0,null,"1642501",0,null,null,"1642501",0]
["1642601",1,null,"1642601",0,0,0,null,"1642601",0,null,null,"1642601",0]
["1643801",2,null,"1643801",0,0,0,null,"1643801",0,null,null,"1643801",0]
["1645201",2,null,"1645201",1,0,{"$f":"E389+F389","v":1},null,"1645201",0,null,null,"1645201",0]
["1646601",2,null,"1646601",0,0,0,null,"1646601",0,null,null,"1646601",0]
["1647901",2,null,"1647901",1,0,1,null,"1647901",0,null,null,"1647901",0]
["1649301",1,null,"1649301",0,0,0,null,"1649301",0,null,null,"1649301",0]
["1650101",1,null,"1650101",0,0,0,null,"1650101",0,null,null,"1650101",1]
["1650701",1,null,"1650701",1,0,1,null,"1650701",0,null,null,"1650701",0]
["1653401",2,null,"1653401",0,0,0,null,"1653401",0,null,null,"1653401",0]
["1654901",1,null,"1654901",0,0,0,null,"1654901",0,null,null,"1654901",0]
["1656501",2,null,"1656501",2,0,2,null,"1656501",0,null,null,"1656501",0]
["1657501",2,null,"1657501",1,0,1,null,"1657501",0,null,null,"1657501",0]
["1658901",1,null,"1658901",1,0,1,null,"1658901",0,null,null,"1658901",0]
["1660601",1,null,"1660601",2,0,2,null,"1660601",0,null,null,"1660601",0]
["1661601",1,null,"1661601",0,0,0,null,"1661601",0,null,null,"1661601",0]
["1663001",2,null,"1663001",0,0,0,null,"1663001",0,null,null,"1663001",0]
["1664401",2,null,"1664401",0,0,0,null,"1664401",0,null,null,"1664401",0]
["1665801",1,null,"1665801",0,0,0,null,"1665801",0,null,null,"1665801",0]
["1666501",1,null,"1666501",1,1,2,null,"1666501",0,null,null,"1666501",0]
["1667101",1,null,"1667101",0,0,0,null,"1667101",0,null,null,"1667101",0]
["1668501",2,null,"1668501",0,0,0,null,"1668501",0,null,null,"1668501",0]
["1669901",1,null,"1669901",1,1,2,null,"1669901",0,null,null,"1669901",0]
["1671201",1,null,"1671201",0,0,0,null,"1671201",0,null,null,"1671201",0]
["1674001",1,null,"1674001",0,0,0,null,"1674001",0,null,null,"1674001",0]
["1675301",1,null,"1675301",0,0,0,null,"1675301",0,null,null,"1675301",0]
["1676701",1,null,"1676701",0,0,0,null,"1676701",0,null,null,"1676701",0]
["1678101",2,null,"1678101",1,0,1,null,"1678101",0,null,null,"1678101",0]
["1679501",1,null,"1679501",1,0,1,null,"1679501",0,null,null,"1679501",0]
["1680801",2,null,"1680801",1,0,1,null,"1680801",0,null,null,"1680801",0]
["1682201",1,null,"1682201",1,0,1,null,"1682201",0,null,null,"1682201",0]
["1683601",1,null,"1683601",1,0,1,null,"1683601",0,null,null,"1683601",0]
["1684901",1,null,"1684901",1,0,1,null,"1684901",0,null,null,"1684901",0]
["1686301",2,null,"1686301",1,0,1,null,"1686301",0,null,null,"1686301",0]
["1686701",1,null,"1686701",0,0,0,null,"1686701",0,null,null,"1686701",0]
["1686801",2,null,"1686801",1,0,1,null,"1686801",0,null,null,"1686801",0]
["1686901",3,null,"1686901",1,0,1,null,"1686901",0,null,null,"1686901",0]
["1687001",1,null,"1687001",0,0,0,null,"1687001",0,null,null,"1687001",0]
["1687201",1,null,"1687201",1,0,1,null,"1687201",0,null,null,"1687201",0]
["1687301",1,null,"1687301",1,0,1,null,"1687301",0,null,null,"1687301",0]
["1687501",4,null,"1687501",3,1,4,null,"1687501",0,null,null,"1687501",0]
["1687801",3,null,"1687801",0,0,0,null,"1687801",0,null,null,"1687801",0]
["1688001",3,null,"1688001",2,0,2,null,"1688001",0,null,null,"1688001",0]
["1688401",3,null,"1688401",1,0,1,null,"1688401",0,null,null,"1688401",0]
["1688601",2,null,"1688601",0,0,0,null,"1688601",0,null,null,"1688601",0]
["1689001",1,null,"1689001",0,0,0,null,"1689001",0,null,null,"1689001",0]
["1690401",2,null,"1690401",0,1,1,null,"1690401",0,null,null,"1690401",0]
["1690501",2,null,"1690501",1,0,1,null,"1690501",0,null,null,"1690501",0]
["1691801",2,null,"1691801",0,0,0,null,"1691801",0,null,null,"1691801",0]
["1692001",1,null,"1692001",1,0,1,null,"1692001",0,null,null,"1692001",0]
["1693201",1,null,"1693201",1,0,1,null,"1693201",0,null,null,"1693201",0]
["1694501",1,null,"1694501",0,0,0,null,"1694501",0,null,null,"1694501",0]
["1695201",2,null,"1695201",1,0,1,null,"1695201",0,null,null,"1695201",1]
["1695901",1,null,"1695901",1,0,1,null,"1695901",0,null,null,"1695901",0]
["1697301",2,null,"1697301",1,0,1,null,"1697301",0,null,null,"1697301",0]
["1698601",3,null,"1698601",1,0,1,null,"1698601",0,null,null,"1698601",0]
["1698801",2,null,"1698801",0,0,0,null,"1698801",0,null,null,"1698801",0]
["1700701",1,null,"1700701",0,0,0,null,"1700701",0,null,null,"1700701",0]
["1701401",1,null,"1701401",0,1,1,null,"1701401",0,null,null,"1701401",0]
["1702701",1,null,"1702701",0,0,0,null,"1702701",0,null,null,"1702701",0]
["1703501",2,null,"1703501",0,0,0,null,"1703501",0,null,null,"1703501",1]
["1704101",1,null,"1704101",1,0,1,null,"1704101",0,null,null,"1704101",0]
["1706801",2,null,"1706801",1,0,1,null,"1706801",0,null,null,"1706801",1]
["1708201",1,null,"1708201",0,0,0,null,"1708201",0,null,null,"1708201",0]
["1711001",3,null,"1711001",0,0,0,null,"1711001",0,null,null,"1711001",0]
["1712301",1,null,"1712301",0,0,0,null,"1712301",0,null,null,"1712301",0]
["1713701",2,null,"1713701",0,0,0,null,"1713701",0,null,null,"1713701",0]
["1715101",1,null,"1715101",0,0,{"$f":"E453+F453","v":0},null,"1715101",0,null,null,"1715101",0]
["1716401",1,null,"1716401",2,0,2,null,"1716401",0,null,null,"1716401",0]
["1717801",1,null,"1717801",0,0,0,null,"1717801",0,null,null,"1717801",0]
["1719201",1,null,"1719201",0,0,0,null,"1719201",0,null,null,"1719201",0]
["1719801",1,null,"1719801",1,1,2,null,"1719801",0,null,null,"1719801",0]
["1720101",1,null,"1720101",0,0,0,null,"1720101",0,null,null,"1720101",0]
["1720501",1,null,"1720501",0,0,0,null,"1720501",0,null,null,"1720501",1]
["1721901",2,null,"1721901",0,0,0,null,"1721901",0,null,null,"1721901",0]
["1722001",2,null,"1722001",0,0,0,null,"1722001",0,null,null,"1722001",0]
["1724701",1,null,"1724701",1,0,1,null,"1724701",0,null,null,"1724701",0]
["1726001",2,null,"1726001",0,0,0,null,"1726001",0,null,null,"1726001",0]
["1727401",2,null,"1727401",1,0,1,null,"1727401",0,null,null,"1727401",0]
["1728801",2,null,"1728801",1,0,1,null,"1728801",0,null,null,"1728801",0]
["1730101",1,null,"1730101",0,0,0,null,"1730101",0,null,null,"1730101",0]
["1732901",2,null,"1732901",1,0,1,null,"1732901",0,null,null,"1732901",0]
["1734201",2,null,"1734201",0,0,0,null,"1734201",0,null,null,"1734201",0]
["1735601",1,null,"1735601",0,0,0,null,"1735601",0,null,null,"1735601",1]
["1737001",1,null,"1737001",0,0,0,null,"1737001",0,null,null,"1737001",0]
["1738401",1,null,"1738401",0,0,0,null,"1738401",0,null,null,"1738401",0]
["1739001",1,null,"1739001",0,0,0,null,"1739001",0.5,null,null,"1739001",0]
["1739701",1,null,"1739701",1,0,1,null,"1739701",0,null,null,"1739701",0]
["1739801",2,null,"1739801",0,0,0,null,"1739801",0,null,null,"1739801",0]
["1739901",1,null,"1739901",1,0,1,null,"1739901",0,null,null,"1739901",0]
["1740001",2,null,"1740001",0,0,0,null,"1740001",0,null,null,"1740001",0]
["1740101",1,null,"1740101",0,0,0,null,"1740101",0,null,null,"1740101",0]
["1740201",2,null,"1740201",1,0,1,null,"1740201",0,null,null,"1740201",1]
["1740401",2,null,"1740401",2,0,2,null,"1740401",0,null,null,"1740401",0]
["1740801",1,null,"1740801",0,0,0,null,"1740801",0,null,null,"1740801",0]
["1741101",1,null,"1741101",0,0,0,null,"1741101",0,null,null,"1741101",0]
["1741901",1,null,"1741901",1,0,1,null,"1741901",0,null,null,"1741901",0]
["1742201",1,null,"1742201",1,0,1,null,"1742201",0,null,null,"1742201",0]
["1742501",1,null,"1742501",0,0,0,null,"1742501",0,null,null,"1742501",0]
["1743201",1,null,"1743201",1,0,1,null,"1743201",0,null,null,"1743201",0]
["1743801",1,null,"1743801",2,0,2,null,"1743801",0,null,null,"1743801",0]
["1746601",2,null,"1746601",0,1,1,null,"1746601",0,null,null,"1746601",0]
["1747901",1,null,"1747901",1,0,1,null,"1747901",0,null,null,"1747901",0]
["1749301",1,null,"1749301",0,0,0,null,"1749301",0,null,null,"1749301",0]
["1750701",1,null,"1750701",1,0,1,null,"1750701",0,null,null,"1750701",0]
["1752101",2,null,"1752101",0,1,1,null,"1752101",0,null,null,"1752101",0]
["1753401",1,null,"1753401",0,0,0,null,"1753401",0,null,null,"1753401",0]
["1754801",1,null,"1754801",1,0,1,null,"1754801",0,null,null,"1754801",1]
["1756201",1,null,"1756201",0,0,0,null,"1756201",0,null,null,"1756201",0]
["1756601",1,null,"1756601",0,0,0,null,"1756601",0,null,null,"1756601",0]
["1756701",1,null,"1756701",1,0,1,null,"1756701",0,null,null,"1756701",0]
["1756901",1,null,"1756901",2,0,2,null,"1756901",0,null,null,"1756901",0]
["1757401",1,null,"1757401",0,0,0,null,"1757401",0,null,null,"1757401",0]
["1757501",2,null,"1757501",0,0,0,null,"1757501",0,null,null,"1757501",0]
["1758901",1,null,"1758901",1,0,1,null,"1758901",0,null,null,"1758901",0]
["1760301",1,null,"1760301",1,0,1,null,"1760301",0,null,null,"1760301",0]
["1760401",1,null,"1760401",0,0,0,null,"1760401",0.5,null,null,"1760401",0]
["1761401",1,null,"1761401",0,0,0,null,"1761401",0,null,null,"1761401",0]
["1761501",1,null,"1761501",1,0,1,null,"1761501",0,null,null,"1761501",0]
["1761601",1,null,"1761601",1,1,2,null,"1761601",0,null,null,"1761601",0]
["1763001",2,null,"1763001",0,0,0,null,"1763001",0,null,null,"1763001",0]
["1763401",1,null,"1763401",0,0,0,null,"1763401",0,null,null,"1763401",0]
["1763701",2,null,"1763701",0,0,0,null,"1763701",0,null,null,"1763701",0]
["1764001",1,null,"1764001",1,0,1,null,"1764001",0,null,null,"1764001",0]
["1764401",1,null,"1764401",2,0,2,null,"1764401",0,null,null,"1764401",0]
["1764901",1,null,"1764901",1,0,1,null,"1764901",0,null,null,"1764901",0]
["1765401",1,null,"1765401",0,0,0,null,"1765401",0,null,null,"1765401",0]
["1765601",1,null,"1765601",0,0,0,null,"1765601",0,null,null,"1765601",0]
["1765701",1,null,"1765701",1,0,1,null,"1765701",0,null,null,"1765701",0]
["1765801",1,null,"1765801",0,0,0,null,"1765801",0,null,null,"1765801",0]
["1766401",1,null,"1766401",1,0,1,null,"1766401",0,null,null,"1766401",0]
["1766701",2,null,"1766701",0,0,{"$f":"E517+F517","v":0},null,"1766701",0,null,null,"1766701",0]
["1766901",1,null,"1766901",0,0,0,null,"1766901",1,null,null,"1766901",0]
["1767101",1,null,"1767101",1,0,1,null,"1767101",0,null,null,"1767101",0]
["1769901",1,null,"1769901",1,0,1,null,"1769901",0,null,null,"1769901",0]
["1771201",1,null,"1771201",0,0,0,null,"1771201",0,null,null,"1771201",0]
["1771501",1,null,"1771501",0,0,0,null,"1771501",0,null,null,"1771501",0]
["1771601",1,null,"1771601",0,0,0,null,"1771601",0,null,null,"1771601",0]
["1771701",1,null,"1771701",0,0,0,null,"1771701",0,null,null,"1771701",0]
["1771801",1,null,"1771801",1,0,1,null,"1771801",0,null,null,"1771801",0]
["1771901",1,null,"1771901",0,0,0,null,"1771901",0,null,null,"1771901",0]
["1772101",1,null,"1772101",0,0,0,null,"1772101",0,null,null,"1772101",0]
["1772201",1,null,"1772201",0,0,0,null,"1772201",0,null,null,"1772201",1]
["1772501",1,null,"1772501",0,0,0,null,"1772501",1,null,null,"1772501",1]
["1773401",1,null,"1773401",0,0,0,null,"1773401",0,null,null,"1773401",0]
["1774001",1,null,"1774001",1,0,1,null,"1774001",0,null,null,"1774001",0]
["1774901",2,null,"1774901",0,0,0,null,"1774901",0,null,null,"1774901",0]
["1775101",1,null,"1775101",0,0,0,null,"1775101",0,null,null,"1775101",0]
["1775201",1,null,"1775201",0,0,0,null,"1775201",0,null,null,"1775201",0]
["1776701",1,null,"1776701",0,0,0,null,"1776701",0,null,null,"1776701",0]
["1777101",1,null,"1777101",0,0,0,null,"1777101",0,null,null,"1777101",0]
["1777201",1,null,"1777201",0,0,0,null,"1777201",0,null,null,"1777201",0]
["1777301",1,null,"1777301",0,0,0,null,"1777301",0,null,null,"1777301",0]
["1777401",1,null,"1777401",0,1,1,null,"1777401",0,null,null,"1777401",1]
["1777501",1,null,"1777501",0,0,0,null,"1777501",0,null,null,"1777501",0]
["1777701",1,null,"1777701",0,0,0,null,"1777701",0,null,null,"1777701",0]
["1778001",2,null,"1778001",0,0,0,null,"1778001",0,null,null,"1778001",1]
["1778101",1,null,"1778101",1,0,1,null,"1778101",0,null,null,"1778101",0]
["1778301",1,null,"1778301",1,0,1,null,"1778301",0,null,null,"1778301",0]
["1779501",2,null,"1779501",1,0,1,null,"1779501",0,null,null,"1779501",0]
["1780801",3,null,"1780801",1,0,1,null,"1780801",0,null,null,"1780801",0]
["1782201",1,null,"1782201",0,0,0,null,"1782201",0,null,null,"1782201",0]
["1783601",1,null,"1783601",0,0,0,null,"1783601",0,null,null,"1783601",0]
["1784901",2,null,"1784901",0,0,0,null,"1784901",0,null,null,"1784901",0]
["1786301",1,null,"1786301",0,0,0,null,"1786301",0,null,null,"1786301",0]
["1787701",1,null,"1787701",0,0,0,null,"1787701",0,null,null,"1787701",0]
["1789001",1,null,"1789001",0,0,0,null,"1789001",0,null,null,"1789001",0]
["1789501",1,null,"1789501",0,0,0,null,"1789501",0.5,null,null,"1789501",0]
["1790401",2,null,"1790401",0,0,0,null,"1790401",0,null,null,"1790401",0]
["1795901",1,null,"1795901",0,0,0,null,"1795901",0,null,null,"1795901",0]
["1800901",2,null,"1800901",0,0,0,null,"1800901",0,null,null,"1800901",0]
["1802801",2,null,"1802801",0,0,0,null,"1802801",0,null,null,"1802801",0]
["1803801",3,null,"1803801",1,0,1,null,"1803801",0,null,null,"1803801",0]
["1804501",1,null,"1804501",0,0,0,null,"1804501",0,null,null,"1804501",0]
["1804701",3,null,"1804701",0,0,0,null,"1804701",0,null,null,"1804701",0]
["1805701",1,null,"1805701",0,0,0,null,"1805701",0,null,null,"1805701",0]
["1805801",1,null,"1805801",0,0,0,null,"1805801",0,null,null,"1805801",0]
["1806001",2,null,"1806001",0,0,0,null,"1806001",0,null,null,"1806001",0]
["1806201",1,null,"1806201",1,0,1,null,"1806201",0,null,null,"1806201",0]
["1806401",1,null,"1806401",0,0,0,null,"1806401",0,null,null,"1806401",0]
["1806601",2,null,"1806601",0,0,0,null,"1806601",0,null,null,"1806601",0]
["1807501",2,null,"1807501",0,0,0,null,"1807501",0,null,null,"1807501",2]
["1808001",2,null,"1808001",0,0,0,null,"1808001",0,null,null,"1808001",0]
["1809001",2,null,"1809001",0,0,0,null,"1809001",0,null,null,"1809001",0]
["1809401",1,null,"1809401",0,0,0,null,"1809401",0,null,null,"1809401",0]
["1810201",3,null,"1810201",0,0,0,null,"1810201",0,null,null,"1810201",0]
["1810301",2,null,"1810301",0,0,0,null,"1810301",0,null,null,"1810301",0]
["1810401",2,null,"1810401",0,0,0,null,"1810401",0,null,null,"1810401",0]
["1810701",3,null,"1810701",0,0,0,null,"1810701",0,null,null,"1810701",0]
["1811001",3,null,"1811001",1,0,1,null,"1811001",0,null,null,"1811001",0]
["1811201",2,null,"1811201",0,0,0,null,"1811201",0,null,null,"1811201",0]
["1811301",1,null,"1811301",1,0,1,null,"1811301",0,null,null,"1811301",0]
["1811601",3,null,"1811601",0,0,0,null,"1811601",0,null,null,"1811601",0]
["1811701",4,null,"1811701",0,0,0,null,"1811701",0,null,null,"1811701",0]
["1811801",4,null,"1811801",0,0,0,null,"1811801",0,null,null,"1811801",0]
["1812301",1,null,"1812301",0,0,{"$f":"E581+F581","v":0},null,"1812301",0,null,null,"1812301",0]
["1812701",2,null,"1812701",0,0,0,null,"1812701",0,null,null,"1812701",0]
["1813201",1,null,"1813201",0,0,0,null,"1813201",0,null,null,"1813201",0]
["1813701",3,null,"1813701",0,0,0,null,"1813701",0,null,null,"1813701",0]
["1814201",2,null,"1814201",0,0,0,null,"1814201",0,null,null,"1814201",0]
["1815101",2,null,"1815101",0,0,0,null,"1815101",0,null,null,"1815101",0]
["1815301",2,null,"1815301",0,0,0,null,"1815301",0,null,null,"1815301",0]
["1816001",2,null,"1816001",0,0,0,null,"1816001",0,null,null,"1816001",0]
["1816801",1,null,"1816801",0,0,0,null,"1816801",0,null,null,"1816801",0]
["1816901",3,null,"1816901",0,0,0,null,"1816901",0,null,null,"1816901",4]
["1817001",1,null,"1817001",0,0,0,null,"1817001",0.5,null,null,"1817001",0]
["1817401",3,null,"1817401",0,0,0,null,"1817401",0,null,null,"1817401",0]
["1817901",3,null,"1817901",0,0,0,null,"1817901",0,null,null,"1817901",1]
["1818201",2,null,"1818201",1,0,1,null,"1818201",0,null,null,"1818201",0]
["1818901",1,null,"1818901",0,0,0,null,"1818901",1,null,null,"1818901",0]
["1820001",2,null,"1820001",0,0,0,null,"1820001",0,null,null,"1820001",0]
["1820601",1,null,"1820601",0,0,0,null,"1820601",0,null,null,"1820601",0]
["1820701",1,null,"1820701",0,0,0,null,"1820701",0,null,null,"1820701",0]
["1820801",3,null,"1820801",0,0,0,null,"1820801",0,null,null,"1820801",0]
["1821701",3,null,"1821701",1,0,1,null,"1821701",0,null,null,"1821701",0]
["1822601",3,null,"1822601",1,0,1,null,"1822601",0,null,null,"1822601",0]
["1822801",1,null,"1822801",0,0,0,null,"1822801",0,null,null,"1822801",0]
["1823001",3,null,"1823001",0,0,0,null,"1823001",0,null,null,"1823001",0]
["1823501",2,null,"1823501",1,0,1,null,"1823501",0,null,null,"1823501",0]
["1823701",3,null,"1823701",0,0,0,null,"1823701",0,null,null,"1823701",0]
["1823801",3,null,"1823801",0,0,0,null,"1823801",0,null,null,"1823801",0]
["1824001",3,null,"1824001",1,0,1,null,"1824001",0,null,null,"1824001",0]
["1824501",1,null,"1824501",0,0,0,null,"1824501",0,null,null,"1824501",0]
["1825501",2,null,"1825501",0,0,0,null,"1825501",0,null,null,"1825501",0]
["1825901",3,null,"1825901",0,0,0,null,"1825901",0,null,null,"1825901",0]
["1826401",4,null,"1826401",0,0,0,null,"1826401",0,null,null,"1826401",0]
["1826801",2,null,"1826801",0,0,0,null,"1826801",0,null,null,"1826801",0]
["1827201",2,null,"1827201",0,0,0,null,"1827201",0,null,null,"1827201",0]
["1828301",2,null,"1828301",0,0,0,null,"1828301",1,null,null,"1828301",0]
["1830601",2,null,"1830601",1,0,1,null,"1830601",0,null,null,"1830601",0]
["1832101",3,null,"1832101",0,0,0,null,"1832101",0,null,null,"1832101",0]
["1834001",3,null,"1834001",0,0,0,null,"1834001",0,null,null,"1834001",0]
["1834401",2,null,"1834401",1,0,1,null,"1834401",0,null,null,"1834401",0]
["1835201",3,null,"1835201",0,0,0,null,"1835201",0,null,null,"1835201",0]
["1835401",2,null,"1835401",0,0,0,null,"1835401",0,null,null,"1835401",0]
["1835501",1,null,"1835501",0,0,0,null,"1835501",0,null,null,"1835501",2]
["1835601",2,null,"1835601",0,0,0,null,"1835601",0,null,null,"1835601",0]
["1835801",1,null,"1835801",0,0,0,null,"1835801",0,null,null,"1835801",0]
["1836301",3,null,"1836301",0,0,0,null,"1836301",0,null,null,"1836301",0]
["1837701",2,null,"1837701",0,0,0,null,"1837701",1,null,null,"1837701",0]
["1838701",3,null,"1838701",1,0,1,null,"1838701",0,null,null,"1838701",0]
["1839001",1,null,"1839001",0,0,0,null,"1839001",0,null,null,"1839001",0]
["1839601",3,null,"1839601",3,0,3,null,"1839601",0,null,null,"1839601",0]
["1840601",2,null,"1840601",0,0,0,null,"1840601",0,null,null,"1840601",0]
["1842501",2,null,"1842501",0,0,0,null,"1842501",0,null,null,"1842501",0]
["1843401",2,null,"1843401",1,0,1,null,"1843401",0,null,null,"1843401",0]
["1846201",2,null,"1846201",0,0,0,null,"1846201",0,null,null,"1846201",0]
["1848101",2,null,"1848101",0,0,0,null,"1848101",0,null,null,"1848101",0]
["1848701",2,null,"1848701",0,0,0,null,"1848701",0,null,null,"1848701",0]
["1849001",1,null,"1849001",0,0,0,null,"1849001",1,null,null,"1849001",0]
["1849301",2,null,"1849301",2,0,2,null,"1849301",0,null,null,"1849301",0]
["1850101",1,null,"1850101",0,0,0,null,"1850101",0,null,null,"1850101",0]
["1851301",1,null,"1851301",0,0,0,null,"1851301",0,null,null,"1851301",0]
["1851601",1,null,"1851601",0,0,0,null,"1851601",0,null,null,"1851601",1]
["1851701",1,null,"1851701",0,0,0,null,"1851701",0,null,null,"1851701",0]
["1851801",1,null,"1851801",0,0,0,null,"1851801",0,null,null,"1851801",0]
["1852701",1,null,"1852701",0,0,0,null,"1852701",0,null,null,"1852701",0]
["1852901",5,null,"1852901",0,0,0,null,"1852901",0,null,null,"1852901",0]
["1853601",2,null,"1853601",0,0,0,null,"1853601",0,null,null,"1853601",0]
["1854301",1,null,"1854301",1,0,{"$f":"E645+F645","v":1},null,"1854301",0,null,null,"1854301",1]
["1854401",2,null,"1854401",1,0,1,null,"1854401",0,null,null,"1854401",0]
["1855801",1,null,"1855801",0,0,0,null,"1855801",0,null,null,"1855801",0]
["1857101",3,null,"1857101",0,0,0,null,"1857101",0,null,null,"1857101",0]
["1857501",2,null,"1857501",0,0,0,null,"1857501",0,null,null,"1857501",0]
["1857701",1,null,"1857701",0,0,0,null,"1857701",0,null,null,"1857701",0]
["1858301",2,null,"1858301",0,0,0,null,"1858301",0,null,null,"1858301",0]
["1859001",3,null,"1859001",0,0,0,null,"1859001",0,null,null,"1859001",0]
["1859601",1,null,"1859601",1,0,1,null,"1859601",0,null,null,"1859601",0]
["1860001",4,null,"1860001",1,0,1,null,"1860001",0,null,null,"1860001",0]
["1860601",1,null,"1860601",0,0,0,null,"1860601",0,null,null,"1860601",0]
["1860701",1,null,"1860701",0,0,0,null,"1860701",0,null,null,"1860701",0]
["1860901",1,null,"1860901",0,0,0,null,"1860901",0,null,null,"1860901",0]
["1861001",4,null,"1861001",1,0,1,null,"1861001",1,null,null,"1861001",0]
["1861101",1,null,"1861101",0,0,0,null,"1861101",0,null,null,"1861101",0]
["1861401",2,null,"1861401",0,0,0,null,"1861401",0,null,null,"1861401",1]
["1861801",4,null,"1861801",0,0,0,null,"1861801",0,null,null,"1861801",0]
["1862101",3,null,"1862101",0,0,0,null,"1862101",0,null,null,"1862101",0]
["1863601",2,null,"1863601",0,0,0,null,"1863601",0,null,null,"1863601",0]
["1864301",3,null,"1864301",0,0,0,null,"1864301",0,null,null,"1864301",0]
["1865001",2,null,"1865001",1,0,1,null,"1865001",1,null,null,"1865001",0]
["1866401",3,null,"1866401",0,0,0,null,"1866401",0,null,null,"1866401",0]
["1867901",2,null,"1867901",0,0,0,null,"1867901",0,null,null,"1867901",0]
["1868301",3,null,"1868301",0,0,0,null,"1868301",0,null,null,"1868301",0]
["1868601",3,null,"1868601",0,0,0,null,"1868601",0,null,null,"1868601",0]
["1869301",3,null,"1869301",0,0,0,null,"1869301",1,null,null,"1869301",1]
["1869601",2,null,"1869601",0,0,0,null,"1869601",0,null,null,"1869601",1]
["1870001",2,null,"1870001",0,0,0,null,"1870001",0,null,null,"1870001",1]
["1870101",1,null,"1870101",1,0,1,null,"1870101",0,null,null,"1870101",0]
["1871001",1,null,"1871001",0,0,0,null,"1871001",0,null,null,"1871001",1]
["1871301",3,null,"1871301",1,0,1,null,"1871301",0,null,null,"1871301",0]
["1871401",1,null,"1871401",0,0,0,null,"1871401",0,null,null,"1871401",1]
["1871601",1,null,"1871601",0,0,0,null,"1871601",0,null,null,"1871601",0]
["1872101",1,null,"1872101",0,0,0,null,"1872101",0,null,null,"1872101",0]
["1872501",4,null,"1872501",0,0,0,null,"1872501",0,null,null,"1872501",0]
["1872701",1,null,"1872701",0,0,0,null,"1872701",0,null,null,"1872701",0]
["1872901",3,null,"1872901",0,0,0,null,"1872901",0,null,null,"1872901",1]
["1873601",2,null,"1873601",0,0,0,null,"1873601",0,null,null,"1873601",1]
["1873801",2,null,"1873801",0,0,0,null,"1873801",0,null,null,"1873801",0]
["1874101",1,null,"1874101",0,0,0,null,"1874101",0,null,null,"1874101",0]
["1874301",2,null,"1874301",2,0,2,null,"1874301",0,null,null,"1874301",0]
["1874801",3,null,"1874801",0,0,0,null,"1874801",0,null,null,"1874801",0]
["1875001",2,null,"1875001",0,0,0,null,"1875001",0,null,null,"1875001",0]
["1875401",1,null,"1875401",0,0,0,null,"1875401",0,null,null,"1875401",0]
["1876001",1,null,"1876001",0,0,0,null,"1876001",0,null,null,"1876001",0]
["1876801",5,null,"1876801",1,0,1,null,"1876801",0,null,null,"1876801",0]
["1877401",1,null,"1877401",0,0,0,null,"1877401",0.5,null,null,"1877401",0]
["1877901",3,null,"1877901",1,0,1,null,"1877901",0,null,null,"1877901",0]
["1878601",4,null,"1878601",0,0,0,null,"1878601",0,null,null,"1878601",0]
["1881401",4,null,"1881401",0,0,0,null,"1881401",0,null,null,"1881401",0]
["1883801",1,null,"1883801",0,0,0,null,"1883801",0,null,null,"1883801",0]
["1884201",1,null,"1884201",0,0,0,null,"1884201",0,null,null,"1884201",0]
["1884301",2,null,"1884301",0,0,0,null,"1884301",1,null,null,"1884301",0]
["1885001",5,null,"1885001",0,0,0,null,"1885001",1,null,null,"1885001",0]
["1885301",1,null,"1885301",0,0,0,null,"1885301",0,null,null,"1885301",0]
["1886601",1,null,"1886601",0,0,0,null,"1886601",0,null,null,"1886601",0]
["1886701",1,null,"1886701",1,0,1,null,"1886701",0,null,null,"1886701",1]
["1886801",2,null,"1886801",0,0,0,null,"1886801",0,null,null,"1886801",1]
["1887101",2,null,"1887101",0,0,0,null,"1887101",1,null,null,"1887101",0]
["1887801",2,null,"1887801",0,0,0,null,"1887801",0,null,null,"1887801",0]
["1888001",2,null,"1888001",0,0,0,null,"1888001",0,null,null,"1888001",0]
["1888101",2,null,"1888101",0,0,0,null,"1888101",0,null,null,"1888101",0]
["1888201",1,null,"1888201",0,0,0,null,"1888201",0,null,null,"1888201",0]
["1888601",2,null,"1888601",0,0,0,null,"1888601",0,null,null,"1888601",0]
["1889301",4,null,"1889301",0,0,{"$f":"E709+F709","v":0},null,"1889301",0,null,null,"1889301",0]
["1889801",1,null,"1889801",0,0,0,null,"1889801",0,null,null,"1889801",0]
["1890101",1,null,"1890101",0,0,0,null,"1890101",0.5,null,null,"1890101",0]
["1890701",3,null,"1890701",0,0,0,null,"1890701",1,null,null,"1890701",0]
["1891401",3,null,"1891401",1,0,1,null,"1891401",0,null,null,"1891401",0]
["1891701",1,null,"1891701",0,0,0,null,"1891701",1,null,null,"1891701",0]
["1892101",1,null,"1892101",0,0,0,null,"1892101",0,null,null,"1892101",0]
["1892801",2,null,"1892801",0,0,0,null,"1892801",0,null,null,"1892801",0]
["1894301",3,null,"1894301",1,0,1,null,"1894301",0,null,null,"1894301",0]
["(blank)",null,null,"Grand Total",288,53,341,null,"Grand Total",17,null,null,"Grand Total",83]
["Grand Total",1133]

{"sheet":"Norm Enroll & FTEs","index":15,"n_rows":1143,"n_cols":42,"rows_kept":1143,"cut":false,"hidden":true,"merged":[]}
["Not updated",1,2,3,4,5,6,7,8,9,10,11,12,13,14,15,16,17,18,19,20,21,22,23,24,25,26,27,28,29,30,31,32,33,34,35,36,37,38,39,40]
[]
["Home School","Cost Center","School Name","Norm Category","K-3","4-5 (6)","6-8","9-10","9-12","SDC K-5(6)","SDC 6-8","SDC 9-12","Pre-K SP ED","ST_PRE_SCH_PROG","TE","Grand Total","Total K-3 FTEs","Total 4-6 FTEs","Total 6-8 FTEs","Total 9-10 FTEs","Total 9-12 FTEs","Total FTEs","20-21 Norm Day Tchrs K-3","20-21 Norm Day Tchrs 4-6","20-21 Norm Day Tchrs 6-8","20-21 Norm Day Tchrs 9-10","20-21 Norm Day Tchrs 9-12","20-21 Norm Day Total Tchrs","Home School Count","Sort Count","Index","Admin FTEs","Counselor FTEs","Clerical FTEs","20-21 Norm Day Admin","20-21 Norm Day Counselors","20-21 Norm Day Clerical","20-21 ND Hold Harmless","20-21 ND Mitigation Positions","21-22 ECAST Tchr Appeals","20-21 ND Counselors (Plus 17)","Note"]
["1194901","1194901",{"$f":"VLOOKUP(B4, 'School List'!F:G,2,FALSE)","v":"Marlton"},"PHBAO",35,33,0,0,0,35,12,39,6,0,0,160,2,2,0,0,0,4,2,2,0,0,0,4,{"$f":"VLOOKUP(A4,'Pivot Norm'!A:B,2,FALSE)","v":1},1,{"$f":"A4&AD4","v":"11949011"},0,0,0,0,0,0,1,0,0,0]
["1201401","1201401",{"$f":"VLOOKUP(B5, 'School List'!F:G,2,FALSE)","v":"Albion El"},"PHBAO",76,64,0,0,0,10,null,null,11,0,0,161,4,3,0,0,0,7,4,3,0,0,0,7,{"$f":"VLOOKUP(A5,'Pivot Norm'!A:B,2,FALSE)","v":1},{"$f":"IF(A5=A4,AD4+1,1)","v":1},"12014011",1,0,2,1,0,2,0,0,0,0]
["1202701","1202701",{"$f":"VLOOKUP(B6, 'School List'!F:G,2,FALSE)","v":"Aldama El"},"PHBAO",107,52,0,0,0,9,null,null,0,0,12,180,5,2,0,0,0,7,5,3,0,0,0,8,{"$f":"VLOOKUP(A6,'Pivot Norm'!A:B,2,FALSE)","v":2},{"$f":"IF(A6=A5,AD5+1,1)","v":1},"12027011",1,0,2,1,0,2,0,0,0,0]
["1202701","1202702",{"$f":"VLOOKUP(B7, 'School List'!F:G,2,FALSE)","v":"Aldama El DTS"},"PHBAO",185,72,0,0,0,null,null,null,0,0,0,257,8,3,0,0,0,11,7,3,0,0,0,10,{"$f":"VLOOKUP(A7,'Pivot Norm'!A:B,2,FALSE)","v":2},2,"12027012",0,0,0,0,0,0,1,1,0,0]
["1204101","1204101",{"$f":"VLOOKUP(B8, 'School List'!F:G,2,FALSE)","v":"Alexandria El"},"PHBAO",215,172,0,0,0,19,null,null,13,0,18,437,9,7,0,0,0,16,11,7,0,0,0,18,{"$f":"VLOOKUP(A8,'Pivot Norm'!A:B,2,FALSE)","v":2},1,"12041011",1,0,2,1,0,2,1,0,0,0]
["1204101","1204102",{"$f":"VLOOKUP(B9, 'School List'!F:G,2,FALSE)","v":"Alexandria El DTS"},"PHBAO",79,0,0,0,0,null,null,null,0,0,0,79,4,0,0,0,0,4,3,0,0,0,0,3,{"$f":"VLOOKUP(A9,'Pivot Norm'!A:B,2,FALSE)","v":2},2,"12041012",0,0,0,0,0,0,0,0,0,0]
["1204201","1204201",{"$f":"VLOOKUP(B10, 'School List'!F:G,2,FALSE)","v":"Harvard El"},"PHBAO",111,99,0,0,0,12,null,null,12,0,0,234,5,4,0,0,0,9,7,4,0,0,0,11,{"$f":"VLOOKUP(A10,'Pivot Norm'!A:B,2,FALSE)","v":2},1,"12042011",1,0,2,1,0,2,0,0,0,0]
["1204201","1204202",{"$f":"VLOOKUP(B11, 'School List'!F:G,2,FALSE)","v":"Harvard El DTS"},"PHBAO",55,0,0,0,0,null,null,null,0,0,0,55,3,0,0,0,0,3,2,0,0,0,0,2,{"$f":"VLOOKUP(A11,'Pivot Norm'!A:B,2,FALSE)","v":2},2,"12042012",0,0,0,0,0,0,0,0,0,0]
["1206801","1206801",{"$f":"VLOOKUP(B12, 'School List'!F:G,2,FALSE)","v":"Allesandro El"},"PHBAO",155,46,0,0,0,8,null,null,0,20,19,248,7,2,0,0,0,9,7,2,0,0,0,9,{"$f":"VLOOKUP(A12,'Pivot Norm'!A:B,2,FALSE)","v":2},1,"12068011",1,0,2,1,0,2,0,0,0,0]
["1206801","1206802",{"$f":"VLOOKUP(B13, 'School List'!F:G,2,FALSE)","v":"Allesndro Coop Lr Mg"},"Magnet 2",64,77,0,0,0,null,null,null,0,0,0,141,3,3,0,0,0,6,3,3,0,0,0,6,{"$f":"VLOOKUP(A13,'Pivot Norm'!A:B,2,FALSE)","v":2},2,"12068012",0,0,0,0,0,0,0,0,0,0]
["1208201","1208201",{"$f":"VLOOKUP(B14, 'School List'!F:G,2,FALSE)","v":"Alta Loma El"},"PHBAO",144,96,0,0,0,25,null,null,8,0,14,287,6,4,0,0,0,10,8,4,0,0,0,12,{"$f":"VLOOKUP(A14,'Pivot Norm'!A:B,2,FALSE)","v":2},1,"12082011",1,0,2,1,0,2,0,0,0,0]
["1208201","1208202",{"$f":"VLOOKUP(B15, 'School List'!F:G,2,FALSE)","v":"Alta Loma El DTS"},"PHBAO",88,19,0,0,0,null,null,null,0,0,0,107,4,1,0,0,0,5,4,0,0,0,0,4,{"$f":"VLOOKUP(A15,'Pivot Norm'!A:B,2,FALSE)","v":2},2,"12082012",0,0,0,0,0,0,0,0,0,0]
["1208901","1208901",{"$f":"VLOOKUP(B16, 'School List'!F:G,2,FALSE)","v":"Ambler El"},"PHBAO",184,89,0,0,0,31,null,null,10,0,13,327,8,4,0,0,0,12,9,4,0,0,0,13,{"$f":"VLOOKUP(A16,'Pivot Norm'!A:B,2,FALSE)","v":3},1,"12089011",1,0,2,1,0,2,0,0,0,0]
["1208901","1208902",{"$f":"VLOOKUP(B17, 'School List'!F:G,2,FALSE)","v":"Ambler Av Gifted Mag"},"Magnet 2",65,80,0,0,0,null,null,null,0,0,0,145,3,3,0,0,0,6,3,3,0,0,0,6,{"$f":"VLOOKUP(A17,'Pivot Norm'!A:B,2,FALSE)","v":3},2,"12089012",0,0,0,0,0,0,1,0,0,0]
["1208901","1208903",{"$f":"VLOOKUP(B18, 'School List'!F:G,2,FALSE)","v":"Ambler El DTS"},"PHBAO",81,15,0,0,0,null,null,null,0,0,0,96,4,1,0,0,0,5,4,0,0,0,0,4,{"$f":"VLOOKUP(A18,'Pivot Norm'!A:B,2,FALSE)","v":3},3,"12089013",0,0,0,0,0,0,0,0,0,0]
["1209601","1209601",{"$f":"VLOOKUP(B19, 'School List'!F:G,2,FALSE)","v":"Amestoy El"},"PHBAO",346,195,0,0,0,25,null,null,0,20,0,586,15,8,0,0,0,23,17,7,0,0,0,24,{"$f":"VLOOKUP(A19,'Pivot Norm'!A:B,2,FALSE)","v":3},1,"12096011",1,0,2,1,0,3,0,0,0,0]
["1209601","1209602",{"$f":"VLOOKUP(B20, 'School List'!F:G,2,FALSE)","v":"Amestoy ES Ml/MC Mag"},"Magnet 2",93,54,0,0,0,null,null,null,0,0,0,147,4,2,0,0,0,6,4,2,0,0,0,6,{"$f":"VLOOKUP(A20,'Pivot Norm'!A:B,2,FALSE)","v":3},2,"12096012",0,0,0,0,0,0,0,0,0,0]
["1209601","1209603",{"$f":"VLOOKUP(B21, 'School List'!F:G,2,FALSE)","v":"Amestoy El DTJ"},"PHBAO",18,0,0,0,0,null,null,null,null,null,null,18,1,0,0,0,0,1,0,0,0,0,0,0,{"$f":"VLOOKUP(A21,'Pivot Norm'!A:B,2,FALSE)","v":3},3,"12096013",0,0,0,0,0,0,0,0,0,0]
["1211001","1211001",{"$f":"VLOOKUP(B22, 'School List'!F:G,2,FALSE)","v":"Anatola El"},"PHBAO",205,98,0,0,0,34,null,null,0,0,14,351,9,4,0,0,0,13,9,4,0,0,0,13,{"$f":"VLOOKUP(A22,'Pivot Norm'!A:B,2,FALSE)","v":1},1,"12110011",1,0,2,1,0,2,0,0,0,0]
["1211701","1211701",{"$f":"VLOOKUP(B23, 'School List'!F:G,2,FALSE)","v":"Andasol El"},"PHBAO",281,132,0,0,0,29,null,null,5,19,0,466,12,5,0,0,0,17,11,6,0,0,0,17,{"$f":"VLOOKUP(A23,'Pivot Norm'!A:B,2,FALSE)","v":1},1,"12117011",1,0,2,1,0,2,1,0,0,0]
["1212301","1212301",{"$f":"VLOOKUP(B24, 'School List'!F:G,2,FALSE)","v":"Angeles Mesa El"},"PHBAO",95,55,0,0,0,16,null,null,23,0,6,195,4,3,0,0,0,7,5,2,0,0,0,7,{"$f":"VLOOKUP(A24,'Pivot Norm'!A:B,2,FALSE)","v":2},1,"12123011",1,0,2,1,0,2,0,0,0,0]
["1212301","1212302",{"$f":"VLOOKUP(B25, 'School List'!F:G,2,FALSE)","v":"Angls Msa DREAMS Mg"},"Magnet 2",70,51,0,0,0,null,null,null,0,0,0,121,3,2,0,0,0,5,3,2,0,0,0,5,{"$f":"VLOOKUP(A25,'Pivot Norm'!A:B,2,FALSE)","v":2},2,"12123012",0,0,0,0,0,0,0,0,0,0]
["1213701","1213701",{"$f":"VLOOKUP(B26, 'School List'!F:G,2,FALSE)","v":"Ann El"},"PHBAO",52,28,0,0,0,null,null,null,0,0,0,80,3,2,0,0,0,5,2,2,0,0,0,4,{"$f":"VLOOKUP(A26,'Pivot Norm'!A:B,2,FALSE)","v":1},1,"12137011",1,0,2,1,0,2,1,0,0,0]
["1214601","1214601",{"$f":"VLOOKUP(B27, 'School List'!F:G,2,FALSE)","v":"Annalee El"},"PHBAO",112,45,0,0,0,10,null,null,0,3,0,170,5,2,0,0,0,7,5,2,0,0,0,7,{"$f":"VLOOKUP(A27,'Pivot Norm'!A:B,2,FALSE)","v":2},1,"12146011",1,0,2,1,0,2,0,0,0,0]
["1214601","1214602",{"$f":"VLOOKUP(B28, 'School List'!F:G,2,FALSE)","v":"Annalee Av STEAM Mag"},"Magnet 2",26,38,0,0,0,null,null,null,0,0,0,64,2,2,0,0,0,4,2,2,0,0,0,4,{"$f":"VLOOKUP(A28,'Pivot Norm'!A:B,2,FALSE)","v":2},2,"12146012",0,0,0,0,0,0,0,0,0,0]
["1215101","1215101",{"$f":"VLOOKUP(B29, 'School List'!F:G,2,FALSE)","v":"Annandale El"},"PHBAO",63,39,0,0,0,24,null,null,9,0,0,135,3,2,0,0,0,5,3,2,0,0,0,5,{"$f":"VLOOKUP(A29,'Pivot Norm'!A:B,2,FALSE)","v":1},1,"12151011",1,0,2,1,0,2,0,0,0,0]
["1216401","1216401",{"$f":"VLOOKUP(B30, 'School List'!F:G,2,FALSE)","v":"Apperson El"},"Non-PHBAO",257,117,0,0,0,5,null,null,6,0,15,400,11,4,0,0,0,15,12,4,0,0,0,16,{"$f":"VLOOKUP(A30,'Pivot Norm'!A:B,2,FALSE)","v":1},1,"12164011",1,0,2,1,0,2,0,0,0,0]
["1217801","1217801",{"$f":"VLOOKUP(B31, 'School List'!F:G,2,FALSE)","v":"Aragon El"},"PHBAO",141,63,0,0,0,4,null,null,0,0,3,211,6,3,0,0,0,9,7,3,0,0,0,10,{"$f":"VLOOKUP(A31,'Pivot Norm'!A:B,2,FALSE)","v":1},1,"12178011",1,0,2,1,0,2,0,0,0,0]
["1219201","1219201",{"$f":"VLOOKUP(B32, 'School List'!F:G,2,FALSE)","v":"Arlington Hts El"},"PHBAO",92,117,0,0,0,19,null,null,0,0,8,236,4,5,0,0,0,9,6,5,0,0,0,11,{"$f":"VLOOKUP(A32,'Pivot Norm'!A:B,2,FALSE)","v":2},1,"12192011",1,0,2,1,0,2,1,0,0,0]
["1219201","1219202",{"$f":"VLOOKUP(B33, 'School List'!F:G,2,FALSE)","v":"Arlington Hts DTS"},"PHBAO",65,0,0,0,0,null,null,null,0,0,0,65,3,0,0,0,0,3,2,0,0,0,0,2,{"$f":"VLOOKUP(A33,'Pivot Norm'!A:B,2,FALSE)","v":2},2,"12192012",0,0,0,0,0,0,0,0,0,0]
["1220501","1220501",{"$f":"VLOOKUP(B34, 'School List'!F:G,2,FALSE)","v":"Arminta El"},"PHBAO",205,137,0,0,0,22,null,null,11,0,12,387,9,6,0,0,0,15,11,5,0,0,0,16,{"$f":"VLOOKUP(A34,'Pivot Norm'!A:B,2,FALSE)","v":1},1,"12205011",1,0,2,1,0,2,0,0,1,0]
["1221901","1221901",{"$f":"VLOOKUP(B35, 'School List'!F:G,2,FALSE)","v":"Ascot El"},"PHBAO",437,241,0,0,0,71,null,null,0,0,26,775,19,9,0,0,0,28,19,9,0,0,0,28,{"$f":"VLOOKUP(A35,'Pivot Norm'!A:B,2,FALSE)","v":1},1,"12219011",1,0,3,1,0,3,1,0,0,0]
["1223301","1223301",{"$f":"VLOOKUP(B36, 'School List'!F:G,2,FALSE)","v":"Atwater El"},"PHBAO",60,63,0,0,0,43,null,null,8,0,15,189,3,3,0,0,0,6,3,3,0,0,0,6,{"$f":"VLOOKUP(A36,'Pivot Norm'!A:B,2,FALSE)","v":2},1,"12233011",1,0,2,1,0,2,0,0,0,0]
["1223301","1223302",{"$f":"VLOOKUP(B37, 'School List'!F:G,2,FALSE)","v":"Atwater El DTS"},"PHBAO",138,19,0,0,0,null,null,null,0,0,0,157,6,1,0,0,0,7,5,0,0,0,0,5,{"$f":"VLOOKUP(A37,'Pivot Norm'!A:B,2,FALSE)","v":2},2,"12233012",0,0,0,0,0,0,1,0,0,0]
["1224701","1224701",{"$f":"VLOOKUP(B38, 'School List'!F:G,2,FALSE)","v":"Avalon Gardens El"},"PHBAO",79,65,0,0,0,21,null,null,6,0,0,171,4,3,0,0,0,7,4,3,0,0,0,7,{"$f":"VLOOKUP(A38,'Pivot Norm'!A:B,2,FALSE)","v":1},1,"12247011",1,0,2,1,0,2,0,0,0,0]
["1225001","1225001",{"$f":"VLOOKUP(B39, 'School List'!F:G,2,FALSE)","v":"Acad For Enrch Sci"},"Magnet 1",185,112,0,0,0,10,null,null,0,0,0,307,8,4,0,0,0,12,8,4,0,0,0,12,{"$f":"VLOOKUP(A39,'Pivot Norm'!A:B,2,FALSE)","v":1},1,"12250011",1,0,2,1,0,2,0,0,0,0]
["1226901","1226901",{"$f":"VLOOKUP(B40, 'School List'!F:G,2,FALSE)","v":"Balboa G/HA Mag"},"Magnet 1",404,300,0,0,0,null,null,null,0,0,0,704,17,10,0,0,0,27,17,10,0,0,0,27,{"$f":"VLOOKUP(A40,'Pivot Norm'!A:B,2,FALSE)","v":1},1,"12269011",1,0,2,1,0,2,0,0,0,0]
["1227401","1227401",{"$f":"VLOOKUP(B41, 'School List'!F:G,2,FALSE)","v":"Baldwin Hills El"},"PHBAO",192,53,0,0,0,12,null,null,0,0,0,257,8,2,0,0,0,10,9,2,0,0,0,11,{"$f":"VLOOKUP(A41,'Pivot Norm'!A:B,2,FALSE)","v":2},1,"12274011",1,0,2,1,0,2,0,0,0,0]
["1227401","1227402",{"$f":"VLOOKUP(B42, 'School List'!F:G,2,FALSE)","v":"Bldwn Hls Gifted Mag"},"Magnet 2",85,98,0,0,0,null,null,null,0,0,0,183,4,4,0,0,0,8,4,4,0,0,0,8,{"$f":"VLOOKUP(A42,'Pivot Norm'!A:B,2,FALSE)","v":2},2,"12274012",0,0,0,0,0,0,0,0,0,0]
["1228801","1228801",{"$f":"VLOOKUP(B43, 'School List'!F:G,2,FALSE)","v":"Bandini El"},"PHBAO",125,59,0,0,0,13,null,null,6,0,13,216,6,3,0,0,0,9,6,3,0,0,0,9,{"$f":"VLOOKUP(A43,'Pivot Norm'!A:B,2,FALSE)","v":2},1,"12288011",1,0,2,1,0,2,0,0,0,0]
["1228801","1228802",{"$f":"VLOOKUP(B44, 'School List'!F:G,2,FALSE)","v":"Bandini St El DTS"},"PHBAO",30,0,0,0,0,null,null,null,0,0,0,30,2,0,0,0,0,2,1,0,0,0,0,1,{"$f":"VLOOKUP(A44,'Pivot Norm'!A:B,2,FALSE)","v":2},2,"12288012",0,0,0,0,0,0,0,0,0,0]
["1230101","1230101",{"$f":"VLOOKUP(B45, 'School List'!F:G,2,FALSE)","v":"De La Torre Jr El"},"PHBAO",247,100,203,0,0,21,null,null,0,20,0,591,11,4,8,0,0,23,11,5,5,0,0,21,{"$f":"VLOOKUP(A45,'Pivot Norm'!A:B,2,FALSE)","v":2},1,"12301011",2,0.5,2,1,0.5,2,0,0,0,0]
["1230101","1230102",{"$f":"VLOOKUP(B46, 'School List'!F:G,2,FALSE)","v":"De La Torre STEAM Mg"},"Magnet 2",64,52,0,0,0,null,null,null,0,0,0,116,3,2,0,0,0,5,3,2,0,0,0,5,{"$f":"VLOOKUP(A46,'Pivot Norm'!A:B,2,FALSE)","v":2},2,"12301012",0,0,0,0,0,0,0,0,0,0]
["1230201","1230201",{"$f":"VLOOKUP(B47, 'School List'!F:G,2,FALSE)","v":"Obama El"},"PHBAO",371,202,0,0,0,7,null,null,0,0,0,580,16,8,0,0,0,24,18,8,0,0,0,26,{"$f":"VLOOKUP(A47,'Pivot Norm'!A:B,2,FALSE)","v":1},1,"12302011",1,0,2,1,0,2,0,1,0,0]
["1230301","1230301",{"$f":"VLOOKUP(B48, 'School List'!F:G,2,FALSE)","v":"Porter Ranch School"},"Non-PHBAO",489,232,378,0,0,null,null,null,0,0,0,1099,21,8,13,0,0,42,20,7,13,0,0,40,{"$f":"VLOOKUP(A48,'Pivot Norm'!A:B,2,FALSE)","v":2},1,"12303011",2,1,4,2,0.5,3,0,0,0,0]
["1230301","1230302",{"$f":"VLOOKUP(B49, 'School List'!F:G,2,FALSE)","v":"Porter Ranch Sch DTK"},"PHBAO",96,46,0,0,0,null,null,null,0,0,0,142,4,2,0,0,0,6,5,2,0,0,0,7,{"$f":"VLOOKUP(A49,'Pivot Norm'!A:B,2,FALSE)","v":2},2,"12303012",0,0,0,0,0,0,0,0,0,0]
["1230601","1230601",{"$f":"VLOOKUP(B50, 'School List'!F:G,2,FALSE)","v":"Playa Vista El Sch"},"Non-PHBAO",353,151,0,0,0,null,null,null,0,0,0,504,15,5,0,0,0,20,16,5,0,0,0,21,{"$f":"VLOOKUP(A50,'Pivot Norm'!A:B,2,FALSE)","v":1},1,"12306011",1,0,2,1,0,2,1,2,0,0]
["1230701","1230701",{"$f":"VLOOKUP(B51, 'School List'!F:G,2,FALSE)","v":"Lee Med Hlth Mag"},"Magnet 2",461,223,0,0,0,null,null,null,0,0,0,684,20,9,0,0,0,29,19,8,0,0,0,27,{"$f":"VLOOKUP(A51,'Pivot Norm'!A:B,2,FALSE)","v":1},1,"12307011",1,0,2,1,0,2,0,0,0,0]
["1230801","1230801",{"$f":"VLOOKUP(B52, 'School List'!F:G,2,FALSE)","v":"Ride El Smart Acad"},"PHBAO",257,165,0,0,0,11,null,null,0,0,0,433,11,7,0,0,0,18,13,6,0,0,0,19,{"$f":"VLOOKUP(A52,'Pivot Norm'!A:B,2,FALSE)","v":1},1,"12308011",1,0,2,1,0,2,0,0,0,0]
["1230901","1230901",{"$f":"VLOOKUP(B53, 'School List'!F:G,2,FALSE)","v":"Willow El"},"PHBAO",139,72,0,0,0,11,null,null,12,0,0,234,6,3,0,0,0,9,6,4,0,0,0,10,{"$f":"VLOOKUP(A53,'Pivot Norm'!A:B,2,FALSE)","v":2},1,"12309011",1,0,2,1,0,2,0,0,0,0]
["1230901","1230902",{"$f":"VLOOKUP(B54, 'School List'!F:G,2,FALSE)","v":"Willow El DTS"},"PHBAO",184,79,0,0,0,null,null,null,0,0,0,263,8,3,0,0,0,11,8,3,0,0,0,11,{"$f":"VLOOKUP(A54,'Pivot Norm'!A:B,2,FALSE)","v":2},2,"12309012",0,0,0,0,0,0,0,0,0,0]
["1231101","1231101",{"$f":"VLOOKUP(B55, 'School List'!F:G,2,FALSE)","v":"Poindexter Lamotte El"},"PHBAO",273,191,0,0,0,26,null,null,0,0,0,490,12,8,0,0,0,20,12,8,0,0,0,20,{"$f":"VLOOKUP(A55,'Pivot Norm'!A:B,2,FALSE)","v":1},1,"12311011",1,0,2,1,0,2,1,0,0,0]
["1231201","1231201",{"$f":"VLOOKUP(B56, 'School List'!F:G,2,FALSE)","v":"Lawson Acad A/M/S"},"PHBAO",257,207,0,0,0,24,null,null,0,0,0,488,11,8,0,0,0,19,12,9,0,0,0,21,{"$f":"VLOOKUP(A56,'Pivot Norm'!A:B,2,FALSE)","v":1},1,"12312011",1,0,2,1,0,2,1,0,0,0]
["1231301","1231301",{"$f":"VLOOKUP(B57, 'School List'!F:G,2,FALSE)","v":"Moore M/S/T Acad"},"PHBAO",338,192,0,0,0,10,null,null,0,0,0,540,15,8,0,0,0,23,16,8,0,0,0,24,{"$f":"VLOOKUP(A57,'Pivot Norm'!A:B,2,FALSE)","v":1},1,"12313011",1,0,2,1,0,2,0,0,0,0]
["1231501","1231501",{"$f":"VLOOKUP(B58, 'School List'!F:G,2,FALSE)","v":"Barton Hill El"},"PHBAO",215,94,0,0,0,19,null,null,7,8,7,350,9,4,0,0,0,13,9,5,0,0,0,14,{"$f":"VLOOKUP(A58,'Pivot Norm'!A:B,2,FALSE)","v":2},1,"12315011",1,0,2,1,0,2,1,0,0,0]
["1231501","1231502",{"$f":"VLOOKUP(B59, 'School List'!F:G,2,FALSE)","v":"Barton Hill M STEAM Mg"},"Magnet 2",72,54,0,0,0,null,null,null,0,0,0,126,3,2,0,0,0,5,3,2,0,0,0,5,{"$f":"VLOOKUP(A59,'Pivot Norm'!A:B,2,FALSE)","v":2},2,"12315012",0,0,0,0,0,0,0,0,0,0]
["1232301","1232301",{"$f":"VLOOKUP(B60, 'School List'!F:G,2,FALSE)","v":"Bassett El"},"PHBAO",300,120,0,0,0,31,null,null,16,0,27,494,13,5,0,0,0,18,16,7,0,0,0,23,{"$f":"VLOOKUP(A60,'Pivot Norm'!A:B,2,FALSE)","v":2},1,"12323011",1,0,2,1,0,2,1,1,0,0]
["1232301","1232302",{"$f":"VLOOKUP(B61, 'School List'!F:G,2,FALSE)","v":"Bassett ES MAT Mag"},"Magnet 2",88,50,0,0,0,null,null,null,null,null,null,138,4,2,0,0,0,6,0,0,0,0,0,0,{"$f":"VLOOKUP(A61,'Pivot Norm'!A:B,2,FALSE)","v":2},2,"12323012",0,0,0,0,0,0,0,0,0,0]
["1232901","1232901",{"$f":"VLOOKUP(B62, 'School List'!F:G,2,FALSE)","v":"Beachy El"},"PHBAO",282,124,0,0,0,31,null,null,18,10,7,472,12,5,0,0,0,17,12,5,0,0,0,17,{"$f":"VLOOKUP(A62,'Pivot Norm'!A:B,2,FALSE)","v":1},1,"12329011",1,0,2,1,0,2,0,0,0,0]
["1233501","1233501",{"$f":"VLOOKUP(B63, 'School List'!F:G,2,FALSE)","v":"Beckford Chtr Enr St"},"Non-PHBAO",405,189,0,0,0,null,null,null,0,0,0,594,17,6,0,0,0,23,17,6,0,0,0,23,{"$f":"VLOOKUP(A63,'Pivot Norm'!A:B,2,FALSE)","v":1},1,"12335011",1,0,2,1,0,2,1,0,1,0]
["1234201","1234201",{"$f":"VLOOKUP(B64, 'School List'!F:G,2,FALSE)","v":"Beethoven El"},"Non-PHBAO",224,124,0,0,0,null,null,null,7,0,0,355,10,4,0,0,0,14,10,4,0,0,0,14,{"$f":"VLOOKUP(A64,'Pivot Norm'!A:B,2,FALSE)","v":1},1,"12342011",1,0,2,1,0,2,1,1,0,0]
["1236901","1236901",{"$f":"VLOOKUP(B65, 'School List'!F:G,2,FALSE)","v":"RFK Ambsdr Glbl Edu"},"PHBAO",77,49,0,0,0,18,null,null,0,0,0,144,4,2,0,0,0,6,4,2,0,0,0,6,{"$f":"VLOOKUP(A65,'Pivot Norm'!A:B,2,FALSE)","v":3},1,"12369011",1,0,2,1,0,2,0,0,0,0]
["1236901","1236902",{"$f":"VLOOKUP(B66, 'School List'!F:G,2,FALSE)","v":"RFK Ambsdr Gbl DOS"},"PHBAO",74,43,0,0,0,null,null,null,0,0,0,117,4,2,0,0,0,6,4,2,0,0,0,6,{"$f":"VLOOKUP(A66,'Pivot Norm'!A:B,2,FALSE)","v":3},2,"12369012",0,0,0,0,0,0,0,0,0,0]
["1236901","1236903",{"$f":"VLOOKUP(B67, 'School List'!F:G,2,FALSE)","v":"RFK Ambsdr Gbl DTK"},"PHBAO",51,27,0,0,0,null,null,null,0,0,0,78,3,1,0,0,0,4,3,1,0,0,0,4,{"$f":"VLOOKUP(A67,'Pivot Norm'!A:B,2,FALSE)","v":3},3,"12369013",0,0,0,0,0,0,0,0,0,0]
["1237201","1237201",{"$f":"VLOOKUP(B68, 'School List'!F:G,2,FALSE)","v":"Ochoa LC"},"PHBAO",196,102,438,0,0,38,47,null,11,33,0,865,9,4,17,0,0,30,9,4,17,0,0,30,{"$f":"VLOOKUP(A68,'Pivot Norm'!A:B,2,FALSE)","v":2},1,{"$f":"A68&AD68","v":"12372011"},2,1,4,2,1,3,0,0,0,0]
["1237201","1237202",{"$f":"VLOOKUP(B69, 'School List'!F:G,2,FALSE)","v":"Ochoa LC DTS"},"PHBAO",284,123,0,0,0,null,null,null,0,0,0,407,12,5,0,0,0,17,12,5,0,0,0,17,{"$f":"VLOOKUP(A69,'Pivot Norm'!A:B,2,FALSE)","v":2},2,"12372012",0,0,0,0,0,0,1,0,0,0]
["1237501","1237501",{"$f":"VLOOKUP(B70, 'School List'!F:G,2,FALSE)","v":"Hughes El"},"PHBAO",288,190,0,0,0,36,null,null,3,12,0,529,12,8,0,0,0,20,13,8,0,0,0,21,{"$f":"VLOOKUP(A70,'Pivot Norm'!A:B,2,FALSE)","v":2},{"$f":"IF(A70=A69,AD69+1,1)","v":1},"12375011",1,0,2,1,0,2,0,0,0,0]
["1237501","1237502",{"$f":"VLOOKUP(B71, 'School List'!F:G,2,FALSE)","v":"Hughes El STEM Mag"},"Magnet 2",67,52,0,0,0,null,null,null,0,0,0,119,3,2,0,0,0,5,3,2,0,0,0,5,{"$f":"VLOOKUP(A71,'Pivot Norm'!A:B,2,FALSE)","v":2},2,"12375012",0,0,0,0,0,0,0,0,0,0]
["1237801","1237801",{"$f":"VLOOKUP(B72, 'School List'!F:G,2,FALSE)","v":"Nueva Vista El"},"PHBAO",375,196,0,0,0,21,null,null,10,0,17,619,16,8,0,0,0,24,17,8,0,0,0,25,{"$f":"VLOOKUP(A72,'Pivot Norm'!A:B,2,FALSE)","v":2},1,"12378011",1,0,2,1,0,3,1,0,0,0]
["1237801","1237802",{"$f":"VLOOKUP(B73, 'School List'!F:G,2,FALSE)","v":"Nueva Vista VAPA Mag"},"Magnet 2",40,83,0,0,0,null,null,null,0,0,0,123,2,4,0,0,0,6,2,3,0,0,0,5,{"$f":"VLOOKUP(A73,'Pivot Norm'!A:B,2,FALSE)","v":2},2,"12378012",0,0,0,0,0,0,1,0,0,0]
["1238101","1238101",{"$f":"VLOOKUP(B74, 'School List'!F:G,2,FALSE)","v":"Maywood El"},"PHBAO",286,86,0,0,0,16,null,null,0,0,21,409,12,4,0,0,0,16,13,4,0,0,0,17,{"$f":"VLOOKUP(A74,'Pivot Norm'!A:B,2,FALSE)","v":2},1,"12381011",1,0,2,1,0,2,0,0,0,0]
["1238101","1238102",{"$f":"VLOOKUP(B75, 'School List'!F:G,2,FALSE)","v":"Maywood CS Mag"},"Magnet 2",48,54,0,0,0,null,null,null,0,0,0,102,2,2,0,0,0,4,1,2,0,0,0,3,{"$f":"VLOOKUP(A75,'Pivot Norm'!A:B,2,FALSE)","v":2},2,"12381012",0,0,0,0,0,0,0,0,0,0]
["1238301","1238301",{"$f":"VLOOKUP(B76, 'School List'!F:G,2,FALSE)","v":"Esperanza El"},"PHBAO",380,244,0,0,0,25,null,null,4,0,24,677,16,10,0,0,0,26,17,11,0,0,0,28,{"$f":"VLOOKUP(A76,'Pivot Norm'!A:B,2,FALSE)","v":1},1,"12383011",1,0,2,1,0,2,0,1,0,0]
["1238401","1238401",{"$f":"VLOOKUP(B77, 'School List'!F:G,2,FALSE)","v":"Politi El"},"PHBAO",371,191,0,0,0,83,null,null,14,0,17,676,16,8,0,0,0,24,16,8,0,0,0,24,{"$f":"VLOOKUP(A77,'Pivot Norm'!A:B,2,FALSE)","v":1},1,"12384011",1,0,2,1,0,2,0,0,0,0]
["1238501","1238501",{"$f":"VLOOKUP(B78, 'School List'!F:G,2,FALSE)","v":"Gratts LA for YS"},"PHBAO",174,165,0,0,0,null,null,null,0,0,0,339,8,7,0,0,0,15,6,7,0,0,0,13,{"$f":"VLOOKUP(A78,'Pivot Norm'!A:B,2,FALSE)","v":2},1,"12385011",1,0,2,1,0,2,0,1,0,0]
["1238501","1238502",{"$f":"VLOOKUP(B79, 'School List'!F:G,2,FALSE)","v":"Gratts LA for YS DOS"},"PHBAO",44,41,0,0,0,null,null,null,0,0,0,85,2,2,0,0,0,4,3,0,0,0,0,3,{"$f":"VLOOKUP(A79,'Pivot Norm'!A:B,2,FALSE)","v":2},2,"12385012",0,0,0,0,0,0,0,0,0,0]
["1238601","1238601",{"$f":"VLOOKUP(B80, 'School List'!F:G,2,FALSE)","v":"Del Olmo El"},"PHBAO",376,168,0,0,0,24,null,null,14,0,34,616,16,7,0,0,0,23,16,7,0,0,0,23,{"$f":"VLOOKUP(A80,'Pivot Norm'!A:B,2,FALSE)","v":1},1,"12386011",1,0,2,1,0,2,0,0,0,0]
["1239101","1239101",{"$f":"VLOOKUP(B81, 'School List'!F:G,2,FALSE)","v":"Huntington Park El"},"PHBAO",155,97,0,0,0,10,null,null,0,19,0,281,7,4,0,0,0,11,7,5,0,0,0,12,{"$f":"VLOOKUP(A81,'Pivot Norm'!A:B,2,FALSE)","v":2},1,"12391011",1,0,2,1,0,2,0,0,0,0]
["1239101","1239102",{"$f":"VLOOKUP(B82, 'School List'!F:G,2,FALSE)","v":"Huntington Pk DTS"},"PHBAO",80,22,0,0,0,null,null,null,0,0,0,102,4,1,0,0,0,5,4,0,0,0,0,4,{"$f":"VLOOKUP(A82,'Pivot Norm'!A:B,2,FALSE)","v":2},2,"12391012",0,0,0,0,0,0,0,0,0,0]
["1239201","1239201",{"$f":"VLOOKUP(B83, 'School List'!F:G,2,FALSE)","v":"Olympic PC"},"PHBAO",100,0,0,0,0,null,null,null,23,0,30,153,5,0,0,0,0,5,5,0,0,0,0,5,{"$f":"VLOOKUP(A83,'Pivot Norm'!A:B,2,FALSE)","v":1},1,"12392011",1,0,2,1,0,2,0,0,0,0]
["1239301","1239301",{"$f":"VLOOKUP(B84, 'School List'!F:G,2,FALSE)","v":"Lake St Primary"},"PHBAO",122,0,0,0,0,17,null,null,37,0,7,183,6,0,0,0,0,6,6,0,0,0,0,6,{"$f":"VLOOKUP(A84,'Pivot Norm'!A:B,2,FALSE)","v":1},1,"12393011",1,0,2,1,0,2,1,0,0,0]
["1239701","1239701",{"$f":"VLOOKUP(B85, 'School List'!F:G,2,FALSE)","v":"Belvedere El"},"PHBAO",353,191,0,0,0,50,null,null,4,0,20,618,15,8,0,0,0,23,16,7,0,0,0,23,{"$f":"VLOOKUP(A85,'Pivot Norm'!A:B,2,FALSE)","v":1},1,"12397011",1,0,2,1,0,2,2,0,0,0]
["1243801","1243801",{"$f":"VLOOKUP(B86, 'School List'!F:G,2,FALSE)","v":"Bertrand El"},"PHBAO",215,103,0,0,0,4,null,null,22,0,11,355,9,4,0,0,0,13,10,4,0,0,0,14,{"$f":"VLOOKUP(A86,'Pivot Norm'!A:B,2,FALSE)","v":1},1,"12438011",1,0,2,1,0,2,0,0,0,0]
["1247001","1247001",{"$f":"VLOOKUP(B87, 'School List'!F:G,2,FALSE)","v":"Blythe El"},"PHBAO",173,96,0,0,0,null,null,null,21,0,17,307,8,4,0,0,0,12,8,4,0,0,0,12,{"$f":"VLOOKUP(A87,'Pivot Norm'!A:B,2,FALSE)","v":1},1,"12470011",1,0,2,1,0,2,1,0,0,0]
["1247301","1247301",{"$f":"VLOOKUP(B88, 'School List'!F:G,2,FALSE)","v":"Bonita El"},"PHBAO",229,127,0,0,0,32,null,null,0,0,17,405,10,5,0,0,0,15,11,5,0,0,0,16,{"$f":"VLOOKUP(A88,'Pivot Norm'!A:B,2,FALSE)","v":1},1,"12473011",1,0,2,1,0,2,0,0,1,0]
["1247901","1247901",{"$f":"VLOOKUP(B89, 'School List'!F:G,2,FALSE)","v":"Braddock Drive El"},"PHBAO",136,69,0,0,0,null,null,null,0,20,0,225,6,3,0,0,0,9,6,3,0,0,0,9,{"$f":"VLOOKUP(A89,'Pivot Norm'!A:B,2,FALSE)","v":3},1,"12479011",1,0,2,1,0,2,1,0,0,0]
["1247901","1247902",{"$f":"VLOOKUP(B90, 'School List'!F:G,2,FALSE)","v":"Braddock Gifted Mag"},"Magnet 1",40,60,0,0,0,null,null,null,0,0,0,100,2,2,0,0,0,4,2,2,0,0,0,4,{"$f":"VLOOKUP(A90,'Pivot Norm'!A:B,2,FALSE)","v":3},2,"12479012",0,0,0,0,0,0,0,0,0,0]
["1247901","1247903",{"$f":"VLOOKUP(B91, 'School List'!F:G,2,FALSE)","v":"Braddock Dr El DTM"},"PHBAO",191,78,0,0,0,null,null,null,0,0,0,269,8,3,0,0,0,11,8,2,0,0,0,10,{"$f":"VLOOKUP(A91,'Pivot Norm'!A:B,2,FALSE)","v":3},3,"12479013",0,0,0,0,0,0,0,0,1,0]
["1248601","1248601",{"$f":"VLOOKUP(B92, 'School List'!F:G,2,FALSE)","v":"Brainard El"},"PHBAO",95,41,0,0,0,23,null,null,5,0,0,164,4,2,0,0,0,6,4,2,0,0,0,6,{"$f":"VLOOKUP(A92,'Pivot Norm'!A:B,2,FALSE)","v":1},1,"12486011",1,0,2,1,0,2,0,0,0,0]
["1249301","1249301",{"$f":"VLOOKUP(B93, 'School List'!F:G,2,FALSE)","v":"Breed El"},"PHBAO",137,110,0,0,0,32,null,null,6,0,7,292,6,5,0,0,0,11,6,5,0,0,0,11,{"$f":"VLOOKUP(A93,'Pivot Norm'!A:B,2,FALSE)","v":1},1,"12493011",1,0,2,1,0,2,1,0,0,0]
["1250701","1250701",{"$f":"VLOOKUP(B94, 'School List'!F:G,2,FALSE)","v":"Brentwood Sci Mag"},"Magnet 2",180,163,0,0,0,17,null,null,0,0,0,360,8,7,0,0,0,15,8,6,0,0,0,14,{"$f":"VLOOKUP(A94,'Pivot Norm'!A:B,2,FALSE)","v":1},1,"12507011",1,0,2,1,0,2,0,0,0,0]
["1252101","1252101",{"$f":"VLOOKUP(B95, 'School List'!F:G,2,FALSE)","v":"Bridge El"},"PHBAO",101,39,0,0,0,47,null,null,0,0,7,194,5,2,0,0,0,7,4,2,0,0,0,6,{"$f":"VLOOKUP(A95,'Pivot Norm'!A:B,2,FALSE)","v":1},1,"12521011",1,0,2,1,0,2,1,0,0,0]
["1252701","1252701",{"$f":"VLOOKUP(B96, 'School List'!F:G,2,FALSE)","v":"Broad Ave El"},"PHBAO",228,146,0,0,0,52,null,null,12,15,17,470,10,6,0,0,0,16,10,6,0,0,0,16,{"$f":"VLOOKUP(A96,'Pivot Norm'!A:B,2,FALSE)","v":2},1,"12527011",1,0,2,1,0,2,0,0,0,0]
["1252701","1252702",{"$f":"VLOOKUP(B97, 'School List'!F:G,2,FALSE)","v":"Broad Ave El DTS"},"PHBAO",105,0,0,0,0,null,null,null,0,0,0,105,5,0,0,0,0,5,4,0,0,0,0,4,{"$f":"VLOOKUP(A97,'Pivot Norm'!A:B,2,FALSE)","v":2},2,"12527012",0,0,0,0,0,0,0,0,0,0]
["1253001","1253001",{"$f":"VLOOKUP(B98, 'School List'!F:G,2,FALSE)","v":"Broadacres El"},"PHBAO",140,81,0,0,0,19,null,null,0,0,11,251,6,3,0,0,0,9,7,3,0,0,0,10,{"$f":"VLOOKUP(A98,'Pivot Norm'!A:B,2,FALSE)","v":2},1,"12530011",1,0,2,1,0,2,1,0,0,0]
["1253001","1253002",{"$f":"VLOOKUP(B99, 'School List'!F:G,2,FALSE)","v":"Broadacres VAPA Mag"},"Magnet 2",44,0,0,0,0,null,null,null,null,null,null,44,2,0,0,0,0,2,0,0,0,0,0,0,{"$f":"VLOOKUP(A99,'Pivot Norm'!A:B,2,FALSE)","v":2},2,"12530012",0,0,0,0,0,0,0,0,0,0]
["1253401","1253401",{"$f":"VLOOKUP(B100, 'School List'!F:G,2,FALSE)","v":"Broadway El"},"PHBAO",0,0,0,0,0,null,null,null,0,0,0,0,0,0,0,0,0,0,0,0,0,0,0,0,{"$f":"VLOOKUP(A100,'Pivot Norm'!A:B,2,FALSE)","v":3},1,"12534011",1,0,2,1,0,2,0,0,0,0]
["1253401","1253402",{"$f":"VLOOKUP(B101, 'School List'!F:G,2,FALSE)","v":"Broadway El DTS"},"PHBAO",143,56,0,0,0,null,null,null,0,0,0,199,6,3,0,0,0,9,6,2,0,0,0,8,{"$f":"VLOOKUP(A101,'Pivot Norm'!A:B,2,FALSE)","v":3},2,"12534012",0,0,0,0,0,0,1,0,0,0]
["1253401","1253403",{"$f":"VLOOKUP(B102, 'School List'!F:G,2,FALSE)","v":"Broadway El DTM"},"Non-PHBAO",268,123,0,0,0,null,null,null,0,0,0,391,12,4,0,0,0,16,12,4,0,0,0,16,{"$f":"VLOOKUP(A102,'Pivot Norm'!A:B,2,FALSE)","v":3},3,"12534013",0,0,0,0,0,0,0,0,0,0]
["1254201","1254201",{"$f":"VLOOKUP(B103, 'School List'!F:G,2,FALSE)","v":"White El"},"PHBAO",77,93,0,0,0,10,null,null,0,0,0,180,4,4,0,0,0,8,5,5,0,0,0,10,{"$f":"VLOOKUP(A103,'Pivot Norm'!A:B,2,FALSE)","v":2},1,"12542011",1,0,2,1,0,2,0,0,0,0]
["1254201","1254202",{"$f":"VLOOKUP(B104, 'School List'!F:G,2,FALSE)","v":"White Es Vis Art Mag"},"Magnet 2",71,52,0,0,0,null,null,null,0,0,0,123,3,2,0,0,0,5,3,1,0,0,0,4,{"$f":"VLOOKUP(A104,'Pivot Norm'!A:B,2,FALSE)","v":2},2,"12542012",0,0,0,0,0,0,0,0,0,0]
["1254301","1254301",{"$f":"VLOOKUP(B105, 'School List'!F:G,2,FALSE)","v":"Lafayette Park PC"},"PHBAO",76,0,0,0,0,null,null,null,18,12,0,106,4,0,0,0,0,4,4,0,0,0,0,4,{"$f":"VLOOKUP(A105,'Pivot Norm'!A:B,2,FALSE)","v":1},1,"12543011",1,0,2,1,0,2,0,0,0,0]
["1254401","1254401",{"$f":"VLOOKUP(B106, 'School List'!F:G,2,FALSE)","v":"Macarthur Park VPA"},"PHBAO",137,78,0,0,0,null,null,null,0,0,9,224,6,3,0,0,0,9,6,4,0,0,0,10,{"$f":"VLOOKUP(A106,'Pivot Norm'!A:B,2,FALSE)","v":2},1,"12544011",1,0,2,1,0,2,1,0,0,0]
["1254401","1254402",{"$f":"VLOOKUP(B107, 'School List'!F:G,2,FALSE)","v":"Macarthur Pk VPA DTS"},"PHBAO",119,93,0,0,0,null,null,null,0,0,0,212,5,4,0,0,0,9,7,3,0,0,0,10,{"$f":"VLOOKUP(A107,'Pivot Norm'!A:B,2,FALSE)","v":2},2,"12544012",0,0,0,0,0,0,1,0,0,0]
["1254801","1254801",{"$f":"VLOOKUP(B108, 'School List'!F:G,2,FALSE)","v":"Brockton El"},"PHBAO",103,64,0,0,0,10,null,null,4,0,22,203,5,3,0,0,0,8,5,3,0,0,0,8,{"$f":"VLOOKUP(A108,'Pivot Norm'!A:B,2,FALSE)","v":1},1,"12548011",1,0,2,1,0,2,0,0,0,0]
["1256201","1256201",{"$f":"VLOOKUP(B109, 'School List'!F:G,2,FALSE)","v":"Brooklyn Ave El"},"PHBAO",189,100,165,0,0,25,7,null,0,0,0,486,8,4,7,0,0,19,9,4,6,0,0,19,{"$f":"VLOOKUP(A109,'Pivot Norm'!A:B,2,FALSE)","v":1},1,"12562011",1,0.5,2,1,0.5,2,1,0,0,0]
["1258901","1258901",{"$f":"VLOOKUP(B110, 'School List'!F:G,2,FALSE)","v":"Bryson El"},"PHBAO",342,136,0,0,0,36,null,null,0,0,24,538,15,6,0,0,0,21,13,6,0,0,0,19,{"$f":"VLOOKUP(A110,'Pivot Norm'!A:B,2,FALSE)","v":2},1,"12589011",1,0,3,1,0,3,1,0,0,0]
["1258901","1258902",{"$f":"VLOOKUP(B111, 'School List'!F:G,2,FALSE)","v":"Bryson Av El STEM Mag"},"Magnet 2",142,108,0,0,0,null,null,null,0,0,0,250,6,4,0,0,0,10,6,4,0,0,0,10,{"$f":"VLOOKUP(A111,'Pivot Norm'!A:B,2,FALSE)","v":2},2,"12589012",0,0,0,0,0,0,0,0,0,0]
["1260301","1260301",{"$f":"VLOOKUP(B112, 'School List'!F:G,2,FALSE)","v":"Buchanan El"},"PHBAO",67,44,0,0,0,20,null,null,0,0,18,149,3,2,0,0,0,5,4,2,0,0,0,6,{"$f":"VLOOKUP(A112,'Pivot Norm'!A:B,2,FALSE)","v":3},1,"12603011",1,0,2,1,0,2,0,0,0,0]
["1260301","1260302",{"$f":"VLOOKUP(B113, 'School List'!F:G,2,FALSE)","v":"Buchanan El STEM Mag"},"Magnet 2",82,50,0,0,0,null,null,null,0,0,0,132,4,2,0,0,0,6,4,2,0,0,0,6,{"$f":"VLOOKUP(A113,'Pivot Norm'!A:B,2,FALSE)","v":3},2,"12603012",0,0,0,0,0,0,0,0,0,0]
["1260301","1260303",{"$f":"VLOOKUP(B114, 'School List'!F:G,2,FALSE)","v":"Buchanan El DTS"},"PHBAO",18,0,0,0,0,null,null,null,null,null,null,18,1,0,0,0,0,1,0,0,0,0,0,0,{"$f":"VLOOKUP(A114,'Pivot Norm'!A:B,2,FALSE)","v":3},3,"12603013",0,0,0,0,0,0,0,0,0,0]
["1261601","1261601",{"$f":"VLOOKUP(B115, 'School List'!F:G,2,FALSE)","v":"Budlong El"},"PHBAO",502,262,0,0,0,14,null,null,0,0,0,778,21,10,0,0,0,31,21,10,0,0,0,31,{"$f":"VLOOKUP(A115,'Pivot Norm'!A:B,2,FALSE)","v":1},1,"12616011",1,0,3,1,0,3,1,1,0,0]
["1261901","1261901",{"$f":"VLOOKUP(B116, 'School List'!F:G,2,FALSE)","v":"Wilshire Park El"},"PHBAO",228,127,0,0,0,19,null,null,0,0,0,374,10,5,0,0,0,15,11,5,0,0,0,16,{"$f":"VLOOKUP(A116,'Pivot Norm'!A:B,2,FALSE)","v":1},1,"12619011",1,0,2,1,0,2,0,0,0,0]
["1263001","1263001",{"$f":"VLOOKUP(B117, 'School List'!F:G,2,FALSE)","v":"Burbank El"},"PHBAO",183,59,0,0,0,null,null,null,12,20,0,274,8,3,0,0,0,11,8,3,0,0,0,11,{"$f":"VLOOKUP(A117,'Pivot Norm'!A:B,2,FALSE)","v":2},1,"12630011",1,0,2,1,0,2,0,0,0,0]
["1263001","1263002",{"$f":"VLOOKUP(B118, 'School List'!F:G,2,FALSE)","v":"Burbank Gifted/GL Mg"},"Magnet 1",40,51,0,0,0,null,null,null,0,0,0,91,2,2,0,0,0,4,2,2,0,0,0,4,{"$f":"VLOOKUP(A118,'Pivot Norm'!A:B,2,FALSE)","v":2},2,"12630012",0,0,0,0,0,0,0,0,0,0]
["1264401","1264401",{"$f":"VLOOKUP(B119, 'School List'!F:G,2,FALSE)","v":"Saturn El"},"PHBAO",84,24,0,0,0,41,null,null,12,0,9,170,4,1,0,0,0,5,4,1,0,0,0,5,{"$f":"VLOOKUP(A119,'Pivot Norm'!A:B,2,FALSE)","v":2},1,"12644011",1,0,2,1,0,2,0,0,0,0]
["1264401","1264402",{"$f":"VLOOKUP(B120, 'School List'!F:G,2,FALSE)","v":"Saturn Arts/Media Mag"},"Magnet 2",79,50,0,0,0,null,null,null,0,0,0,129,4,2,0,0,0,6,4,2,0,0,0,6,{"$f":"VLOOKUP(A120,'Pivot Norm'!A:B,2,FALSE)","v":2},2,"12644012",0,0,0,0,0,0,0,0,0,0]
["1265801","1265801",{"$f":"VLOOKUP(B121, 'School List'!F:G,2,FALSE)","v":"Burton El"},"PHBAO",180,77,0,0,0,28,null,null,13,0,8,306,8,3,0,0,0,11,8,3,0,0,0,11,{"$f":"VLOOKUP(A121,'Pivot Norm'!A:B,2,FALSE)","v":1},1,"12658011",1,0,2,1,0,2,1,0,0,0]
["1267101","1267101",{"$f":"VLOOKUP(B122, 'School List'!F:G,2,FALSE)","v":"Bushnell Way El"},"PHBAO",52,34,0,0,0,21,null,null,0,7,10,124,3,2,0,0,0,5,3,2,0,0,0,5,{"$f":"VLOOKUP(A122,'Pivot Norm'!A:B,2,FALSE)","v":2},1,"12671011",1,0,2,1,0,2,0,0,0,0]
["1267101","1267102",{"$f":"VLOOKUP(B123, 'School List'!F:G,2,FALSE)","v":"Bushnell Way DTS"},"PHBAO",54,0,0,0,0,null,null,null,0,0,0,54,3,0,0,0,0,3,2,0,0,0,0,2,{"$f":"VLOOKUP(A123,'Pivot Norm'!A:B,2,FALSE)","v":2},2,"12671012",0,0,0,0,0,0,1,0,0,0]
["1268501","1268501",{"$f":"VLOOKUP(B124, 'School List'!F:G,2,FALSE)","v":"Cabrillo El"},"PHBAO",131,62,0,0,0,null,null,null,9,0,0,202,6,3,0,0,0,9,7,3,0,0,0,10,{"$f":"VLOOKUP(A124,'Pivot Norm'!A:B,2,FALSE)","v":2},1,"12685011",1,0,2,1,0,2,0,0,0,0]
["1268501","1268502",{"$f":"VLOOKUP(B125, 'School List'!F:G,2,FALSE)","v":"Cabrillo STEAM Mag"},"Magnet 2",69,52,0,0,0,null,null,null,0,0,0,121,3,2,0,0,0,5,3,2,0,0,0,5,{"$f":"VLOOKUP(A125,'Pivot Norm'!A:B,2,FALSE)","v":2},2,"12685012",0,0,0,0,0,0,0,0,0,0]
["1269901","1269901",{"$f":"VLOOKUP(B126, 'School List'!F:G,2,FALSE)","v":"Cahuenga El"},"PHBAO",77,52,0,0,0,20,null,null,0,0,0,149,4,2,0,0,0,6,4,2,0,0,0,6,{"$f":"VLOOKUP(A126,'Pivot Norm'!A:B,2,FALSE)","v":3},1,"12699011",1,0,2,1,0,2,1,0,0,0]
["1269901","1269902",{"$f":"VLOOKUP(B127, 'School List'!F:G,2,FALSE)","v":"Cahuenga El DOS"},"PHBAO",85,34,0,0,0,null,null,null,0,0,0,119,4,2,0,0,0,6,4,2,0,0,0,6,{"$f":"VLOOKUP(A127,'Pivot Norm'!A:B,2,FALSE)","v":3},2,"12699012",0,0,0,0,0,0,0,0,0,0]
["1269901","1269903",{"$f":"VLOOKUP(B128, 'School List'!F:G,2,FALSE)","v":"Cahuenga El DTK"},"PHBAO",62,41,0,0,0,null,null,null,0,0,0,103,3,2,0,0,0,5,3,2,0,0,0,5,{"$f":"VLOOKUP(A128,'Pivot Norm'!A:B,2,FALSE)","v":3},3,"12699013",0,0,0,0,0,0,1,0,0,0]
["1270101","1270101",{"$f":"VLOOKUP(B129, 'School List'!F:G,2,FALSE)","v":"Kim El"},"PHBAO",129,88,0,0,0,14,null,null,9,0,0,240,6,4,0,0,0,10,7,4,0,0,0,11,{"$f":"VLOOKUP(A129,'Pivot Norm'!A:B,2,FALSE)","v":3},1,"12701011",1,0,2,1,0,2,0,0,0,0]
["1270101","1270102",{"$f":"VLOOKUP(B130, 'School List'!F:G,2,FALSE)","v":"Kim El DTS"},"PHBAO",75,43,0,0,0,null,null,null,0,0,0,118,4,2,0,0,0,6,4,2,0,0,0,6,{"$f":"VLOOKUP(A130,'Pivot Norm'!A:B,2,FALSE)","v":3},2,"12701012",0,0,0,0,0,0,0,0,0,0]
["1270101","1270103",{"$f":"VLOOKUP(B131, 'School List'!F:G,2,FALSE)","v":"Kim El DOK"},"PHBAO",163,48,0,0,0,null,null,null,0,0,0,211,7,2,0,0,0,9,7,2,0,0,0,9,{"$f":"VLOOKUP(A131,'Pivot Norm'!A:B,2,FALSE)","v":3},3,"12701013",0,0,0,0,0,0,0,0,0,0]
["1270401","1270401",{"$f":"VLOOKUP(B132, 'School List'!F:G,2,FALSE)","v":"Calabash CA"},"Non-PHBAO",312,119,0,0,0,null,null,null,0,0,0,431,13,4,0,0,0,17,13,4,0,0,0,17,{"$f":"VLOOKUP(A132,'Pivot Norm'!A:B,2,FALSE)","v":1},1,{"$f":"A132&AD132","v":"12704011"},1,0,2,1,0,2,0,0,0,0]
["1270601","1270601",{"$f":"VLOOKUP(B133, 'School List'!F:G,2,FALSE)","v":"Calahan St El"},"PHBAO",327,171,0,0,0,10,null,null,9,0,0,517,14,7,0,0,0,21,14,6,0,0,0,20,{"$f":"VLOOKUP(A133,'Pivot Norm'!A:B,2,FALSE)","v":1},1,"12706011",1,0,2,1,0,2,0,0,0,0]
["1271201","1271201",{"$f":"VLOOKUP(B134, 'School List'!F:G,2,FALSE)","v":"Calvert Chtr For ES"},"Non-PHBAO",215,94,0,0,0,22,null,null,0,12,0,343,9,3,0,0,0,12,9,3,0,0,0,12,{"$f":"VLOOKUP(A134,'Pivot Norm'!A:B,2,FALSE)","v":1},{"$f":"IF(A134=A133,AD133+1,1)","v":1},"12712011",1,0,2,1,0,2,2,0,0,0]
["1272601","1272601",{"$f":"VLOOKUP(B135, 'School List'!F:G,2,FALSE)","v":"Camellia El"},"PHBAO",226,139,0,0,0,27,null,null,14,0,16,422,10,6,0,0,0,16,10,6,0,0,0,16,{"$f":"VLOOKUP(A135,'Pivot Norm'!A:B,2,FALSE)","v":2},1,"12726011",1,0,2,1,0,2,0,0,0,0]
["1272601","1272602",{"$f":"VLOOKUP(B136, 'School List'!F:G,2,FALSE)","v":"Camellia El DTS"},"PHBAO",72,0,0,0,0,null,null,null,0,0,0,72,3,0,0,0,0,3,3,0,0,0,0,3,{"$f":"VLOOKUP(A136,'Pivot Norm'!A:B,2,FALSE)","v":2},2,"12726012",0,0,0,0,0,0,0,0,0,0]
["1274001","1274001",{"$f":"VLOOKUP(B137, 'School List'!F:G,2,FALSE)","v":"Canfield El"},"Non-PHBAO",287,121,0,0,0,16,null,null,12,0,0,436,12,4,0,0,0,16,12,4,0,0,0,16,{"$f":"VLOOKUP(A137,'Pivot Norm'!A:B,2,FALSE)","v":1},1,"12740011",1,0,2,1,0,2,1,0,0,0]
["1274101","1274101",{"$f":"VLOOKUP(B138, 'School List'!F:G,2,FALSE)","v":"Community El Mag CS"},"Magnet 1",282,169,0,0,0,null,null,null,0,0,0,451,12,6,0,0,0,18,12,6,0,0,0,18,{"$f":"VLOOKUP(A138,'Pivot Norm'!A:B,2,FALSE)","v":1},1,"12741011",1,0,2,1,0,2,0,0,0,0]
["1275301","1275301",{"$f":"VLOOKUP(B139, 'School List'!F:G,2,FALSE)","v":"Canoga Park El"},"PHBAO",331,163,0,0,0,48,null,null,17,0,22,581,14,7,0,0,0,21,14,7,0,0,0,21,{"$f":"VLOOKUP(A139,'Pivot Norm'!A:B,2,FALSE)","v":1},1,"12753011",1,0,2,1,0,2,0,0,0,0]
["1276701","1276701",{"$f":"VLOOKUP(B140, 'School List'!F:G,2,FALSE)","v":"Cantara El"},"PHBAO",221,71,0,0,0,25,null,null,10,0,19,346,10,3,0,0,0,13,9,3,0,0,0,12,{"$f":"VLOOKUP(A140,'Pivot Norm'!A:B,2,FALSE)","v":2},1,"12767011",1,0,2,1,0,2,1,0,0,0]
["1276701","1276702",{"$f":"VLOOKUP(B141, 'School List'!F:G,2,FALSE)","v":"Cantara VAPA Mag"},"Magnet 2",18,40,0,0,0,null,null,null,0,0,0,58,1,2,0,0,0,3,1,2,0,0,0,3,{"$f":"VLOOKUP(A141,'Pivot Norm'!A:B,2,FALSE)","v":2},2,"12767012",0,0,0,0,0,0,0,0,0,0]
["1278101","1278101",{"$f":"VLOOKUP(B142, 'School List'!F:G,2,FALSE)","v":"Canterbury El"},"PHBAO",289,119,0,0,0,20,null,null,5,0,22,455,13,5,0,0,0,18,13,6,0,0,0,19,{"$f":"VLOOKUP(A142,'Pivot Norm'!A:B,2,FALSE)","v":2},1,"12781011",1,0,2,1,0,2,1,0,0,0]
["1278101","1278102",{"$f":"VLOOKUP(B143, 'School List'!F:G,2,FALSE)","v":"Canterbury Gifted Mg"},"Magnet 2",115,105,0,0,0,null,null,null,0,0,0,220,5,4,0,0,0,9,5,4,0,0,0,9,{"$f":"VLOOKUP(A143,'Pivot Norm'!A:B,2,FALSE)","v":2},2,"12781012",0,0,0,0,0,0,1,0,0,0]
["1279501","1279501",{"$f":"VLOOKUP(B144, 'School List'!F:G,2,FALSE)","v":"Canyon El"},"Non-PHBAO",269,131,0,0,0,null,null,null,0,0,0,400,12,5,0,0,0,17,11,4,0,0,0,15,{"$f":"VLOOKUP(A144,'Pivot Norm'!A:B,2,FALSE)","v":1},1,"12795011",1,0,2,1,0,2,1,0,0,0]
["1280201","1280201",{"$f":"VLOOKUP(B145, 'School List'!F:G,2,FALSE)","v":"Capistrano El"},"PHBAO",253,119,0,0,0,42,null,null,0,20,0,434,11,5,0,0,0,16,11,5,0,0,0,16,{"$f":"VLOOKUP(A145,'Pivot Norm'!A:B,2,FALSE)","v":1},1,"12802011",1,0,2,1,0,2,0,0,0,0]
["1281501","1281501",{"$f":"VLOOKUP(B146, 'School List'!F:G,2,FALSE)","v":"Caroldale Lrng Comm"},"PHBAO",296,174,261,0,0,13,null,null,8,0,0,752,13,7,10,0,0,30,14,7,10,0,0,31,{"$f":"VLOOKUP(A146,'Pivot Norm'!A:B,2,FALSE)","v":1},1,"12815011",2,0.5,3,2,0.5,3,0,2,0,0]
["1282201","1282201",{"$f":"VLOOKUP(B147, 'School List'!F:G,2,FALSE)","v":"Carpenter Comm Ctr"},"Non-PHBAO",629,277,0,0,0,6,null,null,0,0,0,912,27,9,0,0,0,36,25,9,0,0,0,34,{"$f":"VLOOKUP(A147,'Pivot Norm'!A:B,2,FALSE)","v":1},1,"12822011",1,0,3,1,0,3,2,2,3,0]
["1283601","1283601",{"$f":"VLOOKUP(B148, 'School List'!F:G,2,FALSE)","v":"Carson El"},"PHBAO",408,238,0,0,0,9,null,null,6,0,21,682,17,9,0,0,0,26,18,8,0,0,0,26,{"$f":"VLOOKUP(A148,'Pivot Norm'!A:B,2,FALSE)","v":1},1,"12836011",1,0,2,1,0,2,0,0,1,0]
["1284901","1284901",{"$f":"VLOOKUP(B149, 'School List'!F:G,2,FALSE)","v":"Carthay El ES Mag"},"Magnet 2",222,118,0,0,0,null,null,null,0,0,18,358,10,5,0,0,0,15,10,5,0,0,0,15,{"$f":"VLOOKUP(A149,'Pivot Norm'!A:B,2,FALSE)","v":1},1,"12849011",1,0,2,1,0,2,0,0,0,0]
["1286301","1286301",{"$f":"VLOOKUP(B150, 'School List'!F:G,2,FALSE)","v":"Castelar El"},"PHBAO",192,111,48,0,0,null,null,null,0,0,0,351,8,5,2,0,0,15,8,4,1,0,0,13,{"$f":"VLOOKUP(A150,'Pivot Norm'!A:B,2,FALSE)","v":2},1,"12863011",1,0.5,2,1,0.5,2,1,0,0,0]
["1286301","1286302",{"$f":"VLOOKUP(B151, 'School List'!F:G,2,FALSE)","v":"Castelar St El DTM"},"PHBAO",200,101,0,0,0,null,null,null,0,0,0,301,9,4,0,0,0,13,9,4,0,0,0,13,{"$f":"VLOOKUP(A151,'Pivot Norm'!A:B,2,FALSE)","v":2},2,"12863012",0,0,0,0,0,0,0,0,0,0]
["1287701","1287701",{"$f":"VLOOKUP(B152, 'School List'!F:G,2,FALSE)","v":"Castle Hts El"},"Non-PHBAO",285,143,0,0,0,11,null,null,10,0,0,449,12,5,0,0,0,17,13,5,0,0,0,18,{"$f":"VLOOKUP(A152,'Pivot Norm'!A:B,2,FALSE)","v":2},1,"12877011",1,0,2,1,0,2,0,0,0,0]
["1287701","1287702",{"$f":"VLOOKUP(B153, 'School List'!F:G,2,FALSE)","v":"Castle Hts El DWS"},"Non-PHBAO",93,22,0,0,0,null,null,null,0,0,0,115,4,1,0,0,0,5,4,0,0,0,0,4,{"$f":"VLOOKUP(A153,'Pivot Norm'!A:B,2,FALSE)","v":2},2,"12877012",0,0,0,0,0,0,0,0,0,0]
["1288101","1288101",{"$f":"VLOOKUP(B154, 'School List'!F:G,2,FALSE)","v":"Castlebay Lane"},"Non-PHBAO",424,223,0,0,0,null,null,null,0,0,0,647,18,7,0,0,0,25,18,7,0,0,0,25,{"$f":"VLOOKUP(A154,'Pivot Norm'!A:B,2,FALSE)","v":1},1,"12881011",1,0,2,1,0,2,2,0,0,0]
["1289001","1289001",{"$f":"VLOOKUP(B155, 'School List'!F:G,2,FALSE)","v":"Catskill El"},"PHBAO",204,161,0,0,0,null,null,null,11,0,22,398,9,6,0,0,0,15,10,5,0,0,0,15,{"$f":"VLOOKUP(A155,'Pivot Norm'!A:B,2,FALSE)","v":2},1,"12890011",1,0,2,1,0,2,2,0,0,0]
["1289001","1289002",{"$f":"VLOOKUP(B156, 'School List'!F:G,2,FALSE)","v":"Catskill El DTS"},"PHBAO",92,0,0,0,0,null,null,null,0,0,0,92,4,0,0,0,0,4,3,0,0,0,0,3,{"$f":"VLOOKUP(A156,'Pivot Norm'!A:B,2,FALSE)","v":2},2,"12890012",0,0,0,0,0,0,0,0,0,0]
["1293901","1293901",{"$f":"VLOOKUP(B157, 'School List'!F:G,2,FALSE)","v":"Carson-Gore Academy"},"PHBAO",243,151,0,0,0,46,null,null,0,0,16,456,11,6,0,0,0,17,11,6,0,0,0,17,{"$f":"VLOOKUP(A157,'Pivot Norm'!A:B,2,FALSE)","v":2},1,"12939011",1,0,2,1,0,2,0,0,0,0]
["1293901","1293902",{"$f":"VLOOKUP(B158, 'School List'!F:G,2,FALSE)","v":"Carson-Gore DTS"},"PHBAO",54,0,0,0,0,null,null,null,0,0,0,54,3,0,0,0,0,3,2,0,0,0,0,2,{"$f":"VLOOKUP(A158,'Pivot Norm'!A:B,2,FALSE)","v":2},2,"12939012",0,0,0,0,0,0,0,0,0,0]
["1294201","1294201",{"$f":"VLOOKUP(B159, 'School List'!F:G,2,FALSE)","v":"Estrella El"},"PHBAO",343,154,0,0,0,12,null,null,0,0,0,509,15,6,0,0,0,21,15,6,0,0,0,21,{"$f":"VLOOKUP(A159,'Pivot Norm'!A:B,2,FALSE)","v":1},1,"12942011",1,0,2,1,0,2,0,1,0,0]
["1294301","1294301",{"$f":"VLOOKUP(B160, 'School List'!F:G,2,FALSE)","v":"Jones El"},"PHBAO",188,105,0,0,0,13,null,null,0,0,9,315,8,4,0,0,0,12,8,4,0,0,0,12,{"$f":"VLOOKUP(A160,'Pivot Norm'!A:B,2,FALSE)","v":1},1,"12943011",1,0,2,1,0,2,0,0,0,0]
["1294401","1294401",{"$f":"VLOOKUP(B161, 'School List'!F:G,2,FALSE)","v":"Huerta El"},"PHBAO",206,119,0,0,0,7,null,null,0,0,0,332,9,5,0,0,0,14,10,5,0,0,0,15,{"$f":"VLOOKUP(A161,'Pivot Norm'!A:B,2,FALSE)","v":1},1,"12944011",1,0,2,1,0,2,0,0,0,0]
["1294501","1294501",{"$f":"VLOOKUP(B162, 'School List'!F:G,2,FALSE)","v":"Century Park El"},"PHBAO",123,84,0,0,0,27,null,null,16,0,2,252,6,4,0,0,0,10,7,4,0,0,0,11,{"$f":"VLOOKUP(A162,'Pivot Norm'!A:B,2,FALSE)","v":1},1,"12945011",1,0,2,1,0,2,0,0,0,0]
["1295901","1295901",{"$f":"VLOOKUP(B163, 'School List'!F:G,2,FALSE)","v":"Chandler El"},"Non-PHBAO",262,132,0,0,0,9,null,null,7,0,0,410,11,5,0,0,0,16,13,4,0,0,0,17,{"$f":"VLOOKUP(A163,'Pivot Norm'!A:B,2,FALSE)","v":1},1,"12959011",1,0,2,1,0,2,1,0,1,0]
["1298601","1298601",{"$f":"VLOOKUP(B164, 'School List'!F:G,2,FALSE)","v":"Chapman El"},"PHBAO",204,104,0,0,0,17,null,null,0,0,12,337,9,4,0,0,0,13,9,4,0,0,0,13,{"$f":"VLOOKUP(A164,'Pivot Norm'!A:B,2,FALSE)","v":2},1,"12986011",1,0,2,1,0,2,1,0,0,0]
["1298601","1298602",{"$f":"VLOOKUP(B165, 'School List'!F:G,2,FALSE)","v":"Chapman El DTM"},"PHBAO",53,0,0,0,0,null,null,null,0,0,0,53,3,0,0,0,0,3,2,0,0,0,0,2,{"$f":"VLOOKUP(A165,'Pivot Norm'!A:B,2,FALSE)","v":2},2,"12986012",0,0,0,0,0,0,1,0,0,0]
["1300201","1300201",{"$f":"VLOOKUP(B166, 'School List'!F:G,2,FALSE)","v":"Charnock Road El"},"PHBAO",149,70,0,0,0,41,null,null,5,0,19,284,7,3,0,0,0,10,7,3,0,0,0,10,{"$f":"VLOOKUP(A166,'Pivot Norm'!A:B,2,FALSE)","v":1},1,"13002011",1,0,2,1,0,2,0,0,0,0]
["1301401","1301401",{"$f":"VLOOKUP(B167, 'School List'!F:G,2,FALSE)","v":"Chase El"},"PHBAO",302,127,0,0,0,41,null,null,13,0,14,497,13,5,0,0,0,18,13,5,0,0,0,18,{"$f":"VLOOKUP(A167,'Pivot Norm'!A:B,2,FALSE)","v":1},1,"13014011",1,0,2,1,0,2,1,0,0,0]
["1302701","1302701",{"$f":"VLOOKUP(B168, 'School List'!F:G,2,FALSE)","v":"Chatsworth UP/CD Mag"},"Magnet 2",286,162,0,0,0,null,null,null,0,0,0,448,12,6,0,0,0,18,12,6,0,0,0,18,{"$f":"VLOOKUP(A168,'Pivot Norm'!A:B,2,FALSE)","v":1},1,"13027011",1,0,2,1,0,2,0,0,0,0]
["1304101","1304101",{"$f":"VLOOKUP(B169, 'School List'!F:G,2,FALSE)","v":"Cheremoya El"},"Non-PHBAO",116,88,0,0,0,null,null,null,6,6,0,216,5,3,0,0,0,8,6,4,0,0,0,10,{"$f":"VLOOKUP(A169,'Pivot Norm'!A:B,2,FALSE)","v":1},1,"13041011",1,0,2,1,0,2,0,0,0,0]
["1306801","1306801",{"$f":"VLOOKUP(B170, 'School List'!F:G,2,FALSE)","v":"Cienega El"},"PHBAO",181,110,0,0,0,49,null,null,0,0,19,359,8,5,0,0,0,13,8,6,0,0,0,14,{"$f":"VLOOKUP(A170,'Pivot Norm'!A:B,2,FALSE)","v":2},1,"13068011",1,0,2,1,0,2,1,0,0,0]
["1306801","1306802",{"$f":"VLOOKUP(B171, 'School List'!F:G,2,FALSE)","v":"Cienega El DTS"},"PHBAO",56,18,0,0,0,null,null,null,0,0,0,74,3,1,0,0,0,4,3,0,0,0,0,3,{"$f":"VLOOKUP(A171,'Pivot Norm'!A:B,2,FALSE)","v":2},2,"13068012",0,0,0,0,0,0,0,0,0,0]
["1308201","1308201",{"$f":"VLOOKUP(B172, 'School List'!F:G,2,FALSE)","v":"Cimarron El"},"PHBAO",114,46,0,0,0,23,null,null,14,0,12,209,5,2,0,0,0,7,5,2,0,0,0,7,{"$f":"VLOOKUP(A172,'Pivot Norm'!A:B,2,FALSE)","v":2},1,"13082011",1,0,2,1,0,2,0,0,0,0]
["1308201","1308202",{"$f":"VLOOKUP(B173, 'School List'!F:G,2,FALSE)","v":"Cimarron STEAM Mag"},"Magnet 2",47,50,0,0,0,null,null,null,0,0,0,97,2,2,0,0,0,4,2,2,0,0,0,4,{"$f":"VLOOKUP(A173,'Pivot Norm'!A:B,2,FALSE)","v":2},2,"13082012",0,0,0,0,0,0,0,0,0,0]
["1309601","1309601",{"$f":"VLOOKUP(B174, 'School List'!F:G,2,FALSE)","v":"City Terrace El"},"PHBAO",142,72,0,0,0,15,null,null,0,0,9,238,6,3,0,0,0,9,6,3,0,0,0,9,{"$f":"VLOOKUP(A174,'Pivot Norm'!A:B,2,FALSE)","v":2},1,"13096011",1,0,2,1,0,2,1,0,0,0]
["1309601","1309602",{"$f":"VLOOKUP(B175, 'School List'!F:G,2,FALSE)","v":"City Terrace DTM"},"PHBAO",137,48,0,0,0,null,null,null,0,0,16,201,6,2,0,0,0,8,6,2,0,0,0,8,{"$f":"VLOOKUP(A175,'Pivot Norm'!A:B,2,FALSE)","v":2},2,"13096012",0,0,0,0,0,0,0,0,0,0]
["1311001","1311001",{"$f":"VLOOKUP(B176, 'School List'!F:G,2,FALSE)","v":"Clifford El"},"Magnet 2",77,46,0,0,0,null,null,null,0,0,0,123,4,2,0,0,0,6,4,2,0,0,0,6,{"$f":"VLOOKUP(A176,'Pivot Norm'!A:B,2,FALSE)","v":1},1,"13110011",1,0,2,1,0,2,0,0,0,0]
["1312301","1312301",{"$f":"VLOOKUP(B177, 'School List'!F:G,2,FALSE)","v":"Clover El"},"Non-PHBAO",327,124,0,0,0,null,null,null,5,0,0,456,14,4,0,0,0,18,15,6,0,0,0,21,{"$f":"VLOOKUP(A177,'Pivot Norm'!A:B,2,FALSE)","v":1},1,"13123011",1,0,2,1,0,2,0,1,2,0]
["1313701","1313701",{"$f":"VLOOKUP(B178, 'School List'!F:G,2,FALSE)","v":"Cohasset El"},"PHBAO",204,77,0,0,0,44,null,null,11,0,21,357,9,3,0,0,0,12,9,4,0,0,0,13,{"$f":"VLOOKUP(A178,'Pivot Norm'!A:B,2,FALSE)","v":2},1,"13137011",1,0,2,1,0,2,0,0,0,0]
["1313701","1313702",{"$f":"VLOOKUP(B179, 'School List'!F:G,2,FALSE)","v":"Cohasset St El DOS"},"PHBAO",83,41,0,0,0,null,null,null,0,0,0,124,4,2,0,0,0,6,4,2,0,0,0,6,{"$f":"VLOOKUP(A179,'Pivot Norm'!A:B,2,FALSE)","v":2},2,"13137012",0,0,0,0,0,0,0,0,0,0]
["1315101","1315101",{"$f":"VLOOKUP(B180, 'School List'!F:G,2,FALSE)","v":"Coldwater Cyn El"},"PHBAO",283,195,0,0,0,34,null,null,14,0,23,549,12,8,0,0,0,20,14,7,0,0,0,21,{"$f":"VLOOKUP(A180,'Pivot Norm'!A:B,2,FALSE)","v":2},1,"13151011",1,0,2,1,0,2,1,0,0,0]
["1315101","1315102",{"$f":"VLOOKUP(B181, 'School List'!F:G,2,FALSE)","v":"Coldwater Cyn DTS"},"PHBAO",69,0,0,0,0,null,null,null,0,0,0,69,3,0,0,0,0,3,2,0,0,0,0,2,{"$f":"VLOOKUP(A181,'Pivot Norm'!A:B,2,FALSE)","v":2},2,"13151012",0,0,0,0,0,0,0,0,0,0]
["1316401","1316401",{"$f":"VLOOKUP(B182, 'School List'!F:G,2,FALSE)","v":"Colfax Charter El"},"Non-PHBAO",478,182,0,0,0,null,null,null,0,0,0,660,20,6,0,0,0,26,19,6,0,0,0,25,{"$f":"VLOOKUP(A182,'Pivot Norm'!A:B,2,FALSE)","v":1},1,"13164011",1,0,2,1,0,2,1,0,1,0]
["1317801","1317801",{"$f":"VLOOKUP(B183, 'School List'!F:G,2,FALSE)","v":"Coliseum El"},"PHBAO",81,42,0,0,0,26,null,null,23,5,0,177,4,2,0,0,0,6,4,2,0,0,0,6,{"$f":"VLOOKUP(A183,'Pivot Norm'!A:B,2,FALSE)","v":1},1,"13178011",1,0,2,1,0,2,0,0,0,0]
["1319201","1319201",{"$f":"VLOOKUP(B184, 'School List'!F:G,2,FALSE)","v":"Commonwealth El"},"PHBAO",250,101,0,0,0,62,null,null,0,0,25,438,11,4,0,0,0,15,11,4,0,0,0,15,{"$f":"VLOOKUP(A184,'Pivot Norm'!A:B,2,FALSE)","v":2},1,"13192011",1,0,2,1,0,2,1,0,0,0]
["1319201","1319202",{"$f":"VLOOKUP(B185, 'School List'!F:G,2,FALSE)","v":"Commonwealth GAT Mag"},"Magnet 2",44,51,0,0,0,null,null,null,0,0,0,95,2,2,0,0,0,4,2,2,0,0,0,4,{"$f":"VLOOKUP(A185,'Pivot Norm'!A:B,2,FALSE)","v":2},2,"13192012",0,0,0,0,0,0,0,0,0,0]
["1320501","1320501",{"$f":"VLOOKUP(B186, 'School List'!F:G,2,FALSE)","v":"Compton El"},"PHBAO",166,93,0,0,0,23,null,null,0,0,5,287,7,4,0,0,0,11,8,4,0,0,0,12,{"$f":"VLOOKUP(A186,'Pivot Norm'!A:B,2,FALSE)","v":1},1,"13205011",1,0,2,1,0,2,0,0,0,0]
["1321001","1321001",{"$f":"VLOOKUP(B187, 'School List'!F:G,2,FALSE)","v":"Madison El"},"PHBAO",200,85,0,0,0,14,null,null,0,0,23,322,9,4,0,0,0,13,9,3,0,0,0,12,{"$f":"VLOOKUP(A187,'Pivot Norm'!A:B,2,FALSE)","v":2},1,"13210011",1,0,2,1,0,2,1,0,0,0]
["1321001","1321002",{"$f":"VLOOKUP(B188, 'School List'!F:G,2,FALSE)","v":"Madison El DTS"},"PHBAO",150,77,0,0,0,null,null,null,0,0,0,227,7,3,0,0,0,10,7,3,0,0,0,10,{"$f":"VLOOKUP(A188,'Pivot Norm'!A:B,2,FALSE)","v":2},2,"13210012",0,0,0,0,0,0,0,0,0,0]
["1321901","1321901",{"$f":"VLOOKUP(B189, 'School List'!F:G,2,FALSE)","v":"Corona El"},"PHBAO",368,299,0,0,0,32,null,null,14,18,0,731,16,12,0,0,0,28,17,11,0,0,0,28,{"$f":"VLOOKUP(A189,'Pivot Norm'!A:B,2,FALSE)","v":1},1,"13219011",1,0,2,1,0,2,0,0,0,0]
["1322001","1322001",{"$f":"VLOOKUP(B190, 'School List'!F:G,2,FALSE)","v":"Escutia PC"},"PHBAO",172,0,0,0,0,null,null,null,8,20,46,246,8,0,0,0,0,8,8,0,0,0,0,8,{"$f":"VLOOKUP(A190,'Pivot Norm'!A:B,2,FALSE)","v":1},1,"13220011",1,0,2,1,0,2,1,1,0,0]
["1324701","1324701",{"$f":"VLOOKUP(B191, 'School List'!F:G,2,FALSE)","v":"Plasencia El"},"PHBAO",121,67,0,0,0,34,null,null,12,0,21,255,6,3,0,0,0,9,5,3,0,0,0,8,{"$f":"VLOOKUP(A191,'Pivot Norm'!A:B,2,FALSE)","v":2},1,"13247011",1,0,2,1,0,2,1,0,0,0]
["1324701","1324702",{"$f":"VLOOKUP(B192, 'School List'!F:G,2,FALSE)","v":"Plasencia STEAM Mag"},"Magnet 2",175,105,0,0,0,null,null,null,0,0,0,280,8,4,0,0,0,12,8,4,0,0,0,12,{"$f":"VLOOKUP(A192,'Pivot Norm'!A:B,2,FALSE)","v":2},2,"13247012",0,0,0,0,0,0,0,0,0,0]
["1326001","1326001",{"$f":"VLOOKUP(B193, 'School List'!F:G,2,FALSE)","v":"Cowan El"},"PHBAO",131,45,0,0,0,9,null,null,0,0,0,185,6,2,0,0,0,8,6,2,0,0,0,8,{"$f":"VLOOKUP(A193,'Pivot Norm'!A:B,2,FALSE)","v":3},1,"13260011",1,0,2,1,0,2,0,0,0,0]
["1326001","1326002",{"$f":"VLOOKUP(B194, 'School List'!F:G,2,FALSE)","v":"Cowan Gifted/IH Mag"},"Magnet 2",64,69,0,0,0,null,null,null,0,0,0,133,3,3,0,0,0,6,3,3,0,0,0,6,{"$f":"VLOOKUP(A194,'Pivot Norm'!A:B,2,FALSE)","v":3},2,"13260012",0,0,0,0,0,0,0,0,0,0]
["1326001","1326003",{"$f":"VLOOKUP(B195, 'School List'!F:G,2,FALSE)","v":"Cowan El DWS"},"PHBAO",110,15,0,0,0,null,null,null,0,0,0,125,5,1,0,0,0,6,5,0,0,0,0,5,{"$f":"VLOOKUP(A195,'Pivot Norm'!A:B,2,FALSE)","v":3},3,"13260013",0,0,0,0,0,0,0,0,0,0]
["1328801","1328801",{"$f":"VLOOKUP(B196, 'School List'!F:G,2,FALSE)","v":"Crescent Hts L/A/S/J"},"Magnet 2",170,109,0,0,0,null,null,null,6,0,0,285,8,5,0,0,0,13,8,4,0,0,0,12,{"$f":"VLOOKUP(A196,'Pivot Norm'!A:B,2,FALSE)","v":1},1,{"$f":"A196&AD196","v":"13288011"},1,0,2,1,0,2,0,2,1,0]
["1330201","1330201",{"$f":"VLOOKUP(B197, 'School List'!F:G,2,FALSE)","v":"Crestwood STEAM Mag"},"Magnet 2",229,152,0,0,0,null,null,null,14,0,0,395,10,6,0,0,0,16,10,5,0,0,0,15,{"$f":"VLOOKUP(A197,'Pivot Norm'!A:B,2,FALSE)","v":1},1,"13302011",1,0,2,1,0,2,1,0,0,0]
["1331101","1331101",{"$f":"VLOOKUP(B198, 'School List'!F:G,2,FALSE)","v":"Westside Glbl Awr Mg"},"Magnet 2",73,51,214,0,0,null,null,null,0,0,0,338,4,2,9,0,0,15,4,2,9,0,0,15,{"$f":"VLOOKUP(A198,'Pivot Norm'!A:B,2,FALSE)","v":1},{"$f":"IF(A198=A197,AD197+1,1)","v":1},"13311011",1,0.5,2,1,0.5,2,0,0,0,0]
["1331501","1331501",{"$f":"VLOOKUP(B199, 'School List'!F:G,2,FALSE)","v":"Dena El"},"PHBAO",187,172,0,0,0,27,null,null,12,0,4,402,8,7,0,0,0,15,9,7,0,0,0,16,{"$f":"VLOOKUP(A199,'Pivot Norm'!A:B,2,FALSE)","v":1},1,"13315011",1,0,2,1,0,2,0,0,1,0]
["1332901","1332901",{"$f":"VLOOKUP(B200, 'School List'!F:G,2,FALSE)","v":"Dahlia Heights El"},"Non-PHBAO",242,162,0,0,0,6,null,null,0,0,0,410,11,5,0,0,0,16,11,5,0,0,0,16,{"$f":"VLOOKUP(A200,'Pivot Norm'!A:B,2,FALSE)","v":1},1,"13329011",1,0,2,1,0,2,0,0,0,0]
["1333501","1333501",{"$f":"VLOOKUP(B201, 'School List'!F:G,2,FALSE)","v":"Danube El"},"PHBAO",205,95,0,0,0,21,null,null,0,0,24,345,9,4,0,0,0,13,8,4,0,0,0,12,{"$f":"VLOOKUP(A201,'Pivot Norm'!A:B,2,FALSE)","v":1},1,"13335011",1,0,2,1,0,2,1,0,0,0]
["1334001","1334001",{"$f":"VLOOKUP(B202, 'School List'!F:G,2,FALSE)","v":"Darby Ave El"},"PHBAO",293,139,0,0,0,19,null,null,0,0,0,451,13,6,0,0,0,19,12,4,0,0,0,16,{"$f":"VLOOKUP(A202,'Pivot Norm'!A:B,2,FALSE)","v":1},1,"13340011",1,0,2,1,0,2,1,0,0,0]
["1335601","1335601",{"$f":"VLOOKUP(B203, 'School List'!F:G,2,FALSE)","v":"Dayton Heights El"},"PHBAO",81,35,0,0,0,33,null,null,16,0,0,165,4,2,0,0,0,6,7,3,0,0,0,10,{"$f":"VLOOKUP(A203,'Pivot Norm'!A:B,2,FALSE)","v":2},1,"13356011",1,0,2,1,0,2,0,0,0,0]
["1335601","1335602",{"$f":"VLOOKUP(B204, 'School List'!F:G,2,FALSE)","v":"Dayton Hts UES Mag"},"Magnet 2",92,52,0,0,0,null,null,null,0,0,0,144,4,2,0,0,0,6,1,2,0,0,0,3,{"$f":"VLOOKUP(A204,'Pivot Norm'!A:B,2,FALSE)","v":2},2,"13356012",0,0,0,0,0,0,0,0,0,0]
["1337701","1337701",{"$f":"VLOOKUP(B205, 'School List'!F:G,2,FALSE)","v":"Dearborn El CA"},"Non-PHBAO",386,143,0,0,0,19,null,null,0,0,0,548,17,5,0,0,0,22,16,5,0,0,0,21,{"$f":"VLOOKUP(A205,'Pivot Norm'!A:B,2,FALSE)","v":1},1,"13377011",1,0,2,1,0,2,0,0,0,0]
["1338401","1338401",{"$f":"VLOOKUP(B206, 'School List'!F:G,2,FALSE)","v":"Del Amo El"},"PHBAO",202,85,0,0,0,14,null,null,0,0,10,311,9,4,0,0,0,13,9,4,0,0,0,13,{"$f":"VLOOKUP(A206,'Pivot Norm'!A:B,2,FALSE)","v":1},1,"13384011",1,0,2,1,0,2,0,0,0,0]
["1339701","1339701",{"$f":"VLOOKUP(B207, 'School List'!F:G,2,FALSE)","v":"Delevan Drive El"},"PHBAO",299,154,0,0,0,26,null,null,0,0,18,497,13,6,0,0,0,19,12,6,0,0,0,18,{"$f":"VLOOKUP(A207,'Pivot Norm'!A:B,2,FALSE)","v":1},1,"13397011",1,0,2,1,0,2,1,0,0,0]
["1342501","1342501",{"$f":"VLOOKUP(B208, 'School List'!F:G,2,FALSE)","v":"Denker El"},"PHBAO",336,180,0,0,0,17,null,null,12,0,26,571,14,7,0,0,0,21,14,7,0,0,0,21,{"$f":"VLOOKUP(A208,'Pivot Norm'!A:B,2,FALSE)","v":2},1,"13425011",1,0,2,1,0,2,1,1,0,0]
["1342501","1342502",{"$f":"VLOOKUP(B209, 'School List'!F:G,2,FALSE)","v":"Denker Ave El DTK"},"PHBAO",96,42,0,0,0,null,null,null,0,0,0,138,4,2,0,0,0,6,4,2,0,0,0,6,{"$f":"VLOOKUP(A209,'Pivot Norm'!A:B,2,FALSE)","v":2},2,"13425012",0,0,0,0,0,0,0,0,0,0]
["1342601","1342601",{"$f":"VLOOKUP(B210, 'School List'!F:G,2,FALSE)","v":"Garza PC"},"PHBAO",96,0,0,0,0,null,null,null,17,0,9,122,4,0,0,0,0,4,4,0,0,0,0,4,{"$f":"VLOOKUP(A210,'Pivot Norm'!A:B,2,FALSE)","v":1},1,"13426011",1,0,2,1,0,2,0,0,0,0]
["1343801","1343801",{"$f":"VLOOKUP(B211, 'School List'!F:G,2,FALSE)","v":"Dixie Cyn Comm Chtr"},"Non-PHBAO",481,194,0,0,0,11,null,null,10,0,0,696,21,6,0,0,0,27,21,7,0,0,0,28,{"$f":"VLOOKUP(A211,'Pivot Norm'!A:B,2,FALSE)","v":1},1,"13438011",1,0,2,1,0,2,1,0,1,0]
["1345201","1345201",{"$f":"VLOOKUP(B212, 'School List'!F:G,2,FALSE)","v":"Dolores El"},"PHBAO",308,164,0,0,0,null,null,null,16,0,20,508,13,7,0,0,0,20,14,6,0,0,0,20,{"$f":"VLOOKUP(A212,'Pivot Norm'!A:B,2,FALSE)","v":1},1,"13452011",1,0,2,1,0,2,1,0,0,0]
["1346601","1346601",{"$f":"VLOOKUP(B213, 'School List'!F:G,2,FALSE)","v":"Dominguez El"},"PHBAO",216,131,0,0,0,null,null,null,0,0,24,371,9,5,0,0,0,14,9,6,0,0,0,15,{"$f":"VLOOKUP(A213,'Pivot Norm'!A:B,2,FALSE)","v":2},1,"13466011",1,0,2,1,0,2,0,0,1,0]
["1346601","1346602",{"$f":"VLOOKUP(B214, 'School List'!F:G,2,FALSE)","v":"Dominguez El DTS"},"PHBAO",107,15,0,0,0,null,null,null,0,0,0,122,5,1,0,0,0,6,5,0,0,0,0,5,{"$f":"VLOOKUP(A214,'Pivot Norm'!A:B,2,FALSE)","v":2},2,"13466012",0,0,0,0,0,0,0,0,0,0]
["1347901","1347901",{"$f":"VLOOKUP(B215, 'School List'!F:G,2,FALSE)","v":"Dorris Place El"},"PHBAO",166,100,0,0,0,5,null,null,0,6,18,295,7,4,0,0,0,11,7,4,0,0,0,11,{"$f":"VLOOKUP(A215,'Pivot Norm'!A:B,2,FALSE)","v":1},1,"13479011",1,0,2,1,0,2,0,0,0,0]
["1349301","1349301",{"$f":"VLOOKUP(B216, 'School List'!F:G,2,FALSE)","v":"Dyer El"},"PHBAO",422,181,0,0,0,29,null,null,13,0,23,668,18,7,0,0,0,25,18,8,0,0,0,26,{"$f":"VLOOKUP(A216,'Pivot Norm'!A:B,2,FALSE)","v":1},1,"13493011",1,0,2,1,0,2,0,0,0,0]
["1350001","1350001",{"$f":"VLOOKUP(B217, 'School List'!F:G,2,FALSE)","v":"Midcity Prescott Mag"},"Magnet 2",118,107,0,0,0,null,null,null,0,0,0,225,5,4,0,0,0,9,5,4,0,0,0,9,{"$f":"VLOOKUP(A217,'Pivot Norm'!A:B,2,FALSE)","v":1},1,"13500011",1,0,2,1,0,2,1,0,0,0]
["1350701","1350701",{"$f":"VLOOKUP(B218, 'School List'!F:G,2,FALSE)","v":"Eagle Rock El"},"PHBAO",358,219,0,0,0,38,null,null,0,0,19,634,15,9,0,0,0,24,15,8,0,0,0,23,{"$f":"VLOOKUP(A218,'Pivot Norm'!A:B,2,FALSE)","v":3},1,"13507011",1,0,3,1,0,3,0,1,0,0]
["1350701","1350702",{"$f":"VLOOKUP(B219, 'School List'!F:G,2,FALSE)","v":"Eagle Rock Hg El Mag"},"Magnet 1",4,34,0,0,0,null,null,null,0,0,0,38,1,2,0,0,0,3,1,2,0,0,0,3,{"$f":"VLOOKUP(A219,'Pivot Norm'!A:B,2,FALSE)","v":3},2,"13507012",0,0,0,0,0,0,0,0,0,0]
["1350701","1350703",{"$f":"VLOOKUP(B220, 'School List'!F:G,2,FALSE)","v":"Eagle Rck G/HA El Mg"},"Magnet 1",48,89,0,0,0,null,null,null,0,0,0,137,2,3,0,0,0,5,2,3,0,0,0,5,{"$f":"VLOOKUP(A220,'Pivot Norm'!A:B,2,FALSE)","v":3},3,"13507013",0,0,0,0,0,0,0,0,0,0]
["1352101","1352101",{"$f":"VLOOKUP(B221, 'School List'!F:G,2,FALSE)","v":"Eastman El"},"PHBAO",228,124,0,0,0,31,null,null,0,0,24,407,10,5,0,0,0,15,9,7,0,0,0,16,{"$f":"VLOOKUP(A221,'Pivot Norm'!A:B,2,FALSE)","v":2},1,"13521011",1,0,2,1,0,2,1,0,0,0]
["1352101","1352102",{"$f":"VLOOKUP(B222, 'School List'!F:G,2,FALSE)","v":"Eastman El DTS & DOS"},"PHBAO",207,70,0,0,0,null,null,null,0,0,0,277,9,3,0,0,0,12,9,2,0,0,0,11,{"$f":"VLOOKUP(A222,'Pivot Norm'!A:B,2,FALSE)","v":2},2,"13521012",0,0,0,0,0,0,0,0,0,0]
["1354101","1354101",{"$f":"VLOOKUP(B223, 'School List'!F:G,2,FALSE)","v":"El Dorado El"},"PHBAO",209,110,0,0,0,45,null,null,8,0,15,387,9,5,0,0,0,14,9,5,0,0,0,14,{"$f":"VLOOKUP(A223,'Pivot Norm'!A:B,2,FALSE)","v":1},1,"13541011",1,0,2,1,0,2,1,0,0,0]
["1354501","1354501",{"$f":"VLOOKUP(B224, 'School List'!F:G,2,FALSE)","v":"El Oro Way Chtr CES"},"Non-PHBAO",276,142,0,0,0,null,null,null,0,0,0,418,12,5,0,0,0,17,11,5,0,0,0,16,{"$f":"VLOOKUP(A224,'Pivot Norm'!A:B,2,FALSE)","v":1},1,"13545011",1,0,2,1,0,2,1,0,0,0]
["1354801","1354801",{"$f":"VLOOKUP(B225, 'School List'!F:G,2,FALSE)","v":"Elizabeth LC"},"PHBAO",265,152,262,361,643,4,16,61,0,0,12,1415,12,6,10,3,21,52,12,6,11,3,21,53,{"$f":"VLOOKUP(A225,'Pivot Norm'!A:B,2,FALSE)","v":2},1,"13548011",3,2,4,3,2,4,1,0,0,0]
["1354801","1354805",{"$f":"VLOOKUP(B226, 'School List'!F:G,2,FALSE)","v":"Elizabeth LC DTA"},"PHBAO",37,32,0,0,0,null,null,null,0,0,0,69,2,2,0,0,0,4,2,1,0,0,0,3,{"$f":"VLOOKUP(A226,'Pivot Norm'!A:B,2,FALSE)","v":2},2,"13548012",0,0,0,0,0,0,1,0,0,0]
["1356201","1356201",{"$f":"VLOOKUP(B227, 'School List'!F:G,2,FALSE)","v":"El Sereno El"},"PHBAO",191,120,0,0,0,null,null,null,6,18,0,335,8,5,0,0,0,13,8,5,0,0,0,13,{"$f":"VLOOKUP(A227,'Pivot Norm'!A:B,2,FALSE)","v":1},1,"13562011",1,0,2,1,0,2,0,0,0,0]
["1357401","1357401",{"$f":"VLOOKUP(B228, 'School List'!F:G,2,FALSE)","v":"Sendak El"},"PHBAO",161,64,0,0,0,16,null,null,0,0,24,265,7,3,0,0,0,10,8,3,0,0,0,11,{"$f":"VLOOKUP(A228,'Pivot Norm'!A:B,2,FALSE)","v":2},1,"13574011",1,0,2,1,0,2,1,0,0,0]
["1357401","1357402",{"$f":"VLOOKUP(B229, 'School List'!F:G,2,FALSE)","v":"Sendak A/C/T Mag"},"Magnet 2",90,53,0,0,0,null,null,null,0,0,0,143,4,2,0,0,0,6,3,2,0,0,0,5,{"$f":"VLOOKUP(A229,'Pivot Norm'!A:B,2,FALSE)","v":2},2,"13574012",0,0,0,0,0,0,0,0,0,0]
["1357501","1357501",{"$f":"VLOOKUP(B230, 'School List'!F:G,2,FALSE)","v":"Elysian Hts Arts Mag"},"Magnet 1",274,115,0,0,0,null,null,null,0,0,0,389,12,4,0,0,0,16,11,3,0,0,0,14,{"$f":"VLOOKUP(A230,'Pivot Norm'!A:B,2,FALSE)","v":1},1,"13575011",1,0,2,1,0,2,0,0,0,0]
["1357601","1357601",{"$f":"VLOOKUP(B231, 'School List'!F:G,2,FALSE)","v":"Parks LC"},"PHBAO",336,179,0,0,0,39,null,null,0,19,0,573,14,7,0,0,0,21,15,7,0,0,0,22,{"$f":"VLOOKUP(A231,'Pivot Norm'!A:B,2,FALSE)","v":1},1,"13576011",1,0,2,1,0,2,0,0,0,0]
["1357701","1357701",{"$f":"VLOOKUP(B232, 'School List'!F:G,2,FALSE)","v":"Bellingham El"},"PHBAO",238,139,0,0,0,29,null,null,9,0,13,428,10,6,0,0,0,16,11,5,0,0,0,16,{"$f":"VLOOKUP(A232,'Pivot Norm'!A:B,2,FALSE)","v":1},1,"13577011",1,0,2,1,0,2,1,0,0,0]
["1358901","1358901",{"$f":"VLOOKUP(B233, 'School List'!F:G,2,FALSE)","v":"Emelita St El"},"Non-PHBAO",153,70,0,0,0,23,null,null,0,0,0,246,7,3,0,0,0,10,8,3,0,0,0,11,{"$f":"VLOOKUP(A233,'Pivot Norm'!A:B,2,FALSE)","v":1},1,"13589011",1,0,2,1,0,2,0,0,1,0]
["1361001","1361001",{"$f":"VLOOKUP(B234, 'School List'!F:G,2,FALSE)","v":"Enadia Way"},"PHBAO",144,83,0,0,0,null,null,null,0,0,0,227,6,4,0,0,0,10,7,4,0,0,0,11,{"$f":"VLOOKUP(A234,'Pivot Norm'!A:B,2,FALSE)","v":1},1,"13610011",1,0,2,1,0,2,0,0,0,0]
["1361601","1361601",{"$f":"VLOOKUP(B235, 'School List'!F:G,2,FALSE)","v":"Encino Charter El"},"Non-PHBAO",356,165,0,0,0,null,null,null,0,0,0,521,15,6,0,0,0,21,16,6,0,0,0,22,{"$f":"VLOOKUP(A235,'Pivot Norm'!A:B,2,FALSE)","v":1},1,"13616011",1,0,2,1,0,2,1,0,2,0]
["1363001","1363001",{"$f":"VLOOKUP(B236, 'School List'!F:G,2,FALSE)","v":"Erwin El"},"Non-PHBAO",350,196,0,0,0,42,null,null,16,0,19,623,15,7,0,0,0,22,17,6,0,0,0,23,{"$f":"VLOOKUP(A236,'Pivot Norm'!A:B,2,FALSE)","v":1},1,"13630011",1,0,2,1,0,2,0,1,1,0]
["1364001","1364001",{"$f":"VLOOKUP(B237, 'School List'!F:G,2,FALSE)","v":"Eshelman El"},"PHBAO",270,131,0,0,0,17,null,null,0,0,24,442,12,5,0,0,0,17,12,6,0,0,0,18,{"$f":"VLOOKUP(A237,'Pivot Norm'!A:B,2,FALSE)","v":1},1,"13640011",1,0,2,1,0,2,0,0,0,0]
["1367101","1367101",{"$f":"VLOOKUP(B238, 'School List'!F:G,2,FALSE)","v":"Euclid El"},"PHBAO",235,85,0,0,0,31,null,null,0,0,21,372,10,4,0,0,0,14,9,4,0,0,0,13,{"$f":"VLOOKUP(A238,'Pivot Norm'!A:B,2,FALSE)","v":3},1,"13671011",1,0,3,1,0,3,0,0,0,0]
["1367101","1367102",{"$f":"VLOOKUP(B239, 'School List'!F:G,2,FALSE)","v":"Euclid ES GSTEAM Mag"},"Magnet 2",74,87,0,0,0,null,null,null,0,0,0,161,4,4,0,0,0,8,4,4,0,0,0,8,{"$f":"VLOOKUP(A239,'Pivot Norm'!A:B,2,FALSE)","v":3},2,"13671012",0,0,0,0,0,0,0,0,0,0]
["1367101","1367103",{"$f":"VLOOKUP(B240, 'School List'!F:G,2,FALSE)","v":"Euclid Ave El DTS"},"PHBAO",190,91,0,0,0,null,null,null,0,0,0,281,8,4,0,0,0,12,8,4,0,0,0,12,{"$f":"VLOOKUP(A240,'Pivot Norm'!A:B,2,FALSE)","v":3},3,"13671013",0,0,0,0,0,0,0,0,0,0]
["1369901","1369901",{"$f":"VLOOKUP(B241, 'School List'!F:G,2,FALSE)","v":"Evergreen El"},"PHBAO",298,213,0,0,0,25,null,null,4,0,9,549,13,8,0,0,0,21,13,9,0,0,0,22,{"$f":"VLOOKUP(A241,'Pivot Norm'!A:B,2,FALSE)","v":1},1,"13699011",1,0,2,1,0,2,1,1,0,0]
["1371201","1371201",{"$f":"VLOOKUP(B242, 'School List'!F:G,2,FALSE)","v":"Fair El"},"PHBAO",375,209,0,0,0,26,null,null,0,0,13,623,16,8,0,0,0,24,18,9,0,0,0,27,{"$f":"VLOOKUP(A242,'Pivot Norm'!A:B,2,FALSE)","v":1},1,"13712011",1,0,2,1,0,2,0,1,1,0]
["1372601","1372601",{"$f":"VLOOKUP(B243, 'School List'!F:G,2,FALSE)","v":"Fairburn El"},"Non-PHBAO",357,105,0,0,0,null,null,null,0,0,0,462,15,4,0,0,0,19,14,4,0,0,0,18,{"$f":"VLOOKUP(A243,'Pivot Norm'!A:B,2,FALSE)","v":1},1,"13726011",1,0,2,1,0,2,1,0,0,0]
["1374001","1374001",{"$f":"VLOOKUP(B244, 'School List'!F:G,2,FALSE)","v":"Farmdale El"},"PHBAO",110,57,0,0,0,23,null,null,4,0,20,214,5,3,0,0,0,8,5,2,0,0,0,7,{"$f":"VLOOKUP(A244,'Pivot Norm'!A:B,2,FALSE)","v":2},1,"13740011",1,0,2,1,0,2,0,0,0,0]
["1374001","1374002",{"$f":"VLOOKUP(B245, 'School List'!F:G,2,FALSE)","v":"Farmdale El DOS"},"PHBAO",103,50,0,0,0,null,null,null,0,0,0,153,5,2,0,0,0,7,5,3,0,0,0,8,{"$f":"VLOOKUP(A245,'Pivot Norm'!A:B,2,FALSE)","v":2},2,"13740012",0,0,0,0,0,0,0,0,0,0]
["1375301","1375301",{"$f":"VLOOKUP(B246, 'School List'!F:G,2,FALSE)","v":"Fernangeles El"},"PHBAO",209,100,0,0,0,33,null,null,15,17,22,396,9,4,0,0,0,13,9,5,0,0,0,14,{"$f":"VLOOKUP(A246,'Pivot Norm'!A:B,2,FALSE)","v":2},1,"13753011",1,0,2,1,0,2,1,0,0,0]
["1375301","1375302",{"$f":"VLOOKUP(B247, 'School List'!F:G,2,FALSE)","v":"Fernangeles DTS & DOS"},"PHBAO",103,40,0,0,0,null,null,null,0,0,0,143,5,2,0,0,0,7,5,2,0,0,0,7,{"$f":"VLOOKUP(A247,'Pivot Norm'!A:B,2,FALSE)","v":2},2,"13753012",0,0,0,0,0,0,0,0,0,0]
["1376701","1376701",{"$f":"VLOOKUP(B248, 'School List'!F:G,2,FALSE)","v":"15th St El"},"PHBAO",270,123,0,0,0,18,null,null,0,0,19,430,12,5,0,0,0,17,11,6,0,0,0,17,{"$f":"VLOOKUP(A248,'Pivot Norm'!A:B,2,FALSE)","v":1},1,"13767011",1,0,2,1,0,2,1,0,0,0]
["1378101","1378101",{"$f":"VLOOKUP(B249, 'School List'!F:G,2,FALSE)","v":"54th St El"},"PHBAO",165,98,0,0,0,24,null,null,0,0,3,290,7,4,0,0,0,11,8,4,0,0,0,12,{"$f":"VLOOKUP(A249,'Pivot Norm'!A:B,2,FALSE)","v":1},1,"13781011",1,0,2,1,0,2,0,0,0,0]
["1379501","1379501",{"$f":"VLOOKUP(B250, 'School List'!F:G,2,FALSE)","v":"59th St El"},"PHBAO",138,66,0,0,0,25,null,null,0,0,6,235,6,3,0,0,0,9,6,3,0,0,0,9,{"$f":"VLOOKUP(A250,'Pivot Norm'!A:B,2,FALSE)","v":1},1,"13795011",1,0,2,1,0,2,0,0,0,0]
["1380801","1380801",{"$f":"VLOOKUP(B251, 'School List'!F:G,2,FALSE)","v":"52nd St El"},"PHBAO",407,186,0,0,0,65,null,null,15,0,23,696,17,7,0,0,0,24,18,8,0,0,0,26,{"$f":"VLOOKUP(A251,'Pivot Norm'!A:B,2,FALSE)","v":1},1,"13808011",1,0,2,1,0,2,0,0,0,0]
["1382201","1382201",{"$f":"VLOOKUP(B252, 'School List'!F:G,2,FALSE)","v":"Figueroa El"},"PHBAO",214,170,0,0,0,20,null,null,7,0,0,411,9,7,0,0,0,16,10,7,0,0,0,17,{"$f":"VLOOKUP(A252,'Pivot Norm'!A:B,2,FALSE)","v":1},1,"13822011",1,0,2,1,0,2,0,0,0,0]
["1382901","1382901",{"$f":"VLOOKUP(B253, 'School List'!F:G,2,FALSE)","v":"Broadous El"},"PHBAO",227,102,0,0,0,35,null,null,27,0,11,402,10,4,0,0,0,14,10,4,0,0,0,14,{"$f":"VLOOKUP(A253,'Pivot Norm'!A:B,2,FALSE)","v":2},1,"13829011",1,0,2,1,0,2,0,0,0,0]
["1382901","1382902",{"$f":"VLOOKUP(B254, 'School List'!F:G,2,FALSE)","v":"Broadous El STEM Mag"},"Magnet 2",14,39,0,0,0,null,null,null,0,0,0,53,1,2,0,0,0,3,1,2,0,0,0,3,{"$f":"VLOOKUP(A254,'Pivot Norm'!A:B,2,FALSE)","v":2},2,"13829012",0,0,0,0,0,0,0,0,0,0]
["1383601","1383601",{"$f":"VLOOKUP(B255, 'School List'!F:G,2,FALSE)","v":"1st St El"},"PHBAO",237,163,0,0,0,19,null,null,0,15,13,447,10,7,0,0,0,17,10,7,0,0,0,17,{"$f":"VLOOKUP(A255,'Pivot Norm'!A:B,2,FALSE)","v":1},1,"13836011",1,0,2,1,0,2,1,0,0,0]
["1384901","1384901",{"$f":"VLOOKUP(B256, 'School List'!F:G,2,FALSE)","v":"Fishburn El"},"PHBAO",112,113,0,0,0,27,null,null,37,0,20,309,5,5,0,0,0,10,6,5,0,0,0,11,{"$f":"VLOOKUP(A256,'Pivot Norm'!A:B,2,FALSE)","v":2},1,"13849011",1,0,2,1,0,2,0,0,0,0]
["1384901","1384902",{"$f":"VLOOKUP(B257, 'School List'!F:G,2,FALSE)","v":"Fishburn El DTS"},"PHBAO",149,22,0,0,0,null,null,null,0,0,0,171,7,1,0,0,0,8,6,0,0,0,0,6,{"$f":"VLOOKUP(A257,'Pivot Norm'!A:B,2,FALSE)","v":2},2,"13849012",0,0,0,0,0,0,0,0,0,0]
["1387701","1387701",{"$f":"VLOOKUP(B258, 'School List'!F:G,2,FALSE)","v":"Fletcher Dr El"},"PHBAO",70,11,0,0,0,7,null,null,0,0,6,94,3,1,0,0,0,4,4,1,0,0,0,5,{"$f":"VLOOKUP(A258,'Pivot Norm'!A:B,2,FALSE)","v":2},1,"13877011",1,0,2,1,0,2,0,1,1,0]
["1387701","1387702",{"$f":"VLOOKUP(B259, 'School List'!F:G,2,FALSE)","v":"Fletcher STEAM Mag"},"Magnet 2",55,47,0,0,0,null,null,null,0,0,0,102,3,2,0,0,0,5,3,2,0,0,0,5,{"$f":"VLOOKUP(A259,'Pivot Norm'!A:B,2,FALSE)","v":2},2,"13877012",0,0,0,0,0,0,0,0,0,0]
["1389001","1389001",{"$f":"VLOOKUP(B260, 'School List'!F:G,2,FALSE)","v":"Florence El"},"PHBAO",99,68,0,0,0,53,null,null,22,0,24,266,5,3,0,0,0,8,4,3,0,0,0,7,{"$f":"VLOOKUP(A260,'Pivot Norm'!A:B,2,FALSE)","v":2},1,{"$f":"A260&AD260","v":"13890011"},1,0,2,1,0,2,0,0,0,0]
["1389001","1389002",{"$f":"VLOOKUP(B261, 'School List'!F:G,2,FALSE)","v":"Florence El DTS"},"PHBAO",231,161,0,0,0,null,null,null,0,0,0,392,10,6,0,0,0,16,10,5,0,0,0,15,{"$f":"VLOOKUP(A261,'Pivot Norm'!A:B,2,FALSE)","v":2},2,"13890012",0,0,0,0,0,0,2,1,0,0]
["1391801","1391801",{"$f":"VLOOKUP(B262, 'School List'!F:G,2,FALSE)","v":"Ford Blvd El"},"PHBAO",286,93,0,0,0,77,null,null,19,0,9,484,12,4,0,0,0,16,11,4,0,0,0,15,{"$f":"VLOOKUP(A262,'Pivot Norm'!A:B,2,FALSE)","v":2},{"$f":"IF(A262=A261,AD261+1,1)","v":1},"13918011",1,0,3,1,0,3,0,0,0,0]
["1391801","1391802",{"$f":"VLOOKUP(B263, 'School List'!F:G,2,FALSE)","v":"Ford Blvd El DTS"},"PHBAO",270,166,0,0,0,null,null,null,0,0,15,451,12,7,0,0,0,19,13,5,0,0,0,18,{"$f":"VLOOKUP(A263,'Pivot Norm'!A:B,2,FALSE)","v":2},2,"13918012",0,0,0,0,0,0,1,1,0,0]
["1393201","1393201",{"$f":"VLOOKUP(B264, 'School List'!F:G,2,FALSE)","v":"49th St El"},"PHBAO",385,193,0,0,0,15,null,null,21,0,20,634,17,8,0,0,0,25,18,8,0,0,0,26,{"$f":"VLOOKUP(A264,'Pivot Norm'!A:B,2,FALSE)","v":1},1,"13932011",1,0,2,1,0,2,0,0,0,0]
["1395901","1395901",{"$f":"VLOOKUP(B265, 'School List'!F:G,2,FALSE)","v":"42nd St El"},"PHBAO",113,47,0,0,0,26,null,null,0,0,9,195,5,2,0,0,0,7,5,2,0,0,0,7,{"$f":"VLOOKUP(A265,'Pivot Norm'!A:B,2,FALSE)","v":2},1,"13959011",1,0,2,1,0,2,0,0,0,0]
["1395901","1395902",{"$f":"VLOOKUP(B266, 'School List'!F:G,2,FALSE)","v":"42nd St El DWS"},"PHBAO",52,0,0,0,0,null,null,null,0,0,0,52,3,0,0,0,0,3,2,0,0,0,0,2,{"$f":"VLOOKUP(A266,'Pivot Norm'!A:B,2,FALSE)","v":2},2,"13959012",0,0,0,0,0,0,0,0,0,0]
["1397301","1397301",{"$f":"VLOOKUP(B267, 'School List'!F:G,2,FALSE)","v":"4th St El"},"PHBAO",127,151,0,0,0,32,null,null,0,0,0,310,6,6,0,0,0,12,7,7,0,0,0,14,{"$f":"VLOOKUP(A267,'Pivot Norm'!A:B,2,FALSE)","v":2},1,"13973011",1,0,2,1,0,2,0,0,0,0]
["1397301","1397302",{"$f":"VLOOKUP(B268, 'School List'!F:G,2,FALSE)","v":"4th Street El DTS"},"PHBAO",20,0,0,0,0,null,null,null,null,null,null,20,1,0,0,0,0,1,0,0,0,0,0,0,{"$f":"VLOOKUP(A268,'Pivot Norm'!A:B,2,FALSE)","v":2},2,"13973012",0,0,0,0,0,0,0,0,0,0]
["1397401","1397401",{"$f":"VLOOKUP(B269, 'School List'!F:G,2,FALSE)","v":"4th St Primary Ctr"},"PHBAO",118,0,0,0,0,23,null,null,0,0,17,158,5,0,0,0,0,5,6,0,0,0,0,6,{"$f":"VLOOKUP(A269,'Pivot Norm'!A:B,2,FALSE)","v":2},1,"13974011",1,0,2,1,0,2,0,0,0,0]
["1397401","1397402",{"$f":"VLOOKUP(B270, 'School List'!F:G,2,FALSE)","v":"4th St PC DTS"},"PHBAO",26,0,0,0,0,null,null,null,0,0,0,26,2,0,0,0,0,2,2,0,0,0,0,2,{"$f":"VLOOKUP(A270,'Pivot Norm'!A:B,2,FALSE)","v":2},2,"13974012",0,0,0,0,0,0,0,0,0,0]
["1398601","1398601",{"$f":"VLOOKUP(B271, 'School List'!F:G,2,FALSE)","v":"Franklin El"},"Non-PHBAO",293,137,0,0,0,null,null,null,0,0,0,430,13,5,0,0,0,18,14,5,0,0,0,19,{"$f":"VLOOKUP(A271,'Pivot Norm'!A:B,2,FALSE)","v":1},1,"13986011",1,0,2,1,0,2,0,0,0,0]
["1401401","1401401",{"$f":"VLOOKUP(B272, 'School List'!F:G,2,FALSE)","v":"Fries El"},"PHBAO",213,117,0,0,0,35,null,null,0,0,11,376,9,5,0,0,0,14,10,5,0,0,0,15,{"$f":"VLOOKUP(A272,'Pivot Norm'!A:B,2,FALSE)","v":1},1,"14014011",1,0,2,1,0,2,0,0,0,0]
["1402001","1402001",{"$f":"VLOOKUP(B273, 'School List'!F:G,2,FALSE)","v":"Bakewell PC"},"PHBAO",133,0,0,0,0,null,null,null,4,0,21,158,6,0,0,0,0,6,7,0,0,0,0,7,{"$f":"VLOOKUP(A273,'Pivot Norm'!A:B,2,FALSE)","v":1},1,"14020011",1,0,2,1,0,2,0,0,0,0]
["1402701","1402701",{"$f":"VLOOKUP(B274, 'School List'!F:G,2,FALSE)","v":"Fullbright El"},"PHBAO",177,140,0,0,0,13,null,null,0,8,15,353,8,6,0,0,0,14,9,5,0,0,0,14,{"$f":"VLOOKUP(A274,'Pivot Norm'!A:B,2,FALSE)","v":2},1,"14027011",1,0,2,1,0,2,2,0,0,0]
["1402701","1402702",{"$f":"VLOOKUP(B275, 'School List'!F:G,2,FALSE)","v":"Fullbright El DTS"},"PHBAO",71,0,0,0,0,null,null,null,0,0,0,71,3,0,0,0,0,3,2,0,0,0,0,2,{"$f":"VLOOKUP(A275,'Pivot Norm'!A:B,2,FALSE)","v":2},2,"14027012",0,0,0,0,0,0,1,0,1,0]
["1404101","1404101",{"$f":"VLOOKUP(B276, 'School List'!F:G,2,FALSE)","v":"Gardena El"},"PHBAO",216,118,0,0,0,9,null,null,0,0,16,359,9,5,0,0,0,14,10,6,0,0,0,16,{"$f":"VLOOKUP(A276,'Pivot Norm'!A:B,2,FALSE)","v":2},1,"14041011",1,0,2,1,0,2,0,0,0,0]
["1404101","1404102",{"$f":"VLOOKUP(B277, 'School List'!F:G,2,FALSE)","v":"Gardena El DTS"},"PHBAO",88,44,0,0,0,null,null,null,0,0,0,132,4,2,0,0,0,6,4,1,0,0,0,5,{"$f":"VLOOKUP(A277,'Pivot Norm'!A:B,2,FALSE)","v":2},2,"14041012",0,0,0,0,0,0,0,0,0,0]
["1405501","1405501",{"$f":"VLOOKUP(B278, 'School List'!F:G,2,FALSE)","v":"Garden Grove El"},"PHBAO",215,98,0,0,0,null,null,null,7,0,19,339,9,4,0,0,0,13,9,4,0,0,0,13,{"$f":"VLOOKUP(A278,'Pivot Norm'!A:B,2,FALSE)","v":1},1,"14055011",1,0,2,1,0,2,1,1,0,0]
["1406801","1406801",{"$f":"VLOOKUP(B279, 'School List'!F:G,2,FALSE)","v":"Gardner El"},"Non-PHBAO",182,89,0,0,0,null,null,null,0,31,0,302,8,3,0,0,0,11,10,3,0,0,0,13,{"$f":"VLOOKUP(A279,'Pivot Norm'!A:B,2,FALSE)","v":1},1,"14068011",1,0,2,1,0,2,0,0,0,0]
["1408201","1408201",{"$f":"VLOOKUP(B280, 'School List'!F:G,2,FALSE)","v":"Garvanza ES Tech/Lea"},"Magnet 2",187,94,0,0,0,null,null,null,6,0,10,297,8,4,0,0,0,12,8,4,0,0,0,12,{"$f":"VLOOKUP(A280,'Pivot Norm'!A:B,2,FALSE)","v":1},1,"14082011",1,0,2,1,0,2,0,0,0,0]
["1409601","1409601",{"$f":"VLOOKUP(B281, 'School List'!F:G,2,FALSE)","v":"Gates El"},"PHBAO",166,99,0,0,0,38,null,null,0,20,12,335,7,4,0,0,0,11,7,5,0,0,0,12,{"$f":"VLOOKUP(A281,'Pivot Norm'!A:B,2,FALSE)","v":3},1,"14096011",1,0,2,1,0,2,0,0,0,0]
["1409601","1409602",{"$f":"VLOOKUP(B282, 'School List'!F:G,2,FALSE)","v":"Gates St El DTS"},"PHBAO",165,69,0,0,0,null,null,null,0,0,0,234,7,3,0,0,0,10,7,3,0,0,0,10,{"$f":"VLOOKUP(A282,'Pivot Norm'!A:B,2,FALSE)","v":3},2,"14096012",0,0,0,0,0,0,1,0,0,0]
["1409601","1409603",{"$f":"VLOOKUP(B283, 'School List'!F:G,2,FALSE)","v":"Gates St El  DTM"},"PHBAO",14,0,0,0,0,null,null,null,0,0,0,14,1,0,0,0,0,1,1,0,0,0,0,1,{"$f":"VLOOKUP(A283,'Pivot Norm'!A:B,2,FALSE)","v":3},3,"14096013",0,0,0,0,0,0,0,0,0,0]
["1411001","1411001",{"$f":"VLOOKUP(B284, 'School List'!F:G,2,FALSE)","v":"Gault El"},"PHBAO",192,85,0,0,0,17,null,null,0,16,0,310,8,4,0,0,0,12,8,4,0,0,0,12,{"$f":"VLOOKUP(A284,'Pivot Norm'!A:B,2,FALSE)","v":1},1,"14110011",1,0,2,1,0,2,0,0,0,0]
["1411701","1411701",{"$f":"VLOOKUP(B285, 'School List'!F:G,2,FALSE)","v":"Germain Acad AA"},"PHBAO",365,157,0,0,0,22,null,null,18,0,24,586,16,6,0,0,0,22,15,6,0,0,0,21,{"$f":"VLOOKUP(A285,'Pivot Norm'!A:B,2,FALSE)","v":1},1,"14117011",1,0,2,1,0,2,0,2,0,0]
["1412301","1412301",{"$f":"VLOOKUP(B286, 'School List'!F:G,2,FALSE)","v":"Glassell Pk STEAM Mg"},"Magnet 2",170,96,0,0,0,null,null,null,0,0,19,285,8,4,0,0,0,12,8,4,0,0,0,12,{"$f":"VLOOKUP(A286,'Pivot Norm'!A:B,2,FALSE)","v":1},1,"14123011",1,0,2,1,0,2,0,0,0,0]
["1413001","1413001",{"$f":"VLOOKUP(B287, 'School List'!F:G,2,FALSE)","v":"Gledhill El"},"PHBAO",84,27,0,0,0,20,null,null,13,0,0,144,4,1,0,0,0,5,4,2,0,0,0,6,{"$f":"VLOOKUP(A287,'Pivot Norm'!A:B,2,FALSE)","v":2},1,"14130011",1,0,2,1,0,2,0,0,0,0]
["1413001","1413002",{"$f":"VLOOKUP(B288, 'School List'!F:G,2,FALSE)","v":"Gledhill El STEM Mag"},"Magnet 2",107,107,0,0,0,null,null,null,0,0,0,214,5,4,0,0,0,9,5,4,0,0,0,9,{"$f":"VLOOKUP(A288,'Pivot Norm'!A:B,2,FALSE)","v":2},2,"14130012",0,0,0,0,0,0,0,0,0,0]
["1413701","1413701",{"$f":"VLOOKUP(B289, 'School List'!F:G,2,FALSE)","v":"Glen Alta El"},"PHBAO",52,53,27,0,0,null,null,null,0,0,0,132,3,2,2,0,0,7,3,2,2,0,0,7,{"$f":"VLOOKUP(A289,'Pivot Norm'!A:B,2,FALSE)","v":1},1,"14137011",1,0.5,2,1,0.5,2,0,0,0,0]
["1416401","1416401",{"$f":"VLOOKUP(B290, 'School List'!F:G,2,FALSE)","v":"Glenfeliz Blvd El"},"PHBAO",104,84,0,0,0,8,null,null,6,0,0,202,5,4,0,0,0,9,6,3,0,0,0,9,{"$f":"VLOOKUP(A290,'Pivot Norm'!A:B,2,FALSE)","v":1},1,"14164011",1,0,2,1,0,2,2,0,0,0]
["1419201","1419201",{"$f":"VLOOKUP(B291, 'School List'!F:G,2,FALSE)","v":"Glenwood El"},"PHBAO",143,61,0,0,0,11,null,null,7,0,14,236,6,3,0,0,0,9,6,3,0,0,0,9,{"$f":"VLOOKUP(A291,'Pivot Norm'!A:B,2,FALSE)","v":1},1,"14192011",1,0,2,1,0,2,0,0,0,0]
["1421901","1421901",{"$f":"VLOOKUP(B292, 'School List'!F:G,2,FALSE)","v":"Graham El"},"PHBAO",227,253,0,0,0,23,null,null,13,0,20,536,10,10,0,0,0,20,12,10,0,0,0,22,{"$f":"VLOOKUP(A292,'Pivot Norm'!A:B,2,FALSE)","v":2},1,"14219011",1,0,2,1,0,2,0,0,0,0]
["1421901","1421902",{"$f":"VLOOKUP(B293, 'School List'!F:G,2,FALSE)","v":"Graham El DTS"},"PHBAO",167,0,0,0,0,null,null,null,0,0,0,167,7,0,0,0,0,7,6,0,0,0,0,6,{"$f":"VLOOKUP(A293,'Pivot Norm'!A:B,2,FALSE)","v":2},2,"14219012",0,0,0,0,0,0,0,0,0,0]
["1423301","1423301",{"$f":"VLOOKUP(B294, 'School List'!F:G,2,FALSE)","v":"Granada Elementary"},"PHBAO",228,129,0,0,0,18,null,null,18,20,0,413,10,5,0,0,0,15,10,5,0,0,0,15,{"$f":"VLOOKUP(A294,'Pivot Norm'!A:B,2,FALSE)","v":1},1,"14233011",1,0,2,1,0,2,1,0,0,0]
["1424701","1424701",{"$f":"VLOOKUP(B295, 'School List'!F:G,2,FALSE)","v":"Grand View El"},"PHBAO",82,55,0,0,0,29,null,null,5,0,17,188,4,3,0,0,0,7,4,3,0,0,0,7,{"$f":"VLOOKUP(A295,'Pivot Norm'!A:B,2,FALSE)","v":2},1,"14247011",1,0,2,1,0,2,0,0,0,0]
["1424701","1424702",{"$f":"VLOOKUP(B296, 'School List'!F:G,2,FALSE)","v":"Grand View El DTS"},"PHBAO",278,129,0,0,0,null,null,null,0,0,27,434,12,5,0,0,0,17,12,5,0,0,0,17,{"$f":"VLOOKUP(A296,'Pivot Norm'!A:B,2,FALSE)","v":2},2,"14247012",0,0,0,0,0,0,1,0,0,0]
["1426001","1426001",{"$f":"VLOOKUP(B297, 'School List'!F:G,2,FALSE)","v":"Grant El"},"PHBAO",186,169,0,0,0,44,null,null,6,0,0,405,8,7,0,0,0,15,9,7,0,0,0,16,{"$f":"VLOOKUP(A297,'Pivot Norm'!A:B,2,FALSE)","v":2},1,"14260011",1,0,2,1,0,2,0,0,0,0]
["1426001","1426002",{"$f":"VLOOKUP(B298, 'School List'!F:G,2,FALSE)","v":"Grant St El DTR"},"PHBAO",28,0,0,0,0,null,null,null,0,0,0,28,2,0,0,0,0,2,1,0,0,0,0,1,{"$f":"VLOOKUP(A298,'Pivot Norm'!A:B,2,FALSE)","v":2},2,"14260012",0,0,0,0,0,0,1,0,0,0]
["1427401","1427401",{"$f":"VLOOKUP(B299, 'School List'!F:G,2,FALSE)","v":"Grape El"},"PHBAO",280,143,0,0,0,12,null,null,0,0,2,437,12,6,0,0,0,18,12,6,0,0,0,18,{"$f":"VLOOKUP(A299,'Pivot Norm'!A:B,2,FALSE)","v":1},1,"14274011",1,0,2,1,0,2,0,0,0,0]
["1429501","1429501",{"$f":"VLOOKUP(B300, 'School List'!F:G,2,FALSE)","v":"Gridley El"},"PHBAO",208,109,0,0,0,37,null,null,38,0,14,406,9,5,0,0,0,14,9,5,0,0,0,14,{"$f":"VLOOKUP(A300,'Pivot Norm'!A:B,2,FALSE)","v":2},1,"14295011",1,0,2,1,0,2,0,0,0,0]
["1429501","1429502",{"$f":"VLOOKUP(B301, 'School List'!F:G,2,FALSE)","v":"Gridley St El DTS"},"PHBAO",82,37,0,0,0,null,null,null,0,0,0,119,4,2,0,0,0,6,4,2,0,0,0,6,{"$f":"VLOOKUP(A301,'Pivot Norm'!A:B,2,FALSE)","v":2},2,"14295012",0,0,0,0,0,0,0,0,0,0]
["1430101","1430101",{"$f":"VLOOKUP(B302, 'School List'!F:G,2,FALSE)","v":"Griffin El"},"PHBAO",227,98,0,0,0,23,null,null,0,0,12,360,10,4,0,0,0,14,10,4,0,0,0,14,{"$f":"VLOOKUP(A302,'Pivot Norm'!A:B,2,FALSE)","v":1},1,"14301011",1,0,2,1,0,2,1,0,0,0]
["1431501","1431501",{"$f":"VLOOKUP(B303, 'School List'!F:G,2,FALSE)","v":"Gulf El"},"PHBAO",400,170,0,0,0,24,null,null,0,0,23,617,17,7,0,0,0,24,17,7,0,0,0,24,{"$f":"VLOOKUP(A303,'Pivot Norm'!A:B,2,FALSE)","v":2},1,"14315011",1,0,2,1,0,2,0,0,0,0]
["1431501","1431502",{"$f":"VLOOKUP(B304, 'School List'!F:G,2,FALSE)","v":"Gulf ES STEAM Magnet"},"Magnet 2",61,53,0,0,0,null,null,null,0,0,0,114,3,2,0,0,0,5,3,2,0,0,0,5,{"$f":"VLOOKUP(A304,'Pivot Norm'!A:B,2,FALSE)","v":2},2,"14315012",0,0,0,0,0,0,0,0,0,0]
["1432201","1432201",{"$f":"VLOOKUP(B305, 'School List'!F:G,2,FALSE)","v":"Arroyo Seco Musm Sci"},"Magnet 2",192,108,180,0,0,null,null,null,0,0,0,480,8,4,8,0,0,20,8,4,8,0,0,20,{"$f":"VLOOKUP(A305,'Pivot Norm'!A:B,2,FALSE)","v":1},1,"14322011",1,0.5,2,1,0.5,2,0,0,0,0]
["1432901","1432901",{"$f":"VLOOKUP(B306, 'School List'!F:G,2,FALSE)","v":"Haddon El"},"PHBAO",301,143,0,0,0,51,null,null,18,19,22,554,13,6,0,0,0,19,15,6,0,0,0,21,{"$f":"VLOOKUP(A306,'Pivot Norm'!A:B,2,FALSE)","v":2},1,"14329011",1,0,2,1,0,2,0,0,0,0]
["1432901","1432902",{"$f":"VLOOKUP(B307, 'School List'!F:G,2,FALSE)","v":"Haddon STEAM Mag"},"Magnet 2",120,54,0,0,0,null,null,null,0,0,0,174,5,2,0,0,0,7,4,2,0,0,0,6,{"$f":"VLOOKUP(A307,'Pivot Norm'!A:B,2,FALSE)","v":2},2,"14329012",0,0,0,0,0,0,0,0,0,0]
["1434201","1434201",{"$f":"VLOOKUP(B308, 'School List'!F:G,2,FALSE)","v":"Halldale El"},"PHBAO",268,126,0,0,0,60,null,null,9,0,15,478,12,5,0,0,0,17,12,5,0,0,0,17,{"$f":"VLOOKUP(A308,'Pivot Norm'!A:B,2,FALSE)","v":1},1,"14342011",1,0,2,1,0,2,0,0,0,0]
["1434901","1434901",{"$f":"VLOOKUP(B309, 'School List'!F:G,2,FALSE)","v":"Hamlin CA"},"PHBAO",205,72,0,0,0,26,null,null,24,0,0,327,9,3,0,0,0,12,9,3,0,0,0,12,{"$f":"VLOOKUP(A309,'Pivot Norm'!A:B,2,FALSE)","v":1},1,"14349011",1,0,2,1,0,2,1,0,0,0]
["1435601","1435601",{"$f":"VLOOKUP(B310, 'School List'!F:G,2,FALSE)","v":"Anton El"},"PHBAO",186,219,0,0,0,18,null,null,3,0,0,426,8,9,0,0,0,17,10,9,0,0,0,19,{"$f":"VLOOKUP(A310,'Pivot Norm'!A:B,2,FALSE)","v":2},1,"14356011",1,0,2,1,0,2,0,0,0,0]
["1435601","1435602",{"$f":"VLOOKUP(B311, 'School List'!F:G,2,FALSE)","v":"Anton El DTS"},"PHBAO",63,0,0,0,0,null,null,null,0,0,0,63,3,0,0,0,0,3,2,0,0,0,0,2,{"$f":"VLOOKUP(A311,'Pivot Norm'!A:B,2,FALSE)","v":2},2,"14356012",0,0,0,0,0,0,0,0,0,0]
["1439701","1439701",{"$f":"VLOOKUP(B312, 'School List'!F:G,2,FALSE)","v":"Hancock Park El"},"Non-PHBAO",374,146,0,0,0,24,null,null,0,0,0,544,16,5,0,0,0,21,17,6,0,0,0,23,{"$f":"VLOOKUP(A312,'Pivot Norm'!A:B,2,FALSE)","v":1},1,"14397011",1,0,2,1,0,2,0,2,0,0]
["1442501","1442501",{"$f":"VLOOKUP(B313, 'School List'!F:G,2,FALSE)","v":"Harbor City El"},"PHBAO",293,133,0,0,0,20,null,null,0,0,9,455,13,5,0,0,0,18,12,6,0,0,0,18,{"$f":"VLOOKUP(A313,'Pivot Norm'!A:B,2,FALSE)","v":1},1,"14425011",1,0,2,1,0,2,1,0,0,0]
["1443101","1443101",{"$f":"VLOOKUP(B314, 'School List'!F:G,2,FALSE)","v":"Harding El"},"PHBAO",227,116,0,0,0,38,null,null,0,0,21,402,10,5,0,0,0,15,10,5,0,0,0,15,{"$f":"VLOOKUP(A314,'Pivot Norm'!A:B,2,FALSE)","v":1},1,"14431011",1,0,2,1,0,2,1,0,0,0]
["1443801","1443801",{"$f":"VLOOKUP(B315, 'School List'!F:G,2,FALSE)","v":"Harrison El"},"PHBAO",70,112,0,0,0,20,null,null,3,0,11,216,3,5,0,0,0,8,5,5,0,0,0,10,{"$f":"VLOOKUP(A315,'Pivot Norm'!A:B,2,FALSE)","v":2},1,"14438011",1,0,2,1,0,2,0,0,0,0]
["1443801","1443802",{"$f":"VLOOKUP(B316, 'School List'!F:G,2,FALSE)","v":"Harrison El DTS"},"PHBAO",78,0,0,0,0,null,null,null,0,0,0,78,4,0,0,0,0,4,3,0,0,0,0,3,{"$f":"VLOOKUP(A316,'Pivot Norm'!A:B,2,FALSE)","v":2},2,"14438012",0,0,0,0,0,0,0,0,0,0]
["1444501","1444501",{"$f":"VLOOKUP(B317, 'School List'!F:G,2,FALSE)","v":"Hart St El"},"PHBAO",435,200,0,0,0,36,null,null,14,30,21,736,19,8,0,0,0,27,18,8,0,0,0,26,{"$f":"VLOOKUP(A317,'Pivot Norm'!A:B,2,FALSE)","v":1},1,"14445011",1,0,2,1,0,2,1,0,0,0]
["1445201","1445201",{"$f":"VLOOKUP(B318, 'School List'!F:G,2,FALSE)","v":"Haskell STEAM Magnet"},"Magnet 2",343,213,0,0,0,11,null,null,9,0,0,576,15,8,0,0,0,23,15,8,0,0,0,23,{"$f":"VLOOKUP(A318,'Pivot Norm'!A:B,2,FALSE)","v":1},1,"14452011",1,0,2,1,0,2,0,0,0,0]
["1446601","1446601",{"$f":"VLOOKUP(B319, 'School List'!F:G,2,FALSE)","v":"Hawaiian El"},"PHBAO",252,146,0,0,0,16,null,null,19,0,16,449,11,6,0,0,0,17,12,6,0,0,0,18,{"$f":"VLOOKUP(A319,'Pivot Norm'!A:B,2,FALSE)","v":2},1,"14466011",1,0,2,1,0,2,0,0,0,0]
["1446601","1446602",{"$f":"VLOOKUP(B320, 'School List'!F:G,2,FALSE)","v":"Hawaiian ES"},"Magnet 2",68,50,0,0,0,null,null,null,0,0,0,118,3,2,0,0,0,5,3,2,0,0,0,5,{"$f":"VLOOKUP(A320,'Pivot Norm'!A:B,2,FALSE)","v":2},2,"14466012",0,0,0,0,0,0,0,0,0,0]
["1447301","1447301",{"$f":"VLOOKUP(B321, 'School List'!F:G,2,FALSE)","v":"Haynes CES"},"Non-PHBAO",276,134,0,0,0,8,null,null,8,0,0,426,12,5,0,0,0,17,12,4,0,0,0,16,{"$f":"VLOOKUP(A321,'Pivot Norm'!A:B,2,FALSE)","v":1},1,"14473011",1,0,2,1,0,2,0,0,0,0]
["1449301","1449301",{"$f":"VLOOKUP(B322, 'School List'!F:G,2,FALSE)","v":"Hazeltine El"},"PHBAO",286,199,0,0,0,43,null,null,0,14,23,565,12,8,0,0,0,20,13,8,0,0,0,21,{"$f":"VLOOKUP(A322,'Pivot Norm'!A:B,2,FALSE)","v":2},1,"14493011",1,0,2,1,0,2,1,0,0,0]
["1449301","1449302",{"$f":"VLOOKUP(B323, 'School List'!F:G,2,FALSE)","v":"Hazeltine El DTS"},"PHBAO",176,0,0,0,0,null,null,null,0,0,0,176,8,0,0,0,0,8,6,0,0,0,0,6,{"$f":"VLOOKUP(A323,'Pivot Norm'!A:B,2,FALSE)","v":2},2,"14493012",0,0,0,0,0,0,0,0,0,0]
["1450701","1450701",{"$f":"VLOOKUP(B324, 'School List'!F:G,2,FALSE)","v":"Heliotrope El"},"PHBAO",320,163,0,0,0,50,null,null,0,0,13,546,14,7,0,0,0,21,14,7,0,0,0,21,{"$f":"VLOOKUP(A324,'Pivot Norm'!A:B,2,FALSE)","v":1},1,{"$f":"A324&AD324","v":"14507011"},1,0,2,1,0,2,0,0,0,0]
["1451501","1451501",{"$f":"VLOOKUP(B325, 'School List'!F:G,2,FALSE)","v":"Herrick El"},"PHBAO",231,116,0,0,0,31,null,null,14,0,19,411,10,5,0,0,0,15,11,5,0,0,0,16,{"$f":"VLOOKUP(A325,'Pivot Norm'!A:B,2,FALSE)","v":1},1,"14515011",1,0,2,1,0,2,0,0,0,0]
["1452101","1452101",{"$f":"VLOOKUP(B326, 'School List'!F:G,2,FALSE)","v":"Hesby Oaks Lead Chtr"},"Non-PHBAO",198,121,201,0,0,null,null,null,0,0,0,520,9,4,7,0,0,20,9,4,7,0,0,20,{"$f":"VLOOKUP(A326,'Pivot Norm'!A:B,2,FALSE)","v":1},{"$f":"IF(A326=A325,AD325+1,1)","v":1},"14521011",1,0.5,2,1,0.5,2,0,0,0,0]
["1452801","1452801",{"$f":"VLOOKUP(B327, 'School List'!F:G,2,FALSE)","v":"Hillcrest Dr El"},"PHBAO",187,68,0,0,0,44,null,null,18,0,9,326,8,3,0,0,0,11,8,3,0,0,0,11,{"$f":"VLOOKUP(A327,'Pivot Norm'!A:B,2,FALSE)","v":3},1,"14528011",1,0,2,1,0,2,2,0,0,0]
["1452801","1452802",{"$f":"VLOOKUP(B328, 'School List'!F:G,2,FALSE)","v":"Hillcrest El Mus Mag"},"Magnet 2",66,39,0,0,0,null,null,null,0,0,0,105,3,2,0,0,0,5,3,2,0,0,0,5,{"$f":"VLOOKUP(A328,'Pivot Norm'!A:B,2,FALSE)","v":3},2,"14528012",0,0,0,0,0,0,0,0,0,0]
["1452801","1452803",{"$f":"VLOOKUP(B329, 'School List'!F:G,2,FALSE)","v":"Hillcrest El DTS"},"PHBAO",67,26,0,0,0,null,null,null,0,0,0,93,3,1,0,0,0,4,3,2,0,0,0,5,{"$f":"VLOOKUP(A329,'Pivot Norm'!A:B,2,FALSE)","v":3},3,"14528013",0,0,0,0,0,0,1,0,0,0]
["1453401","1453401",{"$f":"VLOOKUP(B330, 'School List'!F:G,2,FALSE)","v":"Hillside El"},"PHBAO",70,29,0,0,0,null,null,null,17,0,0,116,3,2,0,0,0,5,3,2,0,0,0,5,{"$f":"VLOOKUP(A330,'Pivot Norm'!A:B,2,FALSE)","v":1},1,"14534011",1,0,2,1,0,2,0,0,0,0]
["1454801","1454801",{"$f":"VLOOKUP(B331, 'School List'!F:G,2,FALSE)","v":"Hobart Blvd El"},"PHBAO",198,172,0,0,0,63,null,null,0,0,8,441,9,7,0,0,0,16,10,7,0,0,0,17,{"$f":"VLOOKUP(A331,'Pivot Norm'!A:B,2,FALSE)","v":2},1,"14548011",1,0,2,1,0,2,0,0,0,0]
["1454801","1454802",{"$f":"VLOOKUP(B332, 'School List'!F:G,2,FALSE)","v":"Hobart Blvd DTS"},"PHBAO",53,0,0,0,0,null,null,null,0,0,0,53,3,0,0,0,0,3,2,0,0,0,0,2,{"$f":"VLOOKUP(A332,'Pivot Norm'!A:B,2,FALSE)","v":2},2,"14548012",0,0,0,0,0,0,0,0,0,0]
["1456201","1456201",{"$f":"VLOOKUP(B333, 'School List'!F:G,2,FALSE)","v":"Holmes El"},"PHBAO",80,67,0,0,0,null,null,null,0,0,0,147,4,3,0,0,0,7,5,3,0,0,0,8,{"$f":"VLOOKUP(A333,'Pivot Norm'!A:B,2,FALSE)","v":1},1,"14562011",1,0,2,1,0,2,0,0,0,0]
["1457501","1457501",{"$f":"VLOOKUP(B334, 'School List'!F:G,2,FALSE)","v":"Hooper El"},"PHBAO",338,202,0,0,0,36,null,null,0,0,0,576,15,8,0,0,0,23,15,10,0,0,0,25,{"$f":"VLOOKUP(A334,'Pivot Norm'!A:B,2,FALSE)","v":2},1,"14575011",1,0,3,1,0,3,0,0,0,0]
["1457501","1457502",{"$f":"VLOOKUP(B335, 'School List'!F:G,2,FALSE)","v":"Hooper El DTS"},"PHBAO",123,113,0,0,0,null,null,null,0,0,0,236,6,5,0,0,0,11,6,3,0,0,0,9,{"$f":"VLOOKUP(A335,'Pivot Norm'!A:B,2,FALSE)","v":2},2,"14575012",0,0,0,0,0,0,1,0,0,0]
["1457601","1457601",{"$f":"VLOOKUP(B336, 'School List'!F:G,2,FALSE)","v":"Hooper PC"},"PHBAO",125,0,0,0,0,null,null,null,12,6,18,161,6,0,0,0,0,6,6,0,0,0,0,6,{"$f":"VLOOKUP(A336,'Pivot Norm'!A:B,2,FALSE)","v":2},1,"14576011",1,0,2,1,0,2,0,1,0,0]
["1457601","1457602",{"$f":"VLOOKUP(B337, 'School List'!F:G,2,FALSE)","v":"Hooper PC DTS"},"PHBAO",27,0,0,0,0,null,null,null,0,0,0,27,2,0,0,0,0,2,2,0,0,0,0,2,{"$f":"VLOOKUP(A337,'Pivot Norm'!A:B,2,FALSE)","v":2},2,"14576012",0,0,0,0,0,0,0,0,0,0]
["1458901","1458901",{"$f":"VLOOKUP(B338, 'School List'!F:G,2,FALSE)","v":"Hoover El"},"PHBAO",365,178,0,0,0,34,null,null,0,0,31,608,16,7,0,0,0,23,16,7,0,0,0,23,{"$f":"VLOOKUP(A338,'Pivot Norm'!A:B,2,FALSE)","v":1},1,"14589011",1,0,2,1,0,2,2,0,0,0]
["1460301","1460301",{"$f":"VLOOKUP(B339, 'School List'!F:G,2,FALSE)","v":"Hubbard El"},"PHBAO",305,133,0,0,0,30,null,null,0,0,24,492,13,5,0,0,0,18,13,6,0,0,0,19,{"$f":"VLOOKUP(A339,'Pivot Norm'!A:B,2,FALSE)","v":2},1,"14603011",1,0,2,1,0,2,0,0,0,0]
["1460301","1460302",{"$f":"VLOOKUP(B340, 'School List'!F:G,2,FALSE)","v":"Hubbard STEAM Mag"},"Magnet 2",64,54,0,0,0,null,null,null,0,0,0,118,3,2,0,0,0,5,3,1,0,0,0,4,{"$f":"VLOOKUP(A340,'Pivot Norm'!A:B,2,FALSE)","v":2},2,"14603012",0,0,0,0,0,0,0,0,0,0]
["1461601","1461601",{"$f":"VLOOKUP(B341, 'School List'!F:G,2,FALSE)","v":"Humphreys El"},"PHBAO",130,86,0,0,0,null,null,null,0,0,22,238,6,4,0,0,0,10,7,4,0,0,0,11,{"$f":"VLOOKUP(A341,'Pivot Norm'!A:B,2,FALSE)","v":3},1,"14616011",1,0,2,1,0,2,1,0,0,0]
["1461601","1461602",{"$f":"VLOOKUP(B342, 'School List'!F:G,2,FALSE)","v":"Humphreys El STEM Mag"},"Magnet 2",52,48,0,0,0,null,null,null,0,0,0,100,3,2,0,0,0,5,3,2,0,0,0,5,{"$f":"VLOOKUP(A342,'Pivot Norm'!A:B,2,FALSE)","v":3},2,"14616012",0,0,0,0,0,0,0,0,0,0]
["1461601","1461603",{"$f":"VLOOKUP(B343, 'School List'!F:G,2,FALSE)","v":"Humphreys El DTS"},"PHBAO",92,30,0,0,0,null,null,null,0,0,0,122,4,2,0,0,0,6,5,0,0,0,0,5,{"$f":"VLOOKUP(A343,'Pivot Norm'!A:B,2,FALSE)","v":3},3,"14616013",0,0,0,0,0,0,0,0,0,0]
["1463001","1463001",{"$f":"VLOOKUP(B344, 'School List'!F:G,2,FALSE)","v":"Huntington Dr El"},"PHBAO",109,49,0,0,0,46,null,null,6,0,6,216,5,2,0,0,0,7,4,2,0,0,0,6,{"$f":"VLOOKUP(A344,'Pivot Norm'!A:B,2,FALSE)","v":2},1,"14630011",1,0,2,1,0,2,0,0,0,0]
["1463001","1463002",{"$f":"VLOOKUP(B345, 'School List'!F:G,2,FALSE)","v":"Huntington Dr El DTS"},"PHBAO",64,53,0,0,0,null,null,null,0,0,0,117,3,2,0,0,0,5,3,2,0,0,0,5,{"$f":"VLOOKUP(A345,'Pivot Norm'!A:B,2,FALSE)","v":2},2,"14630012",0,0,0,0,0,0,1,0,0,0]
["1464001","1464001",{"$f":"VLOOKUP(B346, 'School List'!F:G,2,FALSE)","v":"Walnut Park El"},"PHBAO",312,170,0,0,0,null,null,null,17,33,21,553,13,7,0,0,0,20,13,8,0,0,0,21,{"$f":"VLOOKUP(A346,'Pivot Norm'!A:B,2,FALSE)","v":2},1,"14640011",1,0,2,1,0,2,0,0,0,0]
["1464001","1464002",{"$f":"VLOOKUP(B347, 'School List'!F:G,2,FALSE)","v":"Walnut Prk El DTS"},"PHBAO",92,19,0,0,0,null,null,null,0,0,0,111,4,1,0,0,0,5,4,0,0,0,0,4,{"$f":"VLOOKUP(A347,'Pivot Norm'!A:B,2,FALSE)","v":2},2,"14640012",0,0,0,0,0,0,0,0,0,0]
["1464101","1464101",{"$f":"VLOOKUP(B348, 'School List'!F:G,2,FALSE)","v":"San Antonio El"},"PHBAO",240,93,0,0,0,44,null,null,18,0,15,410,10,4,0,0,0,14,11,4,0,0,0,15,{"$f":"VLOOKUP(A348,'Pivot Norm'!A:B,2,FALSE)","v":2},1,"14641011",1,0,2,1,0,2,0,0,0,0]
["1464101","1464102",{"$f":"VLOOKUP(B349, 'School List'!F:G,2,FALSE)","v":"San Antonio STEM Mag"},"Magnet 2",72,54,0,0,0,null,null,null,0,0,0,126,3,2,0,0,0,5,3,2,0,0,0,5,{"$f":"VLOOKUP(A349,'Pivot Norm'!A:B,2,FALSE)","v":2},2,"14641012",0,0,0,0,0,0,0,0,0,0]
["1464201","1464201",{"$f":"VLOOKUP(B350, 'School List'!F:G,2,FALSE)","v":"Pacific Blvd School"},"PHBAO",176,98,0,0,0,56,null,11,21,0,7,369,8,4,0,0,0,12,9,5,0,0,0,14,{"$f":"VLOOKUP(A350,'Pivot Norm'!A:B,2,FALSE)","v":2},1,"14642011",1,0.5,2,1,0.5,2,0,0,0,0]
["1464201","1464202",{"$f":"VLOOKUP(B351, 'School List'!F:G,2,FALSE)","v":"Pacific Blvd El DTS"},"PHBAO",46,0,0,0,0,null,null,null,0,0,0,46,2,0,0,0,0,2,1,0,0,0,0,1,{"$f":"VLOOKUP(A351,'Pivot Norm'!A:B,2,FALSE)","v":2},2,"14642012",0,0,0,0,0,0,0,0,0,0]
["1465801","1465801",{"$f":"VLOOKUP(B352, 'School List'!F:G,2,FALSE)","v":"YES Academy"},"PHBAO",264,116,0,0,0,49,null,null,0,0,6,435,11,5,0,0,0,16,12,4,0,0,0,16,{"$f":"VLOOKUP(A352,'Pivot Norm'!A:B,2,FALSE)","v":1},1,"14658011",1,0,2,1,0,2,1,0,0,0]
["1467101","1467101",{"$f":"VLOOKUP(B353, 'School List'!F:G,2,FALSE)","v":"Ivanhoe El"},"Non-PHBAO",284,141,0,0,0,null,null,null,0,0,0,425,12,5,0,0,0,17,13,5,0,0,0,18,{"$f":"VLOOKUP(A353,'Pivot Norm'!A:B,2,FALSE)","v":1},1,"14671011",1,0,2,1,0,2,0,0,0,0]
["1468001","1468001",{"$f":"VLOOKUP(B354, 'School List'!F:G,2,FALSE)","v":"Lizarraga El"},"PHBAO",312,183,0,0,0,14,null,null,16,0,24,549,13,7,0,0,0,20,14,8,0,0,0,22,{"$f":"VLOOKUP(A354,'Pivot Norm'!A:B,2,FALSE)","v":2},1,"14680011",1,0,2,1,0,2,1,0,0,0]
["1468001","1468002",{"$f":"VLOOKUP(B355, 'School List'!F:G,2,FALSE)","v":"Lizarraga El DTS"},"PHBAO",40,0,0,0,0,null,null,null,null,null,null,40,2,0,0,0,0,2,0,0,0,0,0,0,{"$f":"VLOOKUP(A355,'Pivot Norm'!A:B,2,FALSE)","v":2},2,"14680012",0,0,0,0,0,0,0,0,0,0]
["1468101","1468101",{"$f":"VLOOKUP(B356, 'School List'!F:G,2,FALSE)","v":"Harmony El"},"PHBAO",206,170,0,0,0,67,null,null,0,26,0,469,9,7,0,0,0,16,11,7,0,0,0,18,{"$f":"VLOOKUP(A356,'Pivot Norm'!A:B,2,FALSE)","v":2},1,"14681011",1,0,2,1,0,2,0,0,0,0]
["1468101","1468102",{"$f":"VLOOKUP(B357, 'School List'!F:G,2,FALSE)","v":"Harmony El DTS"},"PHBAO",101,0,0,0,0,null,null,null,0,0,0,101,5,0,0,0,0,5,4,0,0,0,0,4,{"$f":"VLOOKUP(A357,'Pivot Norm'!A:B,2,FALSE)","v":2},2,"14681012",0,0,0,0,0,0,0,0,0,0]
["1468501","1468501",{"$f":"VLOOKUP(B358, 'School List'!F:G,2,FALSE)","v":"Aurora El"},"PHBAO",174,107,0,0,0,13,null,null,7,0,10,311,8,4,0,0,0,12,9,4,0,0,0,13,{"$f":"VLOOKUP(A358,'Pivot Norm'!A:B,2,FALSE)","v":2},1,"14685011",1,0,2,1,0,2,0,0,0,0]
["1468501","1468502",{"$f":"VLOOKUP(B359, 'School List'!F:G,2,FALSE)","v":"Aurora El DTS"},"PHBAO",61,0,0,0,0,null,null,null,0,0,0,61,3,0,0,0,0,3,2,0,0,0,0,2,{"$f":"VLOOKUP(A359,'Pivot Norm'!A:B,2,FALSE)","v":2},2,"14685012",0,0,0,0,0,0,0,0,0,0]
["1469201","1469201",{"$f":"VLOOKUP(B360, 'School List'!F:G,2,FALSE)","v":"Justice St Acad Chtr"},"Non-PHBAO",327,111,0,0,0,null,null,null,0,0,0,438,14,4,0,0,0,18,12,4,0,0,0,16,{"$f":"VLOOKUP(A360,'Pivot Norm'!A:B,2,FALSE)","v":1},1,"14692011",1,0,2,1,0,2,1,0,0,0]
["1469601","1469601",{"$f":"VLOOKUP(B361, 'School List'!F:G,2,FALSE)","v":"Kennedy El"},"PHBAO",107,78,0,0,0,17,null,null,7,0,0,209,5,3,0,0,0,8,5,4,0,0,0,9,{"$f":"VLOOKUP(A361,'Pivot Norm'!A:B,2,FALSE)","v":1},1,"14696011",1,0,2,1,0,2,0,0,0,0]
["1469901","1469901",{"$f":"VLOOKUP(B362, 'School List'!F:G,2,FALSE)","v":"Kenter Canyon"},"Non-PHBAO",329,167,0,0,0,null,null,null,0,0,0,496,14,6,0,0,0,20,14,6,0,0,0,20,{"$f":"VLOOKUP(A362,'Pivot Norm'!A:B,2,FALSE)","v":1},1,"14699011",1,0,2,1,0,2,0,1,2,0]
["1471201","1471201",{"$f":"VLOOKUP(B363, 'School List'!F:G,2,FALSE)","v":"Kentwood El"},"Non-PHBAO",228,74,0,0,0,25,null,null,0,0,0,327,10,3,0,0,0,13,10,3,0,0,0,13,{"$f":"VLOOKUP(A363,'Pivot Norm'!A:B,2,FALSE)","v":1},1,"14712011",1,0,2,1,0,2,0,0,0,0]
["1472601","1472601",{"$f":"VLOOKUP(B364, 'School List'!F:G,2,FALSE)","v":"Kester El"},"Non-PHBAO",456,189,0,0,0,null,null,null,5,0,0,650,19,6,0,0,0,25,21,7,0,0,0,28,{"$f":"VLOOKUP(A364,'Pivot Norm'!A:B,2,FALSE)","v":2},1,"14726011",1,0,3,1,0,3,1,0,2,0]
["1472601","1472602",{"$f":"VLOOKUP(B365, 'School List'!F:G,2,FALSE)","v":"Kester El Gifted Mag"},"Magnet 1",120,120,0,0,0,null,null,null,0,0,0,240,5,4,0,0,0,9,5,4,0,0,0,9,{"$f":"VLOOKUP(A365,'Pivot Norm'!A:B,2,FALSE)","v":2},2,"14726012",0,0,0,0,0,0,0,0,0,0]
["1476001","1476001",{"$f":"VLOOKUP(B366, 'School List'!F:G,2,FALSE)","v":"Kittridge El"},"PHBAO",288,203,0,0,0,30,null,null,0,20,16,557,12,8,0,0,0,20,14,8,0,0,0,22,{"$f":"VLOOKUP(A366,'Pivot Norm'!A:B,2,FALSE)","v":3},1,"14760011",1,0,2,1,0,2,1,0,0,0]
["1476001","1476002",{"$f":"VLOOKUP(B367, 'School List'!F:G,2,FALSE)","v":"Kittridge El DTS"},"PHBAO",77,0,0,0,0,null,null,null,0,0,0,77,4,0,0,0,0,4,3,0,0,0,0,3,{"$f":"VLOOKUP(A367,'Pivot Norm'!A:B,2,FALSE)","v":3},2,"14760012",0,0,0,0,0,0,0,0,0,0]
["1476001","1476003",{"$f":"VLOOKUP(B368, 'School List'!F:G,2,FALSE)","v":"Kittridge El DTR"},"PHBAO",90,0,0,0,0,null,null,null,0,0,0,90,4,0,0,0,0,4,3,0,0,0,0,3,{"$f":"VLOOKUP(A368,'Pivot Norm'!A:B,2,FALSE)","v":3},3,"14760013",0,0,0,0,0,0,0,0,0,0]
["1476201","1476201",{"$f":"VLOOKUP(B369, 'School List'!F:G,2,FALSE)","v":"Knollwood Prep Acad"},"Non-PHBAO",268,109,0,0,0,29,null,null,20,20,0,446,12,4,0,0,0,16,11,4,0,0,0,15,{"$f":"VLOOKUP(A369,'Pivot Norm'!A:B,2,FALSE)","v":1},1,"14762011",1,0,2,1,0,2,1,0,0,0]
["1476401","1476401",{"$f":"VLOOKUP(B370, 'School List'!F:G,2,FALSE)","v":"Lanai El"},"Non-PHBAO",387,167,0,0,0,null,null,null,0,0,0,554,17,6,0,0,0,23,16,6,0,0,0,22,{"$f":"VLOOKUP(A370,'Pivot Norm'!A:B,2,FALSE)","v":1},1,"14764011",1,0,2,1,0,2,1,0,1,0]
["1476701","1476701",{"$f":"VLOOKUP(B371, 'School List'!F:G,2,FALSE)","v":"Lane El"},"PHBAO",161,138,0,0,0,14,null,null,0,0,16,329,7,6,0,0,0,13,8,5,0,0,0,13,{"$f":"VLOOKUP(A371,'Pivot Norm'!A:B,2,FALSE)","v":1},1,"14767011",1,0,2,1,0,2,0,0,0,0]
["1477501","1477501",{"$f":"VLOOKUP(B372, 'School List'!F:G,2,FALSE)","v":"Langdon El"},"PHBAO",369,174,0,0,0,37,null,null,24,0,18,622,16,7,0,0,0,23,17,6,0,0,0,23,{"$f":"VLOOKUP(A372,'Pivot Norm'!A:B,2,FALSE)","v":1},1,"14775011",1,0,2,1,0,2,0,0,0,0]
["1477601","1477601",{"$f":"VLOOKUP(B373, 'School List'!F:G,2,FALSE)","v":"Primary Academy"},"PHBAO",223,0,0,0,0,null,null,null,0,10,21,254,10,0,0,0,0,10,10,0,0,0,0,10,{"$f":"VLOOKUP(A373,'Pivot Norm'!A:B,2,FALSE)","v":1},1,"14776011",1,0,2,1,0,2,1,0,0,0]
["1478101","1478101",{"$f":"VLOOKUP(B374, 'School List'!F:G,2,FALSE)","v":"Lankershim El"},"PHBAO",216,103,0,0,0,10,null,null,19,0,19,367,9,4,0,0,0,13,10,4,0,0,0,14,{"$f":"VLOOKUP(A374,'Pivot Norm'!A:B,2,FALSE)","v":1},1,"14781011",1,0,2,1,0,2,0,0,0,0]
["1478601","1478601",{"$f":"VLOOKUP(B375, 'School List'!F:G,2,FALSE)","v":"La Salle El"},"PHBAO",113,95,0,0,0,26,null,null,0,0,6,240,5,4,0,0,0,9,7,4,0,0,0,11,{"$f":"VLOOKUP(A375,'Pivot Norm'!A:B,2,FALSE)","v":2},1,"14786011",1,0,2,1,0,2,1,0,1,0]
["1478601","1478602",{"$f":"VLOOKUP(B376, 'School List'!F:G,2,FALSE)","v":"La Salle El DTS"},"PHBAO",84,0,0,0,0,null,null,null,0,0,0,84,4,0,0,0,0,4,3,0,0,0,0,3,{"$f":"VLOOKUP(A376,'Pivot Norm'!A:B,2,FALSE)","v":2},2,"14786012",0,0,0,0,0,0,0,0,0,0]
["1479001","1479001",{"$f":"VLOOKUP(B377, 'School List'!F:G,2,FALSE)","v":"Lassen El"},"PHBAO",233,120,0,0,0,44,null,null,11,31,0,439,10,5,0,0,0,15,10,5,0,0,0,15,{"$f":"VLOOKUP(A377,'Pivot Norm'!A:B,2,FALSE)","v":2},1,"14790011",1,0,2,1,0,2,0,0,0,0]
["1479001","1479002",{"$f":"VLOOKUP(B378, 'School List'!F:G,2,FALSE)","v":"Lassen El DTS"},"PHBAO",53,0,0,0,0,null,null,null,0,0,0,53,3,0,0,0,0,3,2,0,0,0,0,2,{"$f":"VLOOKUP(A378,'Pivot Norm'!A:B,2,FALSE)","v":2},2,"14790012",0,0,0,0,0,0,0,0,0,0]
["1479501","1479501",{"$f":"VLOOKUP(B379, 'School List'!F:G,2,FALSE)","v":"Latona El"},"PHBAO",36,63,0,0,0,null,null,null,0,27,0,126,2,3,0,0,0,5,2,3,0,0,0,5,{"$f":"VLOOKUP(A379,'Pivot Norm'!A:B,2,FALSE)","v":2},1,"14795011",1,0,2,1,0,2,0,0,0,0]
["1479501","1479502",{"$f":"VLOOKUP(B380, 'School List'!F:G,2,FALSE)","v":"Latona El DTS"},"PHBAO",64,0,0,0,0,null,null,null,0,0,0,64,3,0,0,0,0,3,3,0,0,0,0,3,{"$f":"VLOOKUP(A380,'Pivot Norm'!A:B,2,FALSE)","v":2},2,"14795012",0,0,0,0,0,0,0,0,0,0]
["1480801","1480801",{"$f":"VLOOKUP(B381, 'School List'!F:G,2,FALSE)","v":"Laurel CACT Mag"},"Magnet 1",78,54,92,0,0,null,17,null,0,0,0,241,4,2,4,0,0,10,4,2,4,0,0,10,{"$f":"VLOOKUP(A381,'Pivot Norm'!A:B,2,FALSE)","v":1},1,"14808011",1,0.5,2,1,0.5,2,0,0,0,0]
["1482901","1482901",{"$f":"VLOOKUP(B382, 'School List'!F:G,2,FALSE)","v":"Leapwood El"},"PHBAO",114,51,0,0,0,37,null,null,6,0,8,216,5,2,0,0,0,7,5,2,0,0,0,7,{"$f":"VLOOKUP(A382,'Pivot Norm'!A:B,2,FALSE)","v":1},1,"14829011",1,0,2,1,0,2,1,0,0,0]
["1483601","1483601",{"$f":"VLOOKUP(B383, 'School List'!F:G,2,FALSE)","v":"Leland El"},"PHBAO",198,68,0,0,0,21,null,null,6,0,0,293,9,3,0,0,0,12,9,3,0,0,0,12,{"$f":"VLOOKUP(A383,'Pivot Norm'!A:B,2,FALSE)","v":2},1,"14836011",1,0,2,1,0,2,0,0,0,0]
["1483601","1483602",{"$f":"VLOOKUP(B384, 'School List'!F:G,2,FALSE)","v":"Leland GA Mag"},"Magnet 2",64,53,0,0,0,null,null,null,0,0,0,117,3,2,0,0,0,5,3,2,0,0,0,5,{"$f":"VLOOKUP(A384,'Pivot Norm'!A:B,2,FALSE)","v":2},2,"14836012",0,0,0,0,0,0,0,0,0,0]
["1484901","1484901",{"$f":"VLOOKUP(B385, 'School List'!F:G,2,FALSE)","v":"Lemay El"},"PHBAO",277,114,0,0,0,14,null,null,10,0,0,415,12,5,0,0,0,17,12,5,0,0,0,17,{"$f":"VLOOKUP(A385,'Pivot Norm'!A:B,2,FALSE)","v":1},1,"14849011",1,0,2,1,0,2,0,0,0,0]
["1486301","1486301",{"$f":"VLOOKUP(B386, 'School List'!F:G,2,FALSE)","v":"Liberty El"},"PHBAO",272,168,0,0,0,56,null,null,9,0,15,520,12,7,0,0,0,19,14,7,0,0,0,21,{"$f":"VLOOKUP(A386,'Pivot Norm'!A:B,2,FALSE)","v":1},1,"14863011",1,0,2,1,0,2,0,0,0,0]
["1487001","1487001",{"$f":"VLOOKUP(B387, 'School List'!F:G,2,FALSE)","v":"Liggett El"},"PHBAO",325,166,0,0,0,40,null,null,17,0,15,563,14,7,0,0,0,21,15,7,0,0,0,22,{"$f":"VLOOKUP(A387,'Pivot Norm'!A:B,2,FALSE)","v":1},1,"14870011",1,0,2,1,0,2,0,0,1,0]
["1487701","1487701",{"$f":"VLOOKUP(B388, 'School List'!F:G,2,FALSE)","v":"Lillian El"},"PHBAO",226,183,0,0,0,8,null,null,0,0,13,430,10,7,0,0,0,17,10,7,0,0,0,17,{"$f":"VLOOKUP(A388,'Pivot Norm'!A:B,2,FALSE)","v":1},1,{"$f":"A388&AD388","v":"14877011"},1,0,2,1,0,2,0,0,0,0]
["1488101","1488101",{"$f":"VLOOKUP(B389, 'School List'!F:G,2,FALSE)","v":"Limerick El"},"PHBAO",405,212,0,0,0,3,null,null,5,39,0,664,17,8,0,0,0,25,18,9,0,0,0,27,{"$f":"VLOOKUP(A389,'Pivot Norm'!A:B,2,FALSE)","v":2},1,"14881011",1,0,2,1,0,2,0,0,1,0]
["1488101","1488102",{"$f":"VLOOKUP(B390, 'School List'!F:G,2,FALSE)","v":"Limerick Ave El DTS"},"PHBAO",92,0,0,0,0,null,null,null,0,0,0,92,4,0,0,0,0,4,3,0,0,0,0,3,{"$f":"VLOOKUP(A390,'Pivot Norm'!A:B,2,FALSE)","v":2},{"$f":"IF(A390=A389,AD389+1,1)","v":2},"14881012",0,0,0,0,0,0,0,0,0,0]
["1488701","1488701",{"$f":"VLOOKUP(B391, 'School List'!F:G,2,FALSE)","v":"Lockhurst Dr Chtr El"},"Non-PHBAO",335,160,0,0,0,16,null,null,24,0,0,535,14,5,0,0,0,19,14,5,0,0,0,19,{"$f":"VLOOKUP(A391,'Pivot Norm'!A:B,2,FALSE)","v":1},1,"14887011",1,0,2,1,0,2,1,0,1,0]
["1489001","1489001",{"$f":"VLOOKUP(B392, 'School List'!F:G,2,FALSE)","v":"Lockwood El"},"PHBAO",155,173,0,0,0,19,null,null,9,0,7,363,7,7,0,0,0,14,7,7,0,0,0,14,{"$f":"VLOOKUP(A392,'Pivot Norm'!A:B,2,FALSE)","v":1},1,"14890011",1,0,2,1,0,2,1,0,0,0]
["1490401","1490401",{"$f":"VLOOKUP(B393, 'School List'!F:G,2,FALSE)","v":"Logan Acad Globl Eco"},"PHBAO",79,34,111,0,0,11,14,null,0,0,9,258,4,2,5,0,0,11,3,2,5,0,0,10,{"$f":"VLOOKUP(A393,'Pivot Norm'!A:B,2,FALSE)","v":2},1,"14904011",1,0.5,2,1,0.5,2,1,0,0,0]
["1490401","1490402",{"$f":"VLOOKUP(B394, 'School List'!F:G,2,FALSE)","v":"Logan Acad ES DL TWI"},"PHBAO",74,43,0,0,0,null,null,null,0,0,0,117,4,2,0,0,0,6,4,2,0,0,0,6,{"$f":"VLOOKUP(A394,'Pivot Norm'!A:B,2,FALSE)","v":2},2,"14904012",0,0,0,0,0,0,0,0,0,0]
["1491801","1491801",{"$f":"VLOOKUP(B395, 'School List'!F:G,2,FALSE)","v":"Loma Vista El"},"PHBAO",291,198,0,0,0,58,null,null,0,0,16,563,13,8,0,0,0,21,14,8,0,0,0,22,{"$f":"VLOOKUP(A395,'Pivot Norm'!A:B,2,FALSE)","v":2},1,"14918011",1,0,2,1,0,2,1,0,0,0]
["1491801","1491802",{"$f":"VLOOKUP(B396, 'School List'!F:G,2,FALSE)","v":"Loma Vista El DTS"},"PHBAO",58,0,0,0,0,null,null,null,0,0,0,58,3,0,0,0,0,3,2,0,0,0,0,2,{"$f":"VLOOKUP(A396,'Pivot Norm'!A:B,2,FALSE)","v":2},2,"14918012",0,0,0,0,0,0,0,0,0,0]
["1493201","1493201",{"$f":"VLOOKUP(B397, 'School List'!F:G,2,FALSE)","v":"Lomita Math/Sci Mag"},"Magnet 2",544,320,0,0,0,null,null,null,0,0,0,864,23,12,0,0,0,35,23,12,0,0,0,35,{"$f":"VLOOKUP(A397,'Pivot Norm'!A:B,2,FALSE)","v":1},1,"14932011",1,0,3,1,0,3,1,0,1,0]
["1494501","1494501",{"$f":"VLOOKUP(B398, 'School List'!F:G,2,FALSE)","v":"Lorena El"},"PHBAO",141,109,0,0,0,22,null,null,0,0,17,289,6,5,0,0,0,11,7,5,0,0,0,12,{"$f":"VLOOKUP(A398,'Pivot Norm'!A:B,2,FALSE)","v":2},1,"14945011",1,0,2,1,0,2,0,0,0,0]
["1494501","1494502",{"$f":"VLOOKUP(B399, 'School List'!F:G,2,FALSE)","v":"Lorena St El DTS"},"PHBAO",117,0,0,0,0,null,null,null,0,0,0,117,5,0,0,0,0,5,4,0,0,0,0,4,{"$f":"VLOOKUP(A399,'Pivot Norm'!A:B,2,FALSE)","v":2},2,"14945012",0,0,0,0,0,0,0,0,0,0]
["1495901","1495901",{"$f":"VLOOKUP(B400, 'School List'!F:G,2,FALSE)","v":"Loreto El"},"PHBAO",120,48,0,0,0,21,null,null,0,0,13,202,5,2,0,0,0,7,5,2,0,0,0,7,{"$f":"VLOOKUP(A400,'Pivot Norm'!A:B,2,FALSE)","v":2},1,"14959011",1,0,2,1,0,2,0,0,0,0]
["1495901","1495902",{"$f":"VLOOKUP(B401, 'School List'!F:G,2,FALSE)","v":"Loreto St El DTS"},"PHBAO",86,34,0,0,0,null,null,null,0,0,0,120,4,2,0,0,0,6,4,2,0,0,0,6,{"$f":"VLOOKUP(A401,'Pivot Norm'!A:B,2,FALSE)","v":2},2,"14959012",0,0,0,0,0,0,0,0,0,0]
["1497301","1497301",{"$f":"VLOOKUP(B402, 'School List'!F:G,2,FALSE)","v":"Lorne El"},"PHBAO",117,6,0,0,0,32,null,null,0,0,0,155,5,1,0,0,0,6,6,1,0,0,0,7,{"$f":"VLOOKUP(A402,'Pivot Norm'!A:B,2,FALSE)","v":2},1,"14973011",1,0,2,1,0,2,0,1,1,0]
["1497301","1497302",{"$f":"VLOOKUP(B403, 'School List'!F:G,2,FALSE)","v":"Lorne St El STEM Mag"},"Magnet 2",120,189,0,0,0,null,null,null,0,0,0,309,5,7,0,0,0,12,4,8,0,0,0,12,{"$f":"VLOOKUP(A403,'Pivot Norm'!A:B,2,FALSE)","v":2},2,"14973012",0,0,0,0,0,0,0,0,0,0]
["1498001","1498001",{"$f":"VLOOKUP(B404, 'School List'!F:G,2,FALSE)","v":"Pio Pico MS"},"PHBAO",0,0,359,0,0,null,34,null,0,0,0,393,0,0,14,0,0,14,0,0,13,0,0,13,{"$f":"VLOOKUP(A404,'Pivot Norm'!A:B,2,FALSE)","v":1},1,"14980011",1,1,2,1,1,2,1,0,0,0]
["1498201","1498201",{"$f":"VLOOKUP(B405, 'School List'!F:G,2,FALSE)","v":"Los Angeles El"},"PHBAO",258,195,0,0,0,24,null,null,31,0,23,531,11,8,0,0,0,19,14,7,0,0,0,21,{"$f":"VLOOKUP(A405,'Pivot Norm'!A:B,2,FALSE)","v":1},1,"14982011",1,0,2,1,0,2,0,0,0,0]
["1498301","1498301",{"$f":"VLOOKUP(B406, 'School List'!F:G,2,FALSE)","v":"Mariposa-Nabi PC"},"PHBAO",105,0,0,0,0,10,null,null,26,0,12,153,5,0,0,0,0,5,5,0,0,0,0,5,{"$f":"VLOOKUP(A406,'Pivot Norm'!A:B,2,FALSE)","v":1},1,"14983011",1,0,2,1,0,2,0,0,0,0]
["1498601","1498601",{"$f":"VLOOKUP(B407, 'School List'!F:G,2,FALSE)","v":"Los Feliz STEMM Mag"},"Magnet 1",259,174,0,0,0,null,null,null,0,0,0,433,11,6,0,0,0,17,11,6,0,0,0,17,{"$f":"VLOOKUP(A407,'Pivot Norm'!A:B,2,FALSE)","v":1},1,"14986011",1,0,2,1,0,2,1,0,0,0]
["1501401","1501401",{"$f":"VLOOKUP(B408, 'School List'!F:G,2,FALSE)","v":"Loyola Vill ES Mag"},"Magnet 2",149,123,0,0,0,null,null,null,0,0,0,272,7,5,0,0,0,12,7,5,0,0,0,12,{"$f":"VLOOKUP(A408,'Pivot Norm'!A:B,2,FALSE)","v":1},1,"15014011",1,0,2,1,0,2,0,2,0,0]
["1501601","1501601",{"$f":"VLOOKUP(B409, 'School List'!F:G,2,FALSE)","v":"Coughlin El"},"PHBAO",340,146,0,0,0,5,null,null,0,40,20,551,15,6,0,0,0,21,15,6,0,0,0,21,{"$f":"VLOOKUP(A409,'Pivot Norm'!A:B,2,FALSE)","v":1},1,"15016011",1,0,2,1,0,2,1,0,0,0]
["1505501","1505501",{"$f":"VLOOKUP(B410, 'School List'!F:G,2,FALSE)","v":"Magnolia El"},"PHBAO",229,141,0,0,0,34,null,null,0,16,0,420,10,6,0,0,0,16,11,7,0,0,0,18,{"$f":"VLOOKUP(A410,'Pivot Norm'!A:B,2,FALSE)","v":2},1,"15055011",1,0,2,1,0,2,1,0,0,0]
["1505501","1505502",{"$f":"VLOOKUP(B411, 'School List'!F:G,2,FALSE)","v":"Magnolia El DTS & DOS"},"PHBAO",131,79,0,0,0,null,null,null,0,0,0,210,6,3,0,0,0,9,6,3,0,0,0,9,{"$f":"VLOOKUP(A411,'Pivot Norm'!A:B,2,FALSE)","v":2},2,"15055012",0,0,0,0,0,0,1,0,0,0]
["1506801","1506801",{"$f":"VLOOKUP(B412, 'School List'!F:G,2,FALSE)","v":"Main St El"},"PHBAO",265,162,0,0,0,47,null,null,0,0,12,486,12,6,0,0,0,18,12,6,0,0,0,18,{"$f":"VLOOKUP(A412,'Pivot Norm'!A:B,2,FALSE)","v":2},1,"15068011",1,0,3,1,0,3,1,0,0,0]
["1506801","1506802",{"$f":"VLOOKUP(B413, 'School List'!F:G,2,FALSE)","v":"Main St El DTS"},"PHBAO",176,93,0,0,0,null,null,null,0,0,12,281,8,4,0,0,0,12,8,4,0,0,0,12,{"$f":"VLOOKUP(A413,'Pivot Norm'!A:B,2,FALSE)","v":2},2,"15068012",0,0,0,0,0,0,0,0,0,0]
["1508201","1508201",{"$f":"VLOOKUP(B414, 'School List'!F:G,2,FALSE)","v":"Malabar El"},"PHBAO",227,195,0,0,0,30,null,null,0,0,15,467,10,8,0,0,0,18,10,8,0,0,0,18,{"$f":"VLOOKUP(A414,'Pivot Norm'!A:B,2,FALSE)","v":2},1,"15082011",1,0,2,1,0,2,0,0,0,0]
["1508201","1508202",{"$f":"VLOOKUP(B415, 'School List'!F:G,2,FALSE)","v":{"$error":"#N/A"}},"PHBAO",22,0,0,0,0,null,null,null,0,0,0,22,1,0,0,0,0,1,0,0,0,0,0,0,{"$f":"VLOOKUP(A415,'Pivot Norm'!A:B,2,FALSE)","v":2},2,"15082012",0,0,0,0,0,0,0,0,0,0]
["1509601","1509601",{"$f":"VLOOKUP(B416, 'School List'!F:G,2,FALSE)","v":"Manchester El"},"PHBAO",328,271,0,0,0,13,null,null,0,0,0,612,14,11,0,0,0,25,15,12,0,0,0,27,{"$f":"VLOOKUP(A416,'Pivot Norm'!A:B,2,FALSE)","v":2},1,"15096011",1,0,2,1,0,2,0,0,1,0]
["1509601","1509602",{"$f":"VLOOKUP(B417, 'School List'!F:G,2,FALSE)","v":"Manchester C/B Mag"},"Magnet 2",0,67,0,0,0,null,null,null,0,0,0,67,0,3,0,0,0,3,0,2,0,0,0,2,{"$f":"VLOOKUP(A417,'Pivot Norm'!A:B,2,FALSE)","v":2},2,"15096012",0,0,0,0,0,0,0,0,0,0]
["1511001","1511001",{"$f":"VLOOKUP(B418, 'School List'!F:G,2,FALSE)","v":"Manhattan Place El"},"PHBAO",162,65,0,0,0,30,null,null,31,0,3,291,7,3,0,0,0,10,7,3,0,0,0,10,{"$f":"VLOOKUP(A418,'Pivot Norm'!A:B,2,FALSE)","v":1},1,"15110011",1,0,2,1,0,2,0,0,0,0]
["1511101","1511101",{"$f":"VLOOKUP(B419, 'School List'!F:G,2,FALSE)","v":"Alexander Sci Ctr Sc"},"PHBAO",305,101,0,0,0,null,null,null,0,0,0,406,13,4,0,0,0,17,13,4,0,0,0,17,{"$f":"VLOOKUP(A419,'Pivot Norm'!A:B,2,FALSE)","v":2},1,"15111011",1,0,2,1,0,2,0,0,0,0]
["1511101","1511102",{"$f":"VLOOKUP(B420, 'School List'!F:G,2,FALSE)","v":"Alexander SCS DTS"},"PHBAO",185,82,0,0,0,null,null,null,0,0,0,267,8,4,0,0,0,12,8,3,0,0,0,11,{"$f":"VLOOKUP(A420,'Pivot Norm'!A:B,2,FALSE)","v":2},2,"15111012",0,0,0,0,0,0,0,0,0,0]
["1511201","1511201",{"$f":"VLOOKUP(B421, 'School List'!F:G,2,FALSE)","v":"Jones PC"},"PHBAO",113,0,0,0,0,null,null,null,9,17,0,139,5,0,0,0,0,5,5,0,0,0,0,5,{"$f":"VLOOKUP(A421,'Pivot Norm'!A:B,2,FALSE)","v":1},1,"15112011",1,0,2,1,0,2,1,0,0,0]
["1511301","1511301",{"$f":"VLOOKUP(B422, 'School List'!F:G,2,FALSE)","v":"Mack El"},"PHBAO",133,69,0,0,0,11,null,null,0,0,0,213,6,3,0,0,0,9,6,3,0,0,0,9,{"$f":"VLOOKUP(A422,'Pivot Norm'!A:B,2,FALSE)","v":2},1,"15113011",1,0,2,1,0,2,0,1,0,0]
["1511301","1511302",{"$f":"VLOOKUP(B423, 'School List'!F:G,2,FALSE)","v":"Mack El DTS"},"PHBAO",77,39,0,0,0,null,null,null,0,0,0,116,4,2,0,0,0,6,4,2,0,0,0,6,{"$f":"VLOOKUP(A423,'Pivot Norm'!A:B,2,FALSE)","v":2},2,"15113012",0,0,0,0,0,0,0,0,0,0]
["1513701","1513701",{"$f":"VLOOKUP(B424, 'School List'!F:G,2,FALSE)","v":"Marianna El"},"PHBAO",94,114,0,0,0,15,null,null,15,0,10,248,4,5,0,0,0,9,5,5,0,0,0,10,{"$f":"VLOOKUP(A424,'Pivot Norm'!A:B,2,FALSE)","v":2},1,"15137011",1,0,2,1,0,2,1,0,0,0]
["1513701","1513702",{"$f":"VLOOKUP(B425, 'School List'!F:G,2,FALSE)","v":"Marianna El DTS"},"PHBAO",60,0,0,0,0,null,null,null,0,0,0,60,3,0,0,0,0,3,2,0,0,0,0,2,{"$f":"VLOOKUP(A425,'Pivot Norm'!A:B,2,FALSE)","v":2},2,"15137012",0,0,0,0,0,0,0,0,0,0]
["1515301","1515301",{"$f":"VLOOKUP(B426, 'School List'!F:G,2,FALSE)","v":"Orchard Academies 2B"},"PHBAO",0,0,407,0,0,null,25,null,0,0,0,432,0,0,16,0,0,16,0,0,16,0,0,16,{"$f":"VLOOKUP(A426,'Pivot Norm'!A:B,2,FALSE)","v":1},1,"15153011",1,1,2,1,1,2,0,0,0,0]
["1515401","1515401",{"$f":"VLOOKUP(B427, 'School List'!F:G,2,FALSE)","v":"Orchard Academies 2C"},"PHBAO",0,0,334,0,0,null,14,null,0,0,0,348,0,0,13,0,0,13,0,0,12,0,0,12,{"$f":"VLOOKUP(A427,'Pivot Norm'!A:B,2,FALSE)","v":1},1,"15154011",1,0.5,2,1,0.5,2,0,0,0,0]
["1516401","1516401",{"$f":"VLOOKUP(B428, 'School List'!F:G,2,FALSE)","v":"Marquez Charter"},"Non-PHBAO",246,151,0,0,0,8,null,null,0,0,0,405,11,5,0,0,0,16,11,5,0,0,0,16,{"$f":"VLOOKUP(A428,'Pivot Norm'!A:B,2,FALSE)","v":1},1,"15164011",1,0,2,1,0,2,1,0,0,0]
["1517001","1517001",{"$f":"VLOOKUP(B429, 'School List'!F:G,2,FALSE)","v":"Lexington Ave PC"},"PHBAO",91,0,0,0,0,null,null,null,6,14,12,123,4,0,0,0,0,4,5,0,0,0,0,5,{"$f":"VLOOKUP(A429,'Pivot Norm'!A:B,2,FALSE)","v":1},1,"15170011",1,0,2,1,0,2,0,0,0,0]
["1517301","1517301",{"$f":"VLOOKUP(B430, 'School List'!F:G,2,FALSE)","v":"Dr. Julian Nava Acad"},"PHBAO",0,0,683,0,0,null,5,null,0,0,0,688,0,0,26,0,0,26,0,0,24,0,0,24,{"$f":"VLOOKUP(A430,'Pivot Norm'!A:B,2,FALSE)","v":1},1,"15173011",1,1,2,1,1,2,1,0,0,0]
["1517801","1517801",{"$f":"VLOOKUP(B431, 'School List'!F:G,2,FALSE)","v":"Marvin El"},"PHBAO",263,102,0,0,0,29,null,null,0,0,0,394,11,4,0,0,0,15,13,4,0,0,0,17,{"$f":"VLOOKUP(A431,'Pivot Norm'!A:B,2,FALSE)","v":2},1,"15178011",1,0,2,1,0,2,0,1,1,0]
["1517801","1517802",{"$f":"VLOOKUP(B432, 'School List'!F:G,2,FALSE)","v":"Marvin Dual Lang Mag"},"Magnet 2",112,103,0,0,0,null,null,null,0,0,0,215,5,4,0,0,0,9,5,4,0,0,0,9,{"$f":"VLOOKUP(A432,'Pivot Norm'!A:B,2,FALSE)","v":2},2,"15178012",0,0,0,0,0,0,0,0,0,0]
["1519201","1519201",{"$f":"VLOOKUP(B433, 'School List'!F:G,2,FALSE)","v":"Mar Vista El"},"Non-PHBAO",406,164,0,0,0,21,null,null,0,0,0,591,17,6,0,0,0,23,17,6,0,0,0,23,{"$f":"VLOOKUP(A433,'Pivot Norm'!A:B,2,FALSE)","v":1},1,"15192011",1,0,2,1,0,2,0,0,0,0]
["1519301","1519301",{"$f":"VLOOKUP(B434, 'School List'!F:G,2,FALSE)","v":"Walnut Park MS STEM"},"PHBAO",0,0,355,0,0,null,19,null,0,0,0,374,0,0,14,0,0,14,0,0,14,0,0,14,{"$f":"VLOOKUP(A434,'Pivot Norm'!A:B,2,FALSE)","v":1},1,"15193011",1,0.5,2,1,1,2,0,0,0,0]
["1519801","1519801",{"$f":"VLOOKUP(B435, 'School List'!F:G,2,FALSE)","v":"Mayall El"},"Magnet 2",285,162,0,0,0,17,null,null,2,0,0,466,12,6,0,0,0,18,13,6,0,0,0,19,{"$f":"VLOOKUP(A435,'Pivot Norm'!A:B,2,FALSE)","v":1},1,"15198011",1,0,2,1,0,2,0,0,0,0]
["1520501","1520501",{"$f":"VLOOKUP(B436, 'School List'!F:G,2,FALSE)","v":"Mayberry El"},"PHBAO",57,31,0,0,0,21,null,null,9,0,0,118,3,2,0,0,0,5,2,1,0,0,0,3,{"$f":"VLOOKUP(A436,'Pivot Norm'!A:B,2,FALSE)","v":3},1,"15205011",1,0,2,1,0,2,1,0,0,0]
["1520501","1520502",{"$f":"VLOOKUP(B437, 'School List'!F:G,2,FALSE)","v":"Mayberry St El DTS"},"PHBAO",52,28,0,0,0,null,null,null,0,0,0,80,3,2,0,0,0,5,3,2,0,0,0,5,{"$f":"VLOOKUP(A437,'Pivot Norm'!A:B,2,FALSE)","v":3},2,"15205012",0,0,0,0,0,0,0,0,0,0]
["1520501","1520503",{"$f":"VLOOKUP(B438, 'School List'!F:G,2,FALSE)","v":{"$error":"#N/A"}},"Magnet 2",0,0,0,0,0,null,null,null,null,null,null,0,0,0,0,0,0,0,0,1,0,0,0,1,{"$f":"VLOOKUP(A438,'Pivot Norm'!A:B,2,FALSE)","v":3},3,"15205013",0,0,0,0,0,0,0,0,0,0]
["1521901","1521901",{"$f":"VLOOKUP(B439, 'School List'!F:G,2,FALSE)","v":"Melrose M/S/T Mag"},"Magnet 1",284,176,0,0,0,null,null,null,0,0,0,460,12,6,0,0,0,18,12,6,0,0,0,18,{"$f":"VLOOKUP(A439,'Pivot Norm'!A:B,2,FALSE)","v":1},1,"15219011",1,0,2,1,0,2,0,0,0,0]
["1523301","1523301",{"$f":"VLOOKUP(B440, 'School List'!F:G,2,FALSE)","v":"Melvin El"},"PHBAO",140,55,0,0,0,18,null,null,11,0,0,224,6,3,0,0,0,9,7,2,0,0,0,9,{"$f":"VLOOKUP(A440,'Pivot Norm'!A:B,2,FALSE)","v":2},1,"15233011",1,0,2,1,0,2,0,0,0,0]
["1523301","1523302",{"$f":"VLOOKUP(B441, 'School List'!F:G,2,FALSE)","v":"Melvin Hum/Lead Mag"},"Magnet 2",78,53,0,0,0,null,null,null,0,0,0,131,4,2,0,0,0,6,4,2,0,0,0,6,{"$f":"VLOOKUP(A441,'Pivot Norm'!A:B,2,FALSE)","v":2},2,"15233012",0,0,0,0,0,0,0,0,0,0]
["1524001","1524001",{"$f":"VLOOKUP(B442, 'School List'!F:G,2,FALSE)","v":"Johnson STEM Academy"},"Non-PHBAO",0,0,135,0,0,null,1,null,0,0,0,136,0,0,5,0,0,5,0,0,5,0,0,5,{"$f":"VLOOKUP(A442,'Pivot Norm'!A:B,2,FALSE)","v":1},1,"15240011",1,0.5,2,1,0.5,2,0,0,0,0]
["1524701","1524701",{"$f":"VLOOKUP(B443, 'School List'!F:G,2,FALSE)","v":"Menlo El"},"PHBAO",235,197,0,0,0,26,null,null,0,0,9,467,10,8,0,0,0,18,11,6,0,0,0,17,{"$f":"VLOOKUP(A443,'Pivot Norm'!A:B,2,FALSE)","v":2},1,"15247011",1,0,2,1,0,2,0,0,0,0]
["1524701","1524702",{"$f":"VLOOKUP(B444, 'School List'!F:G,2,FALSE)","v":"Menlo Ave El DTS"},"PHBAO",22,0,0,0,0,null,null,null,null,null,null,22,1,0,0,0,0,1,0,0,0,0,0,0,{"$f":"VLOOKUP(A444,'Pivot Norm'!A:B,2,FALSE)","v":2},2,"15247012",0,0,0,0,0,0,0,0,0,0]
["1528801","1528801",{"$f":"VLOOKUP(B445, 'School List'!F:G,2,FALSE)","v":"Micheltorena El"},"PHBAO",40,35,0,0,0,15,null,null,5,0,0,95,2,2,0,0,0,4,2,2,0,0,0,4,{"$f":"VLOOKUP(A445,'Pivot Norm'!A:B,2,FALSE)","v":2},1,"15288011",1,0,2,1,0,2,1,0,0,0]
["1528801","1528802",{"$f":"VLOOKUP(B446, 'School List'!F:G,2,FALSE)","v":"Micheltorena El DTS"},"Non-PHBAO",224,83,0,0,0,null,null,null,0,0,0,307,10,3,0,0,0,13,9,3,0,0,0,12,{"$f":"VLOOKUP(A446,'Pivot Norm'!A:B,2,FALSE)","v":2},2,"15288012",0,0,0,0,0,0,1,0,0,0]
["1530101","1530101",{"$f":"VLOOKUP(B447, 'School List'!F:G,2,FALSE)","v":"Middleton El"},"PHBAO",304,389,0,0,0,52,null,null,0,0,0,745,13,15,0,0,0,28,14,15,0,0,0,29,{"$f":"VLOOKUP(A447,'Pivot Norm'!A:B,2,FALSE)","v":1},1,"15301011",1,0,2,1,0,3,0,1,0,0]
["1530201","1530201",{"$f":"VLOOKUP(B448, 'School List'!F:G,2,FALSE)","v":"Middleton PC"},"PHBAO",221,0,0,0,0,null,null,null,0,20,23,264,10,0,0,0,0,10,10,0,0,0,0,10,{"$f":"VLOOKUP(A448,'Pivot Norm'!A:B,2,FALSE)","v":1},1,"15302011",1,0,2,1,0,2,0,0,0,0]
["1531501","1531501",{"$f":"VLOOKUP(B449, 'School List'!F:G,2,FALSE)","v":"Miles El"},"PHBAO",259,101,0,0,0,52,null,null,0,0,0,412,11,4,0,0,0,15,11,5,0,0,0,16,{"$f":"VLOOKUP(A449,'Pivot Norm'!A:B,2,FALSE)","v":3},1,"15315011",1,0,3,1,0,3,0,0,0,0]
["1531501","1531502",{"$f":"VLOOKUP(B450, 'School List'!F:G,2,FALSE)","v":"Miles Av El STEM Mag"},"Magnet 2",68,102,0,0,0,null,null,null,0,0,0,170,3,4,0,0,0,7,4,3,0,0,0,7,{"$f":"VLOOKUP(A450,'Pivot Norm'!A:B,2,FALSE)","v":3},2,"15315012",0,0,0,0,0,0,0,0,0,0]
["1531501","1531503",{"$f":"VLOOKUP(B451, 'School List'!F:G,2,FALSE)","v":"Miles Ave El DTS"},"PHBAO",208,94,0,0,0,null,null,null,0,0,0,302,9,4,0,0,0,13,9,4,0,0,0,13,{"$f":"VLOOKUP(A451,'Pivot Norm'!A:B,2,FALSE)","v":3},3,"15315013",0,0,0,0,0,0,1,0,0,0]
["1532101","1532101",{"$f":"VLOOKUP(B452, 'School List'!F:G,2,FALSE)","v":"Miller El"},"PHBAO",355,273,0,0,0,22,null,null,4,0,15,669,15,11,0,0,0,26,16,11,0,0,0,27,{"$f":"VLOOKUP(A452,'Pivot Norm'!A:B,2,FALSE)","v":1},1,"15321011",1,0,2,1,0,2,0,0,0,0]
["1532901","1532901",{"$f":"VLOOKUP(B453, 'School List'!F:G,2,FALSE)","v":"Miramonte El"},"PHBAO",217,126,0,0,0,22,null,null,31,0,24,420,10,5,0,0,0,15,11,7,0,0,0,18,{"$f":"VLOOKUP(A453,'Pivot Norm'!A:B,2,FALSE)","v":2},1,{"$f":"A453&AD453","v":"15329011"},1,0,2,1,0,2,0,0,0,0]
["1532901","1532902",{"$f":"VLOOKUP(B454, 'School List'!F:G,2,FALSE)","v":"Miramonte El DTS"},"PHBAO",187,77,0,0,0,null,null,null,0,0,0,264,8,3,0,0,0,11,8,2,0,0,0,10,{"$f":"VLOOKUP(A454,'Pivot Norm'!A:B,2,FALSE)","v":2},2,"15329012",0,0,0,0,0,0,0,0,0,0]
["1534201","1534201",{"$f":"VLOOKUP(B455, 'School List'!F:G,2,FALSE)","v":"Monlux El"},"Non-PHBAO",294,131,0,0,0,19,null,null,11,0,0,455,13,5,0,0,0,18,14,4,0,0,0,18,{"$f":"VLOOKUP(A455,'Pivot Norm'!A:B,2,FALSE)","v":2},{"$f":"IF(A455=A454,AD454+1,1)","v":1},"15342011",1,0,2,1,0,2,0,0,0,0]
["1534201","1534202",{"$f":"VLOOKUP(B456, 'School List'!F:G,2,FALSE)","v":"Monlux El STEM Mag"},"Magnet 1",96,120,0,0,0,null,null,null,0,0,0,216,4,4,0,0,0,8,4,4,0,0,0,8,{"$f":"VLOOKUP(A456,'Pivot Norm'!A:B,2,FALSE)","v":2},2,"15342012",0,0,0,0,0,0,0,0,0,0]
["1538401","1538401",{"$f":"VLOOKUP(B457, 'School List'!F:G,2,FALSE)","v":"Monte Vista El"},"PHBAO",27,60,0,0,0,24,null,null,0,0,0,111,2,3,0,0,0,5,3,3,0,0,0,6,{"$f":"VLOOKUP(A457,'Pivot Norm'!A:B,2,FALSE)","v":2},1,"15384011",1,0,2,1,0,2,0,0,0,0]
["1538401","1538402",{"$f":"VLOOKUP(B458, 'School List'!F:G,2,FALSE)","v":"Monte Vista FC Mag"},"Magnet 2",74,54,0,0,0,null,null,null,0,0,0,128,4,2,0,0,0,6,4,2,0,0,0,6,{"$f":"VLOOKUP(A458,'Pivot Norm'!A:B,2,FALSE)","v":2},2,"15384012",0,0,0,0,0,0,0,0,0,0]
["1538501","1538501",{"$f":"VLOOKUP(B459, 'School List'!F:G,2,FALSE)","v":"Riordan PC"},"PHBAO",74,0,0,0,0,8,null,null,13,0,12,107,4,0,0,0,0,4,4,0,0,0,0,4,{"$f":"VLOOKUP(A459,'Pivot Norm'!A:B,2,FALSE)","v":2},1,"15385011",1,0,2,1,0,2,0,0,0,0]
["1538501","1538502",{"$f":"VLOOKUP(B460, 'School List'!F:G,2,FALSE)","v":"Riordan PC DTF"},"PHBAO",54,0,0,0,0,null,null,null,0,0,0,54,3,0,0,0,0,3,2,0,0,0,0,2,{"$f":"VLOOKUP(A460,'Pivot Norm'!A:B,2,FALSE)","v":2},2,"15385012",0,0,0,0,0,0,1,0,0,0]
["1539701","1539701",{"$f":"VLOOKUP(B461, 'School List'!F:G,2,FALSE)","v":"Morningside El"},"PHBAO",290,143,0,0,0,28,null,null,0,0,24,485,13,6,0,0,0,19,12,6,0,0,0,18,{"$f":"VLOOKUP(A461,'Pivot Norm'!A:B,2,FALSE)","v":1},1,"15397011",1,0,2,1,0,2,0,0,0,0]
["1540401","1540401",{"$f":"VLOOKUP(B462, 'School List'!F:G,2,FALSE)","v":"Mountain View El"},"Non-PHBAO",190,59,0,0,0,null,null,null,0,0,0,249,8,2,0,0,0,10,8,3,0,0,0,11,{"$f":"VLOOKUP(A462,'Pivot Norm'!A:B,2,FALSE)","v":2},1,"15404011",1,0,2,1,0,2,0,0,0,0]
["1540401","1540402",{"$f":"VLOOKUP(B463, 'School List'!F:G,2,FALSE)","v":"Mountain View El DTR"},"Non-PHBAO",199,76,0,0,0,null,null,null,0,0,0,275,9,3,0,0,0,12,9,2,0,0,0,11,{"$f":"VLOOKUP(A463,'Pivot Norm'!A:B,2,FALSE)","v":2},2,"15404012",0,0,0,0,0,0,0,0,0,0]
["1541101","1541101",{"$f":"VLOOKUP(B464, 'School List'!F:G,2,FALSE)","v":"Mt Washington El"},"Non-PHBAO",298,130,0,0,0,null,null,null,0,0,0,428,13,4,0,0,0,17,13,5,0,0,0,18,{"$f":"VLOOKUP(A464,'Pivot Norm'!A:B,2,FALSE)","v":1},1,"15411011",1,0,2,1,0,2,0,0,1,0]
["1542501","1542501",{"$f":"VLOOKUP(B465, 'School List'!F:G,2,FALSE)","v":"Multnomah El"},"PHBAO",88,33,0,0,0,null,null,null,0,0,17,138,4,2,0,0,0,6,5,2,0,0,0,7,{"$f":"VLOOKUP(A465,'Pivot Norm'!A:B,2,FALSE)","v":3},1,"15425011",1,0,2,1,0,2,0,0,0,0]
["1542501","1542502",{"$f":"VLOOKUP(B466, 'School List'!F:G,2,FALSE)","v":"Multnomah Gifted Mag"},"Magnet 2",32,39,0,0,0,null,null,null,0,0,0,71,2,2,0,0,0,4,2,2,0,0,0,4,{"$f":"VLOOKUP(A466,'Pivot Norm'!A:B,2,FALSE)","v":3},2,"15425012",0,0,0,0,0,0,0,0,0,0]
["1542501","1542503",{"$f":"VLOOKUP(B467, 'School List'!F:G,2,FALSE)","v":"Multnomah Env Sc Mag"},"Magnet 2",83,51,0,0,0,null,null,null,0,0,0,134,4,2,0,0,0,6,3,2,0,0,0,5,{"$f":"VLOOKUP(A467,'Pivot Norm'!A:B,2,FALSE)","v":3},3,"15425013",0,0,0,0,0,0,0,0,0,0]
["1543801","1543801",{"$f":"VLOOKUP(B468, 'School List'!F:G,2,FALSE)","v":"Murchison El"},"PHBAO",175,123,0,0,0,43,null,null,0,0,0,341,8,5,0,0,0,13,8,5,0,0,0,13,{"$f":"VLOOKUP(A468,'Pivot Norm'!A:B,2,FALSE)","v":1},1,"15438011",1,0,2,1,0,2,0,0,0,0]
["1544601","1544601",{"$f":"VLOOKUP(B469, 'School List'!F:G,2,FALSE)","v":"Napa El"},"PHBAO",133,121,0,0,0,32,null,null,19,0,20,325,6,5,0,0,0,11,8,5,0,0,0,13,{"$f":"VLOOKUP(A469,'Pivot Norm'!A:B,2,FALSE)","v":2},1,"15446011",1,0,2,1,0,2,0,0,0,0]
["1544601","1544602",{"$f":"VLOOKUP(B470, 'School List'!F:G,2,FALSE)","v":"Napa St El DTS"},"PHBAO",98,0,0,0,0,null,null,null,0,0,0,98,5,0,0,0,0,5,4,0,0,0,0,4,{"$f":"VLOOKUP(A470,'Pivot Norm'!A:B,2,FALSE)","v":2},2,"15446012",0,0,0,0,0,0,0,0,0,0]
["1545201","1545201",{"$f":"VLOOKUP(B471, 'School List'!F:G,2,FALSE)","v":"Nestle Ave Charter"},"Non-PHBAO",340,132,0,0,0,19,null,null,0,20,0,511,15,5,0,0,0,20,15,4,0,0,0,19,{"$f":"VLOOKUP(A471,'Pivot Norm'!A:B,2,FALSE)","v":1},1,"15452011",1,0,2,1,0,2,0,0,0,0]
["1545901","1545901",{"$f":"VLOOKUP(B472, 'School List'!F:G,2,FALSE)","v":"Nevada El"},"PHBAO",129,82,0,0,0,20,null,null,26,0,21,278,6,4,0,0,0,10,6,4,0,0,0,10,{"$f":"VLOOKUP(A472,'Pivot Norm'!A:B,2,FALSE)","v":2},1,"15459011",1,0,2,1,0,2,0,0,0,0]
["1545901","1545902",{"$f":"VLOOKUP(B473, 'School List'!F:G,2,FALSE)","v":"Nevada El DTS"},"PHBAO",115,21,0,0,0,null,null,null,0,0,13,149,5,1,0,0,0,6,5,0,0,0,0,5,{"$f":"VLOOKUP(A473,'Pivot Norm'!A:B,2,FALSE)","v":2},2,"15459012",0,0,0,0,0,0,0,0,0,0]
["1546601","1546601",{"$f":"VLOOKUP(B474, 'School List'!F:G,2,FALSE)","v":"Nevin El"},"PHBAO",291,168,0,0,0,18,null,null,17,0,14,508,13,7,0,0,0,20,13,7,0,0,0,20,{"$f":"VLOOKUP(A474,'Pivot Norm'!A:B,2,FALSE)","v":1},1,"15466011",1,0,2,1,0,2,0,0,0,0]
["1547901","1547901",{"$f":"VLOOKUP(B475, 'School List'!F:G,2,FALSE)","v":"Newcastle El"},"PHBAO",167,83,0,0,0,21,null,null,10,0,14,295,7,4,0,0,0,11,8,3,0,0,0,11,{"$f":"VLOOKUP(A475,'Pivot Norm'!A:B,2,FALSE)","v":1},1,"15479011",1,0,2,1,0,2,1,0,1,0]
["1550501","1550501",{"$f":"VLOOKUP(B476, 'School List'!F:G,2,FALSE)","v":"9th St El"},"PHBAO",113,83,0,0,0,null,null,null,8,0,0,204,5,4,0,0,0,9,6,4,0,0,0,10,{"$f":"VLOOKUP(A476,'Pivot Norm'!A:B,2,FALSE)","v":1},1,"15505011",1,0,2,1,0,2,2,1,0,0]
["1552101","1552101",{"$f":"VLOOKUP(B477, 'School List'!F:G,2,FALSE)","v":"95th St El"},"PHBAO",535,255,0,0,0,48,null,null,0,0,23,861,23,10,0,0,0,33,23,11,0,0,0,34,{"$f":"VLOOKUP(A477,'Pivot Norm'!A:B,2,FALSE)","v":1},1,"15521011",1,0,3,1,0,3,1,0,0,0]
["1553401","1553401",{"$f":"VLOOKUP(B478, 'School List'!F:G,2,FALSE)","v":"99th St El"},"PHBAO",284,179,0,0,0,43,null,null,15,9,0,530,12,7,0,0,0,19,13,7,0,0,0,20,{"$f":"VLOOKUP(A478,'Pivot Norm'!A:B,2,FALSE)","v":1},1,"15534011",1,0,2,1,0,2,0,0,0,0]
["1554801","1554801",{"$f":"VLOOKUP(B479, 'School List'!F:G,2,FALSE)","v":"92nd St El"},"PHBAO",380,319,0,0,0,40,null,null,0,0,15,754,16,12,0,0,0,28,18,11,0,0,0,29,{"$f":"VLOOKUP(A479,'Pivot Norm'!A:B,2,FALSE)","v":1},1,"15548011",1,0,3,1,0,3,0,0,0,0]
["1556201","1556201",{"$f":"VLOOKUP(B480, 'School List'!F:G,2,FALSE)","v":"Barrett El"},"PHBAO",371,203,0,0,0,37,null,null,20,0,19,650,16,8,0,0,0,24,16,9,0,0,0,25,{"$f":"VLOOKUP(A480,'Pivot Norm'!A:B,2,FALSE)","v":2},1,"15562011",1,0,3,1,0,2,0,0,0,0]
["1556201","1556202",{"$f":"VLOOKUP(B481, 'School List'!F:G,2,FALSE)","v":"Barrett El DTS"},"PHBAO",81,20,0,0,0,null,null,null,0,0,0,101,4,1,0,0,0,5,4,0,0,0,0,4,{"$f":"VLOOKUP(A481,'Pivot Norm'!A:B,2,FALSE)","v":2},2,"15562012",0,0,0,0,0,0,0,0,0,0]
["1557501","1557501",{"$f":"VLOOKUP(B482, 'School List'!F:G,2,FALSE)","v":"96th St El"},"PHBAO",274,244,0,0,0,19,null,null,11,0,23,571,12,10,0,0,0,22,13,10,0,0,0,23,{"$f":"VLOOKUP(A482,'Pivot Norm'!A:B,2,FALSE)","v":2},1,"15575011",1,0,2,1,0,2,1,0,0,0]
["1557501","1557502",{"$f":"VLOOKUP(B483, 'School List'!F:G,2,FALSE)","v":"96th St El DTS"},"PHBAO",90,0,0,0,0,null,null,null,0,0,0,90,4,0,0,0,0,4,3,0,0,0,0,3,{"$f":"VLOOKUP(A483,'Pivot Norm'!A:B,2,FALSE)","v":2},2,"15575012",0,0,0,0,0,0,0,0,0,0]
["1558201","1558201",{"$f":"VLOOKUP(B484, 'School List'!F:G,2,FALSE)","v":"93rd St El"},"PHBAO",171,164,0,0,0,66,null,null,8,0,12,421,8,7,0,0,0,15,9,7,0,0,0,16,{"$f":"VLOOKUP(A484,'Pivot Norm'!A:B,2,FALSE)","v":3},1,"15582011",1,0,3,1,0,3,1,0,0,0]
["1558201","1558202",{"$f":"VLOOKUP(B485, 'School List'!F:G,2,FALSE)","v":"93rd St El DTS"},"PHBAO",186,45,0,0,0,null,null,null,0,0,0,231,8,2,0,0,0,10,8,0,0,0,0,8,{"$f":"VLOOKUP(A485,'Pivot Norm'!A:B,2,FALSE)","v":3},2,"15582012",0,0,0,0,0,0,0,0,0,0]
["1558201","1558203",{"$f":"VLOOKUP(B486, 'School List'!F:G,2,FALSE)","v":"93rd St STEAM"},"Magnet 2",141,133,0,0,0,null,null,null,0,0,0,274,6,5,0,0,0,11,6,5,0,0,0,11,{"$f":"VLOOKUP(A486,'Pivot Norm'!A:B,2,FALSE)","v":3},3,"15582013",0,0,0,0,0,0,0,0,0,0]
["1560301","1560301",{"$f":"VLOOKUP(B487, 'School List'!F:G,2,FALSE)","v":"Noble El"},"PHBAO",480,231,0,0,0,37,null,null,0,0,24,772,20,9,0,0,0,29,21,8,0,0,0,29,{"$f":"VLOOKUP(A487,'Pivot Norm'!A:B,2,FALSE)","v":1},1,"15603011",1,0,3,1,0,3,0,0,1,0]
["1560401","1560401",{"$f":"VLOOKUP(B488, 'School List'!F:G,2,FALSE)","v":"Panorama City El"},"PHBAO",331,130,0,0,0,27,null,null,12,32,0,532,14,5,0,0,0,19,13,6,0,0,0,19,{"$f":"VLOOKUP(A488,'Pivot Norm'!A:B,2,FALSE)","v":1},1,"15604011",1,0,2,1,0,2,0,0,0,0]
["1563001","1563001",{"$f":"VLOOKUP(B489, 'School List'!F:G,2,FALSE)","v":"Normandie El"},"PHBAO",292,129,0,0,0,48,null,null,10,6,18,503,13,5,0,0,0,18,12,6,0,0,0,18,{"$f":"VLOOKUP(A489,'Pivot Norm'!A:B,2,FALSE)","v":2},1,"15630011",1,0,2,1,0,2,0,0,0,0]
["1563001","1563002",{"$f":"VLOOKUP(B490, 'School List'!F:G,2,FALSE)","v":"Normandie Ave El DTS"},"PHBAO",127,69,0,0,0,null,null,null,0,0,0,196,6,3,0,0,0,9,6,3,0,0,0,9,{"$f":"VLOOKUP(A490,'Pivot Norm'!A:B,2,FALSE)","v":2},2,"15630012",0,0,0,0,0,0,0,0,0,0]
["1564401","1564401",{"$f":"VLOOKUP(B491, 'School List'!F:G,2,FALSE)","v":"Normont El"},"PHBAO",111,86,0,0,0,12,null,null,14,0,0,223,5,4,0,0,0,9,6,4,0,0,0,10,{"$f":"VLOOKUP(A491,'Pivot Norm'!A:B,2,FALSE)","v":2},1,"15644011",1,0,2,1,0,2,0,0,0,0]
["1564401","1564402",{"$f":"VLOOKUP(B492, 'School List'!F:G,2,FALSE)","v":"Normont El  DTS"},"PHBAO",95,0,0,0,0,null,null,null,0,0,0,95,4,0,0,0,0,4,3,0,0,0,0,3,{"$f":"VLOOKUP(A492,'Pivot Norm'!A:B,2,FALSE)","v":2},2,"15644012",0,0,0,0,0,0,0,0,0,0]
["1569901","1569901",{"$f":"VLOOKUP(B493, 'School List'!F:G,2,FALSE)","v":"Norwood El"},"PHBAO",256,120,0,0,0,36,null,null,0,0,10,422,11,5,0,0,0,16,10,5,0,0,0,15,{"$f":"VLOOKUP(A493,'Pivot Norm'!A:B,2,FALSE)","v":1},1,"15699011",1,0,2,1,0,2,0,0,0,0]
["1572601","1572601",{"$f":"VLOOKUP(B494, 'School List'!F:G,2,FALSE)","v":"O Melveny El"},"PHBAO",243,144,0,0,0,27,null,null,3,6,20,443,11,6,0,0,0,17,12,6,0,0,0,18,{"$f":"VLOOKUP(A494,'Pivot Norm'!A:B,2,FALSE)","v":1},1,"15726011",1,0,2,1,0,2,1,0,1,0]
["1574001","1574001",{"$f":"VLOOKUP(B495, 'School List'!F:G,2,FALSE)","v":"118th St El"},"PHBAO",232,147,0,0,0,36,null,null,0,0,16,431,10,6,0,0,0,16,11,6,0,0,0,17,{"$f":"VLOOKUP(A495,'Pivot Norm'!A:B,2,FALSE)","v":2},1,"15740011",1,0,2,1,0,2,1,0,0,0]
["1574001","1574002",{"$f":"VLOOKUP(B496, 'School List'!F:G,2,FALSE)","v":"118th St El DTS"},"PHBAO",78,0,0,0,0,null,null,null,0,0,0,78,4,0,0,0,0,4,3,0,0,0,0,3,{"$f":"VLOOKUP(A496,'Pivot Norm'!A:B,2,FALSE)","v":2},2,"15740012",0,0,0,0,0,0,0,0,0,0]
["1575301","1575301",{"$f":"VLOOKUP(B497, 'School List'!F:G,2,FALSE)","v":"186th St El"},"PHBAO",423,220,0,0,0,30,null,null,0,2,32,707,18,9,0,0,0,27,19,8,0,0,0,27,{"$f":"VLOOKUP(A497,'Pivot Norm'!A:B,2,FALSE)","v":1},1,"15753011",1,0,2,1,0,2,1,0,1,0]
["1578101","1578101",{"$f":"VLOOKUP(B498, 'School List'!F:G,2,FALSE)","v":"Flournoy El"},"PHBAO",243,82,0,0,0,16,null,null,0,0,13,354,11,4,0,0,0,15,11,3,0,0,0,14,{"$f":"VLOOKUP(A498,'Pivot Norm'!A:B,2,FALSE)","v":3},1,"15781011",1,0,2,1,0,2,1,2,0,0]
["1578101","1578102",{"$f":"VLOOKUP(B499, 'School List'!F:G,2,FALSE)","v":"Flournoy STEAM Mag"},"Magnet 2",33,45,0,0,0,null,null,null,0,0,0,78,2,2,0,0,0,4,2,2,0,0,0,4,{"$f":"VLOOKUP(A499,'Pivot Norm'!A:B,2,FALSE)","v":3},2,"15781012",0,0,0,0,0,0,0,0,0,0]
["1578101","1578103",{"$f":"VLOOKUP(B500, 'School List'!F:G,2,FALSE)","v":"Flournoy El DTS"},"PHBAO",22,0,0,0,0,null,null,null,null,null,null,22,1,0,0,0,0,1,0,0,0,0,0,0,{"$f":"VLOOKUP(A500,'Pivot Norm'!A:B,2,FALSE)","v":3},3,"15781013",0,0,0,0,0,0,0,0,0,0]
["1580801","1580801",{"$f":"VLOOKUP(B501, 'School List'!F:G,2,FALSE)","v":"156th St El"},"PHBAO",221,149,0,0,0,14,null,null,0,0,0,384,10,6,0,0,0,16,9,6,0,0,0,15,{"$f":"VLOOKUP(A501,'Pivot Norm'!A:B,2,FALSE)","v":1},1,"15808011",1,0,2,1,0,2,1,0,0,0]
["1582201","1582201",{"$f":"VLOOKUP(B502, 'School List'!F:G,2,FALSE)","v":"153rd St El"},"PHBAO",161,75,0,0,0,53,null,null,17,0,19,325,7,3,0,0,0,10,6,4,0,0,0,10,{"$f":"VLOOKUP(A502,'Pivot Norm'!A:B,2,FALSE)","v":2},1,"15822011",1,0,2,1,0,2,1,0,0,0]
["1582201","1582202",{"$f":"VLOOKUP(B503, 'School List'!F:G,2,FALSE)","v":"153rd St EL DTS"},"PHBAO",76,17,0,0,0,null,null,null,0,0,0,93,4,1,0,0,0,5,4,0,0,0,0,4,{"$f":"VLOOKUP(A503,'Pivot Norm'!A:B,2,FALSE)","v":2},2,"15822012",0,0,0,0,0,0,0,0,0,0]
["1583601","1583601",{"$f":"VLOOKUP(B504, 'School List'!F:G,2,FALSE)","v":"109th St El"},"PHBAO",218,117,0,0,0,22,null,null,0,0,8,365,10,5,0,0,0,15,9,5,0,0,0,14,{"$f":"VLOOKUP(A504,'Pivot Norm'!A:B,2,FALSE)","v":1},1,"15836011",1,0,2,1,0,2,1,0,0,0]
["1584901","1584901",{"$f":"VLOOKUP(B505, 'School List'!F:G,2,FALSE)","v":"Griffith Joyner El"},"PHBAO",174,88,0,0,0,35,null,null,15,0,14,326,8,4,0,0,0,12,8,4,0,0,0,12,{"$f":"VLOOKUP(A505,'Pivot Norm'!A:B,2,FALSE)","v":2},1,"15849011",1,0,2,1,0,2,1,0,0,0]
["1584901","1584902",{"$f":"VLOOKUP(B506, 'School List'!F:G,2,FALSE)","v":"Griffith Jyner VAPA Mg"},"Magnet 2",70,48,0,0,0,null,null,null,0,0,0,118,3,2,0,0,0,5,3,2,0,0,0,5,{"$f":"VLOOKUP(A506,'Pivot Norm'!A:B,2,FALSE)","v":2},2,"15849012",0,0,0,0,0,0,0,0,0,0]
["1585701","1585701",{"$f":"VLOOKUP(B507, 'School List'!F:G,2,FALSE)","v":"107th St El"},"PHBAO",462,204,0,0,0,38,null,null,12,2,22,740,20,8,0,0,0,28,21,7,0,0,0,28,{"$f":"VLOOKUP(A507,'Pivot Norm'!A:B,2,FALSE)","v":2},1,"15857011",1,0,3,1,0,3,0,0,1,0]
["1585701","1585702",{"$f":"VLOOKUP(B508, 'School List'!F:G,2,FALSE)","v":"107th St STEAM Mag"},"Magnet 2",71,48,0,0,0,null,null,null,0,0,0,119,3,2,0,0,0,5,3,3,0,0,0,6,{"$f":"VLOOKUP(A508,'Pivot Norm'!A:B,2,FALSE)","v":2},2,"15857012",0,0,0,0,0,0,0,0,0,0]
["1586301","1586301",{"$f":"VLOOKUP(B509, 'School List'!F:G,2,FALSE)","v":"116th St El"},"PHBAO",216,110,0,0,0,27,null,null,0,0,11,364,9,5,0,0,0,14,10,5,0,0,0,15,{"$f":"VLOOKUP(A509,'Pivot Norm'!A:B,2,FALSE)","v":2},1,"15863011",1,0,2,1,0,2,0,0,0,0]
["1586301","1586302",{"$f":"VLOOKUP(B510, 'School List'!F:G,2,FALSE)","v":"116th St El DTS"},"PHBAO",57,0,0,0,0,null,null,null,0,0,0,57,3,0,0,0,0,3,2,0,0,0,0,2,{"$f":"VLOOKUP(A510,'Pivot Norm'!A:B,2,FALSE)","v":2},2,"15863012",0,0,0,0,0,0,1,0,0,0]
["1587701","1587701",{"$f":"VLOOKUP(B511, 'School List'!F:G,2,FALSE)","v":"135th St El"},"PHBAO",270,174,0,0,0,37,null,null,8,0,25,514,12,7,0,0,0,19,14,7,0,0,0,21,{"$f":"VLOOKUP(A511,'Pivot Norm'!A:B,2,FALSE)","v":2},1,"15877011",1,0,2,1,0,2,0,0,0,0]
["1587701","1587702",{"$f":"VLOOKUP(B512, 'School List'!F:G,2,FALSE)","v":"135th St El DTS"},"PHBAO",90,0,0,0,0,null,null,null,0,0,0,90,4,0,0,0,0,4,3,0,0,0,0,3,{"$f":"VLOOKUP(A512,'Pivot Norm'!A:B,2,FALSE)","v":2},2,"15877012",0,0,0,0,0,0,0,0,0,0]
["1588401","1588401",{"$f":"VLOOKUP(B513, 'School List'!F:G,2,FALSE)","v":"112th St El"},"PHBAO",238,103,0,0,0,24,null,null,22,0,3,390,10,4,0,0,0,14,10,4,0,0,0,14,{"$f":"VLOOKUP(A513,'Pivot Norm'!A:B,2,FALSE)","v":1},1,"15884011",1,0,2,1,0,2,1,0,0,0]
["1588701","1588701",{"$f":"VLOOKUP(B514, 'School List'!F:G,2,FALSE)","v":"122nd St El"},"PHBAO",295,199,0,0,0,36,null,null,0,0,18,548,13,8,0,0,0,21,14,8,0,0,0,22,{"$f":"VLOOKUP(A514,'Pivot Norm'!A:B,2,FALSE)","v":2},1,"15887011",1,0,2,1,0,2,0,0,0,0]
["1588701","1588702",{"$f":"VLOOKUP(B515, 'School List'!F:G,2,FALSE)","v":"122nd St El DTS"},"PHBAO",84,0,0,0,0,null,null,null,0,0,0,84,4,0,0,0,0,4,3,0,0,0,0,3,{"$f":"VLOOKUP(A515,'Pivot Norm'!A:B,2,FALSE)","v":2},2,"15887012",0,0,0,0,0,0,0,0,0,0]
["1588901","1588901",{"$f":"VLOOKUP(B516, 'School List'!F:G,2,FALSE)","v":"Open Charter Magnet"},"Magnet 1",263,134,0,0,0,null,null,null,0,0,0,397,11,5,0,0,0,16,11,5,0,0,0,16,{"$f":"VLOOKUP(A516,'Pivot Norm'!A:B,2,FALSE)","v":1},1,"15889011",1,0,2,1,0,2,1,0,0,0]
["1589401","1589401",{"$f":"VLOOKUP(B517, 'School List'!F:G,2,FALSE)","v":"Osceola El"},"PHBAO",252,109,0,0,0,null,null,null,8,19,19,407,11,5,0,0,0,16,11,4,0,0,0,15,{"$f":"VLOOKUP(A517,'Pivot Norm'!A:B,2,FALSE)","v":1},1,{"$f":"A517&AD517","v":"15894011"},1,0,2,1,0,2,1,0,0,0]
["1590401","1590401",{"$f":"VLOOKUP(B518, 'School List'!F:G,2,FALSE)","v":"Overland El"},"Non-PHBAO",335,134,0,0,0,6,null,null,0,0,0,475,14,5,0,0,0,19,14,5,0,0,0,19,{"$f":"VLOOKUP(A518,'Pivot Norm'!A:B,2,FALSE)","v":1},1,"15904011",1,0,2,1,0,2,1,0,0,0]
["1591801","1591801",{"$f":"VLOOKUP(B519, 'School List'!F:G,2,FALSE)","v":"Oxnard El"},"PHBAO",201,102,0,0,0,13,null,null,0,0,14,330,9,4,0,0,0,13,9,4,0,0,0,13,{"$f":"VLOOKUP(A519,'Pivot Norm'!A:B,2,FALSE)","v":1},{"$f":"IF(A519=A518,AD518+1,1)","v":1},"15918011",1,0,2,1,0,2,1,0,0,0]
["1595901","1595901",{"$f":"VLOOKUP(B520, 'School List'!F:G,2,FALSE)","v":"Palisades Charter El"},"Non-PHBAO",317,146,0,0,0,null,null,null,0,0,0,463,14,5,0,0,0,19,14,5,0,0,0,19,{"$f":"VLOOKUP(A520,'Pivot Norm'!A:B,2,FALSE)","v":1},1,"15959011",1,0,2,1,0,2,0,0,0,0]
["1598601","1598601",{"$f":"VLOOKUP(B521, 'School List'!F:G,2,FALSE)","v":"Palms El"},"PHBAO",166,82,0,0,0,47,null,null,9,0,0,304,7,4,0,0,0,11,7,4,0,0,0,11,{"$f":"VLOOKUP(A521,'Pivot Norm'!A:B,2,FALSE)","v":1},1,"15986011",1,0,2,1,0,2,0,0,0,0]
["1600501","1600501",{"$f":"VLOOKUP(B522, 'School List'!F:G,2,FALSE)","v":"Park Ave El"},"PHBAO",158,153,0,0,0,null,null,null,10,0,10,331,7,6,0,0,0,13,8,6,0,0,0,14,{"$f":"VLOOKUP(A522,'Pivot Norm'!A:B,2,FALSE)","v":2},1,"16005011",1,0,2,1,0,2,0,0,0,0]
["1600501","1600502",{"$f":"VLOOKUP(B523, 'School List'!F:G,2,FALSE)","v":"Park Ave El DTS"},"PHBAO",42,0,0,0,0,null,null,null,0,0,0,42,2,0,0,0,0,2,2,0,0,0,0,2,{"$f":"VLOOKUP(A523,'Pivot Norm'!A:B,2,FALSE)","v":2},2,"16005012",0,0,0,0,0,0,0,0,0,0]
["1601301","1601301",{"$f":"VLOOKUP(B524, 'School List'!F:G,2,FALSE)","v":"Park Western El"},"PHBAO",249,87,0,0,0,22,null,null,0,8,0,366,11,4,0,0,0,15,11,4,0,0,0,15,{"$f":"VLOOKUP(A524,'Pivot Norm'!A:B,2,FALSE)","v":2},1,"16013011",1,0,2,1,0,2,0,0,0,0]
["1601301","1601302",{"$f":"VLOOKUP(B525, 'School List'!F:G,2,FALSE)","v":"Park Wstrn GSTEAM Mg"},"Magnet 2",142,119,0,0,0,null,null,null,0,0,0,261,6,5,0,0,0,11,7,4,0,0,0,11,{"$f":"VLOOKUP(A525,'Pivot Norm'!A:B,2,FALSE)","v":2},2,"16013012",0,0,0,0,0,0,1,0,0,0]
["1602101","1602101",{"$f":"VLOOKUP(B526, 'School List'!F:G,2,FALSE)","v":"Parmelee El"},"PHBAO",214,184,0,0,0,43,null,null,0,0,23,464,9,7,0,0,0,16,10,8,0,0,0,18,{"$f":"VLOOKUP(A526,'Pivot Norm'!A:B,2,FALSE)","v":2},1,"16021011",1,0,2,1,0,2,1,0,0,0]
["1602101","1602102",{"$f":"VLOOKUP(B527, 'School List'!F:G,2,FALSE)","v":"Parmelee Ave El DTS"},"PHBAO",175,85,0,0,0,null,null,null,0,0,0,260,8,4,0,0,0,12,8,2,0,0,0,10,{"$f":"VLOOKUP(A527,'Pivot Norm'!A:B,2,FALSE)","v":2},2,"16021012",0,0,0,0,0,0,0,0,0,0]
["1602701","1602701",{"$f":"VLOOKUP(B528, 'School List'!F:G,2,FALSE)","v":"Parthenia Ac Art Tech"},"PHBAO",275,142,0,0,0,17,null,null,7,0,19,460,12,6,0,0,0,18,13,6,0,0,0,19,{"$f":"VLOOKUP(A528,'Pivot Norm'!A:B,2,FALSE)","v":1},1,"16027011",1,0,2,1,0,2,1,0,1,0]
["1605201","1605201",{"$f":"VLOOKUP(B529, 'School List'!F:G,2,FALSE)","v":"Paseo Del Rey Academy"},"Magnet 2",129,123,0,0,0,null,null,null,0,0,0,252,6,5,0,0,0,11,6,5,0,0,0,11,{"$f":"VLOOKUP(A529,'Pivot Norm'!A:B,2,FALSE)","v":1},1,"16052011",1,0,2,1,0,2,0,0,0,0]
["1606801","1606801",{"$f":"VLOOKUP(B530, 'School List'!F:G,2,FALSE)","v":"Pinewood El"},"PHBAO",126,48,0,0,0,17,null,null,0,0,0,191,6,2,0,0,0,8,5,2,0,0,0,7,{"$f":"VLOOKUP(A530,'Pivot Norm'!A:B,2,FALSE)","v":1},1,"16068011",1,0,2,1,0,2,1,0,0,0]
["1608701","1608701",{"$f":"VLOOKUP(B531, 'School List'!F:G,2,FALSE)","v":"GALA Dr King Sc STEM"},"PHBAO",0,0,366,203,305,null,null,null,0,0,0,671,0,0,14,2,10,26,0,0,13,1,9,23,{"$f":"VLOOKUP(A531,'Pivot Norm'!A:B,2,FALSE)","v":1},1,"16087011",1,1,2,1,1,2,0,0,2,0]
["1609601","1609601",{"$f":"VLOOKUP(B532, 'School List'!F:G,2,FALSE)","v":"Plainview Academc CA"},"PHBAO",190,82,0,0,0,3,null,null,9,0,0,284,8,4,0,0,0,12,8,4,0,0,0,12,{"$f":"VLOOKUP(A532,'Pivot Norm'!A:B,2,FALSE)","v":1},1,"16096011",1,0,2,1,0,2,0,0,0,0]
["1611001","1611001",{"$f":"VLOOKUP(B533, 'School List'!F:G,2,FALSE)","v":"Playa Del Rey El"},"Non-PHBAO",211,83,0,0,0,null,null,null,5,0,0,299,9,3,0,0,0,12,9,3,0,0,0,12,{"$f":"VLOOKUP(A533,'Pivot Norm'!A:B,2,FALSE)","v":1},1,"16110011",1,0,2,1,0,2,0,0,0,0]
["1612301","1612301",{"$f":"VLOOKUP(B534, 'School List'!F:G,2,FALSE)","v":"Plummer El"},"PHBAO",349,276,0,0,0,42,null,null,25,19,22,733,15,11,0,0,0,26,16,11,0,0,0,27,{"$f":"VLOOKUP(A534,'Pivot Norm'!A:B,2,FALSE)","v":1},1,"16123011",1,0,2,1,0,3,0,0,0,0]
["1613701","1613701",{"$f":"VLOOKUP(B535, 'School List'!F:G,2,FALSE)","v":"Pt Fermin Mar Sci Mg"},"Magnet 1",215,113,0,0,0,null,null,null,0,0,0,328,9,4,0,0,0,13,10,4,0,0,0,14,{"$f":"VLOOKUP(A535,'Pivot Norm'!A:B,2,FALSE)","v":1},1,"16137011",1,0,2,1,0,2,0,0,0,0]
["1614001","1614001",{"$f":"VLOOKUP(B536, 'School List'!F:G,2,FALSE)","v":"Pomelo Community CS"},"Non-PHBAO",292,121,0,0,0,23,null,null,0,0,0,436,13,4,0,0,0,17,13,4,0,0,0,17,{"$f":"VLOOKUP(A536,'Pivot Norm'!A:B,2,FALSE)","v":2},1,"16140011",1,0,2,1,0,2,1,1,1,0]
["1614001","1614002",{"$f":"VLOOKUP(B537, 'School List'!F:G,2,FALSE)","v":"Pomelo Arts/Sci Mag"},"Magnet 1",71,56,0,0,0,null,null,null,0,0,0,127,3,2,0,0,0,5,3,2,0,0,0,5,{"$f":"VLOOKUP(A537,'Pivot Norm'!A:B,2,FALSE)","v":2},2,"16140012",0,0,0,0,0,0,0,0,0,0]
["1614801","1614801",{"$f":"VLOOKUP(B538, 'School List'!F:G,2,FALSE)","v":"President El"},"PHBAO",102,99,0,0,0,42,null,null,11,0,13,267,5,4,0,0,0,9,5,4,0,0,0,9,{"$f":"VLOOKUP(A538,'Pivot Norm'!A:B,2,FALSE)","v":2},1,"16148011",1,0,2,1,0,2,0,0,0,0]
["1614801","1614802",{"$f":"VLOOKUP(B539, 'School List'!F:G,2,FALSE)","v":"President Ave El DTS"},"PHBAO",167,39,0,0,0,null,null,null,0,0,0,206,7,2,0,0,0,9,6,1,0,0,0,7,{"$f":"VLOOKUP(A539,'Pivot Norm'!A:B,2,FALSE)","v":2},2,"16148012",0,0,0,0,0,0,0,0,0,0]
["1615801","1615801",{"$f":"VLOOKUP(B540, 'School List'!F:G,2,FALSE)","v":"Purche El"},"PHBAO",196,73,0,0,0,37,null,null,0,0,12,318,9,3,0,0,0,12,8,4,0,0,0,12,{"$f":"VLOOKUP(A540,'Pivot Norm'!A:B,2,FALSE)","v":2},1,"16158011",1,0,2,1,0,2,0,0,0,0]
["1615801","1615802",{"$f":"VLOOKUP(B541, 'School List'!F:G,2,FALSE)","v":"Purche STEAM Mag"},"Magnet 2",63,54,0,0,0,null,null,null,0,0,0,117,3,2,0,0,0,5,3,2,0,0,0,5,{"$f":"VLOOKUP(A541,'Pivot Norm'!A:B,2,FALSE)","v":2},2,"16158012",0,0,0,0,0,0,0,0,0,0]
["1616401","1616401",{"$f":"VLOOKUP(B542, 'School List'!F:G,2,FALSE)","v":"Queen Anne El"},"PHBAO",149,57,0,0,0,5,null,null,0,0,23,234,7,3,0,0,0,10,6,2,0,0,0,8,{"$f":"VLOOKUP(A542,'Pivot Norm'!A:B,2,FALSE)","v":2},1,"16164011",1,0,2,1,0,2,0,0,0,0]
["1616401","1616402",{"$f":"VLOOKUP(B543, 'School List'!F:G,2,FALSE)","v":"Queen Anne Pl El DTS"},"PHBAO",162,52,0,0,0,null,null,null,0,0,0,214,7,2,0,0,0,9,7,2,0,0,0,9,{"$f":"VLOOKUP(A543,'Pivot Norm'!A:B,2,FALSE)","v":2},2,"16164012",0,0,0,0,0,0,0,0,0,0]
["1617801","1617801",{"$f":"VLOOKUP(B544, 'School List'!F:G,2,FALSE)","v":"Ramona El"},"PHBAO",139,149,0,0,0,40,null,null,0,0,9,337,6,6,0,0,0,12,8,6,0,0,0,14,{"$f":"VLOOKUP(A544,'Pivot Norm'!A:B,2,FALSE)","v":1},1,"16178011",1,0,2,1,0,2,0,0,0,0]
["1617901","1617901",{"$f":"VLOOKUP(B545, 'School List'!F:G,2,FALSE)","v":"Kingsley El"},"PHBAO",83,66,0,0,0,20,null,null,0,0,0,169,4,3,0,0,0,7,4,3,0,0,0,7,{"$f":"VLOOKUP(A545,'Pivot Norm'!A:B,2,FALSE)","v":2},1,"16179011",1,0,2,1,0,2,0,0,0,0]
["1617901","1617902",{"$f":"VLOOKUP(B546, 'School List'!F:G,2,FALSE)","v":"Kingsley El DTS"},"PHBAO",100,58,0,0,0,null,null,null,0,0,0,158,5,3,0,0,0,8,5,2,0,0,0,7,{"$f":"VLOOKUP(A546,'Pivot Norm'!A:B,2,FALSE)","v":2},2,"16179012",0,0,0,0,0,0,2,0,0,0]
["1619201","1619201",{"$f":"VLOOKUP(B547, 'School List'!F:G,2,FALSE)","v":"Ranchito El"},"PHBAO",234,140,0,0,0,null,null,null,10,0,19,403,10,6,0,0,0,16,11,5,0,0,0,16,{"$f":"VLOOKUP(A547,'Pivot Norm'!A:B,2,FALSE)","v":2},1,"16192011",1,0,2,1,0,2,0,0,0,0]
["1619201","1619202",{"$f":"VLOOKUP(B548, 'School List'!F:G,2,FALSE)","v":"Ranchito Ave DTS"},"PHBAO",54,0,0,0,0,null,null,null,0,0,0,54,3,0,0,0,0,3,2,0,0,0,0,2,{"$f":"VLOOKUP(A548,'Pivot Norm'!A:B,2,FALSE)","v":2},2,"16192012",0,0,0,0,0,0,0,0,0,0]
["1621901","1621901",{"$f":"VLOOKUP(B549, 'School List'!F:G,2,FALSE)","v":"Raymond Ave El"},"PHBAO",251,141,0,0,0,22,null,null,7,0,18,439,11,6,0,0,0,17,12,7,0,0,0,19,{"$f":"VLOOKUP(A549,'Pivot Norm'!A:B,2,FALSE)","v":1},1,"16219011",1,0,2,1,0,2,1,0,0,0]
["1623301","1623301",{"$f":"VLOOKUP(B550, 'School List'!F:G,2,FALSE)","v":"Reseda El"},"PHBAO",254,126,0,0,0,12,null,null,24,0,0,416,11,5,0,0,0,16,11,5,0,0,0,16,{"$f":"VLOOKUP(A550,'Pivot Norm'!A:B,2,FALSE)","v":1},1,"16233011",1,0,2,1,0,2,1,0,1,0]
["1626001","1626001",{"$f":"VLOOKUP(B551, 'School List'!F:G,2,FALSE)","v":"Richland El"},"PHBAO",0,0,0,0,0,8,null,null,13,0,0,21,0,0,0,0,0,0,1,1,0,0,0,2,{"$f":"VLOOKUP(A551,'Pivot Norm'!A:B,2,FALSE)","v":2},1,"16260011",1,0,2,1,0,2,0,0,0,0]
["1626001","1626002",{"$f":"VLOOKUP(B552, 'School List'!F:G,2,FALSE)","v":"Richland Av El DTF"},"Non-PHBAO",213,125,0,0,0,null,null,null,0,0,0,338,9,4,0,0,0,13,9,3,0,0,0,12,{"$f":"VLOOKUP(A552,'Pivot Norm'!A:B,2,FALSE)","v":2},2,"16260012",0,0,0,0,0,0,0,0,1,0]
["1627401","1627401",{"$f":"VLOOKUP(B553, 'School List'!F:G,2,FALSE)","v":"Hamasaki Med/Sci Mg"},"PHBAO",102,59,0,0,0,22,null,null,6,19,0,208,5,3,0,0,0,8,5,4,0,0,0,9,{"$f":"VLOOKUP(A553,'Pivot Norm'!A:B,2,FALSE)","v":2},1,"16274011",1,0,2,1,0,2,1,0,0,0]
["1627401","1627402",{"$f":"VLOOKUP(B554, 'School List'!F:G,2,FALSE)","v":{"$error":"#N/A"}},"Magnet 2",180,108,0,0,0,null,null,null,0,0,0,288,8,4,0,0,0,12,7,2,0,0,0,9,{"$f":"VLOOKUP(A554,'Pivot Norm'!A:B,2,FALSE)","v":2},2,"16274012",0,0,0,0,0,0,0,0,0,0]
["1628801","1628801",{"$f":"VLOOKUP(B555, 'School List'!F:G,2,FALSE)","v":"Rio Vista El"},"Non-PHBAO",287,104,0,0,0,3,null,null,4,0,0,398,12,4,0,0,0,16,12,4,0,0,0,16,{"$f":"VLOOKUP(A555,'Pivot Norm'!A:B,2,FALSE)","v":1},1,"16288011",1,0,2,1,0,2,0,0,0,0]
["1630101","1630101",{"$f":"VLOOKUP(B556, 'School List'!F:G,2,FALSE)","v":"Ritter El"},"PHBAO",181,109,0,0,0,null,null,null,0,0,17,307,8,5,0,0,0,13,9,4,0,0,0,13,{"$f":"VLOOKUP(A556,'Pivot Norm'!A:B,2,FALSE)","v":1},1,"16301011",1,0,2,1,0,2,1,0,1,0]
["1631501","1631501",{"$f":"VLOOKUP(B557, 'School List'!F:G,2,FALSE)","v":"Riverside Drive"},"Non-PHBAO",336,126,0,0,0,17,null,null,0,0,0,479,14,4,0,0,0,18,14,4,0,0,0,18,{"$f":"VLOOKUP(A557,'Pivot Norm'!A:B,2,FALSE)","v":1},1,"16315011",1,0,2,1,0,2,1,0,1,0]
["1632901","1632901",{"$f":"VLOOKUP(B558, 'School List'!F:G,2,FALSE)","v":"Rockdale VAPA Mag"},"Magnet 2",169,149,0,0,0,null,null,null,0,0,20,338,8,6,0,0,0,14,7,6,0,0,0,13,{"$f":"VLOOKUP(A558,'Pivot Norm'!A:B,2,FALSE)","v":1},1,"16329011",1,0,2,1,0,2,1,0,0,0]
["1634201","1634201",{"$f":"VLOOKUP(B559, 'School List'!F:G,2,FALSE)","v":"Coeur D Alene El"},"Non-PHBAO",351,148,0,0,0,null,null,null,0,0,0,499,15,5,0,0,0,20,16,5,0,0,0,21,{"$f":"VLOOKUP(A559,'Pivot Norm'!A:B,2,FALSE)","v":1},1,"16342011",1,0,2,1,0,2,1,0,0,0]
["1635601","1635601",{"$f":"VLOOKUP(B560, 'School List'!F:G,2,FALSE)","v":"Roscoe El"},"PHBAO",166,141,0,0,0,40,null,null,0,0,19,366,7,6,0,0,0,13,9,6,0,0,0,15,{"$f":"VLOOKUP(A560,'Pivot Norm'!A:B,2,FALSE)","v":2},1,"16356011",1,0,2,1,0,2,0,0,0,0]
["1635601","1635602",{"$f":"VLOOKUP(B561, 'School List'!F:G,2,FALSE)","v":"Roscoe El DTS"},"PHBAO",156,0,0,0,0,null,null,null,0,0,0,156,7,0,0,0,0,7,5,0,0,0,0,5,{"$f":"VLOOKUP(A561,'Pivot Norm'!A:B,2,FALSE)","v":2},2,"16356012",0,0,0,0,0,0,1,0,0,0]
["1636301","1636301",{"$f":"VLOOKUP(B562, 'School List'!F:G,2,FALSE)","v":"Roscomare El"},"Non-PHBAO",312,118,0,0,0,null,null,null,0,0,0,430,13,4,0,0,0,17,13,4,0,0,0,17,{"$f":"VLOOKUP(A562,'Pivot Norm'!A:B,2,FALSE)","v":1},1,"16363011",1,0,2,1,0,2,1,0,0,0]
["1637001","1637001",{"$f":"VLOOKUP(B563, 'School List'!F:G,2,FALSE)","v":"Rosemont El"},"PHBAO",77,115,0,0,0,9,null,null,16,0,0,217,4,5,0,0,0,9,5,4,0,0,0,9,{"$f":"VLOOKUP(A563,'Pivot Norm'!A:B,2,FALSE)","v":1},1,"16370011",1,0,2,1,0,2,0,0,0,0]
["1638401","1638401",{"$f":"VLOOKUP(B564, 'School List'!F:G,2,FALSE)","v":"Rosewood UP/UD Mag"},"Magnet 1",184,120,0,0,0,8,null,null,0,0,0,312,8,4,0,0,0,12,9,3,0,0,0,12,{"$f":"VLOOKUP(A564,'Pivot Norm'!A:B,2,FALSE)","v":1},1,"16384011",1,0,2,1,0,2,0,0,0,0]
["1642501","1642501",{"$f":"VLOOKUP(B565, 'School List'!F:G,2,FALSE)","v":"Rowan El"},"PHBAO",319,275,0,0,0,62,null,null,9,0,21,686,14,11,0,0,0,25,17,9,0,0,0,26,{"$f":"VLOOKUP(A565,'Pivot Norm'!A:B,2,FALSE)","v":2},1,"16425011",1,0,2,1,0,2,0,0,0,0]
["1642501","1642502",{"$f":"VLOOKUP(B566, 'School List'!F:G,2,FALSE)","v":"Rowan Ave El DTS"},"PHBAO",28,0,0,0,0,null,null,null,0,0,0,28,2,0,0,0,0,2,1,0,0,0,0,1,{"$f":"VLOOKUP(A566,'Pivot Norm'!A:B,2,FALSE)","v":2},2,"16425012",0,0,0,0,0,0,0,0,0,0]
["1642601","1642601",{"$f":"VLOOKUP(B567, 'School List'!F:G,2,FALSE)","v":"Amanecer PC"},"PHBAO",113,0,0,0,0,null,null,null,8,0,7,128,5,0,0,0,0,5,6,0,0,0,0,6,{"$f":"VLOOKUP(A567,'Pivot Norm'!A:B,2,FALSE)","v":1},1,"16426011",1,0,2,1,0,2,0,0,0,0]
["1643801","1643801",{"$f":"VLOOKUP(B568, 'School List'!F:G,2,FALSE)","v":"Russell El"},"PHBAO",346,180,0,0,0,43,null,null,17,20,36,642,15,7,0,0,0,22,17,9,0,0,0,26,{"$f":"VLOOKUP(A568,'Pivot Norm'!A:B,2,FALSE)","v":2},1,"16438011",1,0,3,1,0,3,0,0,0,0]
["1643801","1643802",{"$f":"VLOOKUP(B569, 'School List'!F:G,2,FALSE)","v":"Russell El Gifted Mg"},"Magnet 2",108,150,0,0,0,null,null,null,0,0,0,258,5,6,0,0,0,11,2,3,0,0,0,5,{"$f":"VLOOKUP(A569,'Pivot Norm'!A:B,2,FALSE)","v":2},2,"16438012",0,0,0,0,0,0,0,0,0,0]
["1645201","1645201",{"$f":"VLOOKUP(B570, 'School List'!F:G,2,FALSE)","v":"San Fernando El"},"PHBAO",186,102,0,0,0,19,null,null,22,0,11,340,8,4,0,0,0,12,8,4,0,0,0,12,{"$f":"VLOOKUP(A570,'Pivot Norm'!A:B,2,FALSE)","v":2},1,"16452011",1,0,2,1,0,2,0,0,0,0]
["1645201","1645202",{"$f":"VLOOKUP(B571, 'School List'!F:G,2,FALSE)","v":"San Fernando El DTS"},"PHBAO",172,90,0,0,0,null,null,null,0,0,0,262,8,4,0,0,0,12,7,3,0,0,0,10,{"$f":"VLOOKUP(A571,'Pivot Norm'!A:B,2,FALSE)","v":2},2,"16452012",0,0,0,0,0,0,1,0,0,0]
["1646601","1646601",{"$f":"VLOOKUP(B572, 'School List'!F:G,2,FALSE)","v":"San Gabriel El"},"PHBAO",235,165,0,0,0,33,null,null,0,0,23,456,10,7,0,0,0,17,12,7,0,0,0,19,{"$f":"VLOOKUP(A572,'Pivot Norm'!A:B,2,FALSE)","v":2},1,"16466011",1,0,2,1,0,2,0,0,0,0]
["1646601","1646602",{"$f":"VLOOKUP(B573, 'School List'!F:G,2,FALSE)","v":"San Gabriel DTS"},"PHBAO",92,0,0,0,0,null,null,null,0,0,0,92,4,0,0,0,0,4,3,0,0,0,0,3,{"$f":"VLOOKUP(A573,'Pivot Norm'!A:B,2,FALSE)","v":2},2,"16466012",0,0,0,0,0,0,0,0,0,0]
["1647901","1647901",{"$f":"VLOOKUP(B574, 'School List'!F:G,2,FALSE)","v":"San Jose El"},"PHBAO",407,199,0,0,0,null,null,null,7,0,24,637,17,8,0,0,0,25,16,8,0,0,0,24,{"$f":"VLOOKUP(A574,'Pivot Norm'!A:B,2,FALSE)","v":2},1,"16479011",1,0,2,1,0,2,1,0,0,0]
["1647901","1647902",{"$f":"VLOOKUP(B575, 'School List'!F:G,2,FALSE)","v":"San Jose Hg Mag"},"Magnet 2",10,45,0,0,0,null,null,null,0,0,0,55,1,2,0,0,0,3,1,2,0,0,0,3,{"$f":"VLOOKUP(A575,'Pivot Norm'!A:B,2,FALSE)","v":2},2,"16479012",0,0,0,0,0,0,0,0,0,0]
["1649301","1649301",{"$f":"VLOOKUP(B576, 'School List'!F:G,2,FALSE)","v":"San Pascual STEAM Mg"},"Magnet 2",184,95,0,0,0,null,null,null,0,0,7,286,8,4,0,0,0,12,8,4,0,0,0,12,{"$f":"VLOOKUP(A576,'Pivot Norm'!A:B,2,FALSE)","v":1},1,"16493011",1,0,2,1,0,2,0,0,0,0]
["1650101","1650101",{"$f":"VLOOKUP(B577, 'School List'!F:G,2,FALSE)","v":"San Fernando MS IAM"},"PHBAO",0,0,354,0,0,null,17,null,0,0,0,371,0,0,14,0,0,14,0,0,14,0,0,14,{"$f":"VLOOKUP(A577,'Pivot Norm'!A:B,2,FALSE)","v":1},1,"16501011",1,0.5,2,1,1,2,0,0,1,0]
["1650701","1650701",{"$f":"VLOOKUP(B578, 'School List'!F:G,2,FALSE)","v":"San Pedro El"},"PHBAO",274,177,0,0,0,26,null,null,11,4,13,505,12,7,0,0,0,19,13,8,0,0,0,21,{"$f":"VLOOKUP(A578,'Pivot Norm'!A:B,2,FALSE)","v":1},1,"16507011",1,0,2,1,0,2,1,0,0,0]
["1653401","1653401",{"$f":"VLOOKUP(B579, 'School List'!F:G,2,FALSE)","v":"King Jr El"},"PHBAO",181,109,0,0,0,23,null,null,4,0,8,325,8,5,0,0,0,13,9,5,0,0,0,14,{"$f":"VLOOKUP(A579,'Pivot Norm'!A:B,2,FALSE)","v":2},1,"16534011",1,0,2,1,0,2,0,0,0,0]
["1653401","1653402",{"$f":"VLOOKUP(B580, 'School List'!F:G,2,FALSE)","v":"King Jr El DTS"},"PHBAO",65,0,0,0,0,null,null,null,0,0,0,65,3,0,0,0,0,3,2,0,0,0,0,2,{"$f":"VLOOKUP(A580,'Pivot Norm'!A:B,2,FALSE)","v":2},2,"16534012",0,0,0,0,0,0,0,0,0,0]
["1654901","1654901",{"$f":"VLOOKUP(B581, 'School List'!F:G,2,FALSE)","v":"Hollywood ES"},"PHBAO",114,52,0,0,0,24,null,null,11,0,8,209,5,2,0,0,0,7,5,2,0,0,0,7,{"$f":"VLOOKUP(A581,'Pivot Norm'!A:B,2,FALSE)","v":1},1,{"$f":"A581&AD581","v":"16549011"},1,0,2,1,0,2,0,0,0,0]
["1656501","1656501",{"$f":"VLOOKUP(B582, 'School List'!F:G,2,FALSE)","v":"Saticoy El"},"Non-PHBAO",187,112,0,0,0,30,null,null,9,13,0,351,8,4,0,0,0,12,9,5,0,0,0,14,{"$f":"VLOOKUP(A582,'Pivot Norm'!A:B,2,FALSE)","v":2},1,"16565011",1,0,2,1,0,2,1,0,0,0]
["1656501","1656502",{"$f":"VLOOKUP(B583, 'School List'!F:G,2,FALSE)","v":"Saticoy El DTR"},"Non-PHBAO",156,22,0,0,0,null,null,null,0,0,0,178,7,1,0,0,0,8,6,0,0,0,0,6,{"$f":"VLOOKUP(A583,'Pivot Norm'!A:B,2,FALSE)","v":2},{"$f":"IF(A583=A582,AD582+1,1)","v":2},"16565012",0,0,0,0,0,0,1,0,0,0]
["1657501","1657501",{"$f":"VLOOKUP(B584, 'School List'!F:G,2,FALSE)","v":"2nd St El"},"PHBAO",118,69,0,0,0,8,null,null,0,0,6,201,5,3,0,0,0,8,4,4,0,0,0,8,{"$f":"VLOOKUP(A584,'Pivot Norm'!A:B,2,FALSE)","v":2},1,"16575011",1,0,2,1,0,2,0,0,0,0]
["1657501","1657502",{"$f":"VLOOKUP(B585, 'School List'!F:G,2,FALSE)","v":"2nd St El DTS"},"PHBAO",33,12,0,0,0,null,null,null,0,0,0,45,2,1,0,0,0,3,2,0,0,0,0,2,{"$f":"VLOOKUP(A585,'Pivot Norm'!A:B,2,FALSE)","v":2},2,"16575012",0,0,0,0,0,0,1,0,0,0]
["1658901","1658901",{"$f":"VLOOKUP(B586, 'School List'!F:G,2,FALSE)","v":{"$error":"#N/A"}},"PHBAO",37,20,0,0,0,2,null,null,0,0,0,59,2,1,0,0,0,3,2,2,0,0,0,4,{"$f":"VLOOKUP(A586,'Pivot Norm'!A:B,2,FALSE)","v":1},1,"16589011",1,0,2,1,0,2,1,0,0,0]
["1660601","1660601",{"$f":"VLOOKUP(B587, 'School List'!F:G,2,FALSE)","v":"Serrania CES"},"Non-PHBAO",400,163,0,0,0,28,null,null,9,0,0,600,17,5,0,0,0,22,17,5,0,0,0,22,{"$f":"VLOOKUP(A587,'Pivot Norm'!A:B,2,FALSE)","v":1},1,"16606011",1,0,2,1,0,2,2,0,0,0]
["1661601","1661601",{"$f":"VLOOKUP(B588, 'School List'!F:G,2,FALSE)","v":"7th St ES AI Mag"},"Magnet 2",209,104,0,0,0,31,null,null,4,0,18,366,9,4,0,0,0,13,9,4,0,0,0,13,{"$f":"VLOOKUP(A588,'Pivot Norm'!A:B,2,FALSE)","v":1},1,"16616011",1,0,2,1,0,2,0,0,0,0]
["1663001","1663001",{"$f":"VLOOKUP(B589, 'School List'!F:G,2,FALSE)","v":"75th St El"},"PHBAO",358,203,0,0,0,69,null,null,0,0,31,661,15,8,0,0,0,23,14,9,0,0,0,23,{"$f":"VLOOKUP(A589,'Pivot Norm'!A:B,2,FALSE)","v":2},1,"16630011",2,0,3,1,0,3,0,0,0,0]
["1663001","1663002",{"$f":"VLOOKUP(B590, 'School List'!F:G,2,FALSE)","v":"75th St El DTS"},"PHBAO",186,159,0,0,0,null,null,null,0,0,0,345,8,6,0,0,0,14,9,6,0,0,0,15,{"$f":"VLOOKUP(A590,'Pivot Norm'!A:B,2,FALSE)","v":2},2,"16630012",0,0,0,0,0,0,0,0,0,0]
["1664401","1664401",{"$f":"VLOOKUP(B591, 'School List'!F:G,2,FALSE)","v":"74th St El"},"PHBAO",177,57,0,0,0,null,null,null,17,0,13,264,8,3,0,0,0,11,8,3,0,0,0,11,{"$f":"VLOOKUP(A591,'Pivot Norm'!A:B,2,FALSE)","v":2},1,"16644011",1,0,2,1,0,2,0,0,0,0]
["1664401","1664402",{"$f":"VLOOKUP(B592, 'School List'!F:G,2,FALSE)","v":"74th St El Gifted Mg"},"Magnet 2",74,87,0,0,0,null,null,null,0,0,0,161,4,4,0,0,0,8,4,4,0,0,0,8,{"$f":"VLOOKUP(A592,'Pivot Norm'!A:B,2,FALSE)","v":2},2,"16644012",0,0,0,0,0,0,0,0,0,0]
["1665801","1665801",{"$f":"VLOOKUP(B593, 'School List'!F:G,2,FALSE)","v":"Mc Kinley El"},"PHBAO",304,283,0,0,0,52,null,null,0,0,0,639,13,11,0,0,0,24,15,11,0,0,0,26,{"$f":"VLOOKUP(A593,'Pivot Norm'!A:B,2,FALSE)","v":1},1,"16658011",1,0,2,1,0,2,0,0,0,0]
["1666501","1666501",{"$f":"VLOOKUP(B594, 'School List'!F:G,2,FALSE)","v":"Sharp El"},"PHBAO",284,164,0,0,0,25,null,null,22,0,19,514,12,7,0,0,0,19,13,7,0,0,0,20,{"$f":"VLOOKUP(A594,'Pivot Norm'!A:B,2,FALSE)","v":1},1,"16665011",1,0,2,1,0,2,1,1,0,0]
["1667101","1667101",{"$f":"VLOOKUP(B595, 'School List'!F:G,2,FALSE)","v":"Shenandoah El"},"PHBAO",217,123,0,0,0,4,null,null,0,0,11,355,10,5,0,0,0,15,10,5,0,0,0,15,{"$f":"VLOOKUP(A595,'Pivot Norm'!A:B,2,FALSE)","v":1},1,"16671011",1,0,2,1,0,2,0,0,0,0]
["1668501","1668501",{"$f":"VLOOKUP(B596, 'School List'!F:G,2,FALSE)","v":"Sheridan St El"},"PHBAO",241,225,0,0,0,46,null,null,21,9,22,564,11,9,0,0,0,20,11,10,0,0,0,21,{"$f":"VLOOKUP(A596,'Pivot Norm'!A:B,2,FALSE)","v":2},1,"16685011",1,0,2,1,0,2,0,0,0,0]
["1668501","1668502",{"$f":"VLOOKUP(B597, 'School List'!F:G,2,FALSE)","v":"Sheridan El DTS"},"PHBAO",96,0,0,0,0,null,null,null,0,0,0,96,4,0,0,0,0,4,4,0,0,0,0,4,{"$f":"VLOOKUP(A597,'Pivot Norm'!A:B,2,FALSE)","v":2},2,"16685012",0,0,0,0,0,0,0,0,0,0]
["1669901","1669901",{"$f":"VLOOKUP(B598, 'School List'!F:G,2,FALSE)","v":"Sherman Oaks El CS"},"Non-PHBAO",410,172,0,0,0,25,null,null,8,0,0,615,18,6,0,0,0,24,18,7,0,0,0,25,{"$f":"VLOOKUP(A598,'Pivot Norm'!A:B,2,FALSE)","v":1},1,"16699011",1,0,2,1,0,2,1,1,0,0]
["1671201","1671201",{"$f":"VLOOKUP(B599, 'School List'!F:G,2,FALSE)","v":"Shirley El"},"PHBAO",276,112,0,0,0,24,null,null,18,0,19,449,12,5,0,0,0,17,11,5,0,0,0,16,{"$f":"VLOOKUP(A599,'Pivot Norm'!A:B,2,FALSE)","v":1},1,"16712011",1,0,2,1,0,2,0,0,0,0]
["1674001","1674001",{"$f":"VLOOKUP(B600, 'School List'!F:G,2,FALSE)","v":"Short El"},"Non-PHBAO",261,86,0,0,0,null,null,null,22,0,0,369,11,3,0,0,0,14,11,3,0,0,0,14,{"$f":"VLOOKUP(A600,'Pivot Norm'!A:B,2,FALSE)","v":1},1,"16740011",1,0,2,1,0,2,0,0,0,0]
["1675301","1675301",{"$f":"VLOOKUP(B601, 'School List'!F:G,2,FALSE)","v":"Sierra Park El"},"PHBAO",170,132,0,0,0,36,null,null,12,17,0,367,8,5,0,0,0,13,8,5,0,0,0,13,{"$f":"VLOOKUP(A601,'Pivot Norm'!A:B,2,FALSE)","v":1},1,"16753011",1,0,2,1,0,2,0,0,0,0]
["1676701","1676701",{"$f":"VLOOKUP(B602, 'School List'!F:G,2,FALSE)","v":"Sierra Vista El"},"PHBAO",113,68,0,0,0,null,null,null,0,0,8,189,5,3,0,0,0,8,5,3,0,0,0,8,{"$f":"VLOOKUP(A602,'Pivot Norm'!A:B,2,FALSE)","v":1},1,"16767011",1,0,2,1,0,2,0,0,0,0]
["1678101","1678101",{"$f":"VLOOKUP(B603, 'School List'!F:G,2,FALSE)","v":"6th Ave El"},"PHBAO",154,110,0,0,0,12,null,null,24,0,8,308,7,5,0,0,0,12,8,6,0,0,0,14,{"$f":"VLOOKUP(A603,'Pivot Norm'!A:B,2,FALSE)","v":2},1,"16781011",1,0,2,1,0,2,0,0,0,0]
["1678101","1678102",{"$f":"VLOOKUP(B604, 'School List'!F:G,2,FALSE)","v":"6th Ave El DTS"},"PHBAO",56,21,0,0,0,null,null,null,0,0,0,77,3,1,0,0,0,4,3,0,0,0,0,3,{"$f":"VLOOKUP(A604,'Pivot Norm'!A:B,2,FALSE)","v":2},2,"16781012",0,0,0,0,0,0,1,0,0,0]
["1679501","1679501",{"$f":"VLOOKUP(B605, 'School List'!F:G,2,FALSE)","v":"G. Garcetti Lrng Aca"},"PHBAO",329,261,0,0,0,45,null,null,11,0,18,664,14,10,0,0,0,24,13,11,0,0,0,24,{"$f":"VLOOKUP(A605,'Pivot Norm'!A:B,2,FALSE)","v":1},1,"16795011",1,0,2,1,0,2,1,0,0,0]
["1680801","1680801",{"$f":"VLOOKUP(B606, 'School List'!F:G,2,FALSE)","v":"61st St El"},"PHBAO",255,228,0,0,0,48,null,null,42,4,25,602,11,9,0,0,0,20,11,9,0,0,0,20,{"$f":"VLOOKUP(A606,'Pivot Norm'!A:B,2,FALSE)","v":2},1,"16808011",1,0,2,1,0,2,1,0,0,0]
["1680801","1680802",{"$f":"VLOOKUP(B607, 'School List'!F:G,2,FALSE)","v":"61st St El DTS"},"PHBAO",92,0,0,0,0,null,null,null,0,0,0,92,4,0,0,0,0,4,4,0,0,0,0,4,{"$f":"VLOOKUP(A607,'Pivot Norm'!A:B,2,FALSE)","v":2},2,"16808012",0,0,0,0,0,0,0,0,0,0]
["1682201","1682201",{"$f":"VLOOKUP(B608, 'School List'!F:G,2,FALSE)","v":"66th St El"},"PHBAO",398,299,0,0,0,28,null,null,0,0,21,746,17,12,0,0,0,29,18,12,0,0,0,30,{"$f":"VLOOKUP(A608,'Pivot Norm'!A:B,2,FALSE)","v":1},1,"16822011",1,0,2,1,0,3,1,0,0,0]
["1683601","1683601",{"$f":"VLOOKUP(B609, 'School List'!F:G,2,FALSE)","v":"Solano El"},"PHBAO",128,92,0,0,0,null,null,null,0,0,0,220,6,4,0,0,0,10,5,4,0,0,0,9,{"$f":"VLOOKUP(A609,'Pivot Norm'!A:B,2,FALSE)","v":1},1,"16836011",1,0,2,1,0,2,1,0,0,0]
["1684901","1684901",{"$f":"VLOOKUP(B610, 'School List'!F:G,2,FALSE)","v":"Soto El"},"PHBAO",81,68,0,0,0,46,null,null,12,0,0,207,4,3,0,0,0,7,4,3,0,0,0,7,{"$f":"VLOOKUP(A610,'Pivot Norm'!A:B,2,FALSE)","v":1},1,"16849011",1,0,2,1,0,2,1,0,0,0]
["1686301","1686301",{"$f":"VLOOKUP(B611, 'School List'!F:G,2,FALSE)","v":"South Park El"},"PHBAO",452,366,0,0,0,39,null,null,9,0,24,890,19,14,0,0,0,33,20,13,0,0,0,33,{"$f":"VLOOKUP(A611,'Pivot Norm'!A:B,2,FALSE)","v":2},1,"16863011",1,0,3,1,0,3,1,0,0,0]
["1686301","1686302",{"$f":"VLOOKUP(B612, 'School List'!F:G,2,FALSE)","v":"South Park El DTS"},"PHBAO",78,0,0,0,0,null,null,null,0,0,0,78,4,0,0,0,0,4,3,0,0,0,0,3,{"$f":"VLOOKUP(A612,'Pivot Norm'!A:B,2,FALSE)","v":2},2,"16863012",0,0,0,0,0,0,0,0,0,0]
["1686701","1686701",{"$f":"VLOOKUP(B613, 'School List'!F:G,2,FALSE)","v":"Bridges School"},"PHBAO",541,256,396,0,0,null,8,null,0,0,0,1201,23,10,15,0,0,48,24,9,15,0,0,48,{"$f":"VLOOKUP(A613,'Pivot Norm'!A:B,2,FALSE)","v":1},1,"16867011",2,1,4,2,1,3,0,0,0,0]
["1686801","1686801",{"$f":"VLOOKUP(B614, 'School List'!F:G,2,FALSE)","v":"Obama Glbl Prep Acad"},"PHBAO",0,0,295,134,134,null,48,5,0,0,0,482,0,0,12,1,5,18,0,0,11,1,2,14,{"$f":"VLOOKUP(A614,'Pivot Norm'!A:B,2,FALSE)","v":2},1,"16868011",1,1,2,1,1,2,0,0,0,0]
["1686801","1686802",{"$f":"VLOOKUP(B615, 'School List'!F:G,2,FALSE)","v":"Obama GPA STEAM Mag"},"Magnet 2",0,0,78,0,0,null,null,null,0,0,0,78,0,0,4,0,0,4,0,0,2,0,0,2,{"$f":"VLOOKUP(A615,'Pivot Norm'!A:B,2,FALSE)","v":2},2,"16868012",0,0,0,0,0,0,1,0,0,0]
["1686901","1686901",{"$f":"VLOOKUP(B616, 'School List'!F:G,2,FALSE)","v":"Knox El"},"PHBAO",226,197,0,0,0,45,null,null,0,0,0,468,10,8,0,0,0,18,11,8,0,0,0,19,{"$f":"VLOOKUP(A616,'Pivot Norm'!A:B,2,FALSE)","v":3},1,"16869011",1,0,2,1,0,2,1,0,0,0]
["1686901","1686902",{"$f":"VLOOKUP(B617, 'School List'!F:G,2,FALSE)","v":"Knox El DTS"},"PHBAO",79,0,0,0,0,null,null,null,0,0,0,79,4,0,0,0,0,4,3,0,0,0,0,3,{"$f":"VLOOKUP(A617,'Pivot Norm'!A:B,2,FALSE)","v":3},2,"16869012",0,0,0,0,0,0,0,0,0,0]
["1686901","1686903",{"$f":"VLOOKUP(B618, 'School List'!F:G,2,FALSE)","v":"Knox VAPA Mag"},"Magnet 2",92,54,0,0,0,null,null,null,0,0,0,146,4,2,0,0,0,6,4,3,0,0,0,7,{"$f":"VLOOKUP(A618,'Pivot Norm'!A:B,2,FALSE)","v":3},3,"16869013",0,0,0,0,0,0,0,0,0,0]
["1687001","1687001",{"$f":"VLOOKUP(B619, 'School List'!F:G,2,FALSE)","v":"S Shores Per Arts Mg"},"Magnet 1",272,179,0,0,0,null,null,null,0,0,0,451,12,6,0,0,0,18,12,6,0,0,0,18,{"$f":"VLOOKUP(A619,'Pivot Norm'!A:B,2,FALSE)","v":1},1,"16870011",1,0,2,1,0,2,0,0,0,0]
["1687201","1687201",{"$f":"VLOOKUP(B620, 'School List'!F:G,2,FALSE)","v":"Wisdom El"},"PHBAO",387,310,0,0,0,24,null,null,0,19,0,740,17,12,0,0,0,29,18,12,0,0,0,30,{"$f":"VLOOKUP(A620,'Pivot Norm'!A:B,2,FALSE)","v":1},1,"16872011",1,0,2,1,0,3,1,0,0,0]
["1687301","1687301",{"$f":"VLOOKUP(B621, 'School List'!F:G,2,FALSE)","v":"Escalante El"},"PHBAO",309,189,0,0,0,34,null,null,0,0,0,532,13,7,0,0,0,20,13,7,0,0,0,20,{"$f":"VLOOKUP(A621,'Pivot Norm'!A:B,2,FALSE)","v":1},1,"16873011",1,0,2,1,0,2,1,0,0,0]
["1687501","1687501",{"$f":"VLOOKUP(B622, 'School List'!F:G,2,FALSE)","v":"San Miguel El"},"PHBAO",205,131,0,0,0,48,null,null,7,17,22,430,9,5,0,0,0,14,11,6,0,0,0,17,{"$f":"VLOOKUP(A622,'Pivot Norm'!A:B,2,FALSE)","v":4},1,"16875011",1,0,3,1,0,3,1,0,0,0]
["1687501","1687502",{"$f":"VLOOKUP(B623, 'School List'!F:G,2,FALSE)","v":"San Miguel STEAM Mag"},"Magnet 2",125,98,0,0,0,null,null,null,0,0,0,223,6,4,0,0,0,10,5,4,0,0,0,9,{"$f":"VLOOKUP(A623,'Pivot Norm'!A:B,2,FALSE)","v":4},2,"16875012",0,0,0,0,0,0,0,0,0,0]
["1687501","1687503",{"$f":"VLOOKUP(B624, 'School List'!F:G,2,FALSE)","v":"San Miguel El DTS"},"PHBAO",152,0,0,0,0,null,null,null,0,0,0,152,7,0,0,0,0,7,5,0,0,0,0,5,{"$f":"VLOOKUP(A624,'Pivot Norm'!A:B,2,FALSE)","v":4},3,"16875013",0,0,0,0,0,0,1,1,0,0]
["1687501","1687504",{"$f":"VLOOKUP(B625, 'School List'!F:G,2,FALSE)","v":"San Miguel El Dwm"},"PHBAO",30,0,0,0,0,null,null,null,0,0,0,30,2,0,0,0,0,2,1,0,0,0,0,1,{"$f":"VLOOKUP(A625,'Pivot Norm'!A:B,2,FALSE)","v":4},4,"16875014",0,0,0,0,0,0,1,0,0,0]
["1687801","1687801",{"$f":"VLOOKUP(B626, 'School List'!F:G,2,FALSE)","v":"Montara Ave El"},"PHBAO",124,111,0,0,0,35,null,null,18,0,20,308,6,5,0,0,0,11,7,4,0,0,0,11,{"$f":"VLOOKUP(A626,'Pivot Norm'!A:B,2,FALSE)","v":3},1,"16878011",1,0,2,1,0,2,0,0,0,0]
["1687801","1687802",{"$f":"VLOOKUP(B627, 'School List'!F:G,2,FALSE)","v":"Montara El STEM Mag"},"Magnet 2",86,64,0,0,0,null,null,null,0,0,0,150,4,3,0,0,0,7,4,3,0,0,0,7,{"$f":"VLOOKUP(A627,'Pivot Norm'!A:B,2,FALSE)","v":3},2,"16878012",0,0,0,0,0,0,0,0,0,0]
["1687801","1687803",{"$f":"VLOOKUP(B628, 'School List'!F:G,2,FALSE)","v":"Montara Ave El DTS"},"PHBAO",156,110,0,0,0,null,null,null,0,0,0,266,7,5,0,0,0,12,7,4,0,0,0,11,{"$f":"VLOOKUP(A628,'Pivot Norm'!A:B,2,FALSE)","v":3},3,"16878013",0,0,0,0,0,0,0,0,0,0]
["1688001","1688001",{"$f":"VLOOKUP(B629, 'School List'!F:G,2,FALSE)","v":"Independence El"},"PHBAO",168,119,0,0,0,33,null,null,0,0,11,331,7,5,0,0,0,12,9,6,0,0,0,15,{"$f":"VLOOKUP(A629,'Pivot Norm'!A:B,2,FALSE)","v":3},1,"16880011",1,0,2,1,0,2,1,0,0,0]
["1688001","1688002",{"$f":"VLOOKUP(B630, 'School List'!F:G,2,FALSE)","v":"Independence STEM Mg"},"Magnet 2",65,50,0,0,0,null,null,null,0,0,0,115,3,2,0,0,0,5,3,2,0,0,0,5,{"$f":"VLOOKUP(A630,'Pivot Norm'!A:B,2,FALSE)","v":3},2,"16880012",0,0,0,0,0,0,0,0,0,0]
["1688001","1688003",{"$f":"VLOOKUP(B631, 'School List'!F:G,2,FALSE)","v":"Independence DTS"},"PHBAO",53,0,0,0,0,null,null,null,0,0,0,53,3,0,0,0,0,3,2,0,0,0,0,2,{"$f":"VLOOKUP(A631,'Pivot Norm'!A:B,2,FALSE)","v":3},3,"16880013",0,0,0,0,0,0,1,0,0,0]
["1688401","1688401",{"$f":"VLOOKUP(B632, 'School List'!F:G,2,FALSE)","v":"Roybal-Allard El"},"PHBAO",101,63,0,0,0,20,null,null,7,0,13,204,5,3,0,0,0,8,5,3,0,0,0,8,{"$f":"VLOOKUP(A632,'Pivot Norm'!A:B,2,FALSE)","v":3},1,"16884011",1,0,2,1,0,2,0,0,0,0]
["1688401","1688402",{"$f":"VLOOKUP(B633, 'School List'!F:G,2,FALSE)","v":"Roybal-Allard El DTS"},"PHBAO",142,78,0,0,0,null,null,null,0,0,0,220,6,3,0,0,0,9,6,3,0,0,0,9,{"$f":"VLOOKUP(A633,'Pivot Norm'!A:B,2,FALSE)","v":3},2,"16884012",0,0,0,0,0,0,1,0,0,0]
["1688401","1688403",{"$f":"VLOOKUP(B634, 'School List'!F:G,2,FALSE)","v":"Rybl-Allrd DREAMS Mg"},"Magnet 2",52,46,0,0,0,null,null,null,0,0,0,98,3,2,0,0,0,5,3,2,0,0,0,5,{"$f":"VLOOKUP(A634,'Pivot Norm'!A:B,2,FALSE)","v":3},3,"16884013",0,0,0,0,0,0,0,0,0,0]
["1688601","1688601",{"$f":"VLOOKUP(B635, 'School List'!F:G,2,FALSE)","v":"BACA Arts Acad"},"PHBAO",175,148,0,0,0,30,null,null,7,0,15,375,8,6,0,0,0,14,8,6,0,0,0,14,{"$f":"VLOOKUP(A635,'Pivot Norm'!A:B,2,FALSE)","v":2},1,"16886011",1,0,2,1,0,2,0,0,0,0]
["1688601","1688602",{"$f":"VLOOKUP(B636, 'School List'!F:G,2,FALSE)","v":"Baca Arts Aca DTS"},"PHBAO",147,106,0,0,0,null,null,null,0,0,0,253,7,4,0,0,0,11,7,4,0,0,0,11,{"$f":"VLOOKUP(A636,'Pivot Norm'!A:B,2,FALSE)","v":2},2,"16886012",0,0,0,0,0,0,0,0,0,0]
["1689001","1689001",{"$f":"VLOOKUP(B637, 'School List'!F:G,2,FALSE)","v":"Stagg El"},"PHBAO",312,108,0,0,0,22,null,null,8,20,17,487,13,4,0,0,0,17,13,4,0,0,0,17,{"$f":"VLOOKUP(A637,'Pivot Norm'!A:B,2,FALSE)","v":1},1,"16890011",1,0,2,1,0,2,0,0,0,0]
["1690401","1690401",{"$f":"VLOOKUP(B638, 'School List'!F:G,2,FALSE)","v":"Stanford El"},"PHBAO",184,193,0,0,0,12,null,null,0,0,0,389,8,8,0,0,0,16,11,8,0,0,0,19,{"$f":"VLOOKUP(A638,'Pivot Norm'!A:B,2,FALSE)","v":2},1,"16904011",1,0,2,1,0,2,0,1,0,0]
["1690401","1690402",{"$f":"VLOOKUP(B639, 'School List'!F:G,2,FALSE)","v":"Stanford Ave El DTS"},"PHBAO",30,0,0,0,0,null,null,null,0,0,0,30,2,0,0,0,0,2,1,0,0,0,0,1,{"$f":"VLOOKUP(A639,'Pivot Norm'!A:B,2,FALSE)","v":2},2,"16904012",0,0,0,0,0,0,0,0,0,0]
["1690501","1690501",{"$f":"VLOOKUP(B640, 'School List'!F:G,2,FALSE)","v":"Stanford PC"},"PHBAO",83,0,0,0,0,null,null,null,25,18,19,145,4,0,0,0,0,4,4,0,0,0,0,4,{"$f":"VLOOKUP(A640,'Pivot Norm'!A:B,2,FALSE)","v":2},1,"16905011",1,0,2,1,0,2,1,0,0,0]
["1690501","1690502",{"$f":"VLOOKUP(B641, 'School List'!F:G,2,FALSE)","v":"Stanford PC DTS"},"PHBAO",20,0,0,0,0,null,null,null,0,0,0,20,1,0,0,0,0,1,1,0,0,0,0,1,{"$f":"VLOOKUP(A641,'Pivot Norm'!A:B,2,FALSE)","v":2},2,"16905012",0,0,0,0,0,0,0,0,0,0]
["1691801","1691801",{"$f":"VLOOKUP(B642, 'School List'!F:G,2,FALSE)","v":"State El"},"PHBAO",180,140,0,0,0,48,null,null,0,0,21,389,8,6,0,0,0,14,9,6,0,0,0,15,{"$f":"VLOOKUP(A642,'Pivot Norm'!A:B,2,FALSE)","v":2},1,"16918011",1,0,2,1,0,2,0,0,0,0]
["1691801","1691802",{"$f":"VLOOKUP(B643, 'School List'!F:G,2,FALSE)","v":"State St El DTS"},"PHBAO",74,0,0,0,0,null,null,null,0,0,0,74,4,0,0,0,0,4,3,0,0,0,0,3,{"$f":"VLOOKUP(A643,'Pivot Norm'!A:B,2,FALSE)","v":2},2,"16918012",0,0,0,0,0,0,0,0,0,0]
["1692001","1692001",{"$f":"VLOOKUP(B644, 'School List'!F:G,2,FALSE)","v":"Hope El"},"PHBAO",293,150,0,0,0,43,null,null,0,0,20,506,13,6,0,0,0,19,12,6,0,0,0,18,{"$f":"VLOOKUP(A644,'Pivot Norm'!A:B,2,FALSE)","v":1},1,"16920011",1,0,2,1,0,2,1,0,0,0]
["1693201","1693201",{"$f":"VLOOKUP(B645, 'School List'!F:G,2,FALSE)","v":"Sterry El"},"PHBAO",138,66,0,0,0,14,null,null,0,0,13,231,6,3,0,0,0,9,6,3,0,0,0,9,{"$f":"VLOOKUP(A645,'Pivot Norm'!A:B,2,FALSE)","v":1},1,{"$f":"A645&AD645","v":"16932011"},1,0,2,1,0,2,1,0,0,0]
["1694501","1694501",{"$f":"VLOOKUP(B646, 'School List'!F:G,2,FALSE)","v":"Stonehurst STEAM Mag"},"Magnet 2",174,97,0,0,0,21,null,null,3,16,0,311,8,4,0,0,0,12,8,4,0,0,0,12,{"$f":"VLOOKUP(A646,'Pivot Norm'!A:B,2,FALSE)","v":1},1,"16945011",1,0,2,1,0,2,0,0,0,0]
["1695201","1695201",{"$f":"VLOOKUP(B647, 'School List'!F:G,2,FALSE)","v":"Stoner El"},"PHBAO",103,49,0,0,0,27,null,null,0,19,0,198,5,2,0,0,0,7,4,3,0,0,0,7,{"$f":"VLOOKUP(A647,'Pivot Norm'!A:B,2,FALSE)","v":2},{"$f":"IF(A647=A646,AD646+1,1)","v":1},"16952011",1,0,2,1,0,2,0,0,0,0]
["1695201","1695202",{"$f":"VLOOKUP(B648, 'School List'!F:G,2,FALSE)","v":"Stoner Ave El DOS"},"PHBAO",93,40,0,0,0,null,null,null,0,0,0,133,4,2,0,0,0,6,4,1,0,0,0,5,{"$f":"VLOOKUP(A648,'Pivot Norm'!A:B,2,FALSE)","v":2},2,"16952012",0,0,0,0,0,0,1,0,1,0]
["1695901","1695901",{"$f":"VLOOKUP(B649, 'School List'!F:G,2,FALSE)","v":"Strathern El"},"PHBAO",331,148,0,0,0,23,null,null,15,20,16,553,14,6,0,0,0,20,13,6,0,0,0,19,{"$f":"VLOOKUP(A649,'Pivot Norm'!A:B,2,FALSE)","v":1},1,"16959011",1,0,2,1,0,2,1,0,0,0]
["1697301","1697301",{"$f":"VLOOKUP(B650, 'School List'!F:G,2,FALSE)","v":"Sunland El"},"PHBAO",177,71,0,0,0,22,null,null,14,17,0,301,8,3,0,0,0,11,7,3,0,0,0,10,{"$f":"VLOOKUP(A650,'Pivot Norm'!A:B,2,FALSE)","v":2},1,"16973011",1,0,2,1,0,2,1,0,0,0]
["1697301","1697302",{"$f":"VLOOKUP(B651, 'School List'!F:G,2,FALSE)","v":"Sunland El Gifted Mg"},"Magnet 1",35,51,0,0,0,null,null,null,0,0,0,86,2,2,0,0,0,4,2,2,0,0,0,4,{"$f":"VLOOKUP(A651,'Pivot Norm'!A:B,2,FALSE)","v":2},2,"16973012",0,0,0,0,0,0,0,0,0,0]
["1698601","1698601",{"$f":"VLOOKUP(B652, 'School List'!F:G,2,FALSE)","v":"Sunny Brae El"},"PHBAO",180,76,0,0,0,44,null,null,20,37,21,378,8,3,0,0,0,11,8,3,0,0,0,11,{"$f":"VLOOKUP(A652,'Pivot Norm'!A:B,2,FALSE)","v":3},1,"16986011",1,0,2,1,0,2,1,0,0,0]
["1698601","1698602",{"$f":"VLOOKUP(B653, 'School List'!F:G,2,FALSE)","v":"Sunny Brae GA Mag"},"Magnet 2",88,48,0,0,0,null,null,null,0,0,0,136,4,2,0,0,0,6,4,2,0,0,0,6,{"$f":"VLOOKUP(A653,'Pivot Norm'!A:B,2,FALSE)","v":3},2,"16986012",0,0,0,0,0,0,0,0,0,0]
["1698601","1698603",{"$f":"VLOOKUP(B654, 'School List'!F:G,2,FALSE)","v":"Sunny Brae El DTS"},"PHBAO",61,0,0,0,0,null,null,null,0,0,0,61,3,0,0,0,0,3,2,0,0,0,0,2,{"$f":"VLOOKUP(A654,'Pivot Norm'!A:B,2,FALSE)","v":3},3,"16986013",0,0,0,0,0,0,0,0,0,0]
["1698801","1698801",{"$f":"VLOOKUP(B655, 'School List'!F:G,2,FALSE)","v":"Sunrise El"},"PHBAO",95,104,0,0,0,37,null,null,17,0,10,263,4,4,0,0,0,8,4,5,0,0,0,9,{"$f":"VLOOKUP(A655,'Pivot Norm'!A:B,2,FALSE)","v":2},1,"16988011",1,0,2,1,0,2,0,0,0,0]
["1698801","1698802",{"$f":"VLOOKUP(B656, 'School List'!F:G,2,FALSE)","v":"Sunrise El DTS"},"PHBAO",85,17,0,0,0,null,null,null,0,0,0,102,4,1,0,0,0,5,4,0,0,0,0,4,{"$f":"VLOOKUP(A656,'Pivot Norm'!A:B,2,FALSE)","v":2},2,"16988012",0,0,0,0,0,0,0,0,0,0]
["1700701","1700701",{"$f":"VLOOKUP(B657, 'School List'!F:G,2,FALSE)","v":"Superior El"},"PHBAO",319,157,0,0,0,13,null,null,8,0,0,497,14,6,0,0,0,20,13,6,0,0,0,19,{"$f":"VLOOKUP(A657,'Pivot Norm'!A:B,2,FALSE)","v":1},1,"17007011",1,0,2,1,0,2,0,0,0,0]
["1701401","1701401",{"$f":"VLOOKUP(B658, 'School List'!F:G,2,FALSE)","v":"Sylmar El"},"PHBAO",227,138,0,0,0,44,null,null,10,0,18,437,10,6,0,0,0,16,11,5,0,0,0,16,{"$f":"VLOOKUP(A658,'Pivot Norm'!A:B,2,FALSE)","v":1},1,"17014011",1,0,2,1,0,2,0,1,0,0]
["1702701","1702701",{"$f":"VLOOKUP(B659, 'School List'!F:G,2,FALSE)","v":"Sylvan Park El"},"PHBAO",447,218,0,0,0,31,null,null,17,0,19,732,19,9,0,0,0,28,20,8,0,0,0,28,{"$f":"VLOOKUP(A659,'Pivot Norm'!A:B,2,FALSE)","v":1},1,"17027011",1,0,2,1,0,3,0,0,0,0]
["1703501","1703501",{"$f":"VLOOKUP(B660, 'School List'!F:G,2,FALSE)","v":"Taper El"},"PHBAO",264,121,0,0,0,13,null,null,0,0,0,398,11,5,0,0,0,16,13,5,0,0,0,18,{"$f":"VLOOKUP(A660,'Pivot Norm'!A:B,2,FALSE)","v":2},1,"17035011",1,0,2,1,0,2,0,0,1,0]
["1703501","1703502",{"$f":"VLOOKUP(B661, 'School List'!F:G,2,FALSE)","v":"Taper STEAM Mag"},"Magnet 2",180,117,0,0,0,null,null,null,0,0,0,297,8,5,0,0,0,13,8,4,0,0,0,12,{"$f":"VLOOKUP(A661,'Pivot Norm'!A:B,2,FALSE)","v":2},2,"17035012",0,0,0,0,0,0,0,0,0,0]
["1704101","1704101",{"$f":"VLOOKUP(B662, 'School List'!F:G,2,FALSE)","v":"Tarzana El"},"Non-PHBAO",149,88,0,0,0,18,null,null,2,0,0,257,7,3,0,0,0,10,7,4,0,0,0,11,{"$f":"VLOOKUP(A662,'Pivot Norm'!A:B,2,FALSE)","v":1},1,"17041011",1,0,2,1,0,2,1,0,0,0]
["1706801","1706801",{"$f":"VLOOKUP(B663, 'School List'!F:G,2,FALSE)","v":"Telfair El"},"PHBAO",126,186,0,0,0,31,null,null,28,0,23,394,6,7,0,0,0,13,9,8,0,0,0,17,{"$f":"VLOOKUP(A663,'Pivot Norm'!A:B,2,FALSE)","v":2},1,"17068011",1,0,2,1,0,2,1,0,1,0]
["1706801","1706802",{"$f":"VLOOKUP(B664, 'School List'!F:G,2,FALSE)","v":"Telfair Ave El DTS"},"PHBAO",271,0,0,0,0,null,null,null,0,0,0,271,12,0,0,0,0,12,9,0,0,0,0,9,{"$f":"VLOOKUP(A664,'Pivot Norm'!A:B,2,FALSE)","v":2},2,"17068012",0,0,0,0,0,0,0,0,0,0]
["1708201","1708201",{"$f":"VLOOKUP(B665, 'School List'!F:G,2,FALSE)","v":"10th St El"},"PHBAO",220,180,0,0,0,17,null,null,0,0,0,417,10,7,0,0,0,17,11,8,0,0,0,19,{"$f":"VLOOKUP(A665,'Pivot Norm'!A:B,2,FALSE)","v":1},1,"17082011",1,0,2,1,0,2,0,0,0,0]
["1711001","1711001",{"$f":"VLOOKUP(B666, 'School List'!F:G,2,FALSE)","v":"3rd St El"},"Non-PHBAO",357,76,0,0,0,8,null,null,9,0,21,471,15,3,0,0,0,18,16,4,0,0,0,20,{"$f":"VLOOKUP(A666,'Pivot Norm'!A:B,2,FALSE)","v":3},1,"17110011",1,0,2,1,0,2,0,0,0,0]
["1711001","1711002",{"$f":"VLOOKUP(B667, 'School List'!F:G,2,FALSE)","v":"3rd St El DTK"},"PHBAO",94,41,0,0,0,null,null,null,0,0,0,135,4,2,0,0,0,6,4,2,0,0,0,6,{"$f":"VLOOKUP(A667,'Pivot Norm'!A:B,2,FALSE)","v":3},2,"17110012",0,0,0,0,0,0,0,0,0,0]
["1711001","1711003",{"$f":"VLOOKUP(B668, 'School List'!F:G,2,FALSE)","v":"3rd St ES Gifted Mag"},"Magnet 2",24,54,0,0,0,null,null,null,null,null,null,78,1,2,0,0,0,3,0,0,0,0,0,0,{"$f":"VLOOKUP(A668,'Pivot Norm'!A:B,2,FALSE)","v":3},3,"17110013",0,0,0,0,0,0,0,0,0,0]
["1712301","1712301",{"$f":"VLOOKUP(B669, 'School List'!F:G,2,FALSE)","v":"Bradley Glbl Awr Mag"},"Magnet 2",124,80,0,0,0,null,null,null,0,0,0,204,6,3,0,0,0,9,6,3,0,0,0,9,{"$f":"VLOOKUP(A669,'Pivot Norm'!A:B,2,FALSE)","v":1},1,"17123011",1,0,2,1,0,2,0,0,0,0]
["1713701","1713701",{"$f":"VLOOKUP(B670, 'School List'!F:G,2,FALSE)","v":"32nd/USC Per Art Mag"},"Magnet 2",230,158,0,0,0,null,null,null,0,0,0,388,10,6,0,0,0,16,10,6,0,0,0,16,{"$f":"VLOOKUP(A670,'Pivot Norm'!A:B,2,FALSE)","v":2},1,"17137011",2,1,3,2,1,3,0,0,0,0]
["1713701","1713702",{"$f":"VLOOKUP(B671, 'School List'!F:G,2,FALSE)","v":"LAUSD/USC"},"Magnet 2",0,0,300,0,300,null,null,null,0,0,0,600,0,0,12,0,12,24,0,0,12,0,12,24,{"$f":"VLOOKUP(A671,'Pivot Norm'!A:B,2,FALSE)","v":2},2,"17137012",0,0,0,0,0,0,0,0,0,0]
["1715101","1715101",{"$f":"VLOOKUP(B672, 'School List'!F:G,2,FALSE)","v":"Weemes El"},"PHBAO",275,131,0,0,0,38,null,null,0,20,9,473,12,5,0,0,0,17,12,6,0,0,0,18,{"$f":"VLOOKUP(A672,'Pivot Norm'!A:B,2,FALSE)","v":1},1,"17151011",1,0,2,1,0,2,0,0,0,0]
["1716401","1716401",{"$f":"VLOOKUP(B673, 'School List'!F:G,2,FALSE)","v":"Bright El"},"PHBAO",278,124,0,0,0,8,null,null,0,0,9,419,12,5,0,0,0,17,12,5,0,0,0,17,{"$f":"VLOOKUP(A673,'Pivot Norm'!A:B,2,FALSE)","v":1},1,"17164011",1,0,2,1,0,2,2,0,0,0]
["1717801","1717801",{"$f":"VLOOKUP(B674, 'School List'!F:G,2,FALSE)","v":"Toland Way El"},"PHBAO",124,118,0,0,0,17,null,null,10,0,6,275,6,5,0,0,0,11,7,5,0,0,0,12,{"$f":"VLOOKUP(A674,'Pivot Norm'!A:B,2,FALSE)","v":1},1,"17178011",1,0,2,1,0,2,0,0,0,0]
["1719201","1719201",{"$f":"VLOOKUP(B675, 'School List'!F:G,2,FALSE)","v":"Toluca Lake El"},"PHBAO",349,129,0,0,0,20,null,null,20,15,0,533,15,5,0,0,0,20,14,5,0,0,0,19,{"$f":"VLOOKUP(A675,'Pivot Norm'!A:B,2,FALSE)","v":1},1,"17192011",1,0,2,1,0,2,0,0,0,0]
["1719801","1719801",{"$f":"VLOOKUP(B676, 'School List'!F:G,2,FALSE)","v":"Topanga El CS"},"Non-PHBAO",172,56,0,0,0,null,null,null,0,0,0,228,8,2,0,0,0,10,7,2,0,0,0,9,{"$f":"VLOOKUP(A676,'Pivot Norm'!A:B,2,FALSE)","v":1},1,"17198011",1,0,2,1,0,2,1,1,0,0]
["1720101","1720101",{"$f":"VLOOKUP(B677, 'School List'!F:G,2,FALSE)","v":"Topeka Charter"},"PHBAO",356,171,0,0,0,24,null,null,23,0,0,574,15,7,0,0,0,22,15,7,0,0,0,22,{"$f":"VLOOKUP(A677,'Pivot Norm'!A:B,2,FALSE)","v":1},1,"17201011",1,0,2,1,0,2,0,0,0,0]
["1720501","1720501",{"$f":"VLOOKUP(B678, 'School List'!F:G,2,FALSE)","v":"Towne El"},"PHBAO",218,79,0,0,0,12,null,null,0,0,15,324,10,3,0,0,0,13,9,4,0,0,0,13,{"$f":"VLOOKUP(A678,'Pivot Norm'!A:B,2,FALSE)","v":1},1,"17205011",1,0,2,1,0,2,0,0,1,0]
["1721901","1721901",{"$f":"VLOOKUP(B679, 'School List'!F:G,2,FALSE)","v":"Trinity El"},"PHBAO",84,116,0,0,0,12,null,null,0,0,0,212,4,5,0,0,0,9,5,5,0,0,0,10,{"$f":"VLOOKUP(A679,'Pivot Norm'!A:B,2,FALSE)","v":2},1,"17219011",1,0,2,1,0,2,0,0,0,0]
["1721901","1721902",{"$f":"VLOOKUP(B680, 'School List'!F:G,2,FALSE)","v":"Trinity St El DTS"},"PHBAO",36,0,0,0,0,null,null,null,0,0,0,36,2,0,0,0,0,2,1,0,0,0,0,1,{"$f":"VLOOKUP(A680,'Pivot Norm'!A:B,2,FALSE)","v":2},2,"17219012",0,0,0,0,0,0,0,0,0,0]
["1722001","1722001",{"$f":"VLOOKUP(B681, 'School List'!F:G,2,FALSE)","v":"Maple PC"},"PHBAO",106,0,0,0,0,9,null,null,40,36,0,191,5,0,0,0,0,5,5,0,0,0,0,5,{"$f":"VLOOKUP(A681,'Pivot Norm'!A:B,2,FALSE)","v":2},1,"17220011",1,0,2,1,0,2,0,0,0,0]
["1722001","1722002",{"$f":"VLOOKUP(B682, 'School List'!F:G,2,FALSE)","v":"Maple PC DTS"},"PHBAO",36,0,0,0,0,null,null,null,0,0,0,36,2,0,0,0,0,2,2,0,0,0,0,2,{"$f":"VLOOKUP(A682,'Pivot Norm'!A:B,2,FALSE)","v":2},2,"17220012",0,0,0,0,0,0,0,0,0,0]
["1724701","1724701",{"$f":"VLOOKUP(B683, 'School List'!F:G,2,FALSE)","v":"Tulsa El"},"PHBAO",267,144,0,0,0,39,null,null,0,0,0,450,12,6,0,0,0,18,11,6,0,0,0,17,{"$f":"VLOOKUP(A683,'Pivot Norm'!A:B,2,FALSE)","v":1},1,"17247011",1,0,2,1,0,2,1,0,0,0]
["1726001","1726001",{"$f":"VLOOKUP(B684, 'School List'!F:G,2,FALSE)","v":"Tweedy El"},"PHBAO",221,157,0,0,0,35,null,null,16,0,6,435,10,6,0,0,0,16,11,7,0,0,0,18,{"$f":"VLOOKUP(A684,'Pivot Norm'!A:B,2,FALSE)","v":2},1,"17260011",1,0,2,1,0,2,0,0,0,0]
["1726001","1726002",{"$f":"VLOOKUP(B685, 'School List'!F:G,2,FALSE)","v":"Tweedy El DTS"},"PHBAO",74,0,0,0,0,null,null,null,0,0,0,74,4,0,0,0,0,4,3,0,0,0,0,3,{"$f":"VLOOKUP(A685,'Pivot Norm'!A:B,2,FALSE)","v":2},2,"17260012",0,0,0,0,0,0,0,0,0,0]
["1727401","1727401",{"$f":"VLOOKUP(B686, 'School List'!F:G,2,FALSE)","v":"20th St El"},"PHBAO",234,127,0,0,0,31,null,null,17,0,23,432,10,5,0,0,0,15,10,7,0,0,0,17,{"$f":"VLOOKUP(A686,'Pivot Norm'!A:B,2,FALSE)","v":2},1,"17274011",1,0,2,1,0,2,1,0,0,0]
["1727401","1727402",{"$f":"VLOOKUP(B687, 'School List'!F:G,2,FALSE)","v":"20th St El DTS"},"PHBAO",111,22,0,0,0,null,null,null,0,0,0,133,5,1,0,0,0,6,5,0,0,0,0,5,{"$f":"VLOOKUP(A687,'Pivot Norm'!A:B,2,FALSE)","v":2},2,"17274012",0,0,0,0,0,0,0,0,0,0]
["1728801","1728801",{"$f":"VLOOKUP(B688, 'School List'!F:G,2,FALSE)","v":"28th St El"},"PHBAO",249,142,0,0,0,21,null,null,0,0,11,423,11,6,0,0,0,17,11,6,0,0,0,17,{"$f":"VLOOKUP(A688,'Pivot Norm'!A:B,2,FALSE)","v":2},1,"17288011",1,0,2,1,0,2,1,0,0,0]
["1728801","1728802",{"$f":"VLOOKUP(B689, 'School List'!F:G,2,FALSE)","v":"28th St El DOS"},"PHBAO",77,63,0,0,0,null,null,null,0,0,0,140,4,3,0,0,0,7,5,2,0,0,0,7,{"$f":"VLOOKUP(A689,'Pivot Norm'!A:B,2,FALSE)","v":2},2,"17288012",0,0,0,0,0,0,0,0,0,0]
["1730101","1730101",{"$f":"VLOOKUP(B690, 'School List'!F:G,2,FALSE)","v":"24th St El"},"PHBAO",374,95,0,0,0,41,null,null,18,0,7,535,16,4,0,0,0,20,16,4,0,0,0,20,{"$f":"VLOOKUP(A690,'Pivot Norm'!A:B,2,FALSE)","v":1},1,"17301011",1,0,2,1,0,2,0,0,0,0]
["1732901","1732901",{"$f":"VLOOKUP(B691, 'School List'!F:G,2,FALSE)","v":"232nd Pl El"},"PHBAO",251,58,0,0,0,19,null,null,8,0,24,360,11,3,0,0,0,14,10,3,0,0,0,13,{"$f":"VLOOKUP(A691,'Pivot Norm'!A:B,2,FALSE)","v":2},1,"17329011",1,0,2,1,0,2,1,0,0,0]
["1732901","1732902",{"$f":"VLOOKUP(B692, 'School List'!F:G,2,FALSE)","v":"232nd STEMM Mag"},"Magnet 2",20,50,0,0,0,null,null,null,0,0,0,70,1,2,0,0,0,3,1,2,0,0,0,3,{"$f":"VLOOKUP(A692,'Pivot Norm'!A:B,2,FALSE)","v":2},2,"17329012",0,0,0,0,0,0,0,0,0,0]
["1734201","1734201",{"$f":"VLOOKUP(B693, 'School List'!F:G,2,FALSE)","v":"Meyler El"},"PHBAO",281,134,0,0,0,46,null,null,0,0,22,483,12,5,0,0,0,17,11,5,0,0,0,16,{"$f":"VLOOKUP(A693,'Pivot Norm'!A:B,2,FALSE)","v":2},1,"17342011",1,0,2,1,0,2,0,0,0,0]
["1734201","1734202",{"$f":"VLOOKUP(B694, 'School List'!F:G,2,FALSE)","v":"Meyler St El DTS"},"PHBAO",129,84,0,0,0,null,null,null,0,0,0,213,6,4,0,0,0,10,7,3,0,0,0,10,{"$f":"VLOOKUP(A694,'Pivot Norm'!A:B,2,FALSE)","v":2},2,"17342012",0,0,0,0,0,0,0,0,0,0]
["1735601","1735601",{"$f":"VLOOKUP(B695, 'School List'!F:G,2,FALSE)","v":"Union El"},"PHBAO",546,299,0,0,0,56,null,null,0,10,25,936,23,12,0,0,0,35,25,12,0,0,0,37,{"$f":"VLOOKUP(A695,'Pivot Norm'!A:B,2,FALSE)","v":1},1,"17356011",1,0,3,1,0,3,0,0,1,0]
["1737001","1737001",{"$f":"VLOOKUP(B696, 'School List'!F:G,2,FALSE)","v":"Utah El"},"PHBAO",124,65,138,0,0,42,13,null,18,0,0,400,6,3,6,0,0,15,6,3,6,0,0,15,{"$f":"VLOOKUP(A696,'Pivot Norm'!A:B,2,FALSE)","v":1},1,"17370011",1,0.5,2,1,0.5,2,0,0,0,0]
["1738401","1738401",{"$f":"VLOOKUP(B697, 'School List'!F:G,2,FALSE)","v":"Valerio El"},"PHBAO",453,229,0,0,0,23,null,null,38,19,22,784,19,9,0,0,0,28,20,9,0,0,0,29,{"$f":"VLOOKUP(A697,'Pivot Norm'!A:B,2,FALSE)","v":1},1,"17384011",1,0,3,1,0,3,0,0,0,0]
["1739001","1739001",{"$f":"VLOOKUP(B698, 'School List'!F:G,2,FALSE)","v":"Lake Balboa Clg Prep"},"Magnet 1",134,109,190,0,187,null,null,1,0,0,0,621,6,4,8,0,7,25,6,4,8,0,7,25,{"$f":"VLOOKUP(A698,'Pivot Norm'!A:B,2,FALSE)","v":1},1,"17390011",1,1,2,1,0.5,2,0,0,0,0.5]
["1739701","1739701",{"$f":"VLOOKUP(B699, 'School List'!F:G,2,FALSE)","v":"Valley View El"},"Non-PHBAO",175,54,0,0,0,null,null,null,0,0,0,229,8,2,0,0,0,10,7,2,0,0,0,9,{"$f":"VLOOKUP(A699,'Pivot Norm'!A:B,2,FALSE)","v":1},1,"17397011",1,0,2,1,0,2,1,0,0,0]
["1739801","1739801",{"$f":"VLOOKUP(B700, 'School List'!F:G,2,FALSE)","v":"Alta California El"},"PHBAO",310,142,0,0,0,30,null,null,17,0,0,499,13,6,0,0,0,19,13,6,0,0,0,19,{"$f":"VLOOKUP(A700,'Pivot Norm'!A:B,2,FALSE)","v":2},1,"17398011",1,0,2,1,0,2,0,0,0,0]
["1739801","1739802",{"$f":"VLOOKUP(B701, 'School List'!F:G,2,FALSE)","v":"Alta Cal GSTEAM Mag"},"Magnet 2",48,108,0,0,0,null,null,null,0,0,0,156,2,4,0,0,0,6,2,4,0,0,0,6,{"$f":"VLOOKUP(A701,'Pivot Norm'!A:B,2,FALSE)","v":2},2,"17398012",0,0,0,0,0,0,0,0,0,0]
["1739901","1739901",{"$f":"VLOOKUP(B702, 'School List'!F:G,2,FALSE)","v":"Korenstein El"},"PHBAO",208,95,0,0,0,null,null,null,7,19,0,329,9,4,0,0,0,13,10,4,0,0,0,14,{"$f":"VLOOKUP(A702,'Pivot Norm'!A:B,2,FALSE)","v":1},1,"17399011",1,0,2,1,0,2,1,0,0,0]
["1740001","1740001",{"$f":"VLOOKUP(B703, 'School List'!F:G,2,FALSE)","v":"Vista Del Valle Acad"},"PHBAO",17,40,0,0,0,null,null,null,10,18,0,85,1,2,0,0,0,3,2,2,0,0,0,4,{"$f":"VLOOKUP(A703,'Pivot Norm'!A:B,2,FALSE)","v":2},1,"17400011",1,0,2,1,0,2,0,0,0,0]
["1740001","1740002",{"$f":"VLOOKUP(B704, 'School List'!F:G,2,FALSE)","v":"Vista Del Valle DTS"},"PHBAO",276,96,0,0,0,null,null,null,0,0,0,372,12,4,0,0,0,16,11,4,0,0,0,15,{"$f":"VLOOKUP(A704,'Pivot Norm'!A:B,2,FALSE)","v":2},2,"17400012",0,0,0,0,0,0,0,0,0,0]
["1740101","1740101",{"$f":"VLOOKUP(B705, 'School List'!F:G,2,FALSE)","v":"Cardenas El"},"PHBAO",284,125,0,0,0,40,null,null,20,20,0,489,12,5,0,0,0,17,13,5,0,0,0,18,{"$f":"VLOOKUP(A705,'Pivot Norm'!A:B,2,FALSE)","v":1},1,"17401011",1,0,2,1,0,2,0,0,0,0]
["1740201","1740201",{"$f":"VLOOKUP(B706, 'School List'!F:G,2,FALSE)","v":"Mosk El"},"PHBAO",217,107,0,0,0,13,null,null,1,21,0,359,10,4,0,0,0,14,11,4,0,0,0,15,{"$f":"VLOOKUP(A706,'Pivot Norm'!A:B,2,FALSE)","v":2},1,"17402011",1,0,2,1,0,2,1,0,1,0]
["1740201","1740202",{"$f":"VLOOKUP(B707, 'School List'!F:G,2,FALSE)","v":"Mosk ES STEAM Magnet"},"Magnet 2",92,53,0,0,0,null,null,null,0,0,0,145,4,2,0,0,0,6,4,2,0,0,0,6,{"$f":"VLOOKUP(A707,'Pivot Norm'!A:B,2,FALSE)","v":2},2,"17402012",0,0,0,0,0,0,0,0,0,0]
["1740401","1740401",{"$f":"VLOOKUP(B708, 'School List'!F:G,2,FALSE)","v":"Santana Arts Academy"},"PHBAO",116,68,0,0,0,7,null,null,0,0,0,191,5,3,0,0,0,8,5,3,0,0,0,8,{"$f":"VLOOKUP(A708,'Pivot Norm'!A:B,2,FALSE)","v":2},1,"17404011",1,0,2,1,0,2,1,0,0,0]
["1740401","1740402",{"$f":"VLOOKUP(B709, 'School List'!F:G,2,FALSE)","v":"Santana Arts Aca DTS"},"PHBAO",150,90,0,0,0,null,null,null,0,0,0,240,7,4,0,0,0,11,7,4,0,0,0,11,{"$f":"VLOOKUP(A709,'Pivot Norm'!A:B,2,FALSE)","v":2},2,{"$f":"A709&AD709","v":"17404012"},0,0,0,0,0,0,1,0,0,0]
["1740801","1740801",{"$f":"VLOOKUP(B710, 'School List'!F:G,2,FALSE)","v":"Sylmar Ldshp Acad"},"PHBAO",371,166,280,0,0,25,16,null,0,0,0,858,16,7,11,0,0,34,16,6,11,0,0,33,{"$f":"VLOOKUP(A710,'Pivot Norm'!A:B,2,FALSE)","v":1},1,"17408011",2,0.5,3,2,0.5,3,0,0,0,0]
["1741101","1741101",{"$f":"VLOOKUP(B711, 'School List'!F:G,2,FALSE)","v":"Vanalden El"},"PHBAO",293,128,0,0,0,26,null,null,0,0,24,471,13,5,0,0,0,18,12,5,0,0,0,17,{"$f":"VLOOKUP(A711,'Pivot Norm'!A:B,2,FALSE)","v":1},{"$f":"IF(A711=A710,AD710+1,1)","v":1},"17411011",1,0,2,1,0,2,0,0,0,0]
["1741901","1741901",{"$f":"VLOOKUP(B712, 'School List'!F:G,2,FALSE)","v":"Van Deene El"},"PHBAO",178,111,0,0,0,null,null,null,16,0,15,320,8,5,0,0,0,13,8,5,0,0,0,13,{"$f":"VLOOKUP(A712,'Pivot Norm'!A:B,2,FALSE)","v":1},1,"17419011",1,0,2,1,0,2,1,0,0,0]
["1742201","1742201",{"$f":"VLOOKUP(B713, 'School List'!F:G,2,FALSE)","v":"Van Gogh Charter"},"Non-PHBAO",294,127,0,0,0,11,null,null,0,0,0,432,13,4,0,0,0,17,12,4,0,0,0,16,{"$f":"VLOOKUP(A713,'Pivot Norm'!A:B,2,FALSE)","v":1},1,"17422011",1,0,2,1,0,2,1,0,0,0]
["1742501","1742501",{"$f":"VLOOKUP(B714, 'School List'!F:G,2,FALSE)","v":"Van Ness El"},"PHBAO",104,61,0,0,0,28,null,null,8,6,0,207,5,3,0,0,0,8,5,3,0,0,0,8,{"$f":"VLOOKUP(A714,'Pivot Norm'!A:B,2,FALSE)","v":1},1,"17425011",1,0,2,1,0,2,0,0,0,0]
["1743201","1743201",{"$f":"VLOOKUP(B715, 'School List'!F:G,2,FALSE)","v":"Columbus Ave El"},"PHBAO",256,132,0,0,0,23,null,null,0,0,0,411,11,5,0,0,0,16,12,5,0,0,0,17,{"$f":"VLOOKUP(A715,'Pivot Norm'!A:B,2,FALSE)","v":1},1,"17432011",1,0,2,1,0,2,1,0,0,0]
["1743801","1743801",{"$f":"VLOOKUP(B716, 'School List'!F:G,2,FALSE)","v":"Van Nuys El"},"PHBAO",305,128,0,0,0,29,null,null,8,0,18,488,13,5,0,0,0,18,13,5,0,0,0,18,{"$f":"VLOOKUP(A716,'Pivot Norm'!A:B,2,FALSE)","v":1},1,"17438011",1,0,2,1,0,2,2,0,0,0]
["1746601","1746601",{"$f":"VLOOKUP(B717, 'School List'!F:G,2,FALSE)","v":"Vena El"},"PHBAO",257,113,0,0,0,8,null,null,6,0,11,395,11,5,0,0,0,16,12,4,0,0,0,16,{"$f":"VLOOKUP(A717,'Pivot Norm'!A:B,2,FALSE)","v":2},1,"17466011",1,0,2,1,0,2,0,1,0,0]
["1746601","1746602",{"$f":"VLOOKUP(B718, 'School List'!F:G,2,FALSE)","v":"Vena El Gifted Mag"},"Magnet 2",75,95,0,0,0,null,null,null,0,0,0,170,4,4,0,0,0,8,3,4,0,0,0,7,{"$f":"VLOOKUP(A718,'Pivot Norm'!A:B,2,FALSE)","v":2},2,"17466012",0,0,0,0,0,0,0,0,0,0]
["1747901","1747901",{"$f":"VLOOKUP(B719, 'School List'!F:G,2,FALSE)","v":"Vermont El"},"PHBAO",213,130,0,0,0,28,null,null,9,0,4,384,9,5,0,0,0,14,11,6,0,0,0,17,{"$f":"VLOOKUP(A719,'Pivot Norm'!A:B,2,FALSE)","v":1},1,"17479011",1,0,2,1,0,2,1,0,0,0]
["1749301","1749301",{"$f":"VLOOKUP(B720, 'School List'!F:G,2,FALSE)","v":"Vernon City El"},"PHBAO",87,83,0,0,0,null,null,null,5,3,0,178,4,4,0,0,0,8,5,4,0,0,0,9,{"$f":"VLOOKUP(A720,'Pivot Norm'!A:B,2,FALSE)","v":1},1,"17493011",1,0,2,1,0,2,0,0,0,0]
["1750701","1750701",{"$f":"VLOOKUP(B721, 'School List'!F:G,2,FALSE)","v":"Victoria El"},"PHBAO",273,109,0,0,0,11,null,null,0,0,9,402,12,5,0,0,0,17,11,4,0,0,0,15,{"$f":"VLOOKUP(A721,'Pivot Norm'!A:B,2,FALSE)","v":1},1,"17507011",1,0,2,1,0,2,1,0,0,0]
["1752101","1752101",{"$f":"VLOOKUP(B722, 'School List'!F:G,2,FALSE)","v":"Victory El"},"PHBAO",241,74,0,0,0,36,null,null,14,0,27,392,11,3,0,0,0,14,11,4,0,0,0,15,{"$f":"VLOOKUP(A722,'Pivot Norm'!A:B,2,FALSE)","v":2},1,"17521011",1,0,2,1,0,2,0,1,0,0]
["1752101","1752102",{"$f":"VLOOKUP(B723, 'School List'!F:G,2,FALSE)","v":"Victory STEAM Mag"},"Magnet 2",72,54,0,0,0,null,null,null,0,0,0,126,3,2,0,0,0,5,1,2,0,0,0,3,{"$f":"VLOOKUP(A723,'Pivot Norm'!A:B,2,FALSE)","v":2},2,"17521012",0,0,0,0,0,0,0,0,0,0]
["1753401","1753401",{"$f":"VLOOKUP(B724, 'School List'!F:G,2,FALSE)","v":"Vine El"},"PHBAO",118,126,0,0,0,21,null,null,9,0,0,274,5,5,0,0,0,10,7,5,0,0,0,12,{"$f":"VLOOKUP(A724,'Pivot Norm'!A:B,2,FALSE)","v":1},1,"17534011",1,0,2,1,0,2,0,0,0,0]
["1754801","1754801",{"$f":"VLOOKUP(B725, 'School List'!F:G,2,FALSE)","v":"Vinedale College Pep"},"PHBAO",79,46,80,0,0,10,null,null,17,0,0,232,4,2,3,0,0,9,4,2,3,0,0,9,{"$f":"VLOOKUP(A725,'Pivot Norm'!A:B,2,FALSE)","v":1},1,"17548011",1,0.5,2,1,0.5,2,1,0,1,0]
["1756201","1756201",{"$f":"VLOOKUP(B726, 'School List'!F:G,2,FALSE)","v":"Vintage Math/Sci Mag"},"Magnet 2",456,324,0,0,0,null,null,null,0,0,0,780,19,12,0,0,0,31,21,10,0,0,0,31,{"$f":"VLOOKUP(A726,'Pivot Norm'!A:B,2,FALSE)","v":1},1,"17562011",1,0,3,1,0,3,0,0,0,0]
["1756601","1756601",{"$f":"VLOOKUP(B727, 'School List'!F:G,2,FALSE)","v":"Univ Pathwys Pub Srv"},"PHBAO",0,0,0,210,337,null,null,null,0,0,0,337,0,0,0,2,11,13,0,0,0,2,10,12,{"$f":"VLOOKUP(A727,'Pivot Norm'!A:B,2,FALSE)","v":1},1,"17566011",1,0.5,2,1,0.5,2,0,0,0,0]
["1756701","1756701",{"$f":"VLOOKUP(B728, 'School List'!F:G,2,FALSE)","v":"Univ Pathwys Medical"},"Magnet 2",0,0,0,0,196,null,null,1,0,0,0,197,0,0,0,0,8,8,0,0,0,0,6,6,{"$f":"VLOOKUP(A728,'Pivot Norm'!A:B,2,FALSE)","v":1},1,"17567011",1,0.5,2,1,0.5,2,1,0,0,0]
["1756901","1756901",{"$f":"VLOOKUP(B729, 'School List'!F:G,2,FALSE)","v":"Boys Acad Leader"},"PHBAO",0,0,54,58,64,null,4,9,0,0,0,131,0,0,3,1,2,6,0,0,2,1,1,4,{"$f":"VLOOKUP(A729,'Pivot Norm'!A:B,2,FALSE)","v":1},1,"17569011",1,0.5,2,1,0.5,2,2,0,0,0]
["1757401","1757401",{"$f":"VLOOKUP(B730, 'School List'!F:G,2,FALSE)","v":"Horace Mann UCLA"},"PHBAO",0,0,310,168,242,null,73,null,0,0,0,625,0,0,12,1,8,21,0,0,11,1,7,19,{"$f":"VLOOKUP(A730,'Pivot Norm'!A:B,2,FALSE)","v":1},1,"17574011",1,1,2,1,1,2,0,0,0,0]
["1757501","1757501",{"$f":"VLOOKUP(B731, 'School List'!F:G,2,FALSE)","v":"Virginia El"},"PHBAO",77,75,0,0,0,17,null,null,2,0,0,171,4,3,0,0,0,7,5,4,0,0,0,9,{"$f":"VLOOKUP(A731,'Pivot Norm'!A:B,2,FALSE)","v":2},1,"17575011",1,0,2,1,0,2,0,0,0,0]
["1757501","1757502",{"$f":"VLOOKUP(B732, 'School List'!F:G,2,FALSE)","v":"Virginia Rd El DTS"},"PHBAO",52,0,0,0,0,null,null,null,0,0,0,52,3,0,0,0,0,3,2,0,0,0,0,2,{"$f":"VLOOKUP(A732,'Pivot Norm'!A:B,2,FALSE)","v":2},2,"17575012",0,0,0,0,0,0,0,0,0,0]
["1758901","1758901",{"$f":"VLOOKUP(B733, 'School List'!F:G,2,FALSE)","v":"Wadsworth El"},"PHBAO",388,188,0,0,0,43,null,null,0,0,18,637,17,7,0,0,0,24,17,7,0,0,0,24,{"$f":"VLOOKUP(A733,'Pivot Norm'!A:B,2,FALSE)","v":1},1,"17589011",1,0,2,1,0,2,1,0,0,0]
["1760301","1760301",{"$f":"VLOOKUP(B734, 'School List'!F:G,2,FALSE)","v":"Walgrove El"},"Non-PHBAO",136,66,0,0,0,36,null,null,0,0,0,238,6,3,0,0,0,9,6,3,0,0,0,9,{"$f":"VLOOKUP(A734,'Pivot Norm'!A:B,2,FALSE)","v":1},1,"17603011",1,0,2,1,0,2,1,0,0,0]
["1760401","1760401",{"$f":"VLOOKUP(B735, 'School List'!F:G,2,FALSE)","v":"Science Ac STEM Mag"},"Magnet 1",0,0,278,0,198,null,null,null,0,0,0,476,0,0,11,0,8,19,0,0,10,0,5,15,{"$f":"VLOOKUP(A735,'Pivot Norm'!A:B,2,FALSE)","v":1},1,"17604011",1,1,2,1,0.5,2,0,0,0,0.5]
["1761401","1761401",{"$f":"VLOOKUP(B736, 'School List'!F:G,2,FALSE)","v":"Nava Coll Prep Acad"},"PHBAO",0,0,0,314,617,null,null,null,0,0,0,617,0,0,0,2,20,22,0,0,0,2,20,22,{"$f":"VLOOKUP(A736,'Pivot Norm'!A:B,2,FALSE)","v":1},1,"17614011",1,1,2,1,1,2,0,0,0,0]
["1761501","1761501",{"$f":"VLOOKUP(B737, 'School List'!F:G,2,FALSE)","v":"Boyle Hts STEM Mag"},"Magnet 2",0,0,0,0,156,null,null,4,0,0,0,160,0,0,0,0,7,7,0,0,0,0,6,6,{"$f":"VLOOKUP(A737,'Pivot Norm'!A:B,2,FALSE)","v":1},1,"17615011",1,0.5,2,1,0.5,2,1,0,0,0]
["1761601","1761601",{"$f":"VLOOKUP(B738, 'School List'!F:G,2,FALSE)","v":"Warner El"},"Non-PHBAO",421,211,0,0,0,null,null,null,0,0,0,632,18,7,0,0,0,25,18,7,0,0,0,25,{"$f":"VLOOKUP(A738,'Pivot Norm'!A:B,2,FALSE)","v":1},1,"17616011",1,0,2,1,0,2,1,1,0,0]
["1763001","1763001",{"$f":"VLOOKUP(B739, 'School List'!F:G,2,FALSE)","v":"Washington PC"},"PHBAO",133,0,0,0,0,null,null,null,0,10,0,143,6,0,0,0,0,6,5,0,0,0,0,5,{"$f":"VLOOKUP(A739,'Pivot Norm'!A:B,2,FALSE)","v":2},1,"17630011",1,0,2,1,0,2,0,0,0,0]
["1763001","1763002",{"$f":"VLOOKUP(B740, 'School List'!F:G,2,FALSE)","v":"Washington PC DTS"},"PHBAO",52,0,0,0,0,null,null,null,0,0,0,52,3,0,0,0,0,3,3,0,0,0,0,3,{"$f":"VLOOKUP(A740,'Pivot Norm'!A:B,2,FALSE)","v":2},2,"17630012",0,0,0,0,0,0,0,0,0,0]
["1763401","1763401",{"$f":"VLOOKUP(B741, 'School List'!F:G,2,FALSE)","v":"Weigand El"},"PHBAO",243,121,0,0,0,17,null,null,0,14,0,395,11,5,0,0,0,16,10,5,0,0,0,15,{"$f":"VLOOKUP(A741,'Pivot Norm'!A:B,2,FALSE)","v":1},1,"17634011",1,0,2,1,0,2,0,0,0,0]
["1763701","1763701",{"$f":"VLOOKUP(B742, 'School List'!F:G,2,FALSE)","v":"Welby Way Chtr"},"Non-PHBAO",256,124,0,0,0,null,null,null,0,0,0,380,11,4,0,0,0,15,11,4,0,0,0,15,{"$f":"VLOOKUP(A742,'Pivot Norm'!A:B,2,FALSE)","v":2},1,"17637011",1,0,3,1,0,3,0,0,0,0]
["1763701","1763702",{"$f":"VLOOKUP(B743, 'School List'!F:G,2,FALSE)","v":"Welby Way Gifted Mag"},"Magnet 1",228,179,0,0,0,null,null,null,0,0,0,407,10,6,0,0,0,16,10,6,0,0,0,16,{"$f":"VLOOKUP(A743,'Pivot Norm'!A:B,2,FALSE)","v":2},2,"17637012",0,0,0,0,0,0,0,0,0,0]
["1764001","1764001",{"$f":"VLOOKUP(B744, 'School List'!F:G,2,FALSE)","v":"Chavez El"},"PHBAO",125,71,0,0,0,19,null,null,5,0,0,220,6,3,0,0,0,9,5,4,0,0,0,9,{"$f":"VLOOKUP(A744,'Pivot Norm'!A:B,2,FALSE)","v":1},1,"17640011",1,0,2,1,0,2,1,0,0,0]
["1764401","1764401",{"$f":"VLOOKUP(B745, 'School List'!F:G,2,FALSE)","v":"West Athens El"},"PHBAO",391,199,0,0,0,21,null,null,0,11,19,641,17,8,0,0,0,25,17,8,0,0,0,25,{"$f":"VLOOKUP(A745,'Pivot Norm'!A:B,2,FALSE)","v":1},1,"17644011",1,0,2,1,0,2,2,0,0,0]
["1764901","1764901",{"$f":"VLOOKUP(B746, 'School List'!F:G,2,FALSE)","v":"West Hollywood El"},"Non-PHBAO",255,104,0,0,0,null,null,null,0,0,0,359,11,4,0,0,0,15,11,4,0,0,0,15,{"$f":"VLOOKUP(A746,'Pivot Norm'!A:B,2,FALSE)","v":1},1,"17649011",1,0,2,1,0,2,1,0,0,0]
["1765401","1765401",{"$f":"VLOOKUP(B747, 'School List'!F:G,2,FALSE)","v":"West Vernon El"},"PHBAO",407,197,0,0,0,37,null,null,0,0,18,659,17,8,0,0,0,25,17,8,0,0,0,25,{"$f":"VLOOKUP(A747,'Pivot Norm'!A:B,2,FALSE)","v":1},1,"17654011",1,0,2,1,0,2,0,0,0,0]
["1765601","1765601",{"$f":"VLOOKUP(B748, 'School List'!F:G,2,FALSE)","v":"Carson Acad Med Arts"},"PHBAO",0,0,0,268,467,null,null,21,0,0,0,488,0,0,0,2,15,17,0,0,0,2,15,17,{"$f":"VLOOKUP(A748,'Pivot Norm'!A:B,2,FALSE)","v":1},1,"17656011",1,1,2,1,1,2,0,0,0,0]
["1765701","1765701",{"$f":"VLOOKUP(B749, 'School List'!F:G,2,FALSE)","v":"Carson Acad Ed & Emp"},"PHBAO",0,0,0,277,495,null,null,24,0,0,0,519,0,0,0,2,16,18,0,0,0,2,15,17,{"$f":"VLOOKUP(A749,'Pivot Norm'!A:B,2,FALSE)","v":1},1,"17657011",1,1,2,1,1,2,1,0,0,0]
["1765801","1765801",{"$f":"VLOOKUP(B750, 'School List'!F:G,2,FALSE)","v":"Sylmar Acad BH/E Mag"},"Magnet 2",0,0,0,0,225,null,null,null,0,0,0,225,0,0,0,0,9,9,0,0,0,0,9,9,{"$f":"VLOOKUP(A750,'Pivot Norm'!A:B,2,FALSE)","v":1},1,"17658011",1,0.5,2,1,0.5,2,0,0,0,0]
["1766401","1766401",{"$f":"VLOOKUP(B751, 'School List'!F:G,2,FALSE)","v":"Legacy SH VAPA"},"PHBAO",0,0,0,269,466,null,null,1,0,0,0,467,0,0,0,2,15,17,0,0,0,2,14,16,{"$f":"VLOOKUP(A751,'Pivot Norm'!A:B,2,FALSE)","v":1},1,"17664011",1,1,2,1,1,2,1,0,0,0]
["1871301","1766501",{"$f":"VLOOKUP(B752, 'School List'!F:G,2,FALSE)","v":{"$error":"#N/A"}},"PHBAO",0,0,0,null,null,null,null,null,0,0,0,null,0,0,0,null,null,null,0,0,0,2,12,14,{"$f":"VLOOKUP(A752,'Pivot Norm'!A:B,2,FALSE)","v":3},1,"18713011",null,null,null,1,1,2,0,0,0,0,"Updated for consolidation.  Changed home school to 1871301."]
["1871301","1766601",{"$f":"VLOOKUP(B753, 'School List'!F:G,2,FALSE)","v":{"$error":"#N/A"}},"PHBAO",0,0,0,null,null,null,null,null,0,0,0,null,0,0,0,null,null,null,0,0,0,1,7,8,{"$f":"VLOOKUP(A753,'Pivot Norm'!A:B,2,FALSE)","v":3},2,{"$f":"A753&AD753","v":"18713012"},null,null,null,1,0.5,2,1,0,0,0,"Updated for consolidation.  Changed home school to 1871301."]
["1871301","1871301",{"$f":"VLOOKUP(B754, 'School List'!F:G,2,FALSE)","v":"Hawkins SH C/DAGS"},"PHBAO",0,0,0,539,1030,null,null,13,0,0,0,1043,0,0,0,4,33,37,0,0,0,2,14,16,{"$f":"VLOOKUP(A754,'Pivot Norm'!A:B,2,FALSE)","v":3},3,{"$f":"A754&AD754","v":"18713013"},2,2,3,1,1,2,0,0,0,0,"Updated for consolidation.  Changed home school to 1871301."]
["1766701","1766701",{"$f":"VLOOKUP(B755, 'School List'!F:G,2,FALSE)","v":"Dymally SH"},"PHBAO",0,0,0,290,496,null,null,82,0,0,0,578,0,0,0,2,16,18,0,0,0,2,16,18,{"$f":"VLOOKUP(A755,'Pivot Norm'!A:B,2,FALSE)","v":2},{"$f":"IF(A755=#REF!,#REF!+1,1)","v":{"$error":"#REF!"}},{"$error":"#REF!"},1,1,2,2,2,3,0,0,0,0]
["1766701","1766702",{"$f":"VLOOKUP(B756, 'School List'!F:G,2,FALSE)","v":"Dymally BMS/R Mag"},"Magnet 2",0,0,0,0,107,null,null,null,0,0,0,107,0,0,0,0,5,5,0,0,0,0,5,5,{"$f":"VLOOKUP(A756,'Pivot Norm'!A:B,2,FALSE)","v":2},{"$error":"#REF!"},{"$error":"#REF!"},0,0,0,0,0,0,0,0,0,0]
["1766901","1766901",{"$f":"VLOOKUP(B757, 'School List'!F:G,2,FALSE)","v":"Marquez SH Soc Jus"},"PHBAO",0,0,0,337,622,null,null,7,0,0,0,629,0,0,0,2,20,22,0,0,0,2,20,22,{"$f":"VLOOKUP(A757,'Pivot Norm'!A:B,2,FALSE)","v":1},1,"17669011",1,1,2,1,1,2,0,0,0,1]
["1767101","1767101",{"$f":"VLOOKUP(B758, 'School List'!F:G,2,FALSE)","v":"Western Av Tech Mag"},"Magnet 2",269,143,181,0,0,25,null,null,10,0,20,648,12,6,8,0,0,26,12,6,4,0,0,22,{"$f":"VLOOKUP(A758,'Pivot Norm'!A:B,2,FALSE)","v":1},1,"17671011",1,0.5,2,1,0.5,2,1,0,0,0]
["1769901","1769901",{"$f":"VLOOKUP(B759, 'School List'!F:G,2,FALSE)","v":"Westminster MTES Mag"},"Magnet 1",259,130,0,0,0,18,null,null,0,0,0,407,11,5,0,0,0,16,11,5,0,0,0,16,{"$f":"VLOOKUP(A759,'Pivot Norm'!A:B,2,FALSE)","v":1},1,"17699011",1,0,2,1,0,2,1,0,0,0]
["1771201","1771201",{"$f":"VLOOKUP(B760, 'School List'!F:G,2,FALSE)","v":"Westport Hts El"},"PHBAO",107,79,0,0,0,7,null,null,4,0,0,197,5,3,0,0,0,8,6,3,0,0,0,9,{"$f":"VLOOKUP(A760,'Pivot Norm'!A:B,2,FALSE)","v":1},1,"17712011",1,0,2,1,0,2,0,0,0,0]
["1771501","1771501",{"$f":"VLOOKUP(B761, 'School List'!F:G,2,FALSE)","v":"Chavez LA Artes Mag"},"Magnet 2",0,0,0,0,387,null,null,1,0,0,0,388,0,0,0,0,16,16,0,0,0,0,15,15,{"$f":"VLOOKUP(A761,'Pivot Norm'!A:B,2,FALSE)","v":1},1,"17715011",1,1,2,1,1,2,0,0,0,0]
["1771601","1771601",{"$f":"VLOOKUP(B762, 'School List'!F:G,2,FALSE)","v":"Chavez LA SJ Hum Ac"},"PHBAO",0,0,0,285,511,null,null,2,0,0,0,513,0,0,0,2,16,18,0,0,0,2,16,18,{"$f":"VLOOKUP(A762,'Pivot Norm'!A:B,2,FALSE)","v":1},1,"17716011",1,1,2,1,1,2,0,0,0,0]
["1771701","1771701",{"$f":"VLOOKUP(B763, 'School List'!F:G,2,FALSE)","v":"Chavez LA ASE"},"PHBAO",0,0,0,239,424,null,null,4,0,0,0,428,0,0,0,2,14,16,0,0,0,2,13,15,{"$f":"VLOOKUP(A763,'Pivot Norm'!A:B,2,FALSE)","v":1},1,"17717011",1,1,2,1,1,2,0,0,0,0]
["1771801","1771801",{"$f":"VLOOKUP(B764, 'School List'!F:G,2,FALSE)","v":"Rivera LC Com & Tech"},"PHBAO",0,0,0,285,485,null,null,18,0,0,0,503,0,0,0,2,16,18,0,0,0,2,15,17,{"$f":"VLOOKUP(A764,'Pivot Norm'!A:B,2,FALSE)","v":1},1,"17718011",1,1,2,1,1,2,1,0,0,0]
["1771901","1771901",{"$f":"VLOOKUP(B765, 'School List'!F:G,2,FALSE)","v":"Rivera LC STEAM Acad"},"PHBAO",0,0,0,319,563,null,null,21,0,0,0,584,0,0,0,2,18,20,0,0,0,2,18,20,{"$f":"VLOOKUP(A765,'Pivot Norm'!A:B,2,FALSE)","v":1},1,"17719011",1,1,2,1,1,2,0,0,0,0]
["1772101","1772101",{"$f":"VLOOKUP(B766, 'School List'!F:G,2,FALSE)","v":"Rivera LC Perf Arts"},"PHBAO",0,0,0,223,484,null,null,2,0,0,0,486,0,0,0,2,16,18,0,0,0,2,16,18,{"$f":"VLOOKUP(A766,'Pivot Norm'!A:B,2,FALSE)","v":1},1,"17721011",1,1,2,1,1,2,0,0,0,0]
["1772201","1772201",{"$f":"VLOOKUP(B767, 'School List'!F:G,2,FALSE)","v":"Dr. Maya Angelou"},"PHBAO",0,0,0,489,967,null,null,27,0,0,0,994,0,0,0,3,31,34,0,0,0,4,31,35,{"$f":"VLOOKUP(A767,'Pivot Norm'!A:B,2,FALSE)","v":1},1,"17722011",2,2,3,2,2,3,0,0,1,0]
["1772501","1772501",{"$f":"VLOOKUP(B768, 'School List'!F:G,2,FALSE)","v":"Marquez SH LIBRA"},"PHBAO",0,0,0,335,618,null,null,11,0,0,0,629,0,0,0,2,20,22,0,0,0,2,20,22,{"$f":"VLOOKUP(A768,'Pivot Norm'!A:B,2,FALSE)","v":1},1,"17725011",1,1,2,1,1,2,0,0,1,1]
["1773401","1773401",{"$f":"VLOOKUP(B769, 'School List'!F:G,2,FALSE)","v":"Bernstein SH STEM"},"PHBAO",0,0,0,322,589,null,null,3,0,0,0,592,0,0,0,2,19,21,0,0,0,2,18,20,{"$f":"VLOOKUP(A769,'Pivot Norm'!A:B,2,FALSE)","v":1},1,"17734011",1,1,2,1,1,2,0,0,0,0]
["1774001","1774001",{"$f":"VLOOKUP(B770, 'School List'!F:G,2,FALSE)","v":"Westwood Chtr El"},"Non-PHBAO",527,222,0,0,0,null,null,null,0,0,0,749,22,7,0,0,0,29,22,8,0,0,0,30,{"$f":"VLOOKUP(A770,'Pivot Norm'!A:B,2,FALSE)","v":1},1,"17740011",1,0,2,1,0,3,1,0,0,0]
["1774901","1774901",{"$f":"VLOOKUP(B771, 'School List'!F:G,2,FALSE)","v":"Roosevelt SH"},"PHBAO",0,0,0,602,1006,null,null,38,0,0,0,1044,0,0,0,4,32,36,0,0,0,3,30,33,{"$f":"VLOOKUP(A771,'Pivot Norm'!A:B,2,FALSE)","v":2},1,"17749011",3,3,4,3,3,4,0,0,0,0]
["1774901","1774902",{"$f":"VLOOKUP(B772, 'School List'!F:G,2,FALSE)","v":"Roosevelt LPS Mag"},"Magnet 2",0,0,0,0,450,null,null,4,0,0,0,454,0,0,0,0,18,18,0,0,0,0,16,16,{"$f":"VLOOKUP(A772,'Pivot Norm'!A:B,2,FALSE)","v":2},2,"17749012",0,0,0,0,0,0,0,0,0,0]
["1775101","1775101",{"$f":"VLOOKUP(B773, 'School List'!F:G,2,FALSE)","v":"Roosevelt SH STM Mag"},"Magnet 2",0,0,0,0,525,null,null,null,0,0,0,525,0,0,0,0,21,21,0,0,0,0,21,21,{"$f":"VLOOKUP(A773,'Pivot Norm'!A:B,2,FALSE)","v":1},1,"17751011",1,1,2,1,1,2,0,0,0,0]
["1775201","1775201",{"$f":"VLOOKUP(B774, 'School List'!F:G,2,FALSE)","v":"Solis Learning Acad"},"PHBAO",0,0,0,112,211,null,null,15,0,0,0,226,0,0,0,1,7,8,0,0,0,1,7,8,{"$f":"VLOOKUP(A774,'Pivot Norm'!A:B,2,FALSE)","v":1},1,{"$f":"A774&AD774","v":"17752011"},1,0.5,2,1,0.5,2,0,0,0,0]
["1776701","1776701",{"$f":"VLOOKUP(B775, 'School List'!F:G,2,FALSE)","v":"White Point El"},"Non-PHBAO",218,98,0,0,0,21,null,null,0,0,0,337,10,3,0,0,0,13,10,3,0,0,0,13,{"$f":"VLOOKUP(A775,'Pivot Norm'!A:B,2,FALSE)","v":1},1,"17767011",1,0,2,1,0,2,0,0,0,0]
["1777101","1777101",{"$f":"VLOOKUP(B776, 'School List'!F:G,2,FALSE)","v":"RFK Ambsdr Glbl Ldsh"},"PHBAO",0,0,194,183,339,null,9,11,0,0,0,553,0,0,8,2,11,21,0,0,7,2,11,20,{"$f":"VLOOKUP(A776,'Pivot Norm'!A:B,2,FALSE)","v":1},{"$f":"IF(A776=A775,AD775+1,1)","v":1},"17771011",1,1,2,1,1,2,0,0,0,0]
["1777201","1777201",{"$f":"VLOOKUP(B777, 'School List'!F:G,2,FALSE)","v":"Torres Renaissance"},"PHBAO",0,0,0,265,459,null,null,10,0,0,0,469,0,0,0,2,15,17,0,0,0,2,14,16,{"$f":"VLOOKUP(A777,'Pivot Norm'!A:B,2,FALSE)","v":1},1,"17772011",1,1,2,1,1,2,0,0,0,0]
["1777301","1777301",{"$f":"VLOOKUP(B778, 'School List'!F:G,2,FALSE)","v":"Torres Eng & Tech"},"PHBAO",0,0,0,206,353,null,null,9,0,0,0,362,0,0,0,2,12,14,0,0,0,2,11,13,{"$f":"VLOOKUP(A778,'Pivot Norm'!A:B,2,FALSE)","v":1},1,"17773011",1,0.5,2,1,1,2,0,0,0,0]
["1777401","1777401",{"$f":"VLOOKUP(B779, 'School List'!F:G,2,FALSE)","v":"Wilbur El"},"Non-PHBAO",407,171,0,0,0,10,null,null,22,0,0,610,17,6,0,0,0,23,17,6,0,0,0,23,{"$f":"VLOOKUP(A779,'Pivot Norm'!A:B,2,FALSE)","v":1},1,"17774011",1,0,2,1,0,2,0,1,1,0]
["1777501","1777501",{"$f":"VLOOKUP(B780, 'School List'!F:G,2,FALSE)","v":"Torres Hum/Art/Tech"},"PHBAO",0,0,0,226,398,null,null,8,0,0,0,406,0,0,0,2,13,15,0,0,0,2,13,15,{"$f":"VLOOKUP(A780,'Pivot Norm'!A:B,2,FALSE)","v":1},1,"17775011",1,1,2,1,1,2,0,0,0,0]
["1777701","1777701",{"$f":"VLOOKUP(B781, 'School List'!F:G,2,FALSE)","v":"Torres HS SJLA Mag"},"Magnet 2",0,0,0,0,243,null,null,11,0,0,0,254,0,0,0,0,10,10,0,0,0,0,10,10,{"$f":"VLOOKUP(A781,'Pivot Norm'!A:B,2,FALSE)","v":1},1,"17777011",1,0.5,2,1,0.5,2,0,0,0,0]
["1778001","1778001",{"$f":"VLOOKUP(B782, 'School List'!F:G,2,FALSE)","v":"RFK UCLA Comm Sch"},"PHBAO",32,25,168,234,421,null,null,12,0,0,0,658,2,1,7,2,14,26,2,1,7,2,14,26,{"$f":"VLOOKUP(A782,'Pivot Norm'!A:B,2,FALSE)","v":2},1,"17780011",2,1,3,2,1,3,0,0,0,0]
["1778001","1778002",{"$f":"VLOOKUP(B783, 'School List'!F:G,2,FALSE)","v":"RFK UCLA Comm DOS"},"PHBAO",169,97,0,0,0,null,null,null,0,0,0,266,8,4,0,0,0,12,8,4,0,0,0,12,{"$f":"VLOOKUP(A783,'Pivot Norm'!A:B,2,FALSE)","v":2},2,"17780012",0,0,0,0,0,0,0,0,1,0]
["1778101","1778101",{"$f":"VLOOKUP(B784, 'School List'!F:G,2,FALSE)","v":"Wilmington Park El"},"PHBAO",324,172,0,0,0,28,null,null,7,13,8,552,14,7,0,0,0,21,15,8,0,0,0,23,{"$f":"VLOOKUP(A784,'Pivot Norm'!A:B,2,FALSE)","v":1},1,"17781011",1,0,2,1,0,2,1,0,0,0]
["1778301","1778301",{"$f":"VLOOKUP(B785, 'School List'!F:G,2,FALSE)","v":"RFK Comm Schs-New"},"PHBAO",219,145,247,204,383,4,2,null,0,0,0,1000,10,6,10,2,12,40,10,6,10,2,12,40,{"$f":"VLOOKUP(A785,'Pivot Norm'!A:B,2,FALSE)","v":1},1,"17783011",2,1,3,2,1,3,1,0,0,0]
["1779501","1779501",{"$f":"VLOOKUP(B786, 'School List'!F:G,2,FALSE)","v":"Wilshire Crest El"},"PHBAO",33,17,0,0,0,3,null,null,15,0,7,75,2,1,0,0,0,3,2,1,0,0,0,3,{"$f":"VLOOKUP(A786,'Pivot Norm'!A:B,2,FALSE)","v":2},1,"17795011",1,0,2,1,0,2,1,0,0,0]
["1779501","1779502",{"$f":"VLOOKUP(B787, 'School List'!F:G,2,FALSE)","v":"Wilshire Crst DTS"},"PHBAO",42,0,0,0,0,null,null,null,0,0,0,42,2,0,0,0,0,2,2,0,0,0,0,2,{"$f":"VLOOKUP(A787,'Pivot Norm'!A:B,2,FALSE)","v":2},2,"17795012",0,0,0,0,0,0,0,0,0,0]
["1780801","1780801",{"$f":"VLOOKUP(B788, 'School List'!F:G,2,FALSE)","v":"Wilton Pl El"},"PHBAO",90,35,0,0,0,22,null,null,10,0,21,178,4,2,0,0,0,6,3,2,0,0,0,5,{"$f":"VLOOKUP(A788,'Pivot Norm'!A:B,2,FALSE)","v":3},1,"17808011",1,0,2,1,0,2,0,0,0,0]
["1780801","1780802",{"$f":"VLOOKUP(B789, 'School List'!F:G,2,FALSE)","v":"Wilton Pl El DTS"},"PHBAO",143,62,0,0,0,null,null,null,0,0,0,205,6,3,0,0,0,9,7,2,0,0,0,9,{"$f":"VLOOKUP(A789,'Pivot Norm'!A:B,2,FALSE)","v":3},2,"17808012",0,0,0,0,0,0,1,0,0,0]
["1780801","1780803",{"$f":"VLOOKUP(B790, 'School List'!F:G,2,FALSE)","v":"Wilton Pl El DTK"},"PHBAO",30,22,0,0,0,null,null,null,0,0,0,52,2,1,0,0,0,3,2,1,0,0,0,3,{"$f":"VLOOKUP(A790,'Pivot Norm'!A:B,2,FALSE)","v":3},3,"17808013",0,0,0,0,0,0,0,0,0,0]
["1782201","1782201",{"$f":"VLOOKUP(B791, 'School List'!F:G,2,FALSE)","v":"Windsor M/S Aero Mag"},"Magnet 2",271,178,0,0,0,null,null,null,0,0,0,449,12,7,0,0,0,19,12,7,0,0,0,19,{"$f":"VLOOKUP(A791,'Pivot Norm'!A:B,2,FALSE)","v":1},1,"17822011",1,0,2,1,0,2,0,0,0,0]
["1783601","1783601",{"$f":"VLOOKUP(B792, 'School List'!F:G,2,FALSE)","v":"Winnetka El"},"PHBAO",262,121,0,0,0,22,null,null,0,0,17,422,11,5,0,0,0,16,11,5,0,0,0,16,{"$f":"VLOOKUP(A792,'Pivot Norm'!A:B,2,FALSE)","v":1},1,"17836011",1,0,2,1,0,2,0,0,0,0]
["1784901","1784901",{"$f":"VLOOKUP(B793, 'School List'!F:G,2,FALSE)","v":"Wonderland El"},"Non-PHBAO",209,72,0,0,0,null,null,null,0,0,0,281,9,3,0,0,0,12,10,3,0,0,0,13,{"$f":"VLOOKUP(A793,'Pivot Norm'!A:B,2,FALSE)","v":2},1,"17849011",1,0,2,1,0,2,0,0,0,0]
["1784901","1784902",{"$f":"VLOOKUP(B794, 'School List'!F:G,2,FALSE)","v":"Wonderland G/HA Mag"},"Magnet 1",48,120,0,0,0,null,null,null,0,0,0,168,2,4,0,0,0,6,2,4,0,0,0,6,{"$f":"VLOOKUP(A794,'Pivot Norm'!A:B,2,FALSE)","v":2},2,"17849012",0,0,0,0,0,0,0,0,0,0]
["1786301","1786301",{"$f":"VLOOKUP(B795, 'School List'!F:G,2,FALSE)","v":"Woodcrest El"},"PHBAO",373,210,0,0,0,38,null,null,0,0,8,629,16,8,0,0,0,24,18,9,0,0,0,27,{"$f":"VLOOKUP(A795,'Pivot Norm'!A:B,2,FALSE)","v":1},1,"17863011",1,0,2,1,0,2,0,0,0,0]
["1787701","1787701",{"$f":"VLOOKUP(B796, 'School List'!F:G,2,FALSE)","v":"Woodlake Charter"},"Non-PHBAO",385,170,0,0,0,4,null,null,0,0,0,559,17,6,0,0,0,23,15,6,0,0,0,21,{"$f":"VLOOKUP(A796,'Pivot Norm'!A:B,2,FALSE)","v":1},1,"17877011",1,0,2,1,0,2,0,0,0,0]
["1789001","1789001",{"$f":"VLOOKUP(B797, 'School List'!F:G,2,FALSE)","v":"Woodland Hills CES"},"Non-PHBAO",450,217,0,0,0,null,null,null,0,0,0,667,19,7,0,0,0,26,19,7,0,0,0,26,{"$f":"VLOOKUP(A797,'Pivot Norm'!A:B,2,FALSE)","v":1},1,"17890011",1,0,2,1,0,2,0,0,0,0]
["1789501","1789501",{"$f":"VLOOKUP(B798, 'School List'!F:G,2,FALSE)","v":"Valley Oaks CES Mag"},"Magnet 2",0,0,163,0,285,null,null,20,0,0,0,468,0,0,7,0,12,19,0,0,3,0,10,13,{"$f":"VLOOKUP(A798,'Pivot Norm'!A:B,2,FALSE)","v":1},1,"17895011",1,1,2,1,0.5,2,0,0,0,0.5]
["1790401","1790401",{"$f":"VLOOKUP(B799, 'School List'!F:G,2,FALSE)","v":"Woodlawn El"},"PHBAO",228,123,0,0,0,30,null,null,12,0,17,410,10,5,0,0,0,15,11,5,0,0,0,16,{"$f":"VLOOKUP(A799,'Pivot Norm'!A:B,2,FALSE)","v":2},1,"17904011",1,0,2,1,0,2,0,0,0,0]
["1790401","1790402",{"$f":"VLOOKUP(B800, 'School List'!F:G,2,FALSE)","v":"Woodlawn Ave El DTS"},"PHBAO",149,79,0,0,0,null,null,null,0,0,0,228,7,3,0,0,0,10,7,3,0,0,0,10,{"$f":"VLOOKUP(A800,'Pivot Norm'!A:B,2,FALSE)","v":2},2,"17904012",0,0,0,0,0,0,0,0,0,0]
["1795901","1795901",{"$f":"VLOOKUP(B801, 'School List'!F:G,2,FALSE)","v":"Yorkdale El"},"PHBAO",161,67,0,0,0,null,null,null,8,0,6,242,7,3,0,0,0,10,7,3,0,0,0,10,{"$f":"VLOOKUP(A801,'Pivot Norm'!A:B,2,FALSE)","v":1},1,"17959011",1,0,2,1,0,2,0,0,0,0]
["1800901","1800901",{"$f":"VLOOKUP(B802, 'School List'!F:G,2,FALSE)","v":"Adams MS"},"PHBAO",0,0,517,0,0,null,76,null,0,0,0,593,0,0,20,0,0,20,0,0,19,0,0,19,{"$f":"VLOOKUP(A802,'Pivot Norm'!A:B,2,FALSE)","v":2},1,"18009011",2,2,3,2,2,3,0,0,0,0]
["1800901","1800902",{"$f":"VLOOKUP(B803, 'School List'!F:G,2,FALSE)","v":"Adams MS Gifted Mag"},"Magnet 2",0,0,223,0,0,null,null,null,0,0,0,223,0,0,9,0,0,9,0,0,9,0,0,9,{"$f":"VLOOKUP(A803,'Pivot Norm'!A:B,2,FALSE)","v":2},2,"18009012",0,0,0,0,0,0,0,0,0,0]
["1802801","1802801",{"$f":"VLOOKUP(B804, 'School List'!F:G,2,FALSE)","v":"Audubon MS"},"PHBAO",0,0,308,0,0,null,68,null,0,0,0,376,0,0,13,0,0,13,0,0,12,0,0,12,{"$f":"VLOOKUP(A804,'Pivot Norm'!A:B,2,FALSE)","v":2},1,"18028011",1,1,2,1,1,2,0,0,0,0]
["1802801","1802802",{"$f":"VLOOKUP(B805, 'School List'!F:G,2,FALSE)","v":"Audubon MS Gifted Mg"},"Magnet 2",0,0,76,0,0,null,null,null,0,0,0,76,0,0,4,0,0,4,0,0,4,0,0,4,{"$f":"VLOOKUP(A805,'Pivot Norm'!A:B,2,FALSE)","v":2},2,"18028012",0,0,0,0,0,0,0,0,0,0]
["1803801","1803801",{"$f":"VLOOKUP(B806, 'School List'!F:G,2,FALSE)","v":"Bancroft MS"},"PHBAO",0,0,120,0,0,null,16,null,0,0,0,136,0,0,5,0,0,5,0,0,5,0,0,5,{"$f":"VLOOKUP(A806,'Pivot Norm'!A:B,2,FALSE)","v":3},1,"18038011",1,1,2,1,1,2,0,0,0,0]
["1803801","1803802",{"$f":"VLOOKUP(B807, 'School List'!F:G,2,FALSE)","v":"Bancroft Per Art Mag"},"Magnet 2",0,0,293,0,0,null,11,null,0,0,0,304,0,0,12,0,0,12,0,0,11,0,0,11,{"$f":"VLOOKUP(A807,'Pivot Norm'!A:B,2,FALSE)","v":3},2,"18038012",0,0,0,0,0,0,1,0,0,0]
["1803801","1803803",{"$f":"VLOOKUP(B808, 'School List'!F:G,2,FALSE)","v":"Bancroft GSTEAM Mag"},"Magnet 2",0,0,117,0,0,null,null,null,0,0,0,117,0,0,5,0,0,5,0,0,5,0,0,5,{"$f":"VLOOKUP(A808,'Pivot Norm'!A:B,2,FALSE)","v":3},3,"18038013",0,0,0,0,0,0,0,0,0,0]
["1804501","1804501",{"$f":"VLOOKUP(B809, 'School List'!F:G,2,FALSE)","v":"Castro MS"},"PHBAO",0,0,330,0,0,null,22,null,0,0,0,352,0,0,13,0,0,13,0,0,11,0,0,11,{"$f":"VLOOKUP(A809,'Pivot Norm'!A:B,2,FALSE)","v":1},1,"18045011",1,0.5,2,1,0.5,2,0,0,0,0]
["1804701","1804701",{"$f":"VLOOKUP(B810, 'School List'!F:G,2,FALSE)","v":"Belvedere MS"},"PHBAO",0,0,418,0,0,null,67,null,0,0,0,485,0,0,16,0,0,16,0,0,16,0,0,16,{"$f":"VLOOKUP(A810,'Pivot Norm'!A:B,2,FALSE)","v":3},1,"18047011",2,2,3,2,2,3,0,0,0,0]
["1804701","1804702",{"$f":"VLOOKUP(B811, 'School List'!F:G,2,FALSE)","v":"Belvedere Media Mag"},"Magnet 2",0,0,143,0,0,null,null,null,0,0,0,143,0,0,6,0,0,6,0,0,6,0,0,6,{"$f":"VLOOKUP(A811,'Pivot Norm'!A:B,2,FALSE)","v":3},2,"18047012",0,0,0,0,0,0,0,0,0,0]
["1804701","1804703",{"$f":"VLOOKUP(B812, 'School List'!F:G,2,FALSE)","v":"Belvedere STEAM Mag"},"Magnet 2",0,0,142,0,0,null,null,null,0,0,0,142,0,0,6,0,0,6,0,0,6,0,0,6,{"$f":"VLOOKUP(A812,'Pivot Norm'!A:B,2,FALSE)","v":3},3,"18047013",0,0,0,0,0,0,0,0,0,0]
["1805701","1805701",{"$f":"VLOOKUP(B813, 'School List'!F:G,2,FALSE)","v":"Berendo MS"},"PHBAO",0,0,637,0,0,null,49,null,0,0,0,686,0,0,24,0,0,24,0,0,23,0,0,23,{"$f":"VLOOKUP(A813,'Pivot Norm'!A:B,2,FALSE)","v":1},1,"18057011",1,1,2,1,1,2,0,0,0,0]
["1805801","1805801",{"$f":"VLOOKUP(B814, 'School List'!F:G,2,FALSE)","v":"Liechty MS"},"PHBAO",0,0,841,0,0,null,89,null,0,0,0,930,0,0,34,0,0,34,0,0,33,0,0,33,{"$f":"VLOOKUP(A814,'Pivot Norm'!A:B,2,FALSE)","v":1},1,"18058011",2,2,3,2,2,3,0,0,0,0]
["1806001","1806001",{"$f":"VLOOKUP(B815, 'School List'!F:G,2,FALSE)","v":"Bethune MS"},"PHBAO",0,0,713,0,0,null,55,null,0,0,0,768,0,0,29,0,0,29,0,0,27,0,0,27,{"$f":"VLOOKUP(A815,'Pivot Norm'!A:B,2,FALSE)","v":2},1,"18060011",2,2,3,2,2,3,0,0,0,0]
["1806001","1806002",{"$f":"VLOOKUP(B816, 'School List'!F:G,2,FALSE)","v":"Bethune MS STM Mag"},"Magnet 2",0,0,210,0,0,null,null,null,0,0,0,210,0,0,9,0,0,9,0,0,9,0,0,9,{"$f":"VLOOKUP(A816,'Pivot Norm'!A:B,2,FALSE)","v":2},2,"18060012",0,0,0,0,0,0,0,0,0,0]
["1806201","1806201",{"$f":"VLOOKUP(B817, 'School List'!F:G,2,FALSE)","v":"Clinton MS"},"PHBAO",0,0,522,0,0,null,54,null,0,0,0,576,0,0,20,0,0,20,0,0,22,0,0,22,{"$f":"VLOOKUP(A817,'Pivot Norm'!A:B,2,FALSE)","v":1},1,"18062011",1,1,2,1,1,2,1,0,0,0]
["1806401","1806401",{"$f":"VLOOKUP(B818, 'School List'!F:G,2,FALSE)","v":"Kim Academy"},"PHBAO",0,0,809,0,0,null,3,null,0,0,0,812,0,0,30,0,0,30,0,0,30,0,0,30,{"$f":"VLOOKUP(A818,'Pivot Norm'!A:B,2,FALSE)","v":1},1,"18064011",2,2,3,2,2,3,0,0,0,0]
["1806601","1806601",{"$f":"VLOOKUP(B819, 'School List'!F:G,2,FALSE)","v":"Burbank MS Arts/Tech"},"Magnet 2",0,0,893,0,0,null,71,null,0,0,0,964,0,0,36,0,0,36,0,0,34,0,0,34,{"$f":"VLOOKUP(A819,'Pivot Norm'!A:B,2,FALSE)","v":2},1,"18066011",2,2,3,2,2,3,0,0,0,0]
["1806601","1806603",{"$f":"VLOOKUP(B820, 'School List'!F:G,2,FALSE)","v":"Burbank Police Ac Mg"},"Magnet 2",0,0,75,0,0,null,4,null,0,0,0,79,0,0,3,0,0,3,0,0,3,0,0,3,{"$f":"VLOOKUP(A820,'Pivot Norm'!A:B,2,FALSE)","v":2},2,"18066012",0,0,0,0,0,0,0,0,0,0]
["1807501","1807501",{"$f":"VLOOKUP(B821, 'School List'!F:G,2,FALSE)","v":"Burroughs MS"},"PHBAO",0,0,818,0,0,null,46,null,0,0,0,864,0,0,31,0,0,31,0,0,32,0,0,32,{"$f":"VLOOKUP(A821,'Pivot Norm'!A:B,2,FALSE)","v":2},1,"18075011",3,3,4,3,3,4,0,0,2,0]
["1807501","1807502",{"$f":"VLOOKUP(B822, 'School List'!F:G,2,FALSE)","v":"Burroughs Gifted Mag"},"Magnet 2",0,0,650,0,0,null,null,null,0,0,0,650,0,0,26,0,0,26,0,0,24,0,0,24,{"$f":"VLOOKUP(A822,'Pivot Norm'!A:B,2,FALSE)","v":2},2,"18075012",0,0,0,0,0,0,0,0,0,0]
["1808001","1808001",{"$f":"VLOOKUP(B823, 'School List'!F:G,2,FALSE)","v":"Byrd MS"},"PHBAO",0,0,844,0,0,null,44,null,0,0,0,888,0,0,32,0,0,32,0,0,30,0,0,30,{"$f":"VLOOKUP(A823,'Pivot Norm'!A:B,2,FALSE)","v":2},1,"18080011",2,2,4,2,2,4,0,0,0,0]
["1808001","1808002",{"$f":"VLOOKUP(B824, 'School List'!F:G,2,FALSE)","v":"Byrd MS STM Mag"},"Magnet 2",0,0,350,0,0,null,null,null,0,0,0,350,0,0,14,0,0,14,0,0,14,0,0,14,{"$f":"VLOOKUP(A824,'Pivot Norm'!A:B,2,FALSE)","v":2},2,"18080012",0,0,0,0,0,0,0,0,0,0]
["1809001","1809001",{"$f":"VLOOKUP(B825, 'School List'!F:G,2,FALSE)","v":"Carnegie MS"},"PHBAO",0,0,517,0,0,null,41,null,0,0,0,558,0,0,20,0,0,20,0,0,20,0,0,20,{"$f":"VLOOKUP(A825,'Pivot Norm'!A:B,2,FALSE)","v":2},1,"18090011",2,1,3,2,1,3,0,0,0,0]
["1809001","1809002",{"$f":"VLOOKUP(B826, 'School List'!F:G,2,FALSE)","v":"Carnegie Medical Mag"},"Magnet 2",0,0,150,0,0,null,null,null,0,0,0,150,0,0,6,0,0,6,0,0,6,0,0,6,{"$f":"VLOOKUP(A826,'Pivot Norm'!A:B,2,FALSE)","v":2},2,"18090012",0,0,0,0,0,0,0,0,0,0]
["1809401","1809401",{"$f":"VLOOKUP(B827, 'School List'!F:G,2,FALSE)","v":"Carver MS"},"PHBAO",0,0,612,0,0,null,67,null,0,0,0,679,0,0,25,0,0,25,0,0,24,0,0,24,{"$f":"VLOOKUP(A827,'Pivot Norm'!A:B,2,FALSE)","v":1},1,"18094011",1,1,2,2,1,3,0,0,0,0]
["1810201","1810201",{"$f":"VLOOKUP(B828, 'School List'!F:G,2,FALSE)","v":"Columbus MS"},"PHBAO",0,0,317,0,0,null,53,null,0,0,0,370,0,0,12,0,0,12,0,0,13,0,0,13,{"$f":"VLOOKUP(A828,'Pivot Norm'!A:B,2,FALSE)","v":3},1,"18102011",2,1,3,2,1,3,0,0,0,0]
["1810201","1810202",{"$f":"VLOOKUP(B829, 'School List'!F:G,2,FALSE)","v":"Columbus MS M/S/Med"},"Magnet 2",0,0,300,0,0,null,5,null,0,0,0,305,0,0,12,0,0,12,0,0,12,0,0,12,{"$f":"VLOOKUP(A829,'Pivot Norm'!A:B,2,FALSE)","v":3},2,"18102012",0,0,0,0,0,0,0,0,0,0]
["1810201","1810203",{"$f":"VLOOKUP(B830, 'School List'!F:G,2,FALSE)","v":"Columbus MS MAC Mag"},"Magnet 2",0,0,66,0,0,null,null,null,null,null,null,66,0,0,3,0,0,3,0,0,0,0,0,0,{"$f":"VLOOKUP(A830,'Pivot Norm'!A:B,2,FALSE)","v":3},3,"18102013",0,0,0,0,0,0,0,0,0,0]
["1810301","1810301",{"$f":"VLOOKUP(B831, 'School List'!F:G,2,FALSE)","v":"Curtiss MS"},"PHBAO",0,0,198,0,0,null,29,null,0,0,0,227,0,0,8,0,0,8,0,0,6,0,0,6,{"$f":"VLOOKUP(A831,'Pivot Norm'!A:B,2,FALSE)","v":2},1,"18103011",1,1,2,1,1,2,0,0,0,0]
["1810301","1810302",{"$f":"VLOOKUP(B832, 'School List'!F:G,2,FALSE)","v":"Curtiss STEAM Mag"},"Magnet 2",0,0,282,0,0,null,4,null,0,0,0,286,0,0,12,0,0,12,0,0,11,0,0,11,{"$f":"VLOOKUP(A832,'Pivot Norm'!A:B,2,FALSE)","v":2},2,"18103012",0,0,0,0,0,0,0,0,0,0]
["1810401","1810401",{"$f":"VLOOKUP(B833, 'School List'!F:G,2,FALSE)","v":"Dana MS"},"PHBAO",0,0,1018,0,0,null,101,null,0,0,0,1119,0,0,38,0,0,38,0,0,36,0,0,36,{"$f":"VLOOKUP(A833,'Pivot Norm'!A:B,2,FALSE)","v":2},1,"18104011",3,3,4,3,3,4,0,0,0,0]
["1810401","1810402",{"$f":"VLOOKUP(B834, 'School List'!F:G,2,FALSE)","v":"Dana STEAM Magnet"},"Magnet 1",0,0,460,0,0,null,null,null,0,0,0,460,0,0,17,0,0,17,0,0,17,0,0,17,{"$f":"VLOOKUP(A834,'Pivot Norm'!A:B,2,FALSE)","v":2},2,"18104012",0,0,0,0,0,0,0,0,0,0]
["1810701","1810701",{"$f":"VLOOKUP(B835, 'School List'!F:G,2,FALSE)","v":"Gaspar de Portola CM"},"Non-PHBAO",0,0,1263,0,0,null,57,null,0,0,0,1320,0,0,42,0,0,42,0,0,40,0,0,40,{"$f":"VLOOKUP(A835,'Pivot Norm'!A:B,2,FALSE)","v":3},1,"18107011",3,3,5,3,2,5,0,0,0,0]
["1810701","1810702",{"$f":"VLOOKUP(B836, 'School List'!F:G,2,FALSE)","v":"Portola HG Magnet"},"Magnet 1",0,0,270,0,0,null,null,null,0,0,0,270,0,0,10,0,0,10,0,0,9,0,0,9,{"$f":"VLOOKUP(A836,'Pivot Norm'!A:B,2,FALSE)","v":3},2,"18107012",0,0,0,0,0,0,0,0,0,0]
["1810701","1810703",{"$f":"VLOOKUP(B837, 'School List'!F:G,2,FALSE)","v":"Acad of Int Art"},"Non-PHBAO",0,0,72,0,0,null,null,null,0,0,0,72,0,0,3,0,0,3,0,0,5,0,0,5,{"$f":"VLOOKUP(A837,'Pivot Norm'!A:B,2,FALSE)","v":3},3,"18107013",0,0,0,0,0,0,0,0,0,0]
["1811001","1811001",{"$f":"VLOOKUP(B838, 'School List'!F:G,2,FALSE)","v":"Dodson MS"},"PHBAO",0,0,304,0,0,null,34,null,0,0,0,338,0,0,12,0,0,12,0,0,12,0,0,12,{"$f":"VLOOKUP(A838,'Pivot Norm'!A:B,2,FALSE)","v":3},1,{"$f":"A838&AD838","v":"18110011"},3,3,4,3,3,4,0,0,0,0]
["1811001","1811002",{"$f":"VLOOKUP(B839, 'School List'!F:G,2,FALSE)","v":"Dodson MS Gifted Mag"},"Magnet 2",0,0,850,0,0,null,null,null,0,0,0,850,0,0,34,0,0,34,0,0,33,0,0,33,{"$f":"VLOOKUP(A839,'Pivot Norm'!A:B,2,FALSE)","v":3},2,"18110012",0,0,0,0,0,0,1,0,0,0]
["1811001","1811003",{"$f":"VLOOKUP(B840, 'School List'!F:G,2,FALSE)","v":"Dodson VAPA Mag"},"Magnet 2",0,0,350,0,0,null,1,null,0,0,0,351,0,0,14,0,0,14,0,0,14,0,0,14,{"$f":"VLOOKUP(A840,'Pivot Norm'!A:B,2,FALSE)","v":3},{"$f":"IF(A840=A839,AD839+1,1)","v":3},"18110013",0,0,0,0,0,0,0,0,0,0]
["1811201","1811201",{"$f":"VLOOKUP(B841, 'School List'!F:G,2,FALSE)","v":"Drew MS"},"PHBAO",0,0,710,0,0,null,29,null,0,0,0,739,0,0,27,0,0,27,0,0,24,0,0,24,{"$f":"VLOOKUP(A841,'Pivot Norm'!A:B,2,FALSE)","v":2},1,"18112011",2,2,3,2,2,3,0,0,0,0]
["1811201","1811202",{"$f":"VLOOKUP(B842, 'School List'!F:G,2,FALSE)","v":"Drew MS Gifted Mag"},"Magnet 2",0,0,95,0,0,null,null,null,0,0,0,95,0,0,4,0,0,4,0,0,4,0,0,4,{"$f":"VLOOKUP(A842,'Pivot Norm'!A:B,2,FALSE)","v":2},2,"18112012",0,0,0,0,0,0,0,0,0,0]
["1811301","1811301",{"$f":"VLOOKUP(B843, 'School List'!F:G,2,FALSE)","v":"Edison MS"},"PHBAO",0,0,838,0,0,null,86,null,0,0,0,924,0,0,32,0,0,32,0,0,33,0,0,33,{"$f":"VLOOKUP(A843,'Pivot Norm'!A:B,2,FALSE)","v":1},1,"18113011",2,2,3,2,2,3,1,0,0,0]
["1811601","1811601",{"$f":"VLOOKUP(B844, 'School List'!F:G,2,FALSE)","v":"Romer MS"},"PHBAO",0,0,524,0,0,null,65,null,0,0,0,589,0,0,20,0,0,20,0,0,20,0,0,20,{"$f":"VLOOKUP(A844,'Pivot Norm'!A:B,2,FALSE)","v":3},1,"18116011",2,2,3,2,2,3,0,0,0,0]
["1811601","1811602",{"$f":"VLOOKUP(B845, 'School List'!F:G,2,FALSE)","v":"Romer STEM Magnet"},"Magnet 2",0,0,305,0,0,null,3,null,0,0,0,308,0,0,13,0,0,13,0,0,12,0,0,12,{"$f":"VLOOKUP(A845,'Pivot Norm'!A:B,2,FALSE)","v":3},2,"18116012",0,0,0,0,0,0,0,0,0,0]
["1811601","1811603",{"$f":"VLOOKUP(B846, 'School List'!F:G,2,FALSE)","v":"Romer Gifted/Hum Mag"},"Magnet 2",0,0,56,0,0,null,null,null,0,0,0,56,0,0,3,0,0,3,0,0,3,0,0,3,{"$f":"VLOOKUP(A846,'Pivot Norm'!A:B,2,FALSE)","v":3},3,"18116013",0,0,0,0,0,0,0,0,0,0]
["1811701","1811701",{"$f":"VLOOKUP(B847, 'School List'!F:G,2,FALSE)","v":"Vista MS"},"PHBAO",0,0,709,0,0,null,85,null,0,0,0,794,0,0,27,0,0,27,0,0,27,0,0,27,{"$f":"VLOOKUP(A847,'Pivot Norm'!A:B,2,FALSE)","v":4},1,"18117011",2,2,4,2,2,4,0,0,0,0]
["1811701","1811703",{"$f":"VLOOKUP(B848, 'School List'!F:G,2,FALSE)","v":"Vista SMCP Mag"},"Magnet 2",0,0,275,0,0,null,9,null,0,0,0,284,0,0,11,0,0,11,0,0,11,0,0,11,{"$f":"VLOOKUP(A848,'Pivot Norm'!A:B,2,FALSE)","v":4},2,"18117012",0,0,0,0,0,0,0,0,0,0]
["1811701","1811704",{"$f":"VLOOKUP(B849, 'School List'!F:G,2,FALSE)","v":"Vista GSTEAM Mag"},"Magnet 2",0,0,100,0,0,null,null,null,0,0,0,100,0,0,4,0,0,4,0,0,4,0,0,4,{"$f":"VLOOKUP(A849,'Pivot Norm'!A:B,2,FALSE)","v":4},3,"18117013",0,0,0,0,0,0,0,0,0,0]
["1811701","1811705",{"$f":"VLOOKUP(B850, 'School List'!F:G,2,FALSE)","v":"Vista MS LGSJL Mag"},"Magnet 2",0,0,65,0,0,null,null,null,null,null,null,65,0,0,3,0,0,3,0,0,0,0,0,0,{"$f":"VLOOKUP(A850,'Pivot Norm'!A:B,2,FALSE)","v":4},4,"18117014",0,0,0,0,0,0,0,0,0,0]
["1811801","1811801",{"$f":"VLOOKUP(B851, 'School List'!F:G,2,FALSE)","v":"El Sereno MS"},"PHBAO",0,0,548,0,0,null,52,null,0,0,0,600,0,0,21,0,0,21,0,0,22,0,0,22,{"$f":"VLOOKUP(A851,'Pivot Norm'!A:B,2,FALSE)","v":4},1,"18118011",2,2,3,2,2,3,0,0,0,0]
["1811801","1811802",{"$f":"VLOOKUP(B852, 'School List'!F:G,2,FALSE)","v":"El Sereno STEM Mag"},"Magnet 2",0,0,125,0,0,null,2,null,0,0,0,127,0,0,5,0,0,5,0,0,5,0,0,5,{"$f":"VLOOKUP(A852,'Pivot Norm'!A:B,2,FALSE)","v":4},2,"18118012",0,0,0,0,0,0,0,0,0,0]
["1811801","1811803",{"$f":"VLOOKUP(B853, 'School List'!F:G,2,FALSE)","v":"El Sereno Gifted Mag"},"Magnet 2",0,0,125,0,0,null,null,null,0,0,0,125,0,0,5,0,0,5,0,0,5,0,0,5,{"$f":"VLOOKUP(A853,'Pivot Norm'!A:B,2,FALSE)","v":4},3,"18118013",0,0,0,0,0,0,0,0,0,0]
["1811801","1811804",{"$f":"VLOOKUP(B854, 'School List'!F:G,2,FALSE)","v":"El Sereno ESH Mag"},"Magnet 2",0,0,150,0,0,null,null,null,0,0,0,150,0,0,6,0,0,6,0,0,6,0,0,6,{"$f":"VLOOKUP(A854,'Pivot Norm'!A:B,2,FALSE)","v":4},4,"18118014",0,0,0,0,0,0,0,0,0,0]
["1812301","1812301",{"$f":"VLOOKUP(B855, 'School List'!F:G,2,FALSE)","v":"Emerson Comm Charter"},"Non-PHBAO",0,0,489,0,0,null,40,null,0,0,0,529,0,0,17,0,0,17,0,0,15,0,0,15,{"$f":"VLOOKUP(A855,'Pivot Norm'!A:B,2,FALSE)","v":1},1,"18123011",1,1,2,1,1,2,0,0,0,0]
["1812701","1812701",{"$f":"VLOOKUP(B856, 'School List'!F:G,2,FALSE)","v":"Fleming MS"},"PHBAO",0,0,654,0,0,null,96,null,0,0,0,750,0,0,25,0,0,25,0,0,26,0,0,26,{"$f":"VLOOKUP(A856,'Pivot Norm'!A:B,2,FALSE)","v":2},1,"18127011",2,2,3,2,2,4,0,0,0,0]
["1812701","1812702",{"$f":"VLOOKUP(B857, 'School List'!F:G,2,FALSE)","v":"Fleming MS STM Mag"},"Magnet 2",0,0,400,0,0,null,null,null,0,0,0,400,0,0,16,0,0,16,0,0,15,0,0,15,{"$f":"VLOOKUP(A857,'Pivot Norm'!A:B,2,FALSE)","v":2},2,"18127012",0,0,0,0,0,0,0,0,0,0]
["1813201","1813201",{"$f":"VLOOKUP(B858, 'School List'!F:G,2,FALSE)","v":"Foshay LC"},"PHBAO",96,51,844,455,778,null,69,null,0,0,0,1838,4,2,32,3,25,66,4,2,31,3,23,63,{"$f":"VLOOKUP(A858,'Pivot Norm'!A:B,2,FALSE)","v":1},1,"18132011",4,3,5,4,3,5,0,0,0,0]
["1813701","1813701",{"$f":"VLOOKUP(B859, 'School List'!F:G,2,FALSE)","v":"Frost MS"},"Non-PHBAO",0,0,1000,0,0,null,32,null,0,0,0,1032,0,0,33,0,0,33,0,0,34,0,0,34,{"$f":"VLOOKUP(A859,'Pivot Norm'!A:B,2,FALSE)","v":3},1,"18137011",3,3,4,3,2,4,0,0,0,0]
["1813701","1813702",{"$f":"VLOOKUP(B860, 'School List'!F:G,2,FALSE)","v":"Frost MS STEAM Mag"},"Magnet 1",0,0,406,0,0,null,4,null,0,0,0,410,0,0,15,0,0,15,0,0,15,0,0,15,{"$f":"VLOOKUP(A860,'Pivot Norm'!A:B,2,FALSE)","v":3},2,"18137012",0,0,0,0,0,0,0,0,0,0]
["1813701","1813703",{"$f":"VLOOKUP(B861, 'School List'!F:G,2,FALSE)","v":"Frost MS GMC Mag"},"Magnet 1",0,0,60,0,0,null,null,null,null,null,null,60,0,0,3,0,0,3,0,0,0,0,0,0,{"$f":"VLOOKUP(A861,'Pivot Norm'!A:B,2,FALSE)","v":3},3,"18137013",0,0,0,0,0,0,0,0,0,0]
["1814201","1814201",{"$f":"VLOOKUP(B862, 'School List'!F:G,2,FALSE)","v":"Fulton College Prep"},"PHBAO",0,0,548,261,467,null,19,16,0,0,0,1050,0,0,21,2,15,38,0,0,22,2,15,39,{"$f":"VLOOKUP(A862,'Pivot Norm'!A:B,2,FALSE)","v":2},1,"18142011",2,2,4,2,2,4,0,0,0,0]
["1814201","1814204",{"$f":"VLOOKUP(B863, 'School List'!F:G,2,FALSE)","v":"Fulton CAM Mag"},"Magnet 2",0,0,73,0,107,null,null,null,0,0,0,180,0,0,3,0,5,8,0,0,4,0,3,7,{"$f":"VLOOKUP(A863,'Pivot Norm'!A:B,2,FALSE)","v":2},2,"18142012",0,0,0,0,0,0,0,0,0,0]
["1815101","1815101",{"$f":"VLOOKUP(B864, 'School List'!F:G,2,FALSE)","v":"Gage MS"},"PHBAO",0,0,919,0,0,null,65,null,0,0,0,984,0,0,35,0,0,35,0,0,36,0,0,36,{"$f":"VLOOKUP(A864,'Pivot Norm'!A:B,2,FALSE)","v":2},1,"18151011",2,3,4,3,2,4,0,0,0,0]
["1815101","1815102",{"$f":"VLOOKUP(B865, 'School List'!F:G,2,FALSE)","v":"Gage MS STEM Mag"},"Magnet 2",0,0,275,0,0,null,null,null,0,0,0,275,0,0,11,0,0,11,0,0,11,0,0,11,{"$f":"VLOOKUP(A865,'Pivot Norm'!A:B,2,FALSE)","v":2},2,"18151012",0,0,0,0,0,0,0,0,0,0]
["1815301","1815301",{"$f":"VLOOKUP(B866, 'School List'!F:G,2,FALSE)","v":"Southeast MS"},"PHBAO",0,0,686,0,0,null,84,null,0,0,0,770,0,0,28,0,0,28,0,0,27,0,0,27,{"$f":"VLOOKUP(A866,'Pivot Norm'!A:B,2,FALSE)","v":2},1,"18153011",2,2,4,2,2,4,0,0,0,0]
["1815301","1815302",{"$f":"VLOOKUP(B867, 'School List'!F:G,2,FALSE)","v":"Southeast DREAMS Mg"},"Magnet 2",0,0,466,0,0,null,null,null,0,0,0,466,0,0,20,0,0,20,0,0,20,0,0,20,{"$f":"VLOOKUP(A867,'Pivot Norm'!A:B,2,FALSE)","v":2},2,"18153012",0,0,0,0,0,0,0,0,0,0]
["1816001","1816001",{"$f":"VLOOKUP(B868, 'School List'!F:G,2,FALSE)","v":"Gompers MS"},"PHBAO",0,0,309,0,0,null,83,null,0,0,0,392,0,0,13,0,0,13,0,0,12,0,0,12,{"$f":"VLOOKUP(A868,'Pivot Norm'!A:B,2,FALSE)","v":2},1,"18160011",1,1,2,1,1,2,0,0,0,0]
["1816001","1816002",{"$f":"VLOOKUP(B869, 'School List'!F:G,2,FALSE)","v":"Gompers STEAM Mag"},"Magnet 2",0,0,77,0,0,null,null,null,0,0,0,77,0,0,4,0,0,4,0,0,4,0,0,4,{"$f":"VLOOKUP(A869,'Pivot Norm'!A:B,2,FALSE)","v":2},2,"18160012",0,0,0,0,0,0,0,0,0,0]
["1816801","1816801",{"$f":"VLOOKUP(B870, 'School List'!F:G,2,FALSE)","v":"Griffith MS"},"Magnet 2",0,0,1220,0,0,null,102,null,0,0,0,1322,0,0,49,0,0,49,0,0,46,0,0,46,{"$f":"VLOOKUP(A870,'Pivot Norm'!A:B,2,FALSE)","v":1},1,"18168011",2,3,4,2,2,4,0,0,0,0]
["1816901","1816901",{"$f":"VLOOKUP(B871, 'School List'!F:G,2,FALSE)","v":"G E Hale Chrtr Acad"},"Non-PHBAO",0,0,1146,0,0,null,62,null,0,0,0,1208,0,0,38,0,0,38,0,0,42,0,0,42,{"$f":"VLOOKUP(A871,'Pivot Norm'!A:B,2,FALSE)","v":3},1,"18169011",4,4,5,4,3,5,0,0,4,0]
["1816901","1816902",{"$f":"VLOOKUP(B872, 'School List'!F:G,2,FALSE)","v":"Hale Gifted/STEAM Mg"},"Magnet 1",0,0,460,0,0,null,null,null,0,0,0,460,0,0,17,0,0,17,0,0,17,0,0,17,{"$f":"VLOOKUP(A872,'Pivot Norm'!A:B,2,FALSE)","v":3},2,"18169012",0,0,0,0,0,0,0,0,0,0]
["1816901","1816903",{"$f":"VLOOKUP(B873, 'School List'!F:G,2,FALSE)","v":"Hale VAPA Mag"},"Magnet 1",0,0,306,0,0,null,null,null,0,0,0,306,0,0,12,0,0,12,0,0,6,0,0,6,{"$f":"VLOOKUP(A873,'Pivot Norm'!A:B,2,FALSE)","v":3},3,"18169013",0,0,0,0,0,0,0,0,0,0]
["1817001","1817001",{"$f":"VLOOKUP(B874, 'School List'!F:G,2,FALSE)","v":"Harte Prep MS"},"PHBAO",0,0,358,0,0,null,47,null,0,0,0,405,0,0,15,0,0,15,0,0,13,0,0,13,{"$f":"VLOOKUP(A874,'Pivot Norm'!A:B,2,FALSE)","v":1},1,"18170011",1,1,2,1,0.5,2,0,0,0,0.5]
["1817401","1817401",{"$f":"VLOOKUP(B875, 'School List'!F:G,2,FALSE)","v":"Henry MS"},"PHBAO",0,0,367,0,0,null,41,null,0,0,0,408,0,0,14,0,0,14,0,0,15,0,0,15,{"$f":"VLOOKUP(A875,'Pivot Norm'!A:B,2,FALSE)","v":3},1,"18174011",2,2,3,2,2,3,0,0,0,0]
["1817401","1817402",{"$f":"VLOOKUP(B876, 'School List'!F:G,2,FALSE)","v":"Henry MS Comp/M/S Mg"},"Magnet 2",0,0,350,0,0,null,4,null,0,0,0,354,0,0,14,0,0,14,0,0,14,0,0,14,{"$f":"VLOOKUP(A876,'Pivot Norm'!A:B,2,FALSE)","v":3},2,"18174012",0,0,0,0,0,0,0,0,0,0]
["1817401","1817403",{"$f":"VLOOKUP(B877, 'School List'!F:G,2,FALSE)","v":"Henry MS VAPA Mag"},"Magnet 2",0,0,350,0,0,null,10,null,0,0,0,360,0,0,14,0,0,14,0,0,14,0,0,14,{"$f":"VLOOKUP(A877,'Pivot Norm'!A:B,2,FALSE)","v":3},3,"18174013",0,0,0,0,0,0,0,0,0,0]
["1817901","1817901",{"$f":"VLOOKUP(B878, 'School List'!F:G,2,FALSE)","v":"Hollenbeck MS"},"PHBAO",0,0,450,0,0,null,75,null,0,0,0,525,0,0,17,0,0,17,0,0,19,0,0,19,{"$f":"VLOOKUP(A878,'Pivot Norm'!A:B,2,FALSE)","v":3},1,"18179011",2,2,3,2,2,3,0,0,1,0]
["1817901","1817902",{"$f":"VLOOKUP(B879, 'School List'!F:G,2,FALSE)","v":"Hollenbeck STEAMM Mg"},"Magnet 2",0,0,300,0,0,null,1,null,0,0,0,301,0,0,12,0,0,12,0,0,12,0,0,12,{"$f":"VLOOKUP(A879,'Pivot Norm'!A:B,2,FALSE)","v":3},2,"18179012",0,0,0,0,0,0,0,0,0,0]
["1817901","1817903",{"$f":"VLOOKUP(B880, 'School List'!F:G,2,FALSE)","v":"Hollenbeck L/PS Mag"},"Magnet 2",0,0,142,0,0,null,1,null,0,0,0,143,0,0,6,0,0,6,0,0,6,0,0,6,{"$f":"VLOOKUP(A880,'Pivot Norm'!A:B,2,FALSE)","v":3},3,"18179013",0,0,0,0,0,0,0,0,0,0]
["1818201","1818201",{"$f":"VLOOKUP(B881, 'School List'!F:G,2,FALSE)","v":"Holmes MS"},"PHBAO",0,0,622,0,0,null,42,null,0,0,0,664,0,0,24,0,0,24,0,0,25,0,0,25,{"$f":"VLOOKUP(A881,'Pivot Norm'!A:B,2,FALSE)","v":2},1,"18182011",2,2,3,2,2,3,1,0,0,0]
["1818201","1818202",{"$f":"VLOOKUP(B882, 'School List'!F:G,2,FALSE)","v":"Holmes Int Human Mag"},"Magnet 2",0,0,400,0,0,null,5,null,0,0,0,405,0,0,16,0,0,16,0,0,16,0,0,16,{"$f":"VLOOKUP(A882,'Pivot Norm'!A:B,2,FALSE)","v":2},2,"18182012",0,0,0,0,0,0,0,0,0,0]
["1818901","1818901",{"$f":"VLOOKUP(B883, 'School List'!F:G,2,FALSE)","v":"Irving MME Mag"},"Magnet 2",0,0,700,0,0,null,38,null,0,0,0,738,0,0,28,0,0,28,0,0,28,0,0,28,{"$f":"VLOOKUP(A883,'Pivot Norm'!A:B,2,FALSE)","v":1},1,"18189011",2,1,3,2,1,3,0,0,0,1]
["1820001","1820001",{"$f":"VLOOKUP(B884, 'School List'!F:G,2,FALSE)","v":"Los Angeles Acad MS"},"PHBAO",0,0,733,0,0,null,77,null,0,0,0,810,0,0,28,0,0,28,0,0,28,0,0,28,{"$f":"VLOOKUP(A884,'Pivot Norm'!A:B,2,FALSE)","v":2},1,"18200011",2,2,3,2,2,3,0,0,0,0]
["1820001","1820002",{"$f":"VLOOKUP(B885, 'School List'!F:G,2,FALSE)","v":"LA Academy STEAM Mag"},"Magnet 2",0,0,300,0,0,null,5,null,0,0,0,305,0,0,12,0,0,12,0,0,12,0,0,12,{"$f":"VLOOKUP(A885,'Pivot Norm'!A:B,2,FALSE)","v":2},2,"18200012",0,0,0,0,0,0,0,0,0,0]
["1820601","1820601",{"$f":"VLOOKUP(B886, 'School List'!F:G,2,FALSE)","v":"RFK Sch Vis Arts/Hum"},"PHBAO",0,0,0,238,422,null,null,9,0,0,0,431,0,0,0,2,14,16,0,0,0,2,13,15,{"$f":"VLOOKUP(A886,'Pivot Norm'!A:B,2,FALSE)","v":1},1,"18206011",1,1,2,1,1,2,0,0,0,0]
["1820701","1820701",{"$f":"VLOOKUP(B887, 'School List'!F:G,2,FALSE)","v":"Contreras LC ALC"},"PHBAO",0,0,0,287,473,null,null,13,0,0,0,486,0,0,0,2,15,17,0,0,0,2,14,16,{"$f":"VLOOKUP(A887,'Pivot Norm'!A:B,2,FALSE)","v":1},1,"18207011",1,1,2,1,1,2,0,0,0,0]
["1820801","1820801",{"$f":"VLOOKUP(B888, 'School List'!F:G,2,FALSE)","v":"King Film/Media Mag"},"Magnet 2",0,0,925,0,0,null,66,null,0,0,0,991,0,0,37,0,0,37,0,0,37,0,0,37,{"$f":"VLOOKUP(A888,'Pivot Norm'!A:B,2,FALSE)","v":3},1,"18208011",4,4,5,4,3,5,0,0,0,0]
["1820801","1820802",{"$f":"VLOOKUP(B889, 'School List'!F:G,2,FALSE)","v":"King MS Gifted/AT Mg"},"Magnet 1",0,0,460,0,0,null,null,null,0,0,0,460,0,0,17,0,0,17,0,0,17,0,0,17,{"$f":"VLOOKUP(A889,'Pivot Norm'!A:B,2,FALSE)","v":3},2,"18208012",0,0,0,0,0,0,0,0,0,0]
["1820801","1820803",{"$f":"VLOOKUP(B890, 'School List'!F:G,2,FALSE)","v":"King ESTEAM Mag"},"Magnet 1",0,0,460,0,0,null,3,null,0,0,0,463,0,0,17,0,0,17,0,0,17,0,0,17,{"$f":"VLOOKUP(A890,'Pivot Norm'!A:B,2,FALSE)","v":3},3,"18208013",0,0,0,0,0,0,0,0,0,0]
["1821701","1821701",{"$f":"VLOOKUP(B891, 'School List'!F:G,2,FALSE)","v":"Lawrence MS"},"PHBAO",0,0,630,0,0,null,59,null,0,0,0,689,0,0,24,0,0,24,0,0,26,0,0,26,{"$f":"VLOOKUP(A891,'Pivot Norm'!A:B,2,FALSE)","v":3},1,"18217011",2,3,4,2,2,4,0,0,0,0]
["1821701","1821702",{"$f":"VLOOKUP(B892, 'School List'!F:G,2,FALSE)","v":"Lawrence Gifted Mag"},"Magnet 2",0,0,398,0,0,null,null,null,0,0,0,398,0,0,16,0,0,16,0,0,15,0,0,15,{"$f":"VLOOKUP(A892,'Pivot Norm'!A:B,2,FALSE)","v":3},2,"18217012",0,0,0,0,0,0,1,0,0,0]
["1821701","1821703",{"$f":"VLOOKUP(B893, 'School List'!F:G,2,FALSE)","v":"Lawrence Pio Sci Mag"},"Magnet 2",0,0,169,0,0,null,1,null,0,0,0,170,0,0,7,0,0,7,0,0,7,0,0,7,{"$f":"VLOOKUP(A893,'Pivot Norm'!A:B,2,FALSE)","v":3},3,"18217013",0,0,0,0,0,0,0,0,0,0]
["1822601","1822601",{"$f":"VLOOKUP(B894, 'School List'!F:G,2,FALSE)","v":"Le Conte MS"},"PHBAO",0,0,355,0,0,null,20,null,0,0,0,375,0,0,14,0,0,14,0,0,14,0,0,14,{"$f":"VLOOKUP(A894,'Pivot Norm'!A:B,2,FALSE)","v":3},1,"18226011",1,1,2,1,1,2,0,0,0,0]
["1822601","1822602",{"$f":"VLOOKUP(B895, 'School List'!F:G,2,FALSE)","v":"Le Conte HEAT Magnet"},"Magnet 2",0,0,131,0,0,null,1,null,0,0,0,132,0,0,6,0,0,6,0,0,5,0,0,5,{"$f":"VLOOKUP(A895,'Pivot Norm'!A:B,2,FALSE)","v":3},2,"18226012",0,0,0,0,0,0,1,0,0,0]
["1822601","1822603",{"$f":"VLOOKUP(B896, 'School List'!F:G,2,FALSE)","v":"Le Conte CES CA Mag"},"Magnet 2",0,0,134,0,0,null,1,null,0,0,0,135,0,0,6,0,0,6,0,0,6,0,0,6,{"$f":"VLOOKUP(A896,'Pivot Norm'!A:B,2,FALSE)","v":3},3,"18226013",0,0,0,0,0,0,0,0,0,0]
["1822801","1822801",{"$f":"VLOOKUP(B897, 'School List'!F:G,2,FALSE)","v":"Maclay MS"},"PHBAO",0,0,344,0,0,null,26,null,0,0,0,370,0,0,14,0,0,14,0,0,15,0,0,15,{"$f":"VLOOKUP(A897,'Pivot Norm'!A:B,2,FALSE)","v":1},1,"18228011",1,0.5,2,1,1,2,0,0,0,0]
["1823001","1823001",{"$f":"VLOOKUP(B898, 'School List'!F:G,2,FALSE)","v":"Madison MS"},"PHBAO",0,0,678,0,0,null,108,null,0,0,0,786,0,0,26,0,0,26,0,0,28,0,0,28,{"$f":"VLOOKUP(A898,'Pivot Norm'!A:B,2,FALSE)","v":3},1,"18230011",3,3,4,3,3,4,0,0,0,0]
["1823001","1823002",{"$f":"VLOOKUP(B899, 'School List'!F:G,2,FALSE)","v":"Madison M/S/Med Mag"},"Magnet 1",0,0,297,0,0,null,null,null,0,0,0,297,0,0,11,0,0,11,0,0,11,0,0,11,{"$f":"VLOOKUP(A899,'Pivot Norm'!A:B,2,FALSE)","v":3},2,"18230012",0,0,0,0,0,0,0,0,0,0]
["1823001","1823003",{"$f":"VLOOKUP(B900, 'School List'!F:G,2,FALSE)","v":"Madison CSED Mag"},"Magnet 1",0,0,379,0,0,null,1,null,0,0,0,380,0,0,14,0,0,14,0,0,14,0,0,14,{"$f":"VLOOKUP(A900,'Pivot Norm'!A:B,2,FALSE)","v":3},3,"18230013",0,0,0,0,0,0,0,0,0,0]
["1823501","1823501",{"$f":"VLOOKUP(B901, 'School List'!F:G,2,FALSE)","v":"Marina Del Rey MS"},"PHBAO",0,0,192,0,0,null,29,null,0,0,0,221,0,0,8,0,0,8,0,0,7,0,0,7,{"$f":"VLOOKUP(A901,'Pivot Norm'!A:B,2,FALSE)","v":2},1,"18235011",1,1,2,1,1,2,0,0,0,0]
["1823501","1823502",{"$f":"VLOOKUP(B902, 'School List'!F:G,2,FALSE)","v":"Marina Del Rey PA Mg"},"Magnet 2",0,0,262,0,0,null,12,null,0,0,0,274,0,0,11,0,0,11,0,0,10,0,0,10,{"$f":"VLOOKUP(A902,'Pivot Norm'!A:B,2,FALSE)","v":2},2,{"$f":"A902&AD902","v":"18235012"},0,0,0,0,0,0,1,0,0,0]
["1823701","1823701",{"$f":"VLOOKUP(B903, 'School List'!F:G,2,FALSE)","v":"Markham MS"},"PHBAO",0,0,491,0,0,null,96,null,0,0,0,587,0,0,20,0,0,20,0,0,18,0,0,18,{"$f":"VLOOKUP(A903,'Pivot Norm'!A:B,2,FALSE)","v":3},1,"18237011",2,2,3,2,1,3,0,0,0,0]
["1823701","1823702",{"$f":"VLOOKUP(B904, 'School List'!F:G,2,FALSE)","v":"Markham Hlth CAR Mag"},"Magnet 2",0,0,132,0,0,null,null,null,0,0,0,132,0,0,6,0,0,6,0,0,6,0,0,6,{"$f":"VLOOKUP(A904,'Pivot Norm'!A:B,2,FALSE)","v":3},{"$f":"IF(A904=A903,AD903+1,1)","v":2},"18237012",0,0,0,0,0,0,0,0,0,0]
["1823701","1823703",{"$f":"VLOOKUP(B905, 'School List'!F:G,2,FALSE)","v":"Markham MS VAPA Mag"},"Magnet 2",0,0,45,0,0,null,null,null,null,null,null,45,0,0,2,0,0,2,0,0,0,0,0,0,{"$f":"VLOOKUP(A905,'Pivot Norm'!A:B,2,FALSE)","v":3},3,"18237013",0,0,0,0,0,0,0,0,0,0]
["1823801","1823801",{"$f":"VLOOKUP(B906, 'School List'!F:G,2,FALSE)","v":"Robert A. Millikan"},"Non-PHBAO",0,0,923,0,0,null,36,null,0,0,0,959,0,0,31,0,0,31,0,0,33,0,0,33,{"$f":"VLOOKUP(A906,'Pivot Norm'!A:B,2,FALSE)","v":3},1,"18238011",3,3,4,3,2,5,0,0,0,0]
["1823801","1823802",{"$f":"VLOOKUP(B907, 'School List'!F:G,2,FALSE)","v":"Millikan CMS PA Mag"},"Magnet 1",0,0,433,0,0,null,2,null,0,0,0,435,0,0,16,0,0,16,0,0,16,0,0,16,{"$f":"VLOOKUP(A907,'Pivot Norm'!A:B,2,FALSE)","v":3},2,"18238012",0,0,0,0,0,0,0,0,0,0]
["1823801","1823804",{"$f":"VLOOKUP(B908, 'School List'!F:G,2,FALSE)","v":"Millikan CMS SGE Mag"},"Magnet 1",0,0,216,0,0,null,1,null,0,0,0,217,0,0,8,0,0,8,0,0,5,0,0,5,{"$f":"VLOOKUP(A908,'Pivot Norm'!A:B,2,FALSE)","v":3},3,"18238013",0,0,0,0,0,0,0,0,0,0]
["1824001","1824001",{"$f":"VLOOKUP(B909, 'School List'!F:G,2,FALSE)","v":"Mount Gleason MS"},"PHBAO",0,0,332,0,0,null,40,null,0,0,0,372,0,0,13,0,0,13,0,0,13,0,0,13,{"$f":"VLOOKUP(A909,'Pivot Norm'!A:B,2,FALSE)","v":3},1,"18240011",2,2,3,2,2,3,0,0,0,0]
["1824001","1824002",{"$f":"VLOOKUP(B910, 'School List'!F:G,2,FALSE)","v":"Mt Gleason Gifted Mg"},"Magnet 1",0,0,189,0,0,null,null,null,0,0,0,189,0,0,7,0,0,7,0,0,7,0,0,7,{"$f":"VLOOKUP(A910,'Pivot Norm'!A:B,2,FALSE)","v":3},2,"18240012",0,0,0,0,0,0,0,0,0,0]
["1824001","1824003",{"$f":"VLOOKUP(B911, 'School List'!F:G,2,FALSE)","v":"Mt Gleason STEAM Mg"},"Magnet 1",0,0,227,0,0,null,10,null,0,0,0,237,0,0,9,0,0,9,0,0,8,0,0,8,{"$f":"VLOOKUP(A911,'Pivot Norm'!A:B,2,FALSE)","v":3},3,"18240013",0,0,0,0,0,0,1,0,0,0]
["1824501","1824501",{"$f":"VLOOKUP(B912, 'School List'!F:G,2,FALSE)","v":"Cochran MS"},"PHBAO",0,0,441,0,0,null,67,null,0,0,0,508,0,0,18,0,0,18,0,0,17,0,0,17,{"$f":"VLOOKUP(A912,'Pivot Norm'!A:B,2,FALSE)","v":1},1,"18245011",1,1,2,1,1,2,0,0,0,0]
["1825501","1825501",{"$f":"VLOOKUP(B913, 'School List'!F:G,2,FALSE)","v":"Muir MS"},"PHBAO",0,0,536,0,0,null,53,null,0,0,0,589,0,0,22,0,0,22,0,0,19,0,0,19,{"$f":"VLOOKUP(A913,'Pivot Norm'!A:B,2,FALSE)","v":2},1,"18255011",2,1,3,2,1,3,0,0,0,0]
["1825501","1825502",{"$f":"VLOOKUP(B914, 'School List'!F:G,2,FALSE)","v":"Muir MS STEM Mag"},"Magnet 2",0,0,140,0,0,null,null,null,0,0,0,140,0,0,6,0,0,6,0,0,6,0,0,6,{"$f":"VLOOKUP(A914,'Pivot Norm'!A:B,2,FALSE)","v":2},2,"18255012",0,0,0,0,0,0,0,0,0,0]
["1825901","1825901",{"$f":"VLOOKUP(B915, 'School List'!F:G,2,FALSE)","v":"Mulholland MS"},"PHBAO",0,0,464,0,0,null,58,null,0,0,0,522,0,0,18,0,0,18,0,0,18,0,0,18,{"$f":"VLOOKUP(A915,'Pivot Norm'!A:B,2,FALSE)","v":3},1,"18259011",2,2,4,2,2,4,0,0,0,0]
["1825901","1825902",{"$f":"VLOOKUP(B916, 'School List'!F:G,2,FALSE)","v":"Mulholland MS Police"},"Magnet 2",0,0,328,0,0,null,4,null,0,0,0,332,0,0,14,0,0,14,0,0,13,0,0,13,{"$f":"VLOOKUP(A916,'Pivot Norm'!A:B,2,FALSE)","v":3},2,"18259012",0,0,0,0,0,0,0,0,0,0]
["1825901","1825903",{"$f":"VLOOKUP(B917, 'School List'!F:G,2,FALSE)","v":"Mulholland Robotics"},"Magnet 2",0,0,347,0,0,null,9,null,0,0,0,356,0,0,14,0,0,14,0,0,14,0,0,14,{"$f":"VLOOKUP(A917,'Pivot Norm'!A:B,2,FALSE)","v":3},3,"18259013",0,0,0,0,0,0,0,0,0,0]
["1826401","1826401",{"$f":"VLOOKUP(B918, 'School List'!F:G,2,FALSE)","v":"Nightingale MS"},"PHBAO",0,0,309,0,0,null,50,null,0,0,0,359,0,0,12,0,0,12,0,0,11,0,0,11,{"$f":"VLOOKUP(A918,'Pivot Norm'!A:B,2,FALSE)","v":4},1,"18264011",2,2,3,2,2,3,0,0,0,0]
["1826401","1826402",{"$f":"VLOOKUP(B919, 'School List'!F:G,2,FALSE)","v":"Nightingale BET Mag"},"Magnet 2",0,0,275,0,0,null,null,null,0,0,0,275,0,0,11,0,0,11,0,0,11,0,0,11,{"$f":"VLOOKUP(A919,'Pivot Norm'!A:B,2,FALSE)","v":4},2,"18264012",0,0,0,0,0,0,0,0,0,0]
["1826401","1826403",{"$f":"VLOOKUP(B920, 'School List'!F:G,2,FALSE)","v":"Nightingale GSTEM Mg"},"Magnet 2",0,0,100,0,0,null,null,null,0,0,0,100,0,0,4,0,0,4,0,0,4,0,0,4,{"$f":"VLOOKUP(A920,'Pivot Norm'!A:B,2,FALSE)","v":4},3,"18264013",0,0,0,0,0,0,0,0,0,0]
["1826401","1826404",{"$f":"VLOOKUP(B921, 'School List'!F:G,2,FALSE)","v":"Nightingale M/H/K Mg"},"Magnet 2",0,0,111,0,0,null,null,null,0,0,0,111,0,0,5,0,0,5,0,0,5,0,0,5,{"$f":"VLOOKUP(A921,'Pivot Norm'!A:B,2,FALSE)","v":4},4,"18264014",0,0,0,0,0,0,0,0,0,0]
["1826801","1826801",{"$f":"VLOOKUP(B922, 'School List'!F:G,2,FALSE)","v":"Nimitz MS"},"PHBAO",0,0,790,0,0,null,98,null,0,0,0,888,0,0,30,0,0,30,0,0,29,0,0,29,{"$f":"VLOOKUP(A922,'Pivot Norm'!A:B,2,FALSE)","v":2},1,"18268011",2,3,4,3,2,4,0,0,0,0]
["1826801","1826802",{"$f":"VLOOKUP(B923, 'School List'!F:G,2,FALSE)","v":"Nimitz MS STEM Mag"},"Magnet 2",0,0,425,0,0,null,2,null,0,0,0,427,0,0,17,0,0,17,0,0,17,0,0,17,{"$f":"VLOOKUP(A923,'Pivot Norm'!A:B,2,FALSE)","v":2},2,"18268012",0,0,0,0,0,0,0,0,0,0]
["1827201","1827201",{"$f":"VLOOKUP(B924, 'School List'!F:G,2,FALSE)","v":"Alfred B. Nobel"},"Non-PHBAO",0,0,1095,0,0,null,3,null,0,0,0,1098,0,0,37,0,0,37,0,0,46,0,0,46,{"$f":"VLOOKUP(A924,'Pivot Norm'!A:B,2,FALSE)","v":2},1,"18272011",5,4,6,5,3,6,0,0,0,0]
["1827201","1827202",{"$f":"VLOOKUP(B925, 'School List'!F:G,2,FALSE)","v":"Nobel CMS STEAM Mag"},"Magnet 1",0,0,1080,0,0,null,null,null,0,0,0,1080,0,0,40,0,0,40,0,0,33,0,0,33,{"$f":"VLOOKUP(A925,'Pivot Norm'!A:B,2,FALSE)","v":2},2,"18272012",0,0,0,0,0,0,0,0,0,0]
["1828301","1828301",{"$f":"VLOOKUP(B926, 'School List'!F:G,2,FALSE)","v":"Northridge MS"},"PHBAO",0,0,435,0,0,null,77,null,0,0,0,512,0,0,18,0,0,18,0,0,18,0,0,18,{"$f":"VLOOKUP(A926,'Pivot Norm'!A:B,2,FALSE)","v":2},1,"18283011",2,1,3,2,1,3,0,0,0,1]
["1828301","1828303",{"$f":"VLOOKUP(B927, 'School List'!F:G,2,FALSE)","v":"Northridge Med/HC Mg"},"Magnet 2",0,0,210,0,0,null,4,null,0,0,0,214,0,0,9,0,0,9,0,0,9,0,0,9,{"$f":"VLOOKUP(A927,'Pivot Norm'!A:B,2,FALSE)","v":2},2,"18283012",0,0,0,0,0,0,0,0,0,0]
["1830601","1830601",{"$f":"VLOOKUP(B928, 'School List'!F:G,2,FALSE)","v":"Olive Vista MS"},"PHBAO",0,0,653,0,0,null,116,null,0,0,0,769,0,0,25,0,0,25,0,0,25,0,0,25,{"$f":"VLOOKUP(A928,'Pivot Norm'!A:B,2,FALSE)","v":2},1,"18306011",2,2,3,2,2,3,0,0,0,0]
["1830601","1830602",{"$f":"VLOOKUP(B929, 'School List'!F:G,2,FALSE)","v":"Olive Vista STEAM Mg"},"Magnet 2",0,0,350,0,0,null,3,null,0,0,0,353,0,0,14,0,0,14,0,0,13,0,0,13,{"$f":"VLOOKUP(A929,'Pivot Norm'!A:B,2,FALSE)","v":2},2,"18306012",0,0,0,0,0,0,1,0,0,0]
["1832101","1832101",{"$f":"VLOOKUP(B930, 'School List'!F:G,2,FALSE)","v":"Pacoima MS"},"PHBAO",0,0,569,0,0,null,39,null,0,0,0,608,0,0,22,0,0,22,0,0,21,0,0,21,{"$f":"VLOOKUP(A930,'Pivot Norm'!A:B,2,FALSE)","v":3},1,"18321011",2,2,3,2,2,3,0,0,0,0]
["1832101","1832102",{"$f":"VLOOKUP(B931, 'School List'!F:G,2,FALSE)","v":"Pacoima FMPA Mag"},"Magnet 2",0,0,250,0,0,null,4,null,0,0,0,254,0,0,10,0,0,10,0,0,10,0,0,10,{"$f":"VLOOKUP(A931,'Pivot Norm'!A:B,2,FALSE)","v":3},2,"18321012",0,0,0,0,0,0,0,0,0,0]
["1832101","1832103",{"$f":"VLOOKUP(B932, 'School List'!F:G,2,FALSE)","v":"Pacoima MS CS/M Mag"},"Magnet 2",0,0,150,0,0,null,null,null,0,0,0,150,0,0,6,0,0,6,0,0,6,0,0,6,{"$f":"VLOOKUP(A932,'Pivot Norm'!A:B,2,FALSE)","v":3},3,"18321013",0,0,0,0,0,0,0,0,0,0]
["1834001","1834001",{"$f":"VLOOKUP(B933, 'School List'!F:G,2,FALSE)","v":"Palms MS"},"PHBAO",0,0,461,0,0,null,43,null,0,0,0,504,0,0,18,0,0,18,0,0,19,0,0,19,{"$f":"VLOOKUP(A933,'Pivot Norm'!A:B,2,FALSE)","v":3},1,"18340011",2,3,4,2,2,4,0,0,0,0]
["1834001","1834002",{"$f":"VLOOKUP(B934, 'School List'!F:G,2,FALSE)","v":"Palms MS Gifted Mag"},"Magnet 1",0,0,514,0,0,null,null,null,0,0,0,514,0,0,19,0,0,19,0,0,19,0,0,19,{"$f":"VLOOKUP(A934,'Pivot Norm'!A:B,2,FALSE)","v":3},2,"18340012",0,0,0,0,0,0,0,0,0,0]
["1834001","1834003",{"$f":"VLOOKUP(B935, 'School List'!F:G,2,FALSE)","v":"Palms MMC Mag"},"Magnet 2",0,0,282,0,0,null,1,null,0,0,0,283,0,0,12,0,0,12,0,0,7,0,0,7,{"$f":"VLOOKUP(A935,'Pivot Norm'!A:B,2,FALSE)","v":3},3,"18340013",0,0,0,0,0,0,0,0,0,0]
["1834401","1834401",{"$f":"VLOOKUP(B936, 'School List'!F:G,2,FALSE)","v":"Woodland Hills Acad"},"PHBAO",0,0,514,0,0,null,31,null,0,0,0,545,0,0,20,0,0,20,0,0,19,0,0,19,{"$f":"VLOOKUP(A936,'Pivot Norm'!A:B,2,FALSE)","v":2},1,"18344011",1,1,2,1,1,2,1,0,0,0]
["1834401","1834402",{"$f":"VLOOKUP(B937, 'School List'!F:G,2,FALSE)","v":"Woodland Hls Hum Mag"},"Magnet 1",0,0,84,0,0,null,null,null,0,0,0,84,0,0,4,0,0,4,0,0,2,0,0,2,{"$f":"VLOOKUP(A937,'Pivot Norm'!A:B,2,FALSE)","v":2},2,"18344012",0,0,0,0,0,0,0,0,0,0]
["1835201","1835201",{"$f":"VLOOKUP(B938, 'School List'!F:G,2,FALSE)","v":"Peary MS"},"PHBAO",0,0,819,0,0,null,92,null,0,0,0,911,0,0,31,0,0,31,0,0,29,0,0,29,{"$f":"VLOOKUP(A938,'Pivot Norm'!A:B,2,FALSE)","v":3},1,"18352011",2,3,4,2,2,4,0,0,0,0]
["1835201","1835202",{"$f":"VLOOKUP(B939, 'School List'!F:G,2,FALSE)","v":"Peary STEAM Mag"},"Magnet 2",0,0,275,0,0,null,3,null,0,0,0,278,0,0,11,0,0,11,0,0,10,0,0,10,{"$f":"VLOOKUP(A939,'Pivot Norm'!A:B,2,FALSE)","v":3},2,"18352012",0,0,0,0,0,0,0,0,0,0]
["1835201","1835203",{"$f":"VLOOKUP(B940, 'School List'!F:G,2,FALSE)","v":"Peary Gifted Mag"},"Magnet 2",0,0,62,0,0,null,null,null,0,0,0,62,0,0,3,0,0,3,0,0,3,0,0,3,{"$f":"VLOOKUP(A940,'Pivot Norm'!A:B,2,FALSE)","v":3},3,"18352013",0,0,0,0,0,0,0,0,0,0]
["1835401","1835401",{"$f":"VLOOKUP(B941, 'School List'!F:G,2,FALSE)","v":"Porter MS"},"PHBAO",0,0,634,0,0,null,40,null,0,0,0,674,0,0,24,0,0,24,0,0,24,0,0,24,{"$f":"VLOOKUP(A941,'Pivot Norm'!A:B,2,FALSE)","v":2},1,"18354011",2,2,3,2,2,4,0,0,0,0]
["1835401","1835402",{"$f":"VLOOKUP(B942, 'School List'!F:G,2,FALSE)","v":"Porter MS Gifted Mag"},"Magnet 2",0,0,500,0,0,null,null,null,0,0,0,500,0,0,20,0,0,20,0,0,20,0,0,20,{"$f":"VLOOKUP(A942,'Pivot Norm'!A:B,2,FALSE)","v":2},2,"18354012",0,0,0,0,0,0,0,0,0,0]
["1835501","1835501",{"$f":"VLOOKUP(B943, 'School List'!F:G,2,FALSE)","v":"Reed MS"},"Non-PHBAO",0,0,1509,0,0,null,54,null,0,0,0,1563,0,0,50,0,0,50,0,0,49,0,0,49,{"$f":"VLOOKUP(A943,'Pivot Norm'!A:B,2,FALSE)","v":1},1,"18355011",3,3,4,3,2,4,0,0,2,0]
["1835601","1835601",{"$f":"VLOOKUP(B944, 'School List'!F:G,2,FALSE)","v":"Revere MS"},"Non-PHBAO",0,0,1484,0,0,null,42,null,0,0,0,1526,0,0,49,0,0,49,0,0,48,0,0,48,{"$f":"VLOOKUP(A944,'Pivot Norm'!A:B,2,FALSE)","v":2},1,"18356011",4,4,5,4,3,5,0,0,0,0]
["1835601","1835602",{"$f":"VLOOKUP(B945, 'School List'!F:G,2,FALSE)","v":"Revere CMS STEM Mag"},"Magnet 1",0,0,406,0,0,null,10,null,0,0,0,416,0,0,15,0,0,15,0,0,15,0,0,15,{"$f":"VLOOKUP(A945,'Pivot Norm'!A:B,2,FALSE)","v":2},2,"18356012",0,0,0,0,0,0,0,0,0,0]
["1835801","1835801",{"$f":"VLOOKUP(B946, 'School List'!F:G,2,FALSE)","v":"San Fernando MS"},"PHBAO",0,0,485,0,0,null,65,null,0,0,0,550,0,0,20,0,0,20,0,0,20,0,0,20,{"$f":"VLOOKUP(A946,'Pivot Norm'!A:B,2,FALSE)","v":1},1,"18358011",1,1,2,1,1,2,0,0,0,0]
["1836301","1836301",{"$f":"VLOOKUP(B947, 'School List'!F:G,2,FALSE)","v":"Sepulveda MS"},"PHBAO",0,0,649,0,0,null,103,null,0,0,0,752,0,0,25,0,0,25,0,0,24,0,0,24,{"$f":"VLOOKUP(A947,'Pivot Norm'!A:B,2,FALSE)","v":3},1,"18363011",2,2,3,2,2,3,0,0,0,0]
["1836301","1836302",{"$f":"VLOOKUP(B948, 'School List'!F:G,2,FALSE)","v":"Sepulveda Gifted Mag"},"Magnet 2",0,0,324,0,0,null,null,null,0,0,0,324,0,0,13,0,0,13,0,0,13,0,0,13,{"$f":"VLOOKUP(A948,'Pivot Norm'!A:B,2,FALSE)","v":3},2,"18363012",0,0,0,0,0,0,0,0,0,0]
["1836301","1836303",{"$f":"VLOOKUP(B949, 'School List'!F:G,2,FALSE)","v":"Sepulveda KSM Mag"},"Magnet 2",0,0,96,0,0,null,null,null,0,0,0,96,0,0,4,0,0,4,0,0,2,0,0,2,{"$f":"VLOOKUP(A949,'Pivot Norm'!A:B,2,FALSE)","v":3},3,"18363013",0,0,0,0,0,0,0,0,0,0]
["1837701","1837701",{"$f":"VLOOKUP(B950, 'School List'!F:G,2,FALSE)","v":"South Gate MS"},"PHBAO",0,0,1030,0,0,null,80,null,0,0,0,1110,0,0,39,0,0,39,0,0,39,0,0,39,{"$f":"VLOOKUP(A950,'Pivot Norm'!A:B,2,FALSE)","v":2},1,"18377011",3,3,4,3,2,4,0,0,0,1]
["1837701","1837702",{"$f":"VLOOKUP(B951, 'School List'!F:G,2,FALSE)","v":"South Gate MS STEM Mg"},"Magnet 2",0,0,350,0,0,null,null,null,0,0,0,350,0,0,14,0,0,14,0,0,14,0,0,14,{"$f":"VLOOKUP(A951,'Pivot Norm'!A:B,2,FALSE)","v":2},2,"18377012",0,0,0,0,0,0,0,0,0,0]
["1838701","1838701",{"$f":"VLOOKUP(B952, 'School List'!F:G,2,FALSE)","v":"Stevenson Col Car Pr"},"PHBAO",0,0,542,0,0,null,110,null,0,0,0,652,0,0,21,0,0,21,0,0,22,0,0,22,{"$f":"VLOOKUP(A952,'Pivot Norm'!A:B,2,FALSE)","v":3},1,"18387011",2,2,3,2,2,3,0,0,0,0]
["1838701","1838702",{"$f":"VLOOKUP(B953, 'School List'!F:G,2,FALSE)","v":"Stvnsn C&CP Gift Mag"},"Magnet 2",0,0,131,0,0,null,null,null,0,0,0,131,0,0,6,0,0,6,0,0,5,0,0,5,{"$f":"VLOOKUP(A953,'Pivot Norm'!A:B,2,FALSE)","v":3},2,"18387012",0,0,0,0,0,0,1,0,0,0]
["1838701","1838703",{"$f":"VLOOKUP(B954, 'School List'!F:G,2,FALSE)","v":"Stvnsn C&P CA Mag"},"Magnet 2",0,0,143,0,0,null,2,null,0,0,0,145,0,0,6,0,0,6,0,0,6,0,0,6,{"$f":"VLOOKUP(A954,'Pivot Norm'!A:B,2,FALSE)","v":3},3,"18387013",0,0,0,0,0,0,0,0,0,0]
["1839001","1839001",{"$f":"VLOOKUP(B955, 'School List'!F:G,2,FALSE)","v":"Walnut Park MS SJ/SL"},"PHBAO",0,0,410,0,0,null,9,null,0,0,0,419,0,0,16,0,0,16,0,0,16,0,0,16,{"$f":"VLOOKUP(A955,'Pivot Norm'!A:B,2,FALSE)","v":1},1,"18390011",1,1,2,1,1,2,0,0,0,0]
["1839601","1839601",{"$f":"VLOOKUP(B956, 'School List'!F:G,2,FALSE)","v":"Sun Valley ET Mag"},"Magnet 2",0,0,400,0,0,null,42,null,0,0,0,442,0,0,16,0,0,16,0,0,15,0,0,15,{"$f":"VLOOKUP(A956,'Pivot Norm'!A:B,2,FALSE)","v":3},1,"18396011",3,3,4,3,2,4,1,0,0,0]
["1839601","1839602",{"$f":"VLOOKUP(B957, 'School List'!F:G,2,FALSE)","v":"Sun Valley ES Mag"},"Magnet 2",0,0,289,0,0,null,33,null,0,0,0,322,0,0,12,0,0,12,0,0,11,0,0,11,{"$f":"VLOOKUP(A957,'Pivot Norm'!A:B,2,FALSE)","v":3},2,"18396012",0,0,0,0,0,0,1,0,0,0]
["1839601","1839603",{"$f":"VLOOKUP(B958, 'School List'!F:G,2,FALSE)","v":"Sun Valley BSEL Mag"},"Magnet 2",0,0,200,0,425,null,10,null,0,0,0,635,0,0,8,0,17,25,0,0,8,0,16,24,{"$f":"VLOOKUP(A958,'Pivot Norm'!A:B,2,FALSE)","v":3},3,"18396013",0,0,0,0,0,0,1,0,0,0]
["1840601","1840601",{"$f":"VLOOKUP(B959, 'School List'!F:G,2,FALSE)","v":"Sutter MS"},"PHBAO",0,0,479,0,0,null,100,null,0,0,0,579,0,0,18,0,0,18,0,0,17,0,0,17,{"$f":"VLOOKUP(A959,'Pivot Norm'!A:B,2,FALSE)","v":2},1,"18406011",2,2,3,2,2,3,0,0,0,0]
["1840601","1840602",{"$f":"VLOOKUP(B960, 'School List'!F:G,2,FALSE)","v":"Sutter STEAM Mag"},"Magnet 2",0,0,250,0,0,null,3,null,0,0,0,253,0,0,10,0,0,10,0,0,10,0,0,10,{"$f":"VLOOKUP(A960,'Pivot Norm'!A:B,2,FALSE)","v":2},2,"18406012",0,0,0,0,0,0,0,0,0,0]
["1842501","1842501",{"$f":"VLOOKUP(B961, 'School List'!F:G,2,FALSE)","v":"Mark Twain MS"},"PHBAO",0,0,692,0,0,null,42,null,0,0,0,734,0,0,26,0,0,26,0,0,24,0,0,24,{"$f":"VLOOKUP(A961,'Pivot Norm'!A:B,2,FALSE)","v":2},1,"18425011",2,2,3,2,2,3,0,0,0,0]
["1842501","1842502",{"$f":"VLOOKUP(B962, 'School List'!F:G,2,FALSE)","v":"Mark Twain WL Mag"},"Magnet 2",0,0,173,0,0,null,5,null,0,0,0,178,0,0,7,0,0,7,0,0,7,0,0,7,{"$f":"VLOOKUP(A962,'Pivot Norm'!A:B,2,FALSE)","v":2},2,"18425012",0,0,0,0,0,0,0,0,0,0]
["1843401","1843401",{"$f":"VLOOKUP(B963, 'School List'!F:G,2,FALSE)","v":"Van Nuys MS"},"PHBAO",0,0,555,0,0,null,73,null,0,0,0,628,0,0,21,0,0,21,0,0,22,0,0,22,{"$f":"VLOOKUP(A963,'Pivot Norm'!A:B,2,FALSE)","v":2},1,"18434011",2,2,3,2,2,3,0,0,0,0]
["1843401","1843402",{"$f":"VLOOKUP(B964, 'School List'!F:G,2,FALSE)","v":"Van Nuys STEAM Mag"},"Magnet 2",0,0,275,0,0,null,3,null,0,0,0,278,0,0,11,0,0,11,0,0,10,0,0,10,{"$f":"VLOOKUP(A964,'Pivot Norm'!A:B,2,FALSE)","v":2},2,"18434012",0,0,0,0,0,0,1,0,0,0]
["1846201","1846201",{"$f":"VLOOKUP(B965, 'School List'!F:G,2,FALSE)","v":"Virgil MS"},"PHBAO",0,0,625,0,0,null,114,null,0,0,0,739,0,0,24,0,0,24,0,0,23,0,0,23,{"$f":"VLOOKUP(A965,'Pivot Norm'!A:B,2,FALSE)","v":2},1,"18462011",2,2,3,2,2,3,0,0,0,0]
["1846201","1846202",{"$f":"VLOOKUP(B966, 'School List'!F:G,2,FALSE)","v":"Virgil Med&Health Sc"},"Magnet 2",0,0,396,0,0,null,null,null,0,0,0,396,0,0,16,0,0,16,0,0,15,0,0,15,{"$f":"VLOOKUP(A966,'Pivot Norm'!A:B,2,FALSE)","v":2},2,{"$f":"A966&AD966","v":"18462012"},0,0,0,0,0,0,0,0,0,0]
["1848101","1848101",{"$f":"VLOOKUP(B967, 'School List'!F:G,2,FALSE)","v":"Webster MS"},"PHBAO",0,0,182,0,0,null,33,null,0,0,0,215,0,0,8,0,0,8,0,0,8,0,0,8,{"$f":"VLOOKUP(A967,'Pivot Norm'!A:B,2,FALSE)","v":2},1,"18481011",1,1,2,1,1,2,0,0,0,0]
["1848101","1848102",{"$f":"VLOOKUP(B968, 'School List'!F:G,2,FALSE)","v":"Webster MS STEAM"},"Magnet 2",0,0,186,0,0,null,9,null,0,0,0,195,0,0,8,0,0,8,0,0,8,0,0,8,{"$f":"VLOOKUP(A968,'Pivot Norm'!A:B,2,FALSE)","v":2},{"$f":"IF(A968=A967,AD967+1,1)","v":2},"18481012",0,0,0,0,0,0,0,0,0,0]
["1848701","1848701",{"$f":"VLOOKUP(B969, 'School List'!F:G,2,FALSE)","v":"White MS"},"PHBAO",0,0,1029,0,0,null,101,null,0,0,0,1130,0,0,39,0,0,39,0,0,38,0,0,38,{"$f":"VLOOKUP(A969,'Pivot Norm'!A:B,2,FALSE)","v":2},1,"18487011",3,3,4,3,3,4,0,0,0,0]
["1848701","1848702",{"$f":"VLOOKUP(B970, 'School List'!F:G,2,FALSE)","v":"White STEAM Magnet"},"Magnet 2",0,0,450,0,0,null,3,null,0,0,0,453,0,0,18,0,0,18,0,0,18,0,0,18,{"$f":"VLOOKUP(A970,'Pivot Norm'!A:B,2,FALSE)","v":2},2,"18487012",0,0,0,0,0,0,0,0,0,0]
["1849001","1849001",{"$f":"VLOOKUP(B971, 'School List'!F:G,2,FALSE)","v":"Wilmington STEAM Mag"},"Magnet 2",0,0,1411,0,0,null,120,null,0,0,0,1531,0,0,57,0,0,57,0,0,54,0,0,54,{"$f":"VLOOKUP(A971,'Pivot Norm'!A:B,2,FALSE)","v":1},1,"18490011",3,3,4,3,2,4,0,0,0,1]
["1849301","1849301",{"$f":"VLOOKUP(B972, 'School List'!F:G,2,FALSE)","v":"Wright Eng & Des Mag"},"Magnet 2",0,0,397,0,0,null,38,null,0,0,0,435,0,0,16,0,0,16,0,0,15,0,0,15,{"$f":"VLOOKUP(A972,'Pivot Norm'!A:B,2,FALSE)","v":2},1,"18493011",1,1,2,1,1,2,1,0,0,0]
["1849301","1849303",{"$f":"VLOOKUP(B973, 'School List'!F:G,2,FALSE)","v":"Wright Gifted Mag"},"Magnet 2",0,0,79,0,0,null,null,null,0,0,0,79,0,0,4,0,0,4,0,0,3,0,0,3,{"$f":"VLOOKUP(A973,'Pivot Norm'!A:B,2,FALSE)","v":2},2,"18493012",0,0,0,0,0,0,1,0,0,0]
["1850101","1850101",{"$f":"VLOOKUP(B974, 'School List'!F:G,2,FALSE)","v":"RFK LA SH Arts"},"PHBAO",0,0,0,228,422,null,null,4,0,0,0,426,0,0,0,2,14,16,0,0,0,2,13,15,{"$f":"VLOOKUP(A974,'Pivot Norm'!A:B,2,FALSE)","v":1},1,"18501011",1,1,2,1,1,2,0,0,0,0]
["1851301","1851301",{"$f":"VLOOKUP(B975, 'School List'!F:G,2,FALSE)","v":"Northridge Acad SH"},"PHBAO",0,0,0,535,904,null,null,16,0,0,0,920,0,0,0,4,29,33,0,0,0,3,29,32,{"$f":"VLOOKUP(A975,'Pivot Norm'!A:B,2,FALSE)","v":1},1,"18513011",2,2,3,2,2,3,0,0,0,0]
["1851601","1851601",{"$f":"VLOOKUP(B976, 'School List'!F:G,2,FALSE)","v":"Cortines Sch Of VPA"},"PHBAO",0,0,0,644,1191,null,null,11,0,0,0,1202,0,0,0,4,38,42,0,0,0,4,35,39,{"$f":"VLOOKUP(A976,'Pivot Norm'!A:B,2,FALSE)","v":1},1,"18516011",2,2,4,2,2,3,0,0,1,0]
["1851701","1851701",{"$f":"VLOOKUP(B977, 'School List'!F:G,2,FALSE)","v":"Contreras Bus Tour"},"PHBAO",0,0,0,202,362,null,null,24,0,0,0,386,0,0,0,2,12,14,0,0,0,2,12,14,{"$f":"VLOOKUP(A977,'Pivot Norm'!A:B,2,FALSE)","v":1},1,"18517011",1,1,2,1,1,2,0,0,0,0]
["1851801","1851801",{"$f":"VLOOKUP(B978, 'School List'!F:G,2,FALSE)","v":"Dr. Vladovic HTPA"},"PHBAO",0,0,0,215,433,null,null,null,0,0,0,433,0,0,0,2,14,16,0,0,0,2,14,16,{"$f":"VLOOKUP(A978,'Pivot Norm'!A:B,2,FALSE)","v":1},1,"18518011",1,1,2,1,1,2,0,0,0,0]
["1852701","1852701",{"$f":"VLOOKUP(B979, 'School List'!F:G,2,FALSE)","v":"Contreras LC Soc Jus"},"PHBAO",0,0,0,304,490,null,null,2,0,0,0,492,0,0,0,2,16,18,0,0,0,2,15,17,{"$f":"VLOOKUP(A979,'Pivot Norm'!A:B,2,FALSE)","v":1},1,"18527011",1,1,2,1,1,2,0,0,0,0]
["1852901","1852901",{"$f":"VLOOKUP(B980, 'School List'!F:G,2,FALSE)","v":"Banning SH"},"PHBAO",0,0,0,936,1543,null,null,180,0,0,0,1723,0,0,0,6,49,55,0,0,0,5,48,53,{"$f":"VLOOKUP(A980,'Pivot Norm'!A:B,2,FALSE)","v":5},1,"18529011",5,5,6,5,4,6,0,0,0,0]
["1852901","1852902",{"$f":"VLOOKUP(B981, 'School List'!F:G,2,FALSE)","v":"Banning Col Prep Mag"},"Magnet 2",0,0,0,0,375,null,null,2,0,0,0,377,0,0,0,0,15,15,0,0,0,0,15,15,{"$f":"VLOOKUP(A981,'Pivot Norm'!A:B,2,FALSE)","v":5},2,"18529012",0,0,0,0,0,0,0,0,0,0]
["1852901","1852907",{"$f":"VLOOKUP(B982, 'School List'!F:G,2,FALSE)","v":"Banning SH FF Mag"},"Magnet 2",0,0,0,0,187,null,null,2,0,0,0,189,0,0,0,0,8,8,0,0,0,0,8,8,{"$f":"VLOOKUP(A982,'Pivot Norm'!A:B,2,FALSE)","v":5},3,"18529013",0,0,0,0,0,0,0,0,0,0]
["1852901","1852908",{"$f":"VLOOKUP(B983, 'School List'!F:G,2,FALSE)","v":"Banning SH STEAM Mag"},"Magnet 2",0,0,0,0,135,null,null,3,0,0,0,138,0,0,0,0,6,6,0,0,0,0,6,6,{"$f":"VLOOKUP(A983,'Pivot Norm'!A:B,2,FALSE)","v":5},4,"18529014",0,0,0,0,0,0,0,0,0,0]
["1852901","1852909",{"$f":"VLOOKUP(B984, 'School List'!F:G,2,FALSE)","v":"Banning PA Mag"},"Magnet 2",0,0,0,0,34,null,null,2,0,0,0,36,0,0,0,0,2,2,0,0,0,0,1,1,{"$f":"VLOOKUP(A984,'Pivot Norm'!A:B,2,FALSE)","v":5},5,"18529015",0,0,0,0,0,0,0,0,0,0]
["1853601","1853601",{"$f":"VLOOKUP(B985, 'School List'!F:G,2,FALSE)","v":"Bell SH"},"PHBAO",0,0,0,988,1707,null,null,48,0,0,0,1755,0,0,0,6,54,60,0,0,0,6,51,57,{"$f":"VLOOKUP(A985,'Pivot Norm'!A:B,2,FALSE)","v":2},1,"18536011",5,5,6,5,4,6,0,0,0,0]
["1853601","1853614",{"$f":"VLOOKUP(B986, 'School List'!F:G,2,FALSE)","v":"Bell Gifted/STEM Mag"},"Magnet 2",0,0,0,0,600,null,null,null,0,0,0,600,0,0,0,0,24,24,0,0,0,0,24,24,{"$f":"VLOOKUP(A986,'Pivot Norm'!A:B,2,FALSE)","v":2},2,"18536012",0,0,0,0,0,0,0,0,0,0]
["1854301","1854301",{"$f":"VLOOKUP(B987, 'School List'!F:G,2,FALSE)","v":"Belmont SH"},"PHBAO",0,0,0,305,613,null,null,51,0,0,0,664,0,0,0,2,20,22,0,0,0,2,20,22,{"$f":"VLOOKUP(A987,'Pivot Norm'!A:B,2,FALSE)","v":1},1,"18543011",1,1,2,2,2,3,1,0,1,0]
["1854401","1854401",{"$f":"VLOOKUP(B988, 'School List'!F:G,2,FALSE)","v":"Roybal LC"},"PHBAO",0,0,0,494,789,null,null,73,0,0,0,862,0,0,0,3,25,28,0,0,0,3,22,25,{"$f":"VLOOKUP(A988,'Pivot Norm'!A:B,2,FALSE)","v":2},1,"18544011",2,2,3,2,2,3,0,0,0,0]
["1854401","1854406",{"$f":"VLOOKUP(B989, 'School List'!F:G,2,FALSE)","v":"Roybal ICAMP Mag"},"Magnet 2",0,0,0,0,80,null,null,null,0,0,0,80,0,0,0,0,4,4,0,0,0,0,2,2,{"$f":"VLOOKUP(A989,'Pivot Norm'!A:B,2,FALSE)","v":2},2,"18544012",0,0,0,0,0,0,1,0,0,0]
["1855801","1855801",{"$f":"VLOOKUP(B990, 'School List'!F:G,2,FALSE)","v":"Pearl Journ/Comm Mag"},"Magnet 1",0,0,0,0,263,null,null,null,0,0,0,263,0,0,0,0,10,10,0,0,0,0,10,10,{"$f":"VLOOKUP(A990,'Pivot Norm'!A:B,2,FALSE)","v":1},1,"18558011",1,0.5,2,1,0.5,2,0,0,0,0]
["1857101","1857101",{"$f":"VLOOKUP(B991, 'School List'!F:G,2,FALSE)","v":"Canoga Park SH"},"PHBAO",0,0,0,440,839,null,null,83,0,0,0,922,0,0,0,3,27,30,0,0,0,3,28,31,{"$f":"VLOOKUP(A991,'Pivot Norm'!A:B,2,FALSE)","v":3},1,"18571011",2,3,4,3,3,4,0,0,0,0]
["1857101","1857102",{"$f":"VLOOKUP(B992, 'School List'!F:G,2,FALSE)","v":"Canoga Park EEVS Mag"},"Magnet 2",0,0,0,0,200,null,null,1,0,0,0,201,0,0,0,0,8,8,0,0,0,0,9,9,{"$f":"VLOOKUP(A992,'Pivot Norm'!A:B,2,FALSE)","v":3},2,"18571012",0,0,0,0,0,0,0,0,0,0]
["1857101","1857106",{"$f":"VLOOKUP(B993, 'School List'!F:G,2,FALSE)","v":"Canoga Park CAM Mag"},"Magnet 2",0,0,0,0,225,null,null,3,0,0,0,228,0,0,0,0,9,9,0,0,0,0,9,9,{"$f":"VLOOKUP(A993,'Pivot Norm'!A:B,2,FALSE)","v":3},3,"18571013",0,0,0,0,0,0,0,0,0,0]
["1857501","1857501",{"$f":"VLOOKUP(B994, 'School List'!F:G,2,FALSE)","v":"Carson SH"},"PHBAO",0,0,0,682,1311,null,null,83,0,0,0,1394,0,0,0,5,41,46,0,0,0,4,42,46,{"$f":"VLOOKUP(A994,'Pivot Norm'!A:B,2,FALSE)","v":2},1,"18575011",3,3,4,3,3,4,0,0,0,0]
["1857501","1857510",{"$f":"VLOOKUP(B995, 'School List'!F:G,2,FALSE)","v":"Carson HS MEDiA Mag"},"Magnet 2",0,0,0,0,63,null,null,null,null,null,null,63,0,0,0,0,3,3,0,0,0,0,0,0,{"$f":"VLOOKUP(A995,'Pivot Norm'!A:B,2,FALSE)","v":2},2,"18575012",0,0,0,0,0,0,0,0,0,0]
["1857701","1857701",{"$f":"VLOOKUP(B996, 'School List'!F:G,2,FALSE)","v":"Sotomayor Art/Sci Mg"},"Magnet 2",0,0,250,0,450,null,2,4,0,0,0,706,0,0,10,0,18,28,0,0,9,0,16,25,{"$f":"VLOOKUP(A996,'Pivot Norm'!A:B,2,FALSE)","v":1},1,"18577011",2,1,3,1,1,2,0,0,0,0]
["1858301","1858301",{"$f":"VLOOKUP(B997, 'School List'!F:G,2,FALSE)","v":"Chatsworth Chtr HS"},"PHBAO",0,0,0,753,1428,null,null,94,0,0,0,1522,0,0,0,5,45,50,0,0,0,5,45,50,{"$f":"VLOOKUP(A997,'Pivot Norm'!A:B,2,FALSE)","v":2},1,"18583011",3,3,4,3,3,4,0,0,0,0]
["1858301","1858309",{"$f":"VLOOKUP(B998, 'School List'!F:G,2,FALSE)","v":"Chatsworth GSTEAM Mg"},"Magnet 2",0,0,0,0,152,null,null,null,0,0,0,152,0,0,0,0,7,7,0,0,0,0,3,3,{"$f":"VLOOKUP(A998,'Pivot Norm'!A:B,2,FALSE)","v":2},2,"18583012",0,0,0,0,0,0,0,0,0,0]
["1859001","1859001",{"$f":"VLOOKUP(B999, 'School List'!F:G,2,FALSE)","v":"Cleveland Chtr HS"},"PHBAO",0,0,0,865,1660,null,null,84,0,0,0,1744,0,0,0,6,52,58,0,0,0,5,54,59,{"$f":"VLOOKUP(A999,'Pivot Norm'!A:B,2,FALSE)","v":3},1,"18590011",5,6,7,5,5,7,0,0,0,0]
["1859001","1859002",{"$f":"VLOOKUP(B1000, 'School List'!F:G,2,FALSE)","v":"Cleveland Human Mag"},"Magnet 1",0,0,0,0,812,null,null,null,0,0,0,812,0,0,0,0,30,30,0,0,0,0,30,30,{"$f":"VLOOKUP(A1000,'Pivot Norm'!A:B,2,FALSE)","v":3},2,"18590012",0,0,0,0,0,0,0,0,0,0]
["1859001","1859007",{"$f":"VLOOKUP(B1001, 'School List'!F:G,2,FALSE)","v":"Cleveland GMS Mag"},"Magnet 1",0,0,0,0,255,null,null,null,0,0,0,255,0,0,0,0,10,10,0,0,0,0,8,8,{"$f":"VLOOKUP(A1001,'Pivot Norm'!A:B,2,FALSE)","v":3},3,"18590013",0,0,0,0,0,0,0,0,0,0]
["1859601","1859601",{"$f":"VLOOKUP(B1002, 'School List'!F:G,2,FALSE)","v":"Crenshaw STEMM Mag"},"Magnet 2",0,0,0,0,583,null,null,53,0,0,0,636,0,0,0,0,24,24,0,0,0,0,22,22,{"$f":"VLOOKUP(A1002,'Pivot Norm'!A:B,2,FALSE)","v":1},1,"18596011",1,1,2,1,1,2,1,0,0,0]
["1860001","1860001",{"$f":"VLOOKUP(B1003, 'School List'!F:G,2,FALSE)","v":"Dorsey SH"},"PHBAO",0,0,0,304,526,null,null,93,0,0,0,619,0,0,0,2,17,19,0,0,0,2,16,18,{"$f":"VLOOKUP(A1003,'Pivot Norm'!A:B,2,FALSE)","v":4},1,"18600011",2,2,3,2,2,3,0,0,0,0]
["1860001","1860002",{"$f":"VLOOKUP(B1004, 'School List'!F:G,2,FALSE)","v":"Dorsey SH STM Mag"},"Magnet 2",0,0,0,0,89,null,null,2,0,0,0,91,0,0,0,0,4,4,0,0,0,0,4,4,{"$f":"VLOOKUP(A1004,'Pivot Norm'!A:B,2,FALSE)","v":4},2,"18600012",0,0,0,0,0,0,1,0,0,0]
["1860001","1860003",{"$f":"VLOOKUP(B1005, 'School List'!F:G,2,FALSE)","v":"Dorsey SM/L Mag"},"Magnet 2",0,0,0,0,103,null,null,2,0,0,0,105,0,0,0,0,5,5,0,0,0,0,5,5,{"$f":"VLOOKUP(A1005,'Pivot Norm'!A:B,2,FALSE)","v":4},3,"18600013",0,0,0,0,0,0,0,0,0,0]
["1860001","1860009",{"$f":"VLOOKUP(B1006, 'School List'!F:G,2,FALSE)","v":"Dorsey FEMS Mag"},"Magnet 2",0,0,0,0,36,null,null,2,0,0,0,38,0,0,0,0,2,2,0,0,0,0,2,2,{"$f":"VLOOKUP(A1006,'Pivot Norm'!A:B,2,FALSE)","v":4},4,"18600014",0,0,0,0,0,0,0,0,0,0]
["1860601","1860601",{"$f":"VLOOKUP(B1007, 'School List'!F:G,2,FALSE)","v":"Torres ELA PA Mag"},"Magnet 2",0,0,0,0,400,null,null,25,0,0,0,425,0,0,0,0,16,16,0,0,0,0,15,15,{"$f":"VLOOKUP(A1007,'Pivot Norm'!A:B,2,FALSE)","v":1},1,"18606011",1,1,2,1,1,2,0,0,0,0]
["1860701","1860701",{"$f":"VLOOKUP(B1008, 'School List'!F:G,2,FALSE)","v":"East Valley SH"},"PHBAO",0,0,0,252,431,null,null,76,0,0,0,507,0,0,0,2,14,16,0,0,0,2,13,15,{"$f":"VLOOKUP(A1008,'Pivot Norm'!A:B,2,FALSE)","v":1},1,"18607011",1,1,2,1,1,2,0,0,0,0]
["1860901","1860901",{"$f":"VLOOKUP(B1009, 'School List'!F:G,2,FALSE)","v":"Arleta SH"},"PHBAO",0,0,0,545,1091,null,null,70,0,0,0,1161,0,0,0,4,35,39,0,0,0,4,36,40,{"$f":"VLOOKUP(A1009,'Pivot Norm'!A:B,2,FALSE)","v":1},1,"18609011",2,2,3,2,2,4,0,0,0,0]
["1861001","1861001",{"$f":"VLOOKUP(B1010, 'School List'!F:G,2,FALSE)","v":"Panorama SH"},"PHBAO",0,0,0,548,993,null,null,77,0,0,0,1070,0,0,0,4,31,35,0,0,0,4,31,35,{"$f":"VLOOKUP(A1010,'Pivot Norm'!A:B,2,FALSE)","v":4},1,"18610011",3,3,4,3,2,4,1,0,0,1]
["1861001","1861007",{"$f":"VLOOKUP(B1011, 'School List'!F:G,2,FALSE)","v":"Panorama SMIT Mag"},"Magnet 2",0,0,0,0,239,null,null,9,0,0,0,248,0,0,0,0,10,10,0,0,0,0,7,7,{"$f":"VLOOKUP(A1011,'Pivot Norm'!A:B,2,FALSE)","v":4},2,"18610012",0,0,0,0,0,0,0,0,0,0]
["1861001","1861008",{"$f":"VLOOKUP(B1012, 'School List'!F:G,2,FALSE)","v":"Panorama GSTEAM Mag"},"Magnet 2",0,0,0,0,93,null,null,null,0,0,0,93,0,0,0,0,4,4,0,0,0,0,3,3,{"$f":"VLOOKUP(A1012,'Pivot Norm'!A:B,2,FALSE)","v":4},3,"18610013",0,0,0,0,0,0,0,0,0,0]
["1861001","1861009",{"$f":"VLOOKUP(B1013, 'School List'!F:G,2,FALSE)","v":"Panorama HS SJL Mag"},"Magnet 2",0,0,0,0,31,null,null,null,null,null,null,31,0,0,0,0,2,2,0,0,0,0,0,0,{"$f":"VLOOKUP(A1013,'Pivot Norm'!A:B,2,FALSE)","v":4},4,"18610014",0,0,0,0,0,0,0,0,0,0]
["1861101","1861101",{"$f":"VLOOKUP(B1014, 'School List'!F:G,2,FALSE)","v":"Mendez SH"},"PHBAO",0,0,0,435,835,null,null,68,0,0,0,903,0,0,0,3,27,30,0,0,0,3,27,30,{"$f":"VLOOKUP(A1014,'Pivot Norm'!A:B,2,FALSE)","v":1},1,"18611011",2,2,3,2,2,3,0,0,0,0]
["1861401","1861401",{"$f":"VLOOKUP(B1015, 'School List'!F:G,2,FALSE)","v":"Eagle Rock HS"},"PHBAO",0,0,330,593,1084,null,8,57,0,0,0,1479,0,0,13,4,34,51,0,0,13,4,34,51,{"$f":"VLOOKUP(A1015,'Pivot Norm'!A:B,2,FALSE)","v":2},1,"18614011",5,4,6,5,4,6,0,0,1,0]
["1861401","1861402",{"$f":"VLOOKUP(B1016, 'School List'!F:G,2,FALSE)","v":"Eagle Rck SH Gifted Mg"},"Magnet 1",0,0,216,0,488,null,null,null,0,0,0,704,0,0,8,0,19,27,0,0,8,0,17,25,{"$f":"VLOOKUP(A1016,'Pivot Norm'!A:B,2,FALSE)","v":2},2,"18614012",0,0,0,0,0,0,0,0,0,0]
["1861801","1861801",{"$f":"VLOOKUP(B1017, 'School List'!F:G,2,FALSE)","v":"Wilson SH"},"PHBAO",0,0,0,523,903,null,null,120,0,0,0,1023,0,0,0,4,29,33,0,0,0,3,28,31,{"$f":"VLOOKUP(A1017,'Pivot Norm'!A:B,2,FALSE)","v":4},1,"18618011",3,3,4,3,3,4,0,0,0,0]
["1861801","1861802",{"$f":"VLOOKUP(B1018, 'School List'!F:G,2,FALSE)","v":"Wilson Police Acd Mg"},"Magnet 2",0,0,0,0,125,null,null,4,0,0,0,129,0,0,0,0,5,5,0,0,0,0,5,5,{"$f":"VLOOKUP(A1018,'Pivot Norm'!A:B,2,FALSE)","v":4},2,"18618012",0,0,0,0,0,0,0,0,0,0]
["1861801","1861803",{"$f":"VLOOKUP(B1019, 'School List'!F:G,2,FALSE)","v":"Wilson Adm/Law Mag"},"Magnet 2",0,0,0,0,225,null,null,6,0,0,0,231,0,0,0,0,9,9,0,0,0,0,8,8,{"$f":"VLOOKUP(A1019,'Pivot Norm'!A:B,2,FALSE)","v":4},3,"18618013",0,0,0,0,0,0,0,0,0,0]
["1861801","1861810",{"$f":"VLOOKUP(B1020, 'School List'!F:G,2,FALSE)","v":"Wilson SH FF Mag"},"Magnet 2",0,0,0,0,102,null,null,null,0,0,0,102,0,0,0,0,5,5,0,0,0,0,4,4,{"$f":"VLOOKUP(A1020,'Pivot Norm'!A:B,2,FALSE)","v":4},4,"18618014",0,0,0,0,0,0,0,0,0,0]
["1862101","1862101",{"$f":"VLOOKUP(B1021, 'School List'!F:G,2,FALSE)","v":"Fairfax SH"},"PHBAO",0,0,0,670,1151,null,null,70,0,0,0,1221,0,0,0,4,36,40,0,0,0,4,35,39,{"$f":"VLOOKUP(A1021,'Pivot Norm'!A:B,2,FALSE)","v":3},1,"18621011",4,4,5,4,3,5,0,0,0,0]
["1862101","1862102",{"$f":"VLOOKUP(B1022, 'School List'!F:G,2,FALSE)","v":"Fairfax Vis Arts Mag"},"Magnet 2",0,0,0,0,400,null,null,7,0,0,0,407,0,0,0,0,16,16,0,0,0,0,16,16,{"$f":"VLOOKUP(A1022,'Pivot Norm'!A:B,2,FALSE)","v":3},2,"18621012",0,0,0,0,0,0,0,0,0,0]
["1862101","1862108",{"$f":"VLOOKUP(B1023, 'School List'!F:G,2,FALSE)","v":"Fairfax PA Mag"},"Magnet 2",0,0,0,0,250,null,null,8,0,0,0,258,0,0,0,0,10,10,0,0,0,0,7,7,{"$f":"VLOOKUP(A1023,'Pivot Norm'!A:B,2,FALSE)","v":3},3,"18621013",0,0,0,0,0,0,0,0,0,0]
["1863601","1863601",{"$f":"VLOOKUP(B1024, 'School List'!F:G,2,FALSE)","v":"Polytechnic SH"},"PHBAO",0,0,0,1072,1970,null,null,81,0,0,0,2051,0,0,0,7,62,69,0,0,0,6,63,69,{"$f":"VLOOKUP(A1024,'Pivot Norm'!A:B,2,FALSE)","v":2},1,"18636011",5,5,6,5,4,6,0,0,0,0]
["1863601","1863602",{"$f":"VLOOKUP(B1025, 'School List'!F:G,2,FALSE)","v":"Polytechnic STEM Mag"},"Magnet 2",0,0,0,0,350,null,null,null,0,0,0,350,0,0,0,0,14,14,0,0,0,0,14,14,{"$f":"VLOOKUP(A1025,'Pivot Norm'!A:B,2,FALSE)","v":2},2,"18636012",0,0,0,0,0,0,0,0,0,0]
["1864301","1864301",{"$f":"VLOOKUP(B1026, 'School List'!F:G,2,FALSE)","v":"Franklin SH"},"PHBAO",0,0,0,478,807,null,null,13,0,0,0,820,0,0,0,3,26,29,0,0,0,3,24,27,{"$f":"VLOOKUP(A1026,'Pivot Norm'!A:B,2,FALSE)","v":3},1,"18643011",3,3,4,3,3,4,0,0,0,0]
["1864301","1864302",{"$f":"VLOOKUP(B1027, 'School List'!F:G,2,FALSE)","v":"Franklin SH STM Mag"},"Magnet 2",0,0,0,0,400,null,null,null,0,0,0,400,0,0,0,0,16,16,0,0,0,0,16,16,{"$f":"VLOOKUP(A1027,'Pivot Norm'!A:B,2,FALSE)","v":3},2,"18643012",0,0,0,0,0,0,0,0,0,0]
["1864301","1864311",{"$f":"VLOOKUP(B1028, 'School List'!F:G,2,FALSE)","v":"Franklin DLA Mag"},"Magnet 2",0,0,121,0,156,null,1,null,0,0,0,278,0,0,5,0,7,12,0,0,5,0,5,10,{"$f":"VLOOKUP(A1028,'Pivot Norm'!A:B,2,FALSE)","v":3},3,"18643013",0,0,0,0,0,0,0,0,0,0]
["1865001","1865001",{"$f":"VLOOKUP(B1029, 'School List'!F:G,2,FALSE)","v":"Fremont SH"},"PHBAO",0,0,0,789,1487,null,null,166,0,0,0,1653,0,0,0,5,47,52,0,0,0,6,46,52,{"$f":"VLOOKUP(A1029,'Pivot Norm'!A:B,2,FALSE)","v":2},1,"18650011",4,4,5,4,3,5,0,0,0,1]
["1865001","1865002",{"$f":"VLOOKUP(B1030, 'School List'!F:G,2,FALSE)","v":"Fremont STEAM Mag"},"Magnet 2",0,0,0,0,350,null,null,null,0,0,0,350,0,0,0,0,14,14,0,0,0,0,13,13,{"$f":"VLOOKUP(A1030,'Pivot Norm'!A:B,2,FALSE)","v":2},2,{"$f":"A1030&AD1030","v":"18650012"},0,0,0,0,0,0,1,0,0,0]
["1866401","1866401",{"$f":"VLOOKUP(B1031, 'School List'!F:G,2,FALSE)","v":"Gardena SH"},"PHBAO",0,0,0,476,806,null,null,92,0,0,0,898,0,0,0,3,26,29,0,0,0,3,25,28,{"$f":"VLOOKUP(A1031,'Pivot Norm'!A:B,2,FALSE)","v":3},1,"18664011",3,3,4,3,3,4,0,0,0,0]
["1866401","1866402",{"$f":"VLOOKUP(B1032, 'School List'!F:G,2,FALSE)","v":"Gardena HS GB Mag"},"Magnet 2",0,0,0,0,328,null,null,5,0,0,0,333,0,0,0,0,14,14,0,0,0,0,14,14,{"$f":"VLOOKUP(A1032,'Pivot Norm'!A:B,2,FALSE)","v":3},{"$f":"IF(A1032=A1031,AD1031+1,1)","v":2},"18664012",0,0,0,0,0,0,0,0,0,0]
["1866401","1866407",{"$f":"VLOOKUP(B1033, 'School List'!F:G,2,FALSE)","v":"Gardena L/PS Mag"},"Magnet 2",0,0,0,0,217,null,null,6,0,0,0,223,0,0,0,0,9,9,0,0,0,0,8,8,{"$f":"VLOOKUP(A1033,'Pivot Norm'!A:B,2,FALSE)","v":3},3,"18664013",0,0,0,0,0,0,0,0,0,0]
["1867901","1867901",{"$f":"VLOOKUP(B1034, 'School List'!F:G,2,FALSE)","v":"Garfield SH"},"PHBAO",0,0,0,1127,2057,null,null,148,0,0,0,2205,0,0,0,7,65,72,0,0,0,6,63,69,{"$f":"VLOOKUP(A1034,'Pivot Norm'!A:B,2,FALSE)","v":2},1,"18679011",5,5,6,5,4,6,0,0,0,0]
["1867901","1867902",{"$f":"VLOOKUP(B1035, 'School List'!F:G,2,FALSE)","v":"Garfield Comp Sci Mg"},"Magnet 2",0,0,0,0,250,null,null,1,0,0,0,251,0,0,0,0,10,10,0,0,0,0,10,10,{"$f":"VLOOKUP(A1035,'Pivot Norm'!A:B,2,FALSE)","v":2},2,"18679012",0,0,0,0,0,0,0,0,0,0]
["1868301","1868301",{"$f":"VLOOKUP(B1036, 'School List'!F:G,2,FALSE)","v":"Grant SH"},"Non-PHBAO",0,0,0,600,1127,null,null,85,0,0,0,1212,0,0,0,2,36,38,0,0,0,2,37,39,{"$f":"VLOOKUP(A1036,'Pivot Norm'!A:B,2,FALSE)","v":3},1,"18683011",4,4,5,4,3,5,0,0,0,0]
["1868301","1868302",{"$f":"VLOOKUP(B1037, 'School List'!F:G,2,FALSE)","v":"Grant CP/DA Mag"},"Magnet 1",0,0,0,0,377,null,null,null,0,0,0,377,0,0,0,0,14,14,0,0,0,0,14,14,{"$f":"VLOOKUP(A1037,'Pivot Norm'!A:B,2,FALSE)","v":3},2,"18683012",0,0,0,0,0,0,0,0,0,0]
["1868301","1868308",{"$f":"VLOOKUP(B1038, 'School List'!F:G,2,FALSE)","v":"Grant H for IS Mag"},"Magnet 1",0,0,0,0,221,null,null,1,0,0,0,222,0,0,0,0,9,9,0,0,0,0,7,7,{"$f":"VLOOKUP(A1038,'Pivot Norm'!A:B,2,FALSE)","v":3},3,"18683013",0,0,0,0,0,0,0,0,0,0]
["1868601","1868601",{"$f":"VLOOKUP(B1039, 'School List'!F:G,2,FALSE)","v":"Hamilton SH-Complex"},"PHBAO",0,0,0,654,1168,null,null,111,0,0,0,1279,0,0,0,4,37,41,0,0,0,4,36,40,{"$f":"VLOOKUP(A1039,'Pivot Norm'!A:B,2,FALSE)","v":3},1,"18686011",5,5,6,5,4,6,0,0,0,0]
["1868601","1868602",{"$f":"VLOOKUP(B1040, 'School List'!F:G,2,FALSE)","v":"Hamilton Music"},"Magnet 2",0,0,0,0,800,null,null,18,0,0,0,818,0,0,0,0,32,32,0,0,0,0,31,31,{"$f":"VLOOKUP(A1040,'Pivot Norm'!A:B,2,FALSE)","v":3},2,"18686012",0,0,0,0,0,0,0,0,0,0]
["1868601","1868603",{"$f":"VLOOKUP(B1041, 'School List'!F:G,2,FALSE)","v":"Hamilton Human Mag"},"Magnet 1",0,0,0,0,352,null,null,2,0,0,0,354,0,0,0,0,13,13,0,0,0,0,13,13,{"$f":"VLOOKUP(A1041,'Pivot Norm'!A:B,2,FALSE)","v":3},3,"18686013",0,0,0,0,0,0,0,0,0,0]
["1869301","1869301",{"$f":"VLOOKUP(B1042, 'School List'!F:G,2,FALSE)","v":"Hollywood SH"},"PHBAO",0,0,0,267,549,null,null,23,0,0,0,572,0,0,0,2,18,20,0,0,0,2,19,21,{"$f":"VLOOKUP(A1042,'Pivot Norm'!A:B,2,FALSE)","v":3},1,"18693011",2,3,4,2,2,4,0,0,1,1]
["1869301","1869302",{"$f":"VLOOKUP(B1043, 'School List'!F:G,2,FALSE)","v":"Hollywood Per Art Mg"},"Magnet 2",0,0,0,0,325,null,null,7,0,0,0,332,0,0,0,0,13,13,0,0,0,0,13,13,{"$f":"VLOOKUP(A1043,'Pivot Norm'!A:B,2,FALSE)","v":3},2,"18693012",0,0,0,0,0,0,0,0,0,0]
["1869301","1869307",{"$f":"VLOOKUP(B1044, 'School List'!F:G,2,FALSE)","v":"Hollywood HS"},"Magnet 2",0,0,0,0,350,null,null,3,0,0,0,353,0,0,0,0,14,14,0,0,0,0,14,14,{"$f":"VLOOKUP(A1044,'Pivot Norm'!A:B,2,FALSE)","v":3},3,"18693013",0,0,0,0,0,0,0,0,0,0]
["1869601","1869601",{"$f":"VLOOKUP(B1045, 'School List'!F:G,2,FALSE)","v":"Bernstein SH"},"PHBAO",0,0,0,223,455,null,null,22,0,0,0,477,0,0,0,2,15,17,0,0,0,2,16,18,{"$f":"VLOOKUP(A1045,'Pivot Norm'!A:B,2,FALSE)","v":2},1,"18696011",1,1,2,2,2,3,0,0,1,0]
["1869601","1869602",{"$f":"VLOOKUP(B1046, 'School List'!F:G,2,FALSE)","v":"Bernstein CA/CT Mag"},"Magnet 2",0,0,0,0,200,null,null,3,0,0,0,203,0,0,0,0,8,8,0,0,0,0,7,7,{"$f":"VLOOKUP(A1046,'Pivot Norm'!A:B,2,FALSE)","v":2},2,"18696012",0,0,0,0,0,0,0,0,0,0]
["1870001","1870001",{"$f":"VLOOKUP(B1047, 'School List'!F:G,2,FALSE)","v":"Huntington Park SH"},"PHBAO",0,0,0,603,1125,null,null,45,0,0,0,1170,0,0,0,4,36,40,0,0,0,4,36,40,{"$f":"VLOOKUP(A1047,'Pivot Norm'!A:B,2,FALSE)","v":2},1,"18700011",3,3,4,3,3,4,0,0,1,0]
["1870001","1870018",{"$f":"VLOOKUP(B1048, 'School List'!F:G,2,FALSE)","v":"Hntngtn Pk STEAM Mag"},"Magnet 2",0,0,0,0,325,null,null,null,0,0,0,325,0,0,0,0,13,13,0,0,0,0,10,10,{"$f":"VLOOKUP(A1048,'Pivot Norm'!A:B,2,FALSE)","v":2},2,"18700012",0,0,0,0,0,0,0,0,0,0]
["1870101","1870101",{"$f":"VLOOKUP(B1049, 'School List'!F:G,2,FALSE)","v":"International St LC"},"PHBAO",0,0,447,281,486,null,null,null,0,0,0,933,0,0,17,2,16,35,0,0,16,2,14,32,{"$f":"VLOOKUP(A1049,'Pivot Norm'!A:B,2,FALSE)","v":1},1,"18701011",2,2,3,2,2,3,1,0,0,0]
["1871001","1871001",{"$f":"VLOOKUP(B1050, 'School List'!F:G,2,FALSE)","v":"Early College Acad"},"PHBAO",0,0,0,95,179,null,null,null,0,0,0,179,0,0,0,1,6,7,0,0,0,1,6,7,{"$f":"VLOOKUP(A1050,'Pivot Norm'!A:B,2,FALSE)","v":1},1,"18710011",1,0.5,2,1,0.5,2,0,0,1,0]
["1871401","1871401",{"$f":"VLOOKUP(B1051, 'School List'!F:G,2,FALSE)","v":"Jefferson SH"},"PHBAO",0,0,0,396,715,null,null,20,0,0,0,735,0,0,0,3,23,26,0,0,0,3,22,25,{"$f":"VLOOKUP(A1051,'Pivot Norm'!A:B,2,FALSE)","v":1},{"$f":"IF(A1051=A754,AD754+1,1)","v":1},"18714011",2,1,3,2,2,3,0,0,1,0]
["1871601","1871601",{"$f":"VLOOKUP(B1052, 'School List'!F:G,2,FALSE)","v":"Santee Educ Complex"},"PHBAO",0,0,0,945,1645,null,null,95,0,0,0,1740,0,0,0,6,52,58,0,0,0,6,50,56,{"$f":"VLOOKUP(A1052,'Pivot Norm'!A:B,2,FALSE)","v":1},1,"18716011",3,3,5,4,3,5,0,0,0,0]
["1872101","1872101",{"$f":"VLOOKUP(B1053, 'School List'!F:G,2,FALSE)","v":"Jordan SH"},"PHBAO",0,0,0,456,780,null,null,87,0,0,0,867,0,0,0,3,25,28,0,0,0,3,24,27,{"$f":"VLOOKUP(A1053,'Pivot Norm'!A:B,2,FALSE)","v":1},1,"18721011",2,2,3,2,2,3,0,0,0,0]
["1872501","1872501",{"$f":"VLOOKUP(B1054, 'School List'!F:G,2,FALSE)","v":"Kennedy SH"},"PHBAO",0,0,0,680,1251,null,null,103,0,0,0,1354,0,0,0,4,39,43,0,0,0,4,39,43,{"$f":"VLOOKUP(A1054,'Pivot Norm'!A:B,2,FALSE)","v":4},1,"18725011",5,5,6,5,4,6,0,0,0,0]
["1872501","1872502",{"$f":"VLOOKUP(B1055, 'School List'!F:G,2,FALSE)","v":"Kennedy A/DD/FM"},"Magnet 2",0,0,0,0,425,null,null,10,0,0,0,435,0,0,0,0,17,17,0,0,0,0,17,17,{"$f":"VLOOKUP(A1055,'Pivot Norm'!A:B,2,FALSE)","v":4},2,"18725012",0,0,0,0,0,0,0,0,0,0]
["1872501","1872508",{"$f":"VLOOKUP(B1056, 'School List'!F:G,2,FALSE)","v":"Kennedy Gifted/Md Mg"},"Magnet 2",0,0,0,0,475,null,null,null,0,0,0,475,0,0,0,0,19,19,0,0,0,0,19,19,{"$f":"VLOOKUP(A1056,'Pivot Norm'!A:B,2,FALSE)","v":4},3,"18725013",0,0,0,0,0,0,0,0,0,0]
["1872501","1872509",{"$f":"VLOOKUP(B1057, 'School List'!F:G,2,FALSE)","v":"Kennedy HS GLEA Mag"},"Magnet 2",0,0,0,0,110,null,null,null,null,null,null,110,0,0,0,0,5,5,0,0,0,0,0,0,{"$f":"VLOOKUP(A1057,'Pivot Norm'!A:B,2,FALSE)","v":4},4,"18725014",0,0,0,0,0,0,0,0,0,0]
["1872701","1872701",{"$f":"VLOOKUP(B1058, 'School List'!F:G,2,FALSE)","v":"King-Drew Med Mag"},"Magnet 2",0,0,0,0,1500,null,null,2,0,0,0,1502,0,0,0,0,60,60,0,0,0,0,60,60,{"$f":"VLOOKUP(A1058,'Pivot Norm'!A:B,2,FALSE)","v":1},1,"18727011",3,3,4,3,3,4,0,0,0,0]
["1872901","1872901",{"$f":"VLOOKUP(B1059, 'School List'!F:G,2,FALSE)","v":"Lincoln SH"},"PHBAO",0,0,0,383,652,null,null,82,0,0,0,734,0,0,0,3,21,24,0,0,0,2,20,22,{"$f":"VLOOKUP(A1059,'Pivot Norm'!A:B,2,FALSE)","v":3},1,"18729011",2,2,3,2,2,3,0,0,0,0]
["1872901","1872902",{"$f":"VLOOKUP(B1060, 'School List'!F:G,2,FALSE)","v":"Lincoln SH STM Mag"},"Magnet 2",0,0,0,0,200,null,null,null,0,0,0,200,0,0,0,0,8,8,0,0,0,0,8,8,{"$f":"VLOOKUP(A1060,'Pivot Norm'!A:B,2,FALSE)","v":3},2,"18729012",0,0,0,0,0,0,0,0,1,0]
["1872901","1872908",{"$f":"VLOOKUP(B1061, 'School List'!F:G,2,FALSE)","v":"Lincoln ESP Magnet"},"Magnet 2",0,0,0,0,162,null,null,null,0,0,0,162,0,0,0,0,7,7,0,0,0,0,7,7,{"$f":"VLOOKUP(A1061,'Pivot Norm'!A:B,2,FALSE)","v":3},3,"18729013",0,0,0,0,0,0,0,0,0,0]
["1873601","1873601",{"$f":"VLOOKUP(B1062, 'School List'!F:G,2,FALSE)","v":"Los Angeles SH"},"PHBAO",0,0,0,377,742,null,null,66,0,0,0,808,0,0,0,3,24,27,0,0,0,3,24,27,{"$f":"VLOOKUP(A1062,'Pivot Norm'!A:B,2,FALSE)","v":2},1,"18736011",2,2,3,2,2,3,0,0,1,0]
["1873601","1873602",{"$f":"VLOOKUP(B1063, 'School List'!F:G,2,FALSE)","v":"Los Angeles STEAM Mg"},"Magnet 2",0,0,0,0,274,null,null,1,0,0,0,275,0,0,0,0,11,11,0,0,0,0,11,11,{"$f":"VLOOKUP(A1063,'Pivot Norm'!A:B,2,FALSE)","v":2},2,"18736012",0,0,0,0,0,0,0,0,0,0]
["1873801","1873801",{"$f":"VLOOKUP(B1064, 'School List'!F:G,2,FALSE)","v":"Downtwn Business Mag"},"Magnet 2",0,0,0,0,625,null,null,null,0,0,0,625,0,0,0,0,25,25,0,0,0,0,26,26,{"$f":"VLOOKUP(A1064,'Pivot Norm'!A:B,2,FALSE)","v":2},1,"18738011",2,2,3,2,2,3,0,0,0,0]
["1873801","1873803",{"$f":"VLOOKUP(B1065, 'School List'!F:G,2,FALSE)","v":"Downtown CS/DMA/E Mg"},"Magnet 2",0,0,0,0,350,null,null,null,0,0,0,350,0,0,0,0,14,14,0,0,0,0,14,14,{"$f":"VLOOKUP(A1065,'Pivot Norm'!A:B,2,FALSE)","v":2},2,"18738012",0,0,0,0,0,0,0,0,0,0]
["1874101","1874101",{"$f":"VLOOKUP(B1066, 'School List'!F:G,2,FALSE)","v":"LACES Mag"},"Magnet 1",0,0,675,0,892,null,null,1,0,0,0,1568,0,0,25,0,33,58,0,0,25,0,33,58,{"$f":"VLOOKUP(A1066,'Pivot Norm'!A:B,2,FALSE)","v":1},1,"18741011",3,3,4,3,3,4,0,0,0,0]
["1874301","1874301",{"$f":"VLOOKUP(B1067, 'School List'!F:G,2,FALSE)","v":"Manual Arts SH"},"PHBAO",0,0,0,324,742,null,null,32,0,0,0,774,0,0,0,2,24,26,0,0,0,2,24,26,{"$f":"VLOOKUP(A1067,'Pivot Norm'!A:B,2,FALSE)","v":2},1,"18743011",2,2,3,2,2,3,2,0,0,0]
["1874301","1874302",{"$f":"VLOOKUP(B1068, 'School List'!F:G,2,FALSE)","v":"Manual Arts Col Prep"},"Magnet 2",0,0,0,0,325,null,null,null,0,0,0,325,0,0,0,0,13,13,0,0,0,0,13,13,{"$f":"VLOOKUP(A1068,'Pivot Norm'!A:B,2,FALSE)","v":2},2,"18743012",0,0,0,0,0,0,0,0,0,0]
["1874801","1874801",{"$f":"VLOOKUP(B1069, 'School List'!F:G,2,FALSE)","v":"West Adams Prep SH"},"PHBAO",0,0,0,461,842,null,null,86,0,0,0,928,0,0,0,3,27,30,0,0,0,3,29,32,{"$f":"VLOOKUP(A1069,'Pivot Norm'!A:B,2,FALSE)","v":3},1,"18748011",2,2,3,2,2,3,0,0,0,0]
["1874801","1874802",{"$f":"VLOOKUP(B1070, 'School List'!F:G,2,FALSE)","v":"W Adams FA Mag"},"Magnet 2",0,0,0,0,66,null,null,null,0,0,0,66,0,0,0,0,3,3,0,0,0,0,2,2,{"$f":"VLOOKUP(A1070,'Pivot Norm'!A:B,2,FALSE)","v":3},2,"18748012",0,0,0,0,0,0,0,0,0,0]
["1874801","1874803",{"$f":"VLOOKUP(B1071, 'School List'!F:G,2,FALSE)","v":"W Adams PA Mag"},"Magnet 2",0,0,0,0,127,null,null,1,0,0,0,128,0,0,0,0,6,6,0,0,0,0,4,4,{"$f":"VLOOKUP(A1071,'Pivot Norm'!A:B,2,FALSE)","v":3},3,"18748013",0,0,0,0,0,0,0,0,0,0]
["1875001","1875001",{"$f":"VLOOKUP(B1072, 'School List'!F:G,2,FALSE)","v":"Marshall SH"},"PHBAO",0,0,0,847,1614,null,null,96,0,0,0,1710,0,0,0,5,51,56,0,0,0,5,52,57,{"$f":"VLOOKUP(A1072,'Pivot Norm'!A:B,2,FALSE)","v":2},1,"18750011",5,4,5,5,4,6,0,0,0,0]
["1875001","1875002",{"$f":"VLOOKUP(B1073, 'School List'!F:G,2,FALSE)","v":"Marshall Gifted Mag"},"Magnet 1",0,0,0,0,406,null,null,null,0,0,0,406,0,0,0,0,15,15,0,0,0,0,15,15,{"$f":"VLOOKUP(A1073,'Pivot Norm'!A:B,2,FALSE)","v":2},2,"18750012",0,0,0,0,0,0,0,0,0,0]
["1875401","1875401",{"$f":"VLOOKUP(B1074, 'School List'!F:G,2,FALSE)","v":"Bravo Medical Mag"},"Magnet 2",0,0,0,0,1650,null,null,null,0,0,0,1650,0,0,0,0,66,66,0,0,0,0,66,66,{"$f":"VLOOKUP(A1074,'Pivot Norm'!A:B,2,FALSE)","v":1},1,"18754011",3,3,4,4,3,5,0,0,0,0]
["1876001","1876001",{"$f":"VLOOKUP(B1075, 'School List'!F:G,2,FALSE)","v":"Middle College HS"},"PHBAO",0,0,0,216,389,null,null,null,0,0,0,389,0,0,0,2,13,15,0,0,0,2,13,15,{"$f":"VLOOKUP(A1075,'Pivot Norm'!A:B,2,FALSE)","v":1},1,"18760011",1,1,2,1,1,2,0,0,0,0]
["1876801","1876801",{"$f":"VLOOKUP(B1076, 'School List'!F:G,2,FALSE)","v":"Monroe SH"},"PHBAO",0,0,0,769,1271,null,null,139,0,0,0,1410,0,0,0,5,40,45,0,0,0,5,39,44,{"$f":"VLOOKUP(A1076,'Pivot Norm'!A:B,2,FALSE)","v":5},1,"18768011",4,4,5,4,3,5,1,0,0,0]
["1876801","1876802",{"$f":"VLOOKUP(B1077, 'School List'!F:G,2,FALSE)","v":"Monroe Police Acd Mg"},"Magnet 2",0,0,0,0,144,null,null,3,0,0,0,147,0,0,0,0,6,6,0,0,0,0,6,6,{"$f":"VLOOKUP(A1077,'Pivot Norm'!A:B,2,FALSE)","v":5},2,"18768012",0,0,0,0,0,0,0,0,0,0]
["1876801","1876803",{"$f":"VLOOKUP(B1078, 'School List'!F:G,2,FALSE)","v":"Monroe Law/Gov Mag"},"Magnet 2",0,0,0,0,253,null,null,null,0,0,0,253,0,0,0,0,11,11,0,0,0,0,10,10,{"$f":"VLOOKUP(A1078,'Pivot Norm'!A:B,2,FALSE)","v":5},3,"18768013",0,0,0,0,0,0,0,0,0,0]
["1876801","1876810",{"$f":"VLOOKUP(B1079, 'School List'!F:G,2,FALSE)","v":{"$error":"#N/A"}},"PHBAO",0,0,0,0,22,null,null,null,0,0,0,22,0,0,0,0,1,1,0,0,0,0,1,1,{"$f":"VLOOKUP(A1079,'Pivot Norm'!A:B,2,FALSE)","v":5},4,"18768014",0,0,0,0,0,0,0,0,0,0]
["1876801","1876812",{"$f":"VLOOKUP(B1080, 'School List'!F:G,2,FALSE)","v":"Monroe FA Mag"},"Magnet 2",0,0,0,0,120,null,null,2,0,0,0,122,0,0,0,0,5,5,0,0,0,0,4,4,{"$f":"VLOOKUP(A1080,'Pivot Norm'!A:B,2,FALSE)","v":5},5,"18768015",0,0,0,0,0,0,0,0,0,0]
["1877401","1877401",{"$f":"VLOOKUP(B1081, 'School List'!F:G,2,FALSE)","v":"Contreras LC Glbl St"},"PHBAO",0,0,0,169,323,null,null,1,0,0,0,324,0,0,0,1,11,12,0,0,0,1,11,12,{"$f":"VLOOKUP(A1081,'Pivot Norm'!A:B,2,FALSE)","v":1},1,"18774011",1,0.5,2,1,0.5,2,0,0,0,0.5]
["1877901","1877901",{"$f":"VLOOKUP(B1082, 'School List'!F:G,2,FALSE)","v":"Narbonne SH"},"PHBAO",0,0,0,661,1123,null,null,101,0,0,0,1224,0,0,0,4,36,40,0,0,0,4,36,40,{"$f":"VLOOKUP(A1082,'Pivot Norm'!A:B,2,FALSE)","v":3},1,"18779011",4,4,5,4,3,5,0,0,0,0]
["1877901","1877902",{"$f":"VLOOKUP(B1083, 'School List'!F:G,2,FALSE)","v":"Narbonne STEAM Mag"},"Magnet 2",0,0,0,0,450,null,null,3,0,0,0,453,0,0,0,0,18,18,0,0,0,0,18,18,{"$f":"VLOOKUP(A1083,'Pivot Norm'!A:B,2,FALSE)","v":3},2,"18779012",0,0,0,0,0,0,0,0,0,0]
["1877901","1877911",{"$f":"VLOOKUP(B1084, 'School List'!F:G,2,FALSE)","v":"Narbonne BET Mag"},"Magnet 2",0,0,0,0,241,null,null,5,0,0,0,246,0,0,0,0,10,10,0,0,0,0,7,7,{"$f":"VLOOKUP(A1084,'Pivot Norm'!A:B,2,FALSE)","v":3},3,"18779013",0,0,0,0,0,0,1,0,0,0]
["1878601","1878601",{"$f":"VLOOKUP(B1085, 'School List'!F:G,2,FALSE)","v":"No Hollywood SH"},"PHBAO",0,0,0,965,1699,null,null,67,0,0,0,1766,0,0,0,6,53,59,0,0,0,6,53,59,{"$f":"VLOOKUP(A1085,'Pivot Norm'!A:B,2,FALSE)","v":4},1,"18786011",5,5,7,5,4,7,0,0,0,0]
["1878601","1878602",{"$f":"VLOOKUP(B1086, 'School List'!F:G,2,FALSE)","v":"No Hollywood Hg Mag"},"Magnet 1",0,0,0,0,297,null,null,null,0,0,0,297,0,0,0,0,11,11,0,0,0,0,11,11,{"$f":"VLOOKUP(A1086,'Pivot Norm'!A:B,2,FALSE)","v":4},2,"18786012",0,0,0,0,0,0,0,0,0,0]
["1878601","1878603",{"$f":"VLOOKUP(B1087, 'School List'!F:G,2,FALSE)","v":"NHHS/LA Zoo Biol Mag"},"Magnet 1",0,0,0,0,297,null,null,3,0,0,0,300,0,0,0,0,11,11,0,0,0,0,11,11,{"$f":"VLOOKUP(A1087,'Pivot Norm'!A:B,2,FALSE)","v":4},3,"18786013",0,0,0,0,0,0,0,0,0,0]
["1878601","1878612",{"$f":"VLOOKUP(B1088, 'School List'!F:G,2,FALSE)","v":"N Hollywood STEM Mag"},"Magnet 1",0,0,0,0,270,null,null,2,0,0,0,272,0,0,0,0,10,10,0,0,0,0,8,8,{"$f":"VLOOKUP(A1088,'Pivot Norm'!A:B,2,FALSE)","v":4},4,"18786014",0,0,0,0,0,0,0,0,0,0]
["1881401","1881401",{"$f":"VLOOKUP(B1089, 'School List'!F:G,2,FALSE)","v":"Reseda Charter HS"},"PHBAO",0,0,90,431,683,null,1,110,0,0,0,884,0,0,4,3,22,29,0,0,2,2,20,24,{"$f":"VLOOKUP(A1089,'Pivot Norm'!A:B,2,FALSE)","v":4},1,"18814011",3,3,4,3,3,4,0,0,0,0]
["1881401","1881402",{"$f":"VLOOKUP(B1090, 'School List'!F:G,2,FALSE)","v":"Reseda CHS PA Mag"},"Magnet 2",0,0,0,0,250,null,null,3,0,0,0,253,0,0,0,0,10,10,0,0,0,0,10,10,{"$f":"VLOOKUP(A1090,'Pivot Norm'!A:B,2,FALSE)","v":4},2,"18814012",0,0,0,0,0,0,0,0,0,0]
["1881401","1881403",{"$f":"VLOOKUP(B1091, 'School List'!F:G,2,FALSE)","v":"Reseda CHS Sci Mag"},"Magnet 2",0,0,0,0,313,null,null,null,0,0,0,313,0,0,0,0,13,13,0,0,0,0,11,11,{"$f":"VLOOKUP(A1091,'Pivot Norm'!A:B,2,FALSE)","v":4},3,"18814013",0,0,0,0,0,0,0,0,0,0]
["1881401","1881409",{"$f":"VLOOKUP(B1092, 'School List'!F:G,2,FALSE)","v":"Reseda CHS AME Mag"},"Magnet 2",0,0,0,0,146,null,null,5,0,0,0,151,0,0,0,0,6,6,0,0,0,0,5,5,{"$f":"VLOOKUP(A1092,'Pivot Norm'!A:B,2,FALSE)","v":4},4,"18814014",0,0,0,0,0,0,0,0,0,0]
["1883801","1883801",{"$f":"VLOOKUP(B1093, 'School List'!F:G,2,FALSE)","v":"Narbonne SH Harts LA"},"PHBAO",0,0,0,214,365,null,null,10,0,0,0,375,0,0,0,2,12,14,0,0,0,2,12,14,{"$f":"VLOOKUP(A1093,'Pivot Norm'!A:B,2,FALSE)","v":1},1,{"$f":"A1093&AD1093","v":"18838011"},1,0.5,2,1,1,2,0,0,0,0]
["1884201","1884201",{"$f":"VLOOKUP(B1094, 'School List'!F:G,2,FALSE)","v":"SOCES Mag"},"Magnet 1",0,360,648,0,972,2,3,null,0,0,0,1985,0,14,24,0,36,74,0,13,24,0,37,74,{"$f":"VLOOKUP(A1094,'Pivot Norm'!A:B,2,FALSE)","v":1},1,"18842011",4,3,5,5,3,5,0,0,0,0]
["1884301","1884301",{"$f":"VLOOKUP(B1095, 'School List'!F:G,2,FALSE)","v":"San Fernando SH"},"PHBAO",0,0,0,805,1406,null,null,152,0,0,0,1558,0,0,0,5,44,49,0,0,0,5,44,49,{"$f":"VLOOKUP(A1095,'Pivot Norm'!A:B,2,FALSE)","v":2},{"$f":"IF(A1095=A1094,AD1094+1,1)","v":1},"18843011",4,4,5,4,3,5,0,0,0,1]
["1884301","1884302",{"$f":"VLOOKUP(B1096, 'School List'!F:G,2,FALSE)","v":"San Fernando STEM Mag"},"Magnet 2",0,0,0,0,425,null,null,1,0,0,0,426,0,0,0,0,17,17,0,0,0,0,18,18,{"$f":"VLOOKUP(A1096,'Pivot Norm'!A:B,2,FALSE)","v":2},2,"18843012",0,0,0,0,0,0,0,0,0,0]
["1885001","1885001",{"$f":"VLOOKUP(B1097, 'School List'!F:G,2,FALSE)","v":"San Pedro SH"},"PHBAO",0,0,0,1006,1693,null,null,125,0,0,0,1818,0,0,0,6,53,59,0,0,0,5,51,56,{"$f":"VLOOKUP(A1097,'Pivot Norm'!A:B,2,FALSE)","v":5},1,"18850011",5,6,7,5,4,7,0,0,0,1]
["1885001","1885002",{"$f":"VLOOKUP(B1098, 'School List'!F:G,2,FALSE)","v":"San Pedro Pol Acd Mg"},"Magnet 2",0,0,0,0,100,null,null,7,0,0,0,107,0,0,0,0,4,4,0,0,0,0,4,4,{"$f":"VLOOKUP(A1098,'Pivot Norm'!A:B,2,FALSE)","v":5},2,"18850012",0,0,0,0,0,0,0,0,0,0]
["1885001","1885003",{"$f":"VLOOKUP(B1099, 'School List'!F:G,2,FALSE)","v":"San Pedro MS/T/M Mag"},"Magnet 1",0,0,0,0,352,null,null,1,0,0,0,353,0,0,0,0,13,13,0,0,0,0,13,13,{"$f":"VLOOKUP(A1099,'Pivot Norm'!A:B,2,FALSE)","v":5},3,"18850013",0,0,0,0,0,0,0,0,0,0]
["1885001","1885010",{"$f":"VLOOKUP(B1100, 'School List'!F:G,2,FALSE)","v":"San Pedro G/STEAM Mg"},"Magnet 2",0,0,0,0,325,null,null,null,0,0,0,325,0,0,0,0,13,13,0,0,0,0,13,13,{"$f":"VLOOKUP(A1100,'Pivot Norm'!A:B,2,FALSE)","v":5},4,"18850014",0,0,0,0,0,0,0,0,0,0]
["1885001","1885011",{"$f":"VLOOKUP(B1101, 'School List'!F:G,2,FALSE)","v":"San Pedro VAPA Mag"},"Magnet 2",0,0,0,0,200,null,null,2,0,0,0,202,0,0,0,0,8,8,0,0,0,0,5,5,{"$f":"VLOOKUP(A1101,'Pivot Norm'!A:B,2,FALSE)","v":5},5,"18850015",0,0,0,0,0,0,0,0,0,0]
["1885301","1885301",{"$f":"VLOOKUP(B1102, 'School List'!F:G,2,FALSE)","v":"Orthopaedic Hosp Mag"},"Magnet 2",0,0,0,0,750,null,null,null,0,0,0,750,0,0,0,0,30,30,0,0,0,0,30,30,{"$f":"VLOOKUP(A1102,'Pivot Norm'!A:B,2,FALSE)","v":1},1,"18853011",2,1,3,2,2,3,0,0,0,0]
["1886601","1886601",{"$f":"VLOOKUP(B1103, 'School List'!F:G,2,FALSE)","v":"Marquez SH HPIAM"},"PHBAO",0,0,0,367,741,null,null,10,0,0,0,751,0,0,0,3,24,27,0,0,0,3,24,27,{"$f":"VLOOKUP(A1103,'Pivot Norm'!A:B,2,FALSE)","v":1},1,"18866011",2,2,3,2,2,3,0,0,0,0]
["1886701","1886701",{"$f":"VLOOKUP(B1104, 'School List'!F:G,2,FALSE)","v":"Rivera LC Pub Srv"},"PHBAO",0,0,0,250,494,null,null,3,0,0,0,497,0,0,0,2,16,18,0,0,0,2,16,18,{"$f":"VLOOKUP(A1104,'Pivot Norm'!A:B,2,FALSE)","v":1},1,"18867011",1,1,2,1,1,2,1,0,1,0]
["1886801","1886801",{"$f":"VLOOKUP(B1105, 'School List'!F:G,2,FALSE)","v":"Rancho Domingz Prep"},"PHBAO",0,0,192,205,297,null,2,27,0,0,0,518,0,0,8,2,10,20,0,0,8,2,10,20,{"$f":"VLOOKUP(A1105,'Pivot Norm'!A:B,2,FALSE)","v":2},1,"18868011",2,1,3,2,2,3,0,0,1,0]
["1886801","1886802",{"$f":"VLOOKUP(B1106, 'School List'!F:G,2,FALSE)","v":"Rancho Dmngz L/G/PS Mg"},"Magnet 2",0,0,0,0,206,null,null,null,0,0,0,206,0,0,0,0,9,9,0,0,0,0,7,7,{"$f":"VLOOKUP(A1106,'Pivot Norm'!A:B,2,FALSE)","v":2},2,"18868012",0,0,0,0,0,0,0,0,0,0]
["1887101","1887101",{"$f":"VLOOKUP(B1107, 'School List'!F:G,2,FALSE)","v":"South Gate SH"},"PHBAO",0,0,0,975,1805,null,null,67,0,0,0,1872,0,0,0,6,57,63,0,0,0,6,59,65,{"$f":"VLOOKUP(A1107,'Pivot Norm'!A:B,2,FALSE)","v":2},1,"18871011",4,4,5,4,3,5,0,0,0,1]
["1887101","1887110",{"$f":"VLOOKUP(B1108, 'School List'!F:G,2,FALSE)","v":"South Gate HS PSB Mg"},"Magnet 2",0,0,0,0,136,null,null,null,null,null,null,136,0,0,0,0,6,6,0,0,0,0,0,0,{"$f":"VLOOKUP(A1108,'Pivot Norm'!A:B,2,FALSE)","v":2},2,"18871012",0,0,0,0,0,0,0,0,0,0]
["1887801","1887801",{"$f":"VLOOKUP(B1109, 'School List'!F:G,2,FALSE)","v":"Sylmar Charter HS"},"PHBAO",0,0,0,646,1046,null,null,117,0,0,0,1163,0,0,0,4,33,37,0,0,0,4,31,35,{"$f":"VLOOKUP(A1109,'Pivot Norm'!A:B,2,FALSE)","v":2},1,"18878011",3,3,4,3,3,4,0,0,0,0]
["1887801","1887802",{"$f":"VLOOKUP(B1110, 'School List'!F:G,2,FALSE)","v":"Sylmar CHS STM Mag"},"Magnet 2",0,0,0,0,425,null,null,null,0,0,0,425,0,0,0,0,17,17,0,0,0,0,17,17,{"$f":"VLOOKUP(A1110,'Pivot Norm'!A:B,2,FALSE)","v":2},2,"18878012",0,0,0,0,0,0,0,0,0,0]
["1888001","1888001",{"$f":"VLOOKUP(B1111, 'School List'!F:G,2,FALSE)","v":"William H Taft"},"Non-PHBAO",0,0,0,957,1826,null,null,69,0,0,0,1895,0,0,0,2,57,59,0,0,0,2,55,57,{"$f":"VLOOKUP(A1111,'Pivot Norm'!A:B,2,FALSE)","v":2},1,"18880011",5,5,6,5,4,6,0,0,0,0]
["1888001","1888007",{"$f":"VLOOKUP(B1112, 'School List'!F:G,2,FALSE)","v":"Taft Gifted/STEAM Mg"},"Magnet 1",0,0,0,0,497,null,null,null,0,0,0,497,0,0,0,0,19,19,0,0,0,0,17,17,{"$f":"VLOOKUP(A1112,'Pivot Norm'!A:B,2,FALSE)","v":2},2,"18880012",0,0,0,0,0,0,0,0,0,0]
["1888101","1888101",{"$f":"VLOOKUP(B1113, 'School List'!F:G,2,FALSE)","v":"South East SH"},"PHBAO",0,0,0,840,1413,null,null,82,0,0,0,1495,0,0,0,5,45,50,0,0,0,5,43,48,{"$f":"VLOOKUP(A1113,'Pivot Norm'!A:B,2,FALSE)","v":2},1,"18881011",4,4,5,4,3,5,0,0,0,0]
["1888101","1888108",{"$f":"VLOOKUP(B1114, 'School List'!F:G,2,FALSE)","v":"South East STEAM Mag"},"Magnet 2",0,0,0,0,474,null,null,1,0,0,0,475,0,0,0,0,19,19,0,0,0,0,17,17,{"$f":"VLOOKUP(A1114,'Pivot Norm'!A:B,2,FALSE)","v":2},2,"18881012",0,0,0,0,0,0,0,0,0,0]
["1888201","1888201",{"$f":"VLOOKUP(B1115, 'School List'!F:G,2,FALSE)","v":"Maywood Academy SH"},"PHBAO",0,0,0,660,1041,null,null,36,0,0,0,1077,0,0,0,4,33,37,0,0,0,3,32,35,{"$f":"VLOOKUP(A1115,'Pivot Norm'!A:B,2,FALSE)","v":1},1,"18882011",2,2,3,2,2,3,0,0,0,0]
["1888601","1888601",{"$f":"VLOOKUP(B1116, 'School List'!F:G,2,FALSE)","v":"University HS Charter"},"PHBAO",0,0,0,496,863,null,null,82,0,0,0,945,0,0,0,3,27,30,0,0,0,3,26,29,{"$f":"VLOOKUP(A1116,'Pivot Norm'!A:B,2,FALSE)","v":2},1,"18886011",3,3,4,3,3,4,0,0,0,0]
["1888601","1888607",{"$f":"VLOOKUP(B1117, 'School List'!F:G,2,FALSE)","v":"Univrsty CHS MAST Mg"},"Magnet 2",0,0,0,0,500,null,null,13,0,0,0,513,0,0,0,0,20,20,0,0,0,0,20,20,{"$f":"VLOOKUP(A1117,'Pivot Norm'!A:B,2,FALSE)","v":2},2,"18886012",0,0,0,0,0,0,0,0,0,0]
["1889301","1889301",{"$f":"VLOOKUP(B1118, 'School List'!F:G,2,FALSE)","v":"Van Nuys SH"},"PHBAO",0,0,0,593,1023,null,null,73,0,0,0,1096,0,0,0,4,32,36,0,0,0,4,33,37,{"$f":"VLOOKUP(A1118,'Pivot Norm'!A:B,2,FALSE)","v":4},1,"18893011",5,5,6,5,4,7,0,0,0,0]
["1889301","1889302",{"$f":"VLOOKUP(B1119, 'School List'!F:G,2,FALSE)","v":"Van Nuys Medical Mag"},"Magnet 2",0,0,0,0,300,null,null,1,0,0,0,301,0,0,0,0,12,12,0,0,0,0,12,12,{"$f":"VLOOKUP(A1119,'Pivot Norm'!A:B,2,FALSE)","v":4},2,"18893012",0,0,0,0,0,0,0,0,0,0]
["1889301","1889303",{"$f":"VLOOKUP(B1120, 'School List'!F:G,2,FALSE)","v":"Van Nuys SH STM Mag"},"Magnet 2",0,0,0,0,625,null,null,3,0,0,0,628,0,0,0,0,25,25,0,0,0,0,25,25,{"$f":"VLOOKUP(A1120,'Pivot Norm'!A:B,2,FALSE)","v":4},3,"18893013",0,0,0,0,0,0,0,0,0,0]
["1889301","1889304",{"$f":"VLOOKUP(B1121, 'School List'!F:G,2,FALSE)","v":"Van Nuys Per Arts Mg"},"Magnet 2",0,0,0,0,425,null,null,6,0,0,0,431,0,0,0,0,17,17,0,0,0,0,17,17,{"$f":"VLOOKUP(A1121,'Pivot Norm'!A:B,2,FALSE)","v":4},4,"18893014",0,0,0,0,0,0,0,0,0,0]
["1889801","1889801",{"$f":"VLOOKUP(B1122, 'School List'!F:G,2,FALSE)","v":"Valley Acad Arts/Sci"},"PHBAO",0,0,0,464,899,null,null,21,0,0,0,920,0,0,0,3,29,32,0,0,0,3,30,33,{"$f":"VLOOKUP(A1122,'Pivot Norm'!A:B,2,FALSE)","v":1},1,"18898011",2,2,3,2,2,3,0,0,0,0]
["1890101","1890101",{"$f":"VLOOKUP(B1123, 'School List'!F:G,2,FALSE)","v":"Chavez LA Tech Prep"},"PHBAO",0,0,0,182,340,null,null,6,0,0,0,346,0,0,0,2,11,13,0,0,0,2,11,13,{"$f":"VLOOKUP(A1123,'Pivot Norm'!A:B,2,FALSE)","v":1},1,"18901011",1,0.5,2,1,0.5,2,0,0,0,0.5]
["1890701","1890701",{"$f":"VLOOKUP(B1124, 'School List'!F:G,2,FALSE)","v":"Venice SH"},"PHBAO",0,0,0,574,943,null,null,98,0,0,0,1041,0,0,0,4,30,34,0,0,0,3,29,32,{"$f":"VLOOKUP(A1124,'Pivot Norm'!A:B,2,FALSE)","v":3},1,"18907011",4,4,5,4,3,5,0,0,0,1]
["1890701","1890702",{"$f":"VLOOKUP(B1125, 'School List'!F:G,2,FALSE)","v":"Venice SH WL/GS Mag"},"Magnet 2",0,0,0,0,475,null,null,9,0,0,0,484,0,0,0,0,19,19,0,0,0,0,19,19,{"$f":"VLOOKUP(A1125,'Pivot Norm'!A:B,2,FALSE)","v":3},2,"18907012",0,0,0,0,0,0,0,0,0,0]
["1890701","1890707",{"$f":"VLOOKUP(B1126, 'School List'!F:G,2,FALSE)","v":"Venice SH STEMM Mag"},"Magnet 2",0,0,0,0,525,null,null,5,0,0,0,530,0,0,0,0,21,21,0,0,0,0,19,19,{"$f":"VLOOKUP(A1126,'Pivot Norm'!A:B,2,FALSE)","v":3},3,"18907013",0,0,0,0,0,0,0,0,0,0]
["1891401","1891401",{"$f":"VLOOKUP(B1127, 'School List'!F:G,2,FALSE)","v":"Verdugo Hills SH"},"PHBAO",0,0,0,283,516,null,null,50,0,0,0,566,0,0,0,2,17,19,0,0,0,2,16,18,{"$f":"VLOOKUP(A1127,'Pivot Norm'!A:B,2,FALSE)","v":3},1,"18914011",2,3,4,2,2,4,0,0,0,0]
["1891401","1891402",{"$f":"VLOOKUP(B1128, 'School List'!F:G,2,FALSE)","v":"Vrdgo Hlls STEMM Mg"},"Magnet 1",0,0,0,0,406,null,null,null,0,0,0,406,0,0,0,0,15,15,0,0,0,0,15,15,{"$f":"VLOOKUP(A1128,'Pivot Norm'!A:B,2,FALSE)","v":3},2,"18914012",0,0,0,0,0,0,0,0,0,0]
["1891401","1891408",{"$f":"VLOOKUP(B1129, 'School List'!F:G,2,FALSE)","v":"Verdgo Hls VAPA Mag"},"Magnet 1",0,0,0,0,297,null,null,3,0,0,0,300,0,0,0,0,11,11,0,0,0,0,9,9,{"$f":"VLOOKUP(A1129,'Pivot Norm'!A:B,2,FALSE)","v":3},3,"18914013",0,0,0,0,0,0,1,0,0,0]
["1891701","1891701",{"$f":"VLOOKUP(B1130, 'School List'!F:G,2,FALSE)","v":"MaCES Magnet"},"Magnet 2",0,0,400,0,875,null,1,null,0,0,0,1276,0,0,16,0,35,51,0,0,18,0,34,52,{"$f":"VLOOKUP(A1130,'Pivot Norm'!A:B,2,FALSE)","v":1},1,"18917011",2,3,4,3,2,4,0,0,0,1]
["1892101","1892101",{"$f":"VLOOKUP(B1131, 'School List'!F:G,2,FALSE)","v":"Legacy SH STEAM"},"PHBAO",0,0,0,335,617,null,null,1,0,0,0,618,0,0,0,2,20,22,0,0,0,2,20,22,{"$f":"VLOOKUP(A1131,'Pivot Norm'!A:B,2,FALSE)","v":1},1,"18921011",1,1,2,1,1,2,0,0,0,0]
["1892801","1892801",{"$f":"VLOOKUP(B1132, 'School List'!F:G,2,FALSE)","v":"Washington Prep SH"},"PHBAO",0,0,0,203,393,null,null,55,0,0,0,448,0,0,0,2,13,15,0,0,0,2,13,15,{"$f":"VLOOKUP(A1132,'Pivot Norm'!A:B,2,FALSE)","v":2},1,"18928011",1,1,2,2,2,3,0,0,0,0]
["1892801","1892803",{"$f":"VLOOKUP(B1133, 'School List'!F:G,2,FALSE)","v":"Washington STEAM Mag"},"Magnet 2",0,0,0,0,243,null,null,7,0,0,0,250,0,0,0,0,10,10,0,0,0,0,10,10,{"$f":"VLOOKUP(A1133,'Pivot Norm'!A:B,2,FALSE)","v":2},2,"18928012",0,0,0,0,0,0,0,0,0,0]
["1894301","1894301",{"$f":"VLOOKUP(B1134, 'School List'!F:G,2,FALSE)","v":"WESM Hlth/Sports Med"},"Magnet 2",0,0,0,0,345,null,null,15,0,0,0,360,0,0,0,0,14,14,0,0,0,0,13,13,{"$f":"VLOOKUP(A1134,'Pivot Norm'!A:B,2,FALSE)","v":3},1,"18943011",2,1,3,2,2,3,1,0,0,0]
["1894301","1894309",{"$f":"VLOOKUP(B1135, 'School List'!F:G,2,FALSE)","v":"WESM Gifted/STEAM Mg"},"Magnet 2",0,0,0,0,147,null,null,null,0,0,0,147,0,0,0,0,6,6,0,0,0,0,6,6,{"$f":"VLOOKUP(A1135,'Pivot Norm'!A:B,2,FALSE)","v":3},2,"18943012",0,0,0,0,0,0,0,0,0,0]
["1894301","1894310",{"$f":"VLOOKUP(B1136, 'School List'!F:G,2,FALSE)","v":"WESM Env Natrl Sci"},"Magnet 2",0,0,0,0,212,null,null,11,0,0,0,223,0,0,0,0,9,9,0,0,0,0,8,8,{"$f":"VLOOKUP(A1136,'Pivot Norm'!A:B,2,FALSE)","v":3},3,"18943013",0,0,0,0,0,0,0,0,0,0]
[null,null,null,null,null,null,null,null,null,null,null,null,null,null,null,null,null,null,null,null,null,null,null,null,null,null,null,null,null,null,""]
["Total",null,null,null,{"$f":"SUM(E4:E1137)","v":139604},{"$f":"SUM(F4:F1137)","v":74395},87039,45459,117797,10311,5332,5190,3208,1498,4553,448927,6150,2990,3374,306,4059,16879,6232,2959,3274,295,3919,16679,2205,null,null,{"$f":"SUM(AF4:AF1137)","v":947},428,1707,957,393.5,1724,288,53,{"$f":"SUM(AN4:AN1137)","v":83},{"$f":"SUM(AO4:AO1137)","v":17}]
[]
[null,null,null,null,null,null,null,null,null,null,null,null,null,null,null,null,null,null,null,null,"Tchr Change",{"$f":"(V1138+AN1138)-(AB1138+AL1138+AM1138)","v":-58},{"$f":"V1138-AB1138","v":200},"Without off norm"]
[null,null,null,null,null,null,null,null,null,null,null,null,null,null,null,null,null,null,null,null,"Admin Change",{"$f":"AF1138-AI1138","v":-10}]
[null,null,null,null,null,null,null,null,null,null,null,null,null,null,null,null,null,null,null,null,"CNS Change",{"$f":"AG1138-(AJ1138+AO1138)","v":17.5}]
[null,null,null,null,null,null,null,null,null,null,null,null,null,null,null,null,null,null,null,null,"Clerical Change",{"$f":"AH1138-AK1138","v":-17}]